{"text_format":"1","workbook":"xlsx","n_sheets":4,"sheets":["Ekders","Puantaj","Bordro","Banka"],"not_rendered":{"charts":0,"images":4,"macros":1,"external_links":0,"defined_names":9,"comments":0,"pivot_tables":0},"unopened":[],"bounds":{"document_bytes":16777216,"sheet_cells":100000,"rows_first":2000,"rows_last":500,"rows_between":2000,"halvings":0,"cell_chars":16384,"cell_head_chars":4096},"cells_cut":0,"cells_raw":0,"read":"whole","date_system":"1900"}

{"sheet":"Ekders","index":0,"n_rows":162,"n_cols":96,"rows_kept":162,"cut":false,"hidden":false,"merged":[[7,52,7,53],[7,54,7,55],[8,52,8,53],[8,54,8,55],[9,52,9,53],[9,54,9,55],[7,56,7,57],[2,1,5,27],[2,45,2,46],[3,47,3,49],[4,47,4,49],[5,47,5,49],[4,44,4,46],[5,44,5,46],[2,32,2,44],[6,56,6,59],[6,16,6,19],[6,12,6,15],[2,53,2,59],[2,47,2,49],[6,52,6,55],[7,20,7,21],[7,22,7,23],[8,20,8,21],[8,22,8,23],[9,20,9,21],[9,22,9,23],[6,48,6,51],[7,48,7,49],[7,50,7,51],[9,48,9,49],[9,50,9,51],[6,20,6,23],[6,40,6,43],[7,40,7,41],[7,42,7,43],[6,44,6,47],[7,44,7,45],[7,46,7,47],[9,46,9,47],[9,26,9,27],[10,32,10,33],[6,36,6,39],[7,36,7,37],[7,38,7,39],[10,26,10,27],[6,28,6,31],[7,28,7,29],[7,30,7,31],[8,28,8,29],[8,30,8,31],[9,28,9,29],[9,30,9,31],[10,28,10,29],[10,30,10,31],[7,32,7,33],[7,34,7,35],[9,32,9,33],[6,24,6,27],[6,32,6,35],[7,24,7,25],[7,26,7,27],[8,24,8,25],[8,26,8,27],[9,24,9,25],[7,16,7,17],[7,18,7,19],[8,16,8,17],[8,18,8,19],[9,16,9,17],[9,18,9,19],[10,16,10,17],[7,12,7,13],[7,14,7,15],[8,12,8,13],[8,14,8,15],[9,12,9,13],[9,14,9,15],[10,14,10,15],[8,1,8,3],[9,1,9,3],[10,1,10,3],[6,1,7,3],[6,8,6,11],[7,8,7,9],[7,10,7,11],[8,8,8,9],[8,10,8,11],[9,8,9,9],[7,4,7,5],[7,6,7,7],[6,4,6,7],[9,10,9,11],[10,8,10,9],[10,10,10,11],[16,50,16,51],[17,50,17,51],[16,52,16,55],[17,52,17,55],[16,56,16,59],[17,56,17,59],[8,40,8,41],[8,42,8,43],[8,44,8,45],[8,50,8,51],[15,56,15,59],[12,56,12,59],[13,56,13,59],[14,56,14,59],[10,48,10,49],[10,50,10,51],[11,52,11,55],[11,56,11,59],[11,50,11,51],[10,46,10,47],[9,56,9,57],[10,56,10,57],[7,58,7,59],[8,56,8,57],[15,1,15,10],[10,18,10,19],[10,20,10,21],[10,22,10,23],[10,52,10,53],[10,54,10,55],[9,40,9,41],[9,42,9,43],[9,44,9,45],[10,40,10,41],[10,42,10,43],[10,44,10,45],[10,24,10,25],[13,50,13,51],[14,50,14,51],[15,50,15,51],[13,11,13,14],[14,11,14,14],[15,11,15,14],[11,11,11,14],[12,11,12,14],[10,12,10,13],[16,11,16,14],[5,42,5,43],[4,42,4,43],[2,50,2,52],[13,1,13,10],[3,42,3,45],[2,28,2,31],[4,28,4,31],[5,28,5,31],[3,32,3,36],[3,37,3,41],[3,28,3,31],[4,37,4,41],[5,37,5,41],[4,32,4,36],[5,32,5,36],[14,1,14,10],[12,52,12,55],[13,52,13,55],[14,52,14,55],[15,52,15,55],[11,1,11,10],[12,50,12,51],[12,1,12,10],[17,1,17,10],[16,1,16,10],[10,58,10,59],[8,58,8,59],[9,58,9,59],[8,46,8,47],[8,48,8,49],[10,34,10,35],[10,36,10,37],[10,38,10,39],[8,32,8,33],[8,34,8,35],[8,36,8,37],[8,38,8,39],[9,34,9,35],[9,36,9,37],[9,38,9,39],[10,6,10,7],[9,4,9,5],[10,4,10,5],[8,4,8,5],[8,6,8,7],[9,6,9,7],[17,11,17,14],[18,1,18,10],[18,11,18,14],[18,50,18,51],[18,52,18,55],[18,56,18,59],[19,1,19,10],[19,11,19,14],[19,50,19,51],[19,52,19,55],[19,56,19,59],[20,1,20,10],[20,11,20,14],[20,50,20,51],[20,52,20,55],[20,56,20,59],[21,1,21,10],[21,11,21,14],[21,50,21,51],[21,52,21,55],[21,56,21,59],[22,1,22,10],[22,11,22,14],[22,50,22,51],[22,52,22,55],[22,56,22,59],[23,1,23,10],[23,11,23,14],[23,50,23,51],[23,52,23,55],[23,56,23,59],[24,1,24,10],[24,11,24,14],[24,50,24,51],[24,52,24,55],[24,56,24,59],[25,1,25,10],[25,11,25,14],[25,50,25,51],[25,52,25,55],[25,56,25,59],[26,1,26,10],[26,11,26,14],[26,50,26,51],[26,52,26,55],[26,56,26,59],[27,1,27,10],[27,11,27,14],[27,50,27,51],[27,52,27,55],[27,56,27,59],[28,1,28,10],[28,11,28,14],[28,50,28,51],[28,52,28,55],[28,56,28,59],[29,1,29,10],[29,11,29,14],[29,50,29,51],[29,52,29,55],[29,56,29,59],[30,1,30,10],[30,11,30,14],[30,50,30,51],[30,52,30,55],[30,56,30,59],[31,1,31,10],[31,11,31,14],[31,50,31,51],[31,52,31,55],[31,56,31,59],[32,1,32,10],[32,11,32,14],[32,50,32,51],[32,52,32,55],[32,56,32,59],[33,1,33,10],[33,11,33,14],[33,50,33,51],[33,52,33,55],[33,56,33,59],[34,1,34,10],[34,11,34,14],[34,50,34,51],[34,52,34,55],[34,56,34,59],[35,1,35,10],[35,11,35,14],[35,50,35,51],[35,52,35,55],[35,56,35,59],[36,1,36,10],[36,11,36,14],[36,50,36,51],[36,52,36,55],[36,56,36,59],[37,1,37,10],[37,11,37,14],[37,50,37,51],[37,52,37,55],[37,56,37,59],[38,1,38,10],[38,11,38,14],[38,50,38,51],[38,52,38,55],[38,56,38,59],[39,1,39,10],[39,11,39,14],[39,50,39,51],[39,52,39,55],[39,56,39,59],[40,1,40,10],[40,11,40,14],[40,50,40,51],[40,52,40,55],[40,56,40,59],[41,1,41,10],[41,11,41,14],[41,50,41,51],[41,52,41,55],[41,56,41,59],[42,1,42,10],[42,11,42,14],[42,50,42,51],[42,52,42,55],[42,56,42,59],[43,1,43,10],[43,11,43,14],[43,50,43,51],[43,52,43,55],[43,56,43,59],[44,1,44,10],[44,11,44,14],[44,50,44,51],[44,52,44,55],[44,56,44,59],[45,1,45,10],[45,11,45,14],[45,50,45,51],[45,52,45,55],[45,56,45,59],[46,1,46,10],[46,11,46,14],[46,50,46,51],[46,52,46,55],[46,56,46,59],[47,1,47,10],[47,11,47,14],[47,50,47,51],[47,52,47,55],[47,56,47,59],[48,1,48,10],[48,11,48,14],[48,50,48,51],[48,52,48,55],[48,56,48,59],[49,1,49,10],[49,11,49,14],[49,50,49,51],[49,52,49,55],[49,56,49,59],[50,1,50,10],[50,11,50,14],[50,50,50,51],[50,52,50,55],[50,56,50,59],[51,1,51,10],[51,11,51,14],[51,50,51,51],[51,52,51,55],[51,56,51,59],[52,1,52,10],[52,11,52,14],[52,50,52,51],[52,52,52,55],[52,56,52,59],[53,1,53,10],[53,11,53,14],[53,50,53,51],[53,52,53,55],[53,56,53,59],[54,1,54,10],[54,11,54,14],[54,50,54,51],[54,52,54,55],[54,56,54,59],[55,1,55,10],[55,11,55,14],[55,50,55,51],[55,52,55,55],[55,56,55,59],[56,1,56,10],[56,11,56,14],[56,50,56,51],[56,52,56,55],[56,56,56,59],[57,1,57,10],[57,11,57,14],[57,50,57,51],[57,52,57,55],[57,56,57,59],[58,1,58,10],[58,11,58,14],[58,50,58,51],[58,52,58,55],[58,56,58,59],[59,1,59,10],[59,11,59,14],[59,50,59,51],[59,52,59,55],[59,56,59,59],[60,1,60,10],[60,11,60,14],[60,50,60,51],[60,52,60,55],[60,56,60,59],[61,1,61,10],[61,11,61,14],[61,50,61,51],[61,52,61,55],[61,56,61,59],[62,1,62,10],[62,11,62,14],[62,50,62,51],[62,52,62,55],[62,56,62,59],[63,1,63,10],[63,11,63,14],[63,50,63,51],[63,52,63,55],[63,56,63,59],[64,1,64,10],[64,11,64,14],[64,50,64,51],[64,52,64,55],[64,56,64,59],[65,1,65,10],[65,11,65,14],[65,50,65,51],[65,52,65,55],[65,56,65,59],[66,1,66,10],[66,11,66,14],[66,50,66,51],[66,52,66,55],[66,56,66,59],[67,1,67,10],[67,11,67,14],[67,50,67,51],[67,52,67,55],[67,56,67,59],[68,1,68,10],[68,11,68,14],[68,50,68,51],[68,52,68,55],[68,56,68,59],[69,1,69,10],[69,11,69,14],[69,50,69,51],[69,52,69,55],[69,56,69,59],[70,1,70,10],[70,11,70,14],[70,50,70,51],[70,52,70,55],[70,56,70,59],[71,1,71,10],[71,11,71,14],[71,50,71,51],[71,52,71,55],[71,56,71,59],[72,1,72,10],[72,11,72,14],[72,50,72,51],[72,52,72,55],[72,56,72,59],[73,1,73,10],[73,11,73,14],[73,50,73,51],[73,52,73,55],[73,56,73,59],[74,1,74,10],[74,11,74,14],[74,50,74,51],[74,52,74,55],[74,56,74,59],[75,1,75,10],[75,11,75,14],[75,50,75,51],[75,52,75,55],[75,56,75,59],[76,1,76,10],[76,11,76,14],[76,50,76,51],[76,52,76,55],[76,56,76,59],[77,1,77,10],[77,11,77,14],[77,50,77,51],[77,52,77,55],[77,56,77,59],[78,1,78,10],[78,11,78,14],[78,50,78,51],[78,52,78,55],[78,56,78,59],[79,1,79,10],[79,11,79,14],[79,50,79,51],[79,52,79,55],[79,56,79,59],[80,1,80,10],[80,11,80,14],[80,50,80,51],[80,52,80,55],[80,56,80,59],[81,1,81,10],[81,11,81,14],[81,50,81,51],[81,52,81,55],[81,56,81,59],[82,1,82,10],[82,11,82,14],[82,50,82,51],[82,52,82,55],[82,56,82,59],[83,1,83,10],[83,11,83,14],[83,50,83,51],[83,52,83,55],[83,56,83,59],[84,1,84,10],[84,11,84,14],[84,50,84,51],[84,52,84,55],[84,56,84,59],[85,1,85,10],[85,11,85,14],[85,50,85,51],[85,52,85,55],[85,56,85,59],[86,1,86,10],[86,11,86,14],[86,50,86,51],[86,52,86,55],[86,56,86,59],[87,1,87,10],[87,11,87,14],[87,50,87,51],[87,52,87,55],[87,56,87,59],[88,1,88,10],[88,11,88,14],[88,50,88,51],[88,52,88,55],[88,56,88,59],[89,1,89,10],[89,11,89,14],[89,50,89,51],[89,52,89,55],[89,56,89,59],[90,1,90,10],[90,11,90,14],[90,50,90,51],[90,52,90,55],[90,56,90,59],[91,1,91,10],[91,11,91,14],[91,50,91,51],[91,52,91,55],[91,56,91,59],[92,1,92,10],[92,11,92,14],[92,50,92,51],[92,52,92,55],[92,56,92,59],[93,1,93,10],[93,11,93,14],[93,50,93,51],[93,52,93,55],[93,56,93,59],[94,1,94,10],[94,11,94,14],[94,50,94,51],[94,52,94,55],[94,56,94,59],[95,1,95,10],[95,11,95,14],[95,50,95,51],[95,52,95,55],[95,56,95,59],[96,1,96,10],[96,11,96,14],[96,50,96,51],[96,52,96,55],[96,56,96,59],[97,1,97,10],[97,11,97,14],[97,50,97,51],[97,52,97,55],[97,56,97,59],[98,1,98,10],[98,11,98,14],[98,50,98,51],[98,52,98,55],[98,56,98,59],[99,1,99,10],[99,11,99,14],[99,50,99,51],[99,52,99,55],[99,56,99,59],[100,1,100,10],[100,11,100,14],[100,50,100,51],[100,52,100,55],[100,56,100,59],[101,1,101,10],[101,11,101,14],[101,50,101,51],[101,52,101,55],[101,56,101,59],[102,1,102,10],[102,11,102,14],[102,50,102,51],[102,52,102,55],[102,56,102,59],[103,1,103,10],[103,11,103,14],[103,50,103,51],[103,52,103,55],[103,56,103,59],[104,1,104,10],[104,11,104,14],[104,50,104,51],[104,52,104,55],[104,56,104,59],[105,1,105,10],[105,11,105,14],[105,50,105,51],[105,52,105,55],[105,56,105,59],[106,1,106,10],[106,11,106,14],[106,50,106,51],[106,52,106,55],[106,56,106,59],[107,1,107,10],[107,11,107,14],[107,50,107,51],[107,52,107,55],[107,56,107,59],[108,1,108,10],[108,11,108,14],[108,50,108,51],[108,52,108,55],[108,56,108,59],[109,1,109,10],[109,11,109,14],[109,50,109,51],[109,52,109,55],[109,56,109,59],[110,1,110,10],[110,11,110,14],[110,50,110,51],[110,52,110,55],[110,56,110,59],[111,1,111,10],[111,11,111,14],[111,50,111,51],[111,52,111,55],[111,56,111,59],[112,1,112,10],[112,11,112,14],[112,50,112,51],[112,52,112,55],[112,56,112,59],[113,1,113,10],[113,11,113,14],[113,50,113,51],[113,52,113,55],[113,56,113,59],[114,1,114,10],[114,11,114,14],[114,50,114,51],[114,52,114,55],[114,56,114,59],[115,1,115,10],[115,11,115,14],[115,50,115,51],[115,52,115,55],[115,56,115,59],[116,1,116,10],[116,11,116,14],[116,50,116,51],[116,52,116,55],[116,56,116,59],[117,1,117,10],[117,11,117,14],[117,50,117,51],[117,52,117,55],[117,56,117,59],[118,1,118,10],[118,11,118,14],[118,50,118,51],[118,52,118,55],[118,56,118,59],[119,1,119,10],[119,11,119,14],[119,50,119,51],[119,52,119,55],[119,56,119,59],[120,1,120,10],[120,11,120,14],[120,50,120,51],[120,52,120,55],[120,56,120,59],[121,1,121,10],[121,11,121,14],[121,50,121,51],[121,52,121,55],[121,56,121,59],[122,1,122,10],[122,11,122,14],[122,50,122,51],[122,52,122,55],[122,56,122,59],[123,1,123,10],[123,11,123,14],[123,50,123,51],[123,52,123,55],[123,56,123,59],[124,1,124,10],[124,11,124,14],[124,50,124,51],[124,52,124,55],[124,56,124,59],[125,1,125,10],[125,11,125,14],[125,50,125,51],[125,52,125,55],[125,56,125,59],[126,1,126,10],[126,11,126,14],[126,50,126,51],[126,52,126,55],[126,56,126,59],[127,1,127,10],[127,11,127,14],[127,50,127,51],[127,52,127,55],[127,56,127,59],[128,1,128,10],[128,11,128,14],[128,50,128,51],[128,52,128,55],[128,56,128,59],[129,1,129,10],[129,11,129,14],[129,50,129,51],[129,52,129,55],[129,56,129,59],[130,1,130,10],[130,11,130,14],[130,50,130,51],[130,52,130,55],[130,56,130,59],[131,1,131,10],[131,11,131,14],[131,50,131,51],[131,52,131,55],[131,56,131,59],[132,1,132,10],[132,11,132,14],[132,50,132,51],[132,52,132,55],[132,56,132,59],[133,1,133,10],[133,11,133,14],[133,50,133,51],[133,52,133,55],[133,56,133,59],[134,1,134,10],[134,11,134,14],[134,50,134,51],[134,52,134,55],[134,56,134,59],[135,1,135,10],[135,11,135,14],[135,50,135,51],[135,52,135,55],[135,56,135,59],[136,1,136,10],[136,11,136,14],[136,50,136,51],[136,52,136,55],[136,56,136,59],[137,1,137,10],[137,11,137,14],[137,50,137,51],[137,52,137,55],[137,56,137,59],[138,1,138,10],[138,11,138,14],[138,50,138,51],[138,52,138,55],[138,56,138,59],[139,1,139,10],[139,11,139,14],[139,50,139,51],[139,52,139,55],[139,56,139,59],[140,1,140,10],[140,11,140,14],[140,50,140,51],[140,52,140,55],[140,56,140,59],[141,1,141,10],[141,11,141,14],[141,50,141,51],[141,52,141,55],[141,56,141,59],[142,1,142,10],[142,11,142,14],[142,50,142,51],[142,52,142,55],[142,56,142,59],[143,1,143,10],[143,11,143,14],[143,50,143,51],[143,52,143,55],[143,56,143,59],[144,1,144,10],[144,11,144,14],[144,50,144,51],[144,52,144,55],[144,56,144,59],[145,1,145,10],[145,11,145,14],[145,50,145,51],[145,52,145,55],[145,56,145,59],[146,1,146,10],[146,11,146,14],[146,50,146,51],[146,52,146,55],[146,56,146,59],[147,1,147,10],[147,11,147,14],[147,50,147,51],[147,52,147,55],[147,56,147,59],[148,1,148,10],[148,11,148,14],[148,50,148,51],[148,52,148,55],[148,56,148,59],[149,1,149,10],[149,11,149,14],[149,50,149,51],[149,52,149,55],[149,56,149,59],[150,1,150,10],[150,11,150,14],[150,50,150,51],[150,52,150,55],[150,56,150,59],[151,1,151,10],[151,11,151,14],[151,50,151,51],[151,52,151,55],[151,56,151,59],[152,1,152,10],[152,11,152,14],[152,50,152,51],[152,52,152,55],[152,56,152,59],[153,1,153,10],[153,11,153,14],[153,50,153,51],[153,52,153,55],[153,56,153,59],[154,1,154,10],[154,11,154,14],[154,50,154,51],[154,52,154,55],[154,56,154,59],[155,1,155,10],[155,11,155,14],[155,50,155,51],[155,52,155,55],[155,56,155,59],[156,1,156,10],[156,11,156,14],[156,50,156,51],[156,52,156,55],[156,56,156,59],[157,1,157,10],[157,11,157,14],[157,50,157,51],[157,52,157,55],[157,56,157,59],[158,1,158,10],[158,11,158,14],[158,50,158,51],[158,52,158,55],[158,56,158,59],[159,1,159,10],[159,11,159,14],[159,50,159,51],[159,52,159,55],[159,56,159,59],[160,1,160,10],[160,11,160,14],[160,50,160,51],[160,52,160,55],[160,56,160,59],[161,1,161,10],[161,11,161,14],[161,50,161,51],[161,52,161,55],[161,56,161,59]]}
[]
[]
[null,"EK DERS BORDROSU",null,null,null,null,null,null,null,null,null,null,null,null,null,null,null,null,null,null,null,null,null,null,null,null,null,null,"Okul/Kurum Adı",null,null,null,null,null,null,null,null,null,null,null,null,null,null,null,null,"Katsayısı",null,1.012556,null,null,"Yazdır",null,null,"Ek Ders Çizelgesi"]
[null,null,null,null,null,null,null,null,null,null,null,null,null,null,null,null,null,null,null,null,null,null,null,null,null,null,null,null,"İmzalar",null,null,null,"Adı Soyadı",null,null,null,null,"Unvanı",null,null,null,null,"Ait Old. Yıl/Ay",null,null,null,null,"Pantaj Tarihi",null,null,null,null,null,null,null,null,null,null,null,null,null,null,null,null,null,null,null,null,null,null,null,null,null,null,null,null,null,null,null,null,null,null,"No","Unvanı","L1","Y1","D1","L2","Y2","D2","Ölçüt","S. No","S. No","Unvanı","Başlangıç",5]
[null,null,null,null,null,null,null,null,null,null,null,null,null,null,null,null,null,null,null,null,null,null,null,null,null,null,null,null,"Düzenleyen",null,null,null,null,null,null,null,null,null,null,null,null,null,"Yıl",null,"Ay",null,null,"2025-03-03",null,null,null,null,null,null,null,null,null,null,null,null,null,null,null,null,null,null,null,null,null,null,null,null,null,null,null,null,null,null,null,null,null,null,1,{"$f":"E7","v":0},{"$f":"E9","v":"00:00:00"},{"$f":"E10","v":0},{"$f":"E11","v":0},{"$f":"G9","v":0},{"$f":"G10","v":0},{"$f":"G11","v":0},{"$f":"IF(CF5=0,0,1)","v":0},{"$f":"CM5","v":0},1,{"$f":"INDEX($CF$4:$CN$18,MATCH(CO5,$CN$4:$CN$18,),MATCH($CP$4,$CF$4:$CN$4,))","v":{"$error":"#N/A"}},"Sayı",{"$f":"SUM(CM5:CM18)","v":0}]
[null,null,null,null,null,null,null,null,null,null,null,null,null,null,null,null,null,null,null,null,null,null,null,null,null,null,null,null,"Onaylayan",null,null,null,null,null,null,null,null,null,null,null,null,null,2025,null,"Mayıs",null,null,"2025-03-30",null,null,null,null,null,null,null,null,null,null,null,null,null,null,null,null,null,null,null,null,null,null,null,null,null,null,null,null,null,null,null,null,null,null,2,{"$f":"I7","v":0},{"$f":"I9","v":0},{"$f":"I10","v":0},{"$f":"I11","v":0},{"$f":"K9","v":0},{"$f":"K10","v":0},{"$f":"K11","v":0},{"$f":"IF(CF6=0,0,1)","v":0},{"$f":"IF(CF6=0,0,SUM($CM$5:CM6))","v":0},2,{"$f":"INDEX($CF$4:$CN$18,MATCH(CO6,$CN$4:$CN$18,),MATCH($CP$4,$CF$4:$CN$4,))","v":{"$error":"#N/A"}},"Bitiş",{"$f":"CR4+CR5-1","v":4}]
[null,"Unvanlar ve\nEk Ders Türü",null,null,null,null,null,null,null,null,null,null,null,null,null,null,null,null,null,null,null,null,null,null,null,null,null,null,null,null,null,null,null,null,null,null,null,null,null,null,null,null,null,null,null,null,null,null,null,null,null,null,null,null,null,null,null,null,null,null,null,null,null,null,null,null,null,null,null,null,null,null,null,null,null,null,null,null,null,null,null,null,3,{"$f":"M7","v":0},{"$f":"M9","v":0},{"$f":"M10","v":0},{"$f":"M11","v":0},{"$f":"O9","v":0},{"$f":"O10","v":0},{"$f":"O11","v":0},0,{"$f":"IF(CF7=0,0,SUM($CM$5:CM7))","v":0},3,{"$error":"#N/A"},"Hedef",{"$f":"IF(CR5=0,\"CR8:CR8\",\"CP\"&CR4&\":\"&\"CP\"&CR6)","v":"CR8:CR8"}]
[null,null,null,null,"Gündüz",null,"Gece",null,"Gündüz",null,"Gece",null,"Gündüz",null,"Gece",null,"Gündüz",null,"Gece",null,"Gündüz",null,"Gece",null,"Gündüz",null,"Gece",null,"Gündüz",null,"Gece",null,"Gündüz",null,"Gece",null,"Gündüz",null,"Gece",null,"Gündüz",null,"Gece",null,"Gündüz",null,"Gece",null,"Gündüz",null,"Gece",null,"Gündüz",null,"Gece",null,"Gündüz",null,"Gece",null,null,null,null,null,null,null,null,null,null,null,null,null,null,null,null,null,null,null,null,null,null,null,4,{"$f":"Q7","v":0},{"$f":"Q9","v":0},{"$f":"Q10","v":0},{"$f":"Q11","v":0},{"$f":"S9","v":0},{"$f":"S10","v":0},{"$f":"S11","v":0},0,{"$f":"IF(CF8=0,0,SUM($CM$5:CM8))","v":0},4,{"$error":"#N/A"},"Boşsa"]
[null,"Lisans",null,null,null,null,null,null,null,null,null,null,null,null,null,null,null,null,null,null,null,null,null,null,null,null,null,null,null,null,null,null,null,null,null,null,null,null,null,null,null,null,null,null,null,null,null,null,null,null,null,null,null,null,null,null,null,null,null,null,null,null,null,null,null,null,null,null,null,null,null,null,null,null,null,null,null,null,null,null,null,null,5,{"$f":"U7","v":0},{"$f":"U9","v":0},{"$f":"U10","v":0},{"$f":"U11","v":0},{"$f":"W9","v":0},{"$f":"W10","v":0},{"$f":"W11","v":0},0,{"$f":"IF(CF9=0,0,SUM($CM$5:CM9))","v":0},5,{"$error":"#N/A"},"Bordro Tutarı",{"$f":"Bordro!O30","v":0}]
[null,"Y. Lisans",null,null,null,null,null,null,null,null,null,null,null,null,null,null,null,null,null,null,null,null,null,null,null,null,null,null,null,null,null,null,null,null,null,null,null,null,null,null,null,null,null,null,null,null,null,null,null,null,null,null,null,null,null,null,null,null,null,null,null,null,null,null,null,null,null,null,null,null,null,null,null,null,null,null,null,null,null,null,null,null,6,{"$f":"Y7","v":0},{"$f":"Y9","v":0},{"$f":"Y10","v":0},{"$f":"Y11","v":0},{"$f":"AA9","v":0},{"$f":"AA10","v":0},{"$f":"AA11","v":0},0,{"$f":"IF(CF10=0,0,SUM($CM$5:CM10))","v":0},6,{"$error":"#N/A"}]
[null,"Doktora",null,null,null,null,null,null,null,null,null,null,null,null,null,null,null,null,null,null,null,null,null,null,null,null,null,null,null,null,null,null,null,null,null,null,null,null,null,null,null,null,null,null,null,null,null,null,null,null,null,null,null,null,null,null,null,null,null,null,null,null,null,null,null,null,null,null,null,null,null,null,null,null,null,null,null,null,null,null,null,null,7,{"$f":"AC7","v":0},{"$f":"AC9","v":0},{"$f":"AC10","v":0},{"$f":"AC11","v":0},{"$f":"AE9","v":0},{"$f":"AE10","v":0},{"$f":"AE11","v":0},0,{"$f":"IF(CF11=0,0,SUM($CM$5:CM11))","v":0},7,{"$error":"#N/A"}]
[null,"Kimlik No\nAdı Soyadı\nUnvanı\nIBAN/Hesap No\nOkuttuğu Ders Adı\nKadrosunun Bulunduğu Kurumu",null,null,null,null,null,null,null,null,null,"Ek Ders\nTürü",null,null,null,{"$f":"IF(OR(AV5=\"\",AV6=\"\"),\"\",AV5)","v":"2025-03-03"},{"$f":"IFERROR(IF($AV$6=\"\",\"\",IF(P12=$AV$6,\"\",P12+1)),\"\")","v":"2025-03-04"},{"$f":"IFERROR(IF(Q12=$AV$6,\"\",Q12+1),\"\")","v":"2025-03-05"},"2025-03-06","2025-03-07","2025-03-08","2025-03-09","2025-03-10","2025-03-11","2025-03-12","2025-03-13","2025-03-14","2025-03-15","2025-03-16","2025-03-17","2025-03-18","2025-03-19","2025-03-20","2025-03-21","2025-03-22","2025-03-23","2025-03-24","2025-03-25","2025-03-26","2025-03-27","2025-03-28","2025-03-29","2025-03-30","","","","","","","","Toplam\nDers Saati",null,"Ek Ders\nTutarları",null,null,null,"Vergi Oranı\nÜcret Toplamı\nGelir Vergisi\nDamga Vergisi\nKes. Toplamı\nÖd. Net Tutar",null,null,null,null,null,null,{"$f":"SUM(BL13:BL162)","v":0},{"$f":"SUM(BM13:BM162)","v":0},null,null,null,null,null,null,null,null,null,null,null,null,null,null,null,null,null,8,{"$f":"AG7","v":0},{"$f":"AG9","v":0},{"$f":"AG10","v":0},{"$f":"AG11","v":0},{"$f":"AI9","v":0},{"$f":"AI10","v":0},{"$f":"AI11","v":0},0,{"$f":"IF(CF12=0,0,SUM($CM$5:CM12))","v":0},8,{"$error":"#N/A"}]
[null,null,null,null,null,null,null,null,null,null,null,"Gündüz (Lisans)",null,null,null,null,null,null,null,null,null,null,null,null,null,null,null,null,null,null,null,null,null,null,null,null,null,null,null,null,null,null,null,null,null,null,null,null,null,null,{"$f":"SUM(P13:AX13)","v":0},null,{"$f":"ROUND(AY13*BJ13*$AV$3,2)","v":0},null,null,null,20,null,null,null,"L1",{"$f":"IFERROR(INDEX($CF$4:$CL$18,MATCH(B15,$CF$4:$CF$18,),MATCH(BI13,$CF$4:$CL$4,)),0)","v":0},{"$f":"IF(AY13=0,0,1)","v":0},{"$f":"IF(BK13=0,0,IF(AND(BJ13=0,BK13=1),1,0))","v":0},{"$f":"IF(BL13=1,AY13,0)","v":0},null,null,null,null,null,null,null,null,null,null,null,null,null,null,null,null,null,9,{"$f":"AK7","v":0},{"$f":"AK9","v":0},{"$f":"AK10","v":0},{"$f":"AK11","v":0},{"$f":"AM9","v":0},{"$f":"AM10","v":0},{"$f":"AM11","v":0},0,{"$f":"IF(CF13=0,0,SUM($CM$5:CM13))","v":0},9,{"$error":"#N/A"}]
[null,null,null,null,null,null,null,null,null,null,null,"Gündüz (Y. Lisans)",null,null,null,null,null,null,null,null,null,null,null,null,null,null,null,null,null,null,null,null,null,null,null,null,null,null,null,null,null,null,null,null,null,null,null,null,null,null,{"$f":"SUM(P14:AX14)","v":0},null,{"$f":"ROUND(AY14*BJ14*$AV$3,2)","v":0},null,null,null,{"$f":"BA13+BA14+BA15+BA16+BA17+BA18","v":0},null,null,null,"Y1",{"$f":"IFERROR(INDEX($CF$4:$CL$18,MATCH(B15,$CF$4:$CF$18,),MATCH(BI14,$CF$4:$CL$4,)),0)","v":0},{"$f":"IF(AY14=0,0,1)","v":0},{"$f":"IF(BK14=0,0,IF(AND(BJ14=0,BK14=1),1,0))","v":0},{"$f":"IF(BL14=1,AY14,0)","v":0},null,null,null,null,null,null,null,null,null,null,null,null,null,null,null,null,null,10,{"$f":"AO7","v":0},{"$f":"AO9","v":0},{"$f":"AO10","v":0},{"$f":"AO11","v":0},{"$f":"AQ9","v":0},{"$f":"AQ10","v":0},{"$f":"AQ11","v":0},0,{"$f":"IF(CF14=0,0,SUM($CM$5:CM14))","v":0},10,{"$f":"INDEX($CF$4:$CN$18,MATCH(CO14,$CN$4:$CN$18,),MATCH($CP$4,$CF$4:$CN$4,))","v":{"$error":"#N/A"}}]
[null,null,null,null,null,null,null,null,null,null,null,"Gündüz (Doktora)",null,null,null,null,null,null,null,null,null,null,null,null,null,null,null,null,null,null,null,null,null,null,null,null,null,null,null,null,null,null,null,null,null,null,null,null,null,null,0,null,0,null,null,null,{"$f":"ROUND(BE14/100*BE13,2)","v":0},null,null,null,"D1",{"$f":"IFERROR(INDEX($CF$4:$CL$18,MATCH(B15,$CF$4:$CF$18,),MATCH(BI15,$CF$4:$CL$4,)),0)","v":0},0,0,0,null,null,null,null,null,null,null,null,null,null,null,null,null,null,null,null,null,11,{"$f":"AS7","v":0},{"$f":"AS9","v":0},{"$f":"AS10","v":0},{"$f":"AS11","v":0},{"$f":"AU9","v":0},{"$f":"AU10","v":0},{"$f":"AU11","v":0},0,{"$f":"IF(CF15=0,0,SUM($CM$5:CM15))","v":0},11,{"$error":"#N/A"}]
[null,null,null,null,null,null,null,null,null,null,null,"Gece (Lisans)",null,null,null,null,null,null,null,null,null,null,null,null,null,null,null,null,null,null,null,null,null,null,null,null,null,null,null,null,null,null,null,null,null,null,null,null,null,null,0,null,0,null,null,null,{"$f":"ROUND(BE14/1000*7.59,2)","v":0},null,null,null,"L2",{"$f":"IFERROR(INDEX($CF$4:$CL$18,MATCH(B15,$CF$4:$CF$18,),MATCH(BI16,$CF$4:$CL$4,)),0)","v":0},0,0,0,null,null,null,null,null,null,null,null,null,null,null,null,null,null,null,null,null,12,{"$f":"AW7","v":0},{"$f":"AW9","v":0},{"$f":"AW10","v":0},{"$f":"AW11","v":0},{"$f":"AY9","v":0},{"$f":"AY10","v":0},{"$f":"AY11","v":0},0,{"$f":"IF(CF16=0,0,SUM($CM$5:CM16))","v":0},12,{"$error":"#N/A"}]
[null,null,null,null,null,null,null,null,null,null,null,"Gece (Y. Lisans)",null,null,null,null,null,null,null,null,null,null,null,null,null,null,null,null,null,null,null,null,null,null,null,null,null,null,null,null,null,null,null,null,null,null,null,null,null,null,{"$f":"SUM(P17:AX17)","v":0},null,0,null,null,null,{"$f":"BE15+BE16","v":0},null,null,null,"Y2",{"$f":"IFERROR(INDEX($CF$4:$CL$18,MATCH(B15,$CF$4:$CF$18,),MATCH(BI17,$CF$4:$CL$4,)),0)","v":0},0,0,0,null,null,null,null,null,null,null,null,null,null,null,null,null,null,null,null,null,13,{"$f":"BA7","v":0},{"$f":"BA9","v":0},{"$f":"BA10","v":0},{"$f":"BA11","v":0},{"$f":"BC9","v":0},{"$f":"BC10","v":0},{"$f":"BC11","v":0},0,{"$f":"IF(CF17=0,0,SUM($CM$5:CM17))","v":0},13,{"$error":"#N/A"}]
[null,null,null,null,null,null,null,null,null,null,null,"Gece (Doktora)",null,null,null,null,null,null,null,null,null,null,null,null,null,null,null,null,null,null,null,null,null,null,null,null,null,null,null,null,null,null,null,null,null,null,null,null,null,null,0,null,0,null,null,null,{"$f":"BE14-BE17","v":0},null,null,null,"D2",{"$f":"IFERROR(INDEX($CF$4:$CL$18,MATCH(B15,$CF$4:$CF$18,),MATCH(BI18,$CF$4:$CL$4,)),0)","v":0},0,0,0,null,null,null,null,null,null,null,null,null,null,null,null,null,null,null,null,null,14,{"$f":"BE7","v":0},{"$f":"BE9","v":0},{"$f":"BE10","v":0},{"$f":"BE11","v":0},{"$f":"BG9","v":0},{"$f":"BG10","v":0},{"$f":"BG11","v":0},0,{"$f":"IF(CF18=0,0,SUM($CM$5:CM18))","v":0},14,{"$error":"#N/A"}]
[null,null,null,null,null,null,null,null,null,null,null,"Gündüz (Lisans)",null,null,null,null,null,null,null,null,null,null,null,null,null,null,null,null,null,null,null,null,null,null,null,null,null,null,null,null,null,null,null,null,null,null,null,null,null,null,{"$f":"SUM(P19:AX19)","v":0},null,0,null,null,null,20,null,null,null,"L1",{"$f":"IFERROR(INDEX($CF$4:$CL$18,MATCH(B21,$CF$4:$CF$18,),MATCH(BI19,$CF$4:$CL$4,)),0)","v":0},0,0,0]
[null,null,null,null,null,null,null,null,null,null,null,"Gündüz (Y. Lisans)",null,null,null,null,null,null,null,null,null,null,null,null,null,null,null,null,null,null,null,null,null,null,null,null,null,null,null,null,null,null,null,null,null,null,null,null,null,null,{"$f":"SUM(P20:AX20)","v":0},null,0,null,null,null,{"$f":"BA19+BA20+BA21+BA22+BA23+BA24","v":0},null,null,null,"Y1",{"$f":"IFERROR(INDEX($CF$4:$CL$18,MATCH(B21,$CF$4:$CF$18,),MATCH(BI20,$CF$4:$CL$4,)),0)","v":0},0,0,0]
[null,null,null,null,null,null,null,null,null,null,null,"Gündüz (Doktora)",null,null,null,null,null,null,null,null,null,null,null,null,null,null,null,null,null,null,null,null,null,null,null,null,null,null,null,null,null,null,null,null,null,null,null,null,null,null,0,null,0,null,null,null,{"$f":"ROUND(BE20/100*BE19,2)","v":0},null,null,null,"D1",{"$f":"IFERROR(INDEX($CF$4:$CL$18,MATCH(B21,$CF$4:$CF$18,),MATCH(BI21,$CF$4:$CL$4,)),0)","v":0},0,0,0]
[null,null,null,null,null,null,null,null,null,null,null,"Gece (Lisans)",null,null,null,null,null,null,null,null,null,null,null,null,null,null,null,null,null,null,null,null,null,null,null,null,null,null,null,null,null,null,null,null,null,null,null,null,null,null,0,null,0,null,null,null,{"$f":"ROUND(BE20/1000*7.59,2)","v":0},null,null,null,"L2",{"$f":"IFERROR(INDEX($CF$4:$CL$18,MATCH(B21,$CF$4:$CF$18,),MATCH(BI22,$CF$4:$CL$4,)),0)","v":0},0,0,0]
[null,null,null,null,null,null,null,null,null,null,null,"Gece (Y. Lisans)",null,null,null,null,null,null,null,null,null,null,null,null,null,null,null,null,null,null,null,null,null,null,null,null,null,null,null,null,null,null,null,null,null,null,null,null,null,null,0,null,0,null,null,null,{"$f":"BE21+BE22","v":0},null,null,null,"Y2",{"$f":"IFERROR(INDEX($CF$4:$CL$18,MATCH(B21,$CF$4:$CF$18,),MATCH(BI23,$CF$4:$CL$4,)),0)","v":0},0,0,0]
[null,null,null,null,null,null,null,null,null,null,null,"Gece (Doktora)",null,null,null,null,null,null,null,null,null,null,null,null,null,null,null,null,null,null,null,null,null,null,null,null,null,null,null,null,null,null,null,null,null,null,null,null,null,null,0,null,0,null,null,null,{"$f":"BE20-BE23","v":0},null,null,null,"D2",{"$f":"IFERROR(INDEX($CF$4:$CL$18,MATCH(B21,$CF$4:$CF$18,),MATCH(BI24,$CF$4:$CL$4,)),0)","v":0},0,0,0]
[null,null,null,null,null,null,null,null,null,null,null,"Gündüz (Lisans)",null,null,null,null,null,null,null,null,null,null,null,null,null,null,null,null,null,null,null,null,null,null,null,null,null,null,null,null,null,null,null,null,null,null,null,null,null,null,{"$f":"SUM(P25:AX25)","v":0},null,0,null,null,null,20,null,null,null,"L1",{"$f":"IFERROR(INDEX($CF$4:$CL$18,MATCH(B27,$CF$4:$CF$18,),MATCH(BI25,$CF$4:$CL$4,)),0)","v":0},0,0,0]
[null,null,null,null,null,null,null,null,null,null,null,"Gündüz (Y. Lisans)",null,null,null,null,null,null,null,null,null,null,null,null,null,null,null,null,null,null,null,null,null,null,null,null,null,null,null,null,null,null,null,null,null,null,null,null,null,null,{"$f":"SUM(P26:AX26)","v":0},null,0,null,null,null,{"$f":"BA25+BA26+BA27+BA28+BA29+BA30","v":0},null,null,null,"Y1",{"$f":"IFERROR(INDEX($CF$4:$CL$18,MATCH(B27,$CF$4:$CF$18,),MATCH(BI26,$CF$4:$CL$4,)),0)","v":0},0,0,0]
[null,null,null,null,null,null,null,null,null,null,null,"Gündüz (Doktora)",null,null,null,null,null,null,null,null,null,null,null,null,null,null,null,null,null,null,null,null,null,null,null,null,null,null,null,null,null,null,null,null,null,null,null,null,null,null,0,null,0,null,null,null,{"$f":"ROUND(BE26/100*BE25,2)","v":0},null,null,null,"D1",{"$f":"IFERROR(INDEX($CF$4:$CL$18,MATCH(B27,$CF$4:$CF$18,),MATCH(BI27,$CF$4:$CL$4,)),0)","v":0},0,0,0]
[null,null,null,null,null,null,null,null,null,null,null,"Gece (Lisans)",null,null,null,null,null,null,null,null,null,null,null,null,null,null,null,null,null,null,null,null,null,null,null,null,null,null,null,null,null,null,null,null,null,null,null,null,null,null,0,null,0,null,null,null,{"$f":"ROUND(BE26/1000*7.59,2)","v":0},null,null,null,"L2",{"$f":"IFERROR(INDEX($CF$4:$CL$18,MATCH(B27,$CF$4:$CF$18,),MATCH(BI28,$CF$4:$CL$4,)),0)","v":0},0,0,0]
[null,null,null,null,null,null,null,null,null,null,null,"Gece (Y. Lisans)",null,null,null,null,null,null,null,null,null,null,null,null,null,null,null,null,null,null,null,null,null,null,null,null,null,null,null,null,null,null,null,null,null,null,null,null,null,null,0,null,0,null,null,null,{"$f":"BE27+BE28","v":0},null,null,null,"Y2",{"$f":"IFERROR(INDEX($CF$4:$CL$18,MATCH(B27,$CF$4:$CF$18,),MATCH(BI29,$CF$4:$CL$4,)),0)","v":0},0,0,0]
[null,null,null,null,null,null,null,null,null,null,null,"Gece (Doktora)",null,null,null,null,null,null,null,null,null,null,null,null,null,null,null,null,null,null,null,null,null,null,null,null,null,null,null,null,null,null,null,null,null,null,null,null,null,null,0,null,0,null,null,null,{"$f":"BE26-BE29","v":0},null,null,null,"D2",{"$f":"IFERROR(INDEX($CF$4:$CL$18,MATCH(B27,$CF$4:$CF$18,),MATCH(BI30,$CF$4:$CL$4,)),0)","v":0},0,0,0]
[null,null,null,null,null,null,null,null,null,null,null,"Gündüz (Lisans)",null,null,null,null,null,null,null,null,null,null,null,null,null,null,null,null,null,null,null,null,null,null,null,null,null,null,null,null,null,null,null,null,null,null,null,null,null,null,{"$f":"SUM(P31:AX31)","v":0},null,0,null,null,null,20,null,null,null,"L1",{"$f":"IFERROR(INDEX($CF$4:$CL$18,MATCH(B33,$CF$4:$CF$18,),MATCH(BI31,$CF$4:$CL$4,)),0)","v":0},0,0,0]
[null,null,null,null,null,null,null,null,null,null,null,"Gündüz (Y. Lisans)",null,null,null,null,null,null,null,null,null,null,null,null,null,null,null,null,null,null,null,null,null,null,null,null,null,null,null,null,null,null,null,null,null,null,null,null,null,null,{"$f":"SUM(P32:AX32)","v":0},null,0,null,null,null,{"$f":"BA31+BA32+BA33+BA34+BA35+BA36","v":0},null,null,null,"Y1",{"$f":"IFERROR(INDEX($CF$4:$CL$18,MATCH(B33,$CF$4:$CF$18,),MATCH(BI32,$CF$4:$CL$4,)),0)","v":0},0,0,0]
[null,null,null,null,null,null,null,null,null,null,null,"Gündüz (Doktora)",null,null,null,null,null,null,null,null,null,null,null,null,null,null,null,null,null,null,null,null,null,null,null,null,null,null,null,null,null,null,null,null,null,null,null,null,null,null,0,null,0,null,null,null,{"$f":"ROUND(BE32/100*BE31,2)","v":0},null,null,null,"D1",{"$f":"IFERROR(INDEX($CF$4:$CL$18,MATCH(B33,$CF$4:$CF$18,),MATCH(BI33,$CF$4:$CL$4,)),0)","v":0},0,0,0]
[null,null,null,null,null,null,null,null,null,null,null,"Gece (Lisans)",null,null,null,null,null,null,null,null,null,null,null,null,null,null,null,null,null,null,null,null,null,null,null,null,null,null,null,null,null,null,null,null,null,null,null,null,null,null,0,null,0,null,null,null,{"$f":"ROUND(BE32/1000*7.59,2)","v":0},null,null,null,"L2",{"$f":"IFERROR(INDEX($CF$4:$CL$18,MATCH(B33,$CF$4:$CF$18,),MATCH(BI34,$CF$4:$CL$4,)),0)","v":0},0,0,0]
[null,null,null,null,null,null,null,null,null,null,null,"Gece (Y. Lisans)",null,null,null,null,null,null,null,null,null,null,null,null,null,null,null,null,null,null,null,null,null,null,null,null,null,null,null,null,null,null,null,null,null,null,null,null,null,null,0,null,0,null,null,null,{"$f":"BE33+BE34","v":0},null,null,null,"Y2",{"$f":"IFERROR(INDEX($CF$4:$CL$18,MATCH(B33,$CF$4:$CF$18,),MATCH(BI35,$CF$4:$CL$4,)),0)","v":0},0,0,0]
[null,null,null,null,null,null,null,null,null,null,null,"Gece (Doktora)",null,null,null,null,null,null,null,null,null,null,null,null,null,null,null,null,null,null,null,null,null,null,null,null,null,null,null,null,null,null,null,null,null,null,null,null,null,null,0,null,0,null,null,null,{"$f":"BE32-BE35","v":0},null,null,null,"D2",{"$f":"IFERROR(INDEX($CF$4:$CL$18,MATCH(B33,$CF$4:$CF$18,),MATCH(BI36,$CF$4:$CL$4,)),0)","v":0},0,0,0]
[null,null,null,null,null,null,null,null,null,null,null,"Gündüz (Lisans)",null,null,null,null,null,null,null,null,null,null,null,null,null,null,null,null,null,null,null,null,null,null,null,null,null,null,null,null,null,null,null,null,null,null,null,null,null,null,{"$f":"SUM(P37:AX37)","v":0},null,0,null,null,null,20,null,null,null,"L1",{"$f":"IFERROR(INDEX($CF$4:$CL$18,MATCH(B39,$CF$4:$CF$18,),MATCH(BI37,$CF$4:$CL$4,)),0)","v":0},0,0,0]
[null,null,null,null,null,null,null,null,null,null,null,"Gündüz (Y. Lisans)",null,null,null,null,null,null,null,null,null,null,null,null,null,null,null,null,null,null,null,null,null,null,null,null,null,null,null,null,null,null,null,null,null,null,null,null,null,null,{"$f":"SUM(P38:AX38)","v":0},null,0,null,null,null,{"$f":"BA37+BA38+BA39+BA40+BA41+BA42","v":0},null,null,null,"Y1",{"$f":"IFERROR(INDEX($CF$4:$CL$18,MATCH(B39,$CF$4:$CF$18,),MATCH(BI38,$CF$4:$CL$4,)),0)","v":0},0,0,0]
[null,null,null,null,null,null,null,null,null,null,null,"Gündüz (Doktora)",null,null,null,null,null,null,null,null,null,null,null,null,null,null,null,null,null,null,null,null,null,null,null,null,null,null,null,null,null,null,null,null,null,null,null,null,null,null,0,null,0,null,null,null,{"$f":"ROUND(BE38/100*BE37,2)","v":0},null,null,null,"D1",{"$f":"IFERROR(INDEX($CF$4:$CL$18,MATCH(B39,$CF$4:$CF$18,),MATCH(BI39,$CF$4:$CL$4,)),0)","v":0},0,0,0]
[null,null,null,null,null,null,null,null,null,null,null,"Gece (Lisans)",null,null,null,null,null,null,null,null,null,null,null,null,null,null,null,null,null,null,null,null,null,null,null,null,null,null,null,null,null,null,null,null,null,null,null,null,null,null,0,null,0,null,null,null,{"$f":"ROUND(BE38/1000*7.59,2)","v":0},null,null,null,"L2",{"$f":"IFERROR(INDEX($CF$4:$CL$18,MATCH(B39,$CF$4:$CF$18,),MATCH(BI40,$CF$4:$CL$4,)),0)","v":0},0,0,0]
[null,null,null,null,null,null,null,null,null,null,null,"Gece (Y. Lisans)",null,null,null,null,null,null,null,null,null,null,null,null,null,null,null,null,null,null,null,null,null,null,null,null,null,null,null,null,null,null,null,null,null,null,null,null,null,null,0,null,0,null,null,null,{"$f":"BE39+BE40","v":0},null,null,null,"Y2",{"$f":"IFERROR(INDEX($CF$4:$CL$18,MATCH(B39,$CF$4:$CF$18,),MATCH(BI41,$CF$4:$CL$4,)),0)","v":0},0,0,0]
[null,null,null,null,null,null,null,null,null,null,null,"Gece (Doktora)",null,null,null,null,null,null,null,null,null,null,null,null,null,null,null,null,null,null,null,null,null,null,null,null,null,null,null,null,null,null,null,null,null,null,null,null,null,null,0,null,0,null,null,null,{"$f":"BE38-BE41","v":0},null,null,null,"D2",{"$f":"IFERROR(INDEX($CF$4:$CL$18,MATCH(B39,$CF$4:$CF$18,),MATCH(BI42,$CF$4:$CL$4,)),0)","v":0},0,0,0]
[null,null,null,null,null,null,null,null,null,null,null,"Gündüz (Lisans)",null,null,null,null,null,null,null,null,null,null,null,null,null,null,null,null,null,null,null,null,null,null,null,null,null,null,null,null,null,null,null,null,null,null,null,null,null,null,{"$f":"SUM(P43:AX43)","v":0},null,0,null,null,null,20,null,null,null,"L1",{"$f":"IFERROR(INDEX($CF$4:$CL$18,MATCH(B45,$CF$4:$CF$18,),MATCH(BI43,$CF$4:$CL$4,)),0)","v":0},0,0,0]
[null,null,null,null,null,null,null,null,null,null,null,"Gündüz (Y. Lisans)",null,null,null,null,null,null,null,null,null,null,null,null,null,null,null,null,null,null,null,null,null,null,null,null,null,null,null,null,null,null,null,null,null,null,null,null,null,null,{"$f":"SUM(P44:AX44)","v":0},null,0,null,null,null,{"$f":"BA43+BA44+BA45+BA46+BA47+BA48","v":0},null,null,null,"Y1",{"$f":"IFERROR(INDEX($CF$4:$CL$18,MATCH(B45,$CF$4:$CF$18,),MATCH(BI44,$CF$4:$CL$4,)),0)","v":0},0,0,0]
[null,null,null,null,null,null,null,null,null,null,null,"Gündüz (Doktora)",null,null,null,null,null,null,null,null,null,null,null,null,null,null,null,null,null,null,null,null,null,null,null,null,null,null,null,null,null,null,null,null,null,null,null,null,null,null,0,null,{"$f":"ROUND(AY45*BJ45*$AV$3,2)","v":0},null,null,null,{"$f":"ROUND(BE44/100*BE43,2)","v":0},null,null,null,"D1",{"$f":"IFERROR(INDEX($CF$4:$CL$18,MATCH(B45,$CF$4:$CF$18,),MATCH(BI45,$CF$4:$CL$4,)),0)","v":0},0,0,0]
[null,null,null,null,null,null,null,null,null,null,null,"Gece (Lisans)",null,null,null,null,null,null,null,null,null,null,null,null,null,null,null,null,null,null,null,null,null,null,null,null,null,null,null,null,null,null,null,null,null,null,null,null,null,null,0,null,0,null,null,null,{"$f":"ROUND(BE44/1000*7.59,2)","v":0},null,null,null,"L2",{"$f":"IFERROR(INDEX($CF$4:$CL$18,MATCH(B45,$CF$4:$CF$18,),MATCH(BI46,$CF$4:$CL$4,)),0)","v":0},0,0,0]
[null,null,null,null,null,null,null,null,null,null,null,"Gece (Y. Lisans)",null,null,null,null,null,null,null,null,null,null,null,null,null,null,null,null,null,null,null,null,null,null,null,null,null,null,null,null,null,null,null,null,null,null,null,null,null,null,0,null,0,null,null,null,{"$f":"BE45+BE46","v":0},null,null,null,"Y2",{"$f":"IFERROR(INDEX($CF$4:$CL$18,MATCH(B45,$CF$4:$CF$18,),MATCH(BI47,$CF$4:$CL$4,)),0)","v":0},0,0,0]
[null,null,null,null,null,null,null,null,null,null,null,"Gece (Doktora)",null,null,null,null,null,null,null,null,null,null,null,null,null,null,null,null,null,null,null,null,null,null,null,null,null,null,null,null,null,null,null,null,null,null,null,null,null,null,0,null,0,null,null,null,{"$f":"BE44-BE47","v":0},null,null,null,"D2",{"$f":"IFERROR(INDEX($CF$4:$CL$18,MATCH(B45,$CF$4:$CF$18,),MATCH(BI48,$CF$4:$CL$4,)),0)","v":0},0,0,0]
[null,null,null,null,null,null,null,null,null,null,null,"Gündüz (Lisans)",null,null,null,null,null,null,null,null,null,null,null,null,null,null,null,null,null,null,null,null,null,null,null,null,null,null,null,null,null,null,null,null,null,null,null,null,null,null,{"$f":"SUM(P49:AX49)","v":0},null,0,null,null,null,20,null,null,null,"L1",{"$f":"IFERROR(INDEX($CF$4:$CL$18,MATCH(B51,$CF$4:$CF$18,),MATCH(BI49,$CF$4:$CL$4,)),0)","v":0},0,0,0]
[null,null,null,null,null,null,null,null,null,null,null,"Gündüz (Y. Lisans)",null,null,null,null,null,null,null,null,null,null,null,null,null,null,null,null,null,null,null,null,null,null,null,null,null,null,null,null,null,null,null,null,null,null,null,null,null,null,{"$f":"SUM(P50:AX50)","v":0},null,0,null,null,null,{"$f":"BA49+BA50+BA51+BA52+BA53+BA54","v":0},null,null,null,"Y1",{"$f":"IFERROR(INDEX($CF$4:$CL$18,MATCH(B51,$CF$4:$CF$18,),MATCH(BI50,$CF$4:$CL$4,)),0)","v":0},0,0,0]
[null,null,null,null,null,null,null,null,null,null,null,"Gündüz (Doktora)",null,null,null,null,null,null,null,null,null,null,null,null,null,null,null,null,null,null,null,null,null,null,null,null,null,null,null,null,null,null,null,null,null,null,null,null,null,null,0,null,0,null,null,null,{"$f":"ROUND(BE50/100*BE49,2)","v":0},null,null,null,"D1",{"$f":"IFERROR(INDEX($CF$4:$CL$18,MATCH(B51,$CF$4:$CF$18,),MATCH(BI51,$CF$4:$CL$4,)),0)","v":0},0,0,0]
[null,null,null,null,null,null,null,null,null,null,null,"Gece (Lisans)",null,null,null,null,null,null,null,null,null,null,null,null,null,null,null,null,null,null,null,null,null,null,null,null,null,null,null,null,null,null,null,null,null,null,null,null,null,null,0,null,0,null,null,null,{"$f":"ROUND(BE50/1000*7.59,2)","v":0},null,null,null,"L2",{"$f":"IFERROR(INDEX($CF$4:$CL$18,MATCH(B51,$CF$4:$CF$18,),MATCH(BI52,$CF$4:$CL$4,)),0)","v":0},0,0,0]
[null,null,null,null,null,null,null,null,null,null,null,"Gece (Y. Lisans)",null,null,null,null,null,null,null,null,null,null,null,null,null,null,null,null,null,null,null,null,null,null,null,null,null,null,null,null,null,null,null,null,null,null,null,null,null,null,0,null,0,null,null,null,{"$f":"BE51+BE52","v":0},null,null,null,"Y2",{"$f":"IFERROR(INDEX($CF$4:$CL$18,MATCH(B51,$CF$4:$CF$18,),MATCH(BI53,$CF$4:$CL$4,)),0)","v":0},0,0,0]
[null,null,null,null,null,null,null,null,null,null,null,"Gece (Doktora)",null,null,null,null,null,null,null,null,null,null,null,null,null,null,null,null,null,null,null,null,null,null,null,null,null,null,null,null,null,null,null,null,null,null,null,null,null,null,0,null,0,null,null,null,{"$f":"BE50-BE53","v":0},null,null,null,"D2",{"$f":"IFERROR(INDEX($CF$4:$CL$18,MATCH(B51,$CF$4:$CF$18,),MATCH(BI54,$CF$4:$CL$4,)),0)","v":0},0,0,0]
[null,null,null,null,null,null,null,null,null,null,null,"Gündüz (Lisans)",null,null,null,null,null,null,null,null,null,null,null,null,null,null,null,null,null,null,null,null,null,null,null,null,null,null,null,null,null,null,null,null,null,null,null,null,null,null,{"$f":"SUM(P55:AX55)","v":0},null,0,null,null,null,20,null,null,null,"L1",{"$f":"IFERROR(INDEX($CF$4:$CL$18,MATCH(B57,$CF$4:$CF$18,),MATCH(BI55,$CF$4:$CL$4,)),0)","v":0},0,0,0]
[null,null,null,null,null,null,null,null,null,null,null,"Gündüz (Y. Lisans)",null,null,null,null,null,null,null,null,null,null,null,null,null,null,null,null,null,null,null,null,null,null,null,null,null,null,null,null,null,null,null,null,null,null,null,null,null,null,{"$f":"SUM(P56:AX56)","v":0},null,0,null,null,null,{"$f":"BA55+BA56+BA57+BA58+BA59+BA60","v":0},null,null,null,"Y1",{"$f":"IFERROR(INDEX($CF$4:$CL$18,MATCH(B57,$CF$4:$CF$18,),MATCH(BI56,$CF$4:$CL$4,)),0)","v":0},0,0,0]
[null,null,null,null,null,null,null,null,null,null,null,"Gündüz (Doktora)",null,null,null,null,null,null,null,null,null,null,null,null,null,null,null,null,null,null,null,null,null,null,null,null,null,null,null,null,null,null,null,null,null,null,null,null,null,null,0,null,0,null,null,null,{"$f":"ROUND(BE56/100*BE55,2)","v":0},null,null,null,"D1",{"$f":"IFERROR(INDEX($CF$4:$CL$18,MATCH(B57,$CF$4:$CF$18,),MATCH(BI57,$CF$4:$CL$4,)),0)","v":0},0,0,0]
[null,null,null,null,null,null,null,null,null,null,null,"Gece (Lisans)",null,null,null,null,null,null,null,null,null,null,null,null,null,null,null,null,null,null,null,null,null,null,null,null,null,null,null,null,null,null,null,null,null,null,null,null,null,null,0,null,0,null,null,null,{"$f":"ROUND(BE56/1000*7.59,2)","v":0},null,null,null,"L2",{"$f":"IFERROR(INDEX($CF$4:$CL$18,MATCH(B57,$CF$4:$CF$18,),MATCH(BI58,$CF$4:$CL$4,)),0)","v":0},0,0,0]
[null,null,null,null,null,null,null,null,null,null,null,"Gece (Y. Lisans)",null,null,null,null,null,null,null,null,null,null,null,null,null,null,null,null,null,null,null,null,null,null,null,null,null,null,null,null,null,null,null,null,null,null,null,null,null,null,0,null,0,null,null,null,{"$f":"BE57+BE58","v":0},null,null,null,"Y2",{"$f":"IFERROR(INDEX($CF$4:$CL$18,MATCH(B57,$CF$4:$CF$18,),MATCH(BI59,$CF$4:$CL$4,)),0)","v":0},0,0,0]
[null,null,null,null,null,null,null,null,null,null,null,"Gece (Doktora)",null,null,null,null,null,null,null,null,null,null,null,null,null,null,null,null,null,null,null,null,null,null,null,null,null,null,null,null,null,null,null,null,null,null,null,null,null,null,0,null,0,null,null,null,{"$f":"BE56-BE59","v":0},null,null,null,"D2",{"$f":"IFERROR(INDEX($CF$4:$CL$18,MATCH(B57,$CF$4:$CF$18,),MATCH(BI60,$CF$4:$CL$4,)),0)","v":0},0,0,0]
[null,null,null,null,null,null,null,null,null,null,null,"Gündüz (Lisans)",null,null,null,null,null,null,null,null,null,null,null,null,null,null,null,null,null,null,null,null,null,null,null,null,null,null,null,null,null,null,null,null,null,null,null,null,null,null,{"$f":"SUM(P61:AX61)","v":0},null,0,null,null,null,20,null,null,null,"L1",{"$f":"IFERROR(INDEX($CF$4:$CL$18,MATCH(B63,$CF$4:$CF$18,),MATCH(BI61,$CF$4:$CL$4,)),0)","v":0},0,0,0]
[null,null,null,null,null,null,null,null,null,null,null,"Gündüz (Y. Lisans)",null,null,null,null,null,null,null,null,null,null,null,null,null,null,null,null,null,null,null,null,null,null,null,null,null,null,null,null,null,null,null,null,null,null,null,null,null,null,{"$f":"SUM(P62:AX62)","v":0},null,0,null,null,null,{"$f":"BA61+BA62+BA63+BA64+BA65+BA66","v":0},null,null,null,"Y1",{"$f":"IFERROR(INDEX($CF$4:$CL$18,MATCH(B63,$CF$4:$CF$18,),MATCH(BI62,$CF$4:$CL$4,)),0)","v":0},0,0,0]
[null,null,null,null,null,null,null,null,null,null,null,"Gündüz (Doktora)",null,null,null,null,null,null,null,null,null,null,null,null,null,null,null,null,null,null,null,null,null,null,null,null,null,null,null,null,null,null,null,null,null,null,null,null,null,null,0,null,0,null,null,null,{"$f":"ROUND(BE62/100*BE61,2)","v":0},null,null,null,"D1",{"$f":"IFERROR(INDEX($CF$4:$CL$18,MATCH(B63,$CF$4:$CF$18,),MATCH(BI63,$CF$4:$CL$4,)),0)","v":0},0,0,0]
[null,null,null,null,null,null,null,null,null,null,null,"Gece (Lisans)",null,null,null,null,null,null,null,null,null,null,null,null,null,null,null,null,null,null,null,null,null,null,null,null,null,null,null,null,null,null,null,null,null,null,null,null,null,null,0,null,0,null,null,null,{"$f":"ROUND(BE62/1000*7.59,2)","v":0},null,null,null,"L2",{"$f":"IFERROR(INDEX($CF$4:$CL$18,MATCH(B63,$CF$4:$CF$18,),MATCH(BI64,$CF$4:$CL$4,)),0)","v":0},0,0,0]
[null,null,null,null,null,null,null,null,null,null,null,"Gece (Y. Lisans)",null,null,null,null,null,null,null,null,null,null,null,null,null,null,null,null,null,null,null,null,null,null,null,null,null,null,null,null,null,null,null,null,null,null,null,null,null,null,0,null,0,null,null,null,{"$f":"BE63+BE64","v":0},null,null,null,"Y2",{"$f":"IFERROR(INDEX($CF$4:$CL$18,MATCH(B63,$CF$4:$CF$18,),MATCH(BI65,$CF$4:$CL$4,)),0)","v":0},0,0,0]
[null,null,null,null,null,null,null,null,null,null,null,"Gece (Doktora)",null,null,null,null,null,null,null,null,null,null,null,null,null,null,null,null,null,null,null,null,null,null,null,null,null,null,null,null,null,null,null,null,null,null,null,null,null,null,0,null,0,null,null,null,{"$f":"BE62-BE65","v":0},null,null,null,"D2",{"$f":"IFERROR(INDEX($CF$4:$CL$18,MATCH(B63,$CF$4:$CF$18,),MATCH(BI66,$CF$4:$CL$4,)),0)","v":0},0,0,0]
[null,null,null,null,null,null,null,null,null,null,null,"Gündüz (Lisans)",null,null,null,null,null,null,null,null,null,null,null,null,null,null,null,null,null,null,null,null,null,null,null,null,null,null,null,null,null,null,null,null,null,null,null,null,null,null,{"$f":"SUM(P67:AX67)","v":0},null,0,null,null,null,20,null,null,null,"L1",{"$f":"IFERROR(INDEX($CF$4:$CL$18,MATCH(B69,$CF$4:$CF$18,),MATCH(BI67,$CF$4:$CL$4,)),0)","v":0},0,0,0]
[null,null,null,null,null,null,null,null,null,null,null,"Gündüz (Y. Lisans)",null,null,null,null,null,null,null,null,null,null,null,null,null,null,null,null,null,null,null,null,null,null,null,null,null,null,null,null,null,null,null,null,null,null,null,null,null,null,{"$f":"SUM(P68:AX68)","v":0},null,0,null,null,null,{"$f":"BA67+BA68+BA69+BA70+BA71+BA72","v":0},null,null,null,"Y1",{"$f":"IFERROR(INDEX($CF$4:$CL$18,MATCH(B69,$CF$4:$CF$18,),MATCH(BI68,$CF$4:$CL$4,)),0)","v":0},0,0,0]
[null,null,null,null,null,null,null,null,null,null,null,"Gündüz (Doktora)",null,null,null,null,null,null,null,null,null,null,null,null,null,null,null,null,null,null,null,null,null,null,null,null,null,null,null,null,null,null,null,null,null,null,null,null,null,null,0,null,0,null,null,null,{"$f":"ROUND(BE68/100*BE67,2)","v":0},null,null,null,"D1",{"$f":"IFERROR(INDEX($CF$4:$CL$18,MATCH(B69,$CF$4:$CF$18,),MATCH(BI69,$CF$4:$CL$4,)),0)","v":0},0,0,0]
[null,null,null,null,null,null,null,null,null,null,null,"Gece (Lisans)",null,null,null,null,null,null,null,null,null,null,null,null,null,null,null,null,null,null,null,null,null,null,null,null,null,null,null,null,null,null,null,null,null,null,null,null,null,null,0,null,0,null,null,null,{"$f":"ROUND(BE68/1000*7.59,2)","v":0},null,null,null,"L2",{"$f":"IFERROR(INDEX($CF$4:$CL$18,MATCH(B69,$CF$4:$CF$18,),MATCH(BI70,$CF$4:$CL$4,)),0)","v":0},0,0,0]
[null,null,null,null,null,null,null,null,null,null,null,"Gece (Y. Lisans)",null,null,null,null,null,null,null,null,null,null,null,null,null,null,null,null,null,null,null,null,null,null,null,null,null,null,null,null,null,null,null,null,null,null,null,null,null,null,0,null,0,null,null,null,{"$f":"BE69+BE70","v":0},null,null,null,"Y2",{"$f":"IFERROR(INDEX($CF$4:$CL$18,MATCH(B69,$CF$4:$CF$18,),MATCH(BI71,$CF$4:$CL$4,)),0)","v":0},0,0,0]
[null,null,null,null,null,null,null,null,null,null,null,"Gece (Doktora)",null,null,null,null,null,null,null,null,null,null,null,null,null,null,null,null,null,null,null,null,null,null,null,null,null,null,null,null,null,null,null,null,null,null,null,null,null,null,0,null,0,null,null,null,{"$f":"BE68-BE71","v":0},null,null,null,"D2",{"$f":"IFERROR(INDEX($CF$4:$CL$18,MATCH(B69,$CF$4:$CF$18,),MATCH(BI72,$CF$4:$CL$4,)),0)","v":0},0,0,0]
[null,null,null,null,null,null,null,null,null,null,null,"Gündüz (Lisans)",null,null,null,null,null,null,null,null,null,null,null,null,null,null,null,null,null,null,null,null,null,null,null,null,null,null,null,null,null,null,null,null,null,null,null,null,null,null,{"$f":"SUM(P73:AX73)","v":0},null,0,null,null,null,20,null,null,null,"L1",{"$f":"IFERROR(INDEX($CF$4:$CL$18,MATCH(B75,$CF$4:$CF$18,),MATCH(BI73,$CF$4:$CL$4,)),0)","v":0},0,0,0]
[null,null,null,null,null,null,null,null,null,null,null,"Gündüz (Y. Lisans)",null,null,null,null,null,null,null,null,null,null,null,null,null,null,null,null,null,null,null,null,null,null,null,null,null,null,null,null,null,null,null,null,null,null,null,null,null,null,{"$f":"SUM(P74:AX74)","v":0},null,0,null,null,null,{"$f":"BA73+BA74+BA75+BA76+BA77+BA78","v":0},null,null,null,"Y1",{"$f":"IFERROR(INDEX($CF$4:$CL$18,MATCH(B75,$CF$4:$CF$18,),MATCH(BI74,$CF$4:$CL$4,)),0)","v":0},0,0,0]
[null,null,null,null,null,null,null,null,null,null,null,"Gündüz (Doktora)",null,null,null,null,null,null,null,null,null,null,null,null,null,null,null,null,null,null,null,null,null,null,null,null,null,null,null,null,null,null,null,null,null,null,null,null,null,null,0,null,0,null,null,null,{"$f":"ROUND(BE74/100*BE73,2)","v":0},null,null,null,"D1",{"$f":"IFERROR(INDEX($CF$4:$CL$18,MATCH(B75,$CF$4:$CF$18,),MATCH(BI75,$CF$4:$CL$4,)),0)","v":0},0,0,0]
[null,null,null,null,null,null,null,null,null,null,null,"Gece (Lisans)",null,null,null,null,null,null,null,null,null,null,null,null,null,null,null,null,null,null,null,null,null,null,null,null,null,null,null,null,null,null,null,null,null,null,null,null,null,null,0,null,0,null,null,null,{"$f":"ROUND(BE74/1000*7.59,2)","v":0},null,null,null,"L2",{"$f":"IFERROR(INDEX($CF$4:$CL$18,MATCH(B75,$CF$4:$CF$18,),MATCH(BI76,$CF$4:$CL$4,)),0)","v":0},0,0,0]
[null,null,null,null,null,null,null,null,null,null,null,"Gece (Y. Lisans)",null,null,null,null,null,null,null,null,null,null,null,null,null,null,null,null,null,null,null,null,null,null,null,null,null,null,null,null,null,null,null,null,null,null,null,null,null,null,0,null,{"$f":"ROUND(AY77*BJ77*$AV$3,2)","v":0},null,null,null,{"$f":"BE75+BE76","v":0},null,null,null,"Y2",{"$f":"IFERROR(INDEX($CF$4:$CL$18,MATCH(B75,$CF$4:$CF$18,),MATCH(BI77,$CF$4:$CL$4,)),0)","v":0},0,0,0]
[null,null,null,null,null,null,null,null,null,null,null,"Gece (Doktora)",null,null,null,null,null,null,null,null,null,null,null,null,null,null,null,null,null,null,null,null,null,null,null,null,null,null,null,null,null,null,null,null,null,null,null,null,null,null,0,null,0,null,null,null,{"$f":"BE74-BE77","v":0},null,null,null,"D2",{"$f":"IFERROR(INDEX($CF$4:$CL$18,MATCH(B75,$CF$4:$CF$18,),MATCH(BI78,$CF$4:$CL$4,)),0)","v":0},{"$f":"IF(AY78=0,0,1)","v":0},{"$f":"IF(BK78=0,0,IF(AND(BJ78=0,BK78=1),1,0))","v":0},{"$f":"IF(BL78=1,AY78,0)","v":0}]
[null,null,null,null,null,null,null,null,null,null,null,"Gündüz (Lisans)",null,null,null,null,null,null,null,null,null,null,null,null,null,null,null,null,null,null,null,null,null,null,null,null,null,null,null,null,null,null,null,null,null,null,null,null,null,null,{"$f":"SUM(P79:AX79)","v":0},null,0,null,null,null,20,null,null,null,"L1",{"$f":"IFERROR(INDEX($CF$4:$CL$18,MATCH(B81,$CF$4:$CF$18,),MATCH(BI79,$CF$4:$CL$4,)),0)","v":0},0,0,0]
[null,null,null,null,null,null,null,null,null,null,null,"Gündüz (Y. Lisans)",null,null,null,null,null,null,null,null,null,null,null,null,null,null,null,null,null,null,null,null,null,null,null,null,null,null,null,null,null,null,null,null,null,null,null,null,null,null,{"$f":"SUM(P80:AX80)","v":0},null,0,null,null,null,{"$f":"BA79+BA80+BA81+BA82+BA83+BA84","v":0},null,null,null,"Y1",{"$f":"IFERROR(INDEX($CF$4:$CL$18,MATCH(B81,$CF$4:$CF$18,),MATCH(BI80,$CF$4:$CL$4,)),0)","v":0},0,0,0]
[null,null,null,null,null,null,null,null,null,null,null,"Gündüz (Doktora)",null,null,null,null,null,null,null,null,null,null,null,null,null,null,null,null,null,null,null,null,null,null,null,null,null,null,null,null,null,null,null,null,null,null,null,null,null,null,0,null,0,null,null,null,{"$f":"ROUND(BE80/100*BE79,2)","v":0},null,null,null,"D1",{"$f":"IFERROR(INDEX($CF$4:$CL$18,MATCH(B81,$CF$4:$CF$18,),MATCH(BI81,$CF$4:$CL$4,)),0)","v":0},0,0,0]
[null,null,null,null,null,null,null,null,null,null,null,"Gece (Lisans)",null,null,null,null,null,null,null,null,null,null,null,null,null,null,null,null,null,null,null,null,null,null,null,null,null,null,null,null,null,null,null,null,null,null,null,null,null,null,0,null,0,null,null,null,{"$f":"ROUND(BE80/1000*7.59,2)","v":0},null,null,null,"L2",{"$f":"IFERROR(INDEX($CF$4:$CL$18,MATCH(B81,$CF$4:$CF$18,),MATCH(BI82,$CF$4:$CL$4,)),0)","v":0},0,0,0]
[null,null,null,null,null,null,null,null,null,null,null,"Gece (Y. Lisans)",null,null,null,null,null,null,null,null,null,null,null,null,null,null,null,null,null,null,null,null,null,null,null,null,null,null,null,null,null,null,null,null,null,null,null,null,null,null,0,null,0,null,null,null,{"$f":"BE81+BE82","v":0},null,null,null,"Y2",{"$f":"IFERROR(INDEX($CF$4:$CL$18,MATCH(B81,$CF$4:$CF$18,),MATCH(BI83,$CF$4:$CL$4,)),0)","v":0},0,0,0]
[null,null,null,null,null,null,null,null,null,null,null,"Gece (Doktora)",null,null,null,null,null,null,null,null,null,null,null,null,null,null,null,null,null,null,null,null,null,null,null,null,null,null,null,null,null,null,null,null,null,null,null,null,null,null,0,null,0,null,null,null,{"$f":"BE80-BE83","v":0},null,null,null,"D2",{"$f":"IFERROR(INDEX($CF$4:$CL$18,MATCH(B81,$CF$4:$CF$18,),MATCH(BI84,$CF$4:$CL$4,)),0)","v":0},0,0,0]
[null,null,null,null,null,null,null,null,null,null,null,"Gündüz (Lisans)",null,null,null,null,null,null,null,null,null,null,null,null,null,null,null,null,null,null,null,null,null,null,null,null,null,null,null,null,null,null,null,null,null,null,null,null,null,null,{"$f":"SUM(P85:AX85)","v":0},null,0,null,null,null,20,null,null,null,"L1",{"$f":"IFERROR(INDEX($CF$4:$CL$18,MATCH(B87,$CF$4:$CF$18,),MATCH(BI85,$CF$4:$CL$4,)),0)","v":0},0,0,0]
[null,null,null,null,null,null,null,null,null,null,null,"Gündüz (Y. Lisans)",null,null,null,null,null,null,null,null,null,null,null,null,null,null,null,null,null,null,null,null,null,null,null,null,null,null,null,null,null,null,null,null,null,null,null,null,null,null,{"$f":"SUM(P86:AX86)","v":0},null,0,null,null,null,{"$f":"BA85+BA86+BA87+BA88+BA89+BA90","v":0},null,null,null,"Y1",{"$f":"IFERROR(INDEX($CF$4:$CL$18,MATCH(B87,$CF$4:$CF$18,),MATCH(BI86,$CF$4:$CL$4,)),0)","v":0},0,0,0]
[null,null,null,null,null,null,null,null,null,null,null,"Gündüz (Doktora)",null,null,null,null,null,null,null,null,null,null,null,null,null,null,null,null,null,null,null,null,null,null,null,null,null,null,null,null,null,null,null,null,null,null,null,null,null,null,0,null,0,null,null,null,{"$f":"ROUND(BE86/100*BE85,2)","v":0},null,null,null,"D1",{"$f":"IFERROR(INDEX($CF$4:$CL$18,MATCH(B87,$CF$4:$CF$18,),MATCH(BI87,$CF$4:$CL$4,)),0)","v":0},0,0,0]
[null,null,null,null,null,null,null,null,null,null,null,"Gece (Lisans)",null,null,null,null,null,null,null,null,null,null,null,null,null,null,null,null,null,null,null,null,null,null,null,null,null,null,null,null,null,null,null,null,null,null,null,null,null,null,0,null,0,null,null,null,{"$f":"ROUND(BE86/1000*7.59,2)","v":0},null,null,null,"L2",{"$f":"IFERROR(INDEX($CF$4:$CL$18,MATCH(B87,$CF$4:$CF$18,),MATCH(BI88,$CF$4:$CL$4,)),0)","v":0},0,0,0]
[null,null,null,null,null,null,null,null,null,null,null,"Gece (Y. Lisans)",null,null,null,null,null,null,null,null,null,null,null,null,null,null,null,null,null,null,null,null,null,null,null,null,null,null,null,null,null,null,null,null,null,null,null,null,null,null,0,null,0,null,null,null,{"$f":"BE87+BE88","v":0},null,null,null,"Y2",{"$f":"IFERROR(INDEX($CF$4:$CL$18,MATCH(B87,$CF$4:$CF$18,),MATCH(BI89,$CF$4:$CL$4,)),0)","v":0},0,0,0]
[null,null,null,null,null,null,null,null,null,null,null,"Gece (Doktora)",null,null,null,null,null,null,null,null,null,null,null,null,null,null,null,null,null,null,null,null,null,null,null,null,null,null,null,null,null,null,null,null,null,null,null,null,null,null,0,null,0,null,null,null,{"$f":"BE86-BE89","v":0},null,null,null,"D2",{"$f":"IFERROR(INDEX($CF$4:$CL$18,MATCH(B87,$CF$4:$CF$18,),MATCH(BI90,$CF$4:$CL$4,)),0)","v":0},0,0,0]
[null,null,null,null,null,null,null,null,null,null,null,"Gündüz (Lisans)",null,null,null,null,null,null,null,null,null,null,null,null,null,null,null,null,null,null,null,null,null,null,null,null,null,null,null,null,null,null,null,null,null,null,null,null,null,null,{"$f":"SUM(P91:AX91)","v":0},null,0,null,null,null,20,null,null,null,"L1",{"$f":"IFERROR(INDEX($CF$4:$CL$18,MATCH(B93,$CF$4:$CF$18,),MATCH(BI91,$CF$4:$CL$4,)),0)","v":0},0,0,0]
[null,null,null,null,null,null,null,null,null,null,null,"Gündüz (Y. Lisans)",null,null,null,null,null,null,null,null,null,null,null,null,null,null,null,null,null,null,null,null,null,null,null,null,null,null,null,null,null,null,null,null,null,null,null,null,null,null,{"$f":"SUM(P92:AX92)","v":0},null,0,null,null,null,{"$f":"BA91+BA92+BA93+BA94+BA95+BA96","v":0},null,null,null,"Y1",{"$f":"IFERROR(INDEX($CF$4:$CL$18,MATCH(B93,$CF$4:$CF$18,),MATCH(BI92,$CF$4:$CL$4,)),0)","v":0},0,0,0]
[null,null,null,null,null,null,null,null,null,null,null,"Gündüz (Doktora)",null,null,null,null,null,null,null,null,null,null,null,null,null,null,null,null,null,null,null,null,null,null,null,null,null,null,null,null,null,null,null,null,null,null,null,null,null,null,0,null,0,null,null,null,{"$f":"ROUND(BE92/100*BE91,2)","v":0},null,null,null,"D1",{"$f":"IFERROR(INDEX($CF$4:$CL$18,MATCH(B93,$CF$4:$CF$18,),MATCH(BI93,$CF$4:$CL$4,)),0)","v":0},0,0,0]
[null,null,null,null,null,null,null,null,null,null,null,"Gece (Lisans)",null,null,null,null,null,null,null,null,null,null,null,null,null,null,null,null,null,null,null,null,null,null,null,null,null,null,null,null,null,null,null,null,null,null,null,null,null,null,0,null,0,null,null,null,{"$f":"ROUND(BE92/1000*7.59,2)","v":0},null,null,null,"L2",{"$f":"IFERROR(INDEX($CF$4:$CL$18,MATCH(B93,$CF$4:$CF$18,),MATCH(BI94,$CF$4:$CL$4,)),0)","v":0},0,0,0]
[null,null,null,null,null,null,null,null,null,null,null,"Gece (Y. Lisans)",null,null,null,null,null,null,null,null,null,null,null,null,null,null,null,null,null,null,null,null,null,null,null,null,null,null,null,null,null,null,null,null,null,null,null,null,null,null,0,null,0,null,null,null,{"$f":"BE93+BE94","v":0},null,null,null,"Y2",{"$f":"IFERROR(INDEX($CF$4:$CL$18,MATCH(B93,$CF$4:$CF$18,),MATCH(BI95,$CF$4:$CL$4,)),0)","v":0},0,0,0]
[null,null,null,null,null,null,null,null,null,null,null,"Gece (Doktora)",null,null,null,null,null,null,null,null,null,null,null,null,null,null,null,null,null,null,null,null,null,null,null,null,null,null,null,null,null,null,null,null,null,null,null,null,null,null,0,null,0,null,null,null,{"$f":"BE92-BE95","v":0},null,null,null,"D2",{"$f":"IFERROR(INDEX($CF$4:$CL$18,MATCH(B93,$CF$4:$CF$18,),MATCH(BI96,$CF$4:$CL$4,)),0)","v":0},0,0,0]
[null,null,null,null,null,null,null,null,null,null,null,"Gündüz (Lisans)",null,null,null,null,null,null,null,null,null,null,null,null,null,null,null,null,null,null,null,null,null,null,null,null,null,null,null,null,null,null,null,null,null,null,null,null,null,null,{"$f":"SUM(P97:AX97)","v":0},null,0,null,null,null,20,null,null,null,"L1",{"$f":"IFERROR(INDEX($CF$4:$CL$18,MATCH(B99,$CF$4:$CF$18,),MATCH(BI97,$CF$4:$CL$4,)),0)","v":0},0,0,0]
[null,null,null,null,null,null,null,null,null,null,null,"Gündüz (Y. Lisans)",null,null,null,null,null,null,null,null,null,null,null,null,null,null,null,null,null,null,null,null,null,null,null,null,null,null,null,null,null,null,null,null,null,null,null,null,null,null,{"$f":"SUM(P98:AX98)","v":0},null,0,null,null,null,{"$f":"BA97+BA98+BA99+BA100+BA101+BA102","v":0},null,null,null,"Y1",{"$f":"IFERROR(INDEX($CF$4:$CL$18,MATCH(B99,$CF$4:$CF$18,),MATCH(BI98,$CF$4:$CL$4,)),0)","v":0},0,0,0]
[null,null,null,null,null,null,null,null,null,null,null,"Gündüz (Doktora)",null,null,null,null,null,null,null,null,null,null,null,null,null,null,null,null,null,null,null,null,null,null,null,null,null,null,null,null,null,null,null,null,null,null,null,null,null,null,0,null,0,null,null,null,{"$f":"ROUND(BE98/100*BE97,2)","v":0},null,null,null,"D1",{"$f":"IFERROR(INDEX($CF$4:$CL$18,MATCH(B99,$CF$4:$CF$18,),MATCH(BI99,$CF$4:$CL$4,)),0)","v":0},0,0,0]
[null,null,null,null,null,null,null,null,null,null,null,"Gece (Lisans)",null,null,null,null,null,null,null,null,null,null,null,null,null,null,null,null,null,null,null,null,null,null,null,null,null,null,null,null,null,null,null,null,null,null,null,null,null,null,0,null,0,null,null,null,{"$f":"ROUND(BE98/1000*7.59,2)","v":0},null,null,null,"L2",{"$f":"IFERROR(INDEX($CF$4:$CL$18,MATCH(B99,$CF$4:$CF$18,),MATCH(BI100,$CF$4:$CL$4,)),0)","v":0},0,0,0]
[null,null,null,null,null,null,null,null,null,null,null,"Gece (Y. Lisans)",null,null,null,null,null,null,null,null,null,null,null,null,null,null,null,null,null,null,null,null,null,null,null,null,null,null,null,null,null,null,null,null,null,null,null,null,null,null,0,null,0,null,null,null,{"$f":"BE99+BE100","v":0},null,null,null,"Y2",{"$f":"IFERROR(INDEX($CF$4:$CL$18,MATCH(B99,$CF$4:$CF$18,),MATCH(BI101,$CF$4:$CL$4,)),0)","v":0},0,0,0]
[null,null,null,null,null,null,null,null,null,null,null,"Gece (Doktora)",null,null,null,null,null,null,null,null,null,null,null,null,null,null,null,null,null,null,null,null,null,null,null,null,null,null,null,null,null,null,null,null,null,null,null,null,null,null,0,null,0,null,null,null,{"$f":"BE98-BE101","v":0},null,null,null,"D2",{"$f":"IFERROR(INDEX($CF$4:$CL$18,MATCH(B99,$CF$4:$CF$18,),MATCH(BI102,$CF$4:$CL$4,)),0)","v":0},0,0,0]
[null,null,null,null,null,null,null,null,null,null,null,"Gündüz (Lisans)",null,null,null,null,null,null,null,null,null,null,null,null,null,null,null,null,null,null,null,null,null,null,null,null,null,null,null,null,null,null,null,null,null,null,null,null,null,null,{"$f":"SUM(P103:AX103)","v":0},null,0,null,null,null,20,null,null,null,"L1",{"$f":"IFERROR(INDEX($CF$4:$CL$18,MATCH(B105,$CF$4:$CF$18,),MATCH(BI103,$CF$4:$CL$4,)),0)","v":0},0,0,0]
[null,null,null,null,null,null,null,null,null,null,null,"Gündüz (Y. Lisans)",null,null,null,null,null,null,null,null,null,null,null,null,null,null,null,null,null,null,null,null,null,null,null,null,null,null,null,null,null,null,null,null,null,null,null,null,null,null,{"$f":"SUM(P104:AX104)","v":0},null,0,null,null,null,{"$f":"BA103+BA104+BA105+BA106+BA107+BA108","v":0},null,null,null,"Y1",{"$f":"IFERROR(INDEX($CF$4:$CL$18,MATCH(B105,$CF$4:$CF$18,),MATCH(BI104,$CF$4:$CL$4,)),0)","v":0},0,0,0]
[null,null,null,null,null,null,null,null,null,null,null,"Gündüz (Doktora)",null,null,null,null,null,null,null,null,null,null,null,null,null,null,null,null,null,null,null,null,null,null,null,null,null,null,null,null,null,null,null,null,null,null,null,null,null,null,0,null,0,null,null,null,{"$f":"ROUND(BE104/100*BE103,2)","v":0},null,null,null,"D1",{"$f":"IFERROR(INDEX($CF$4:$CL$18,MATCH(B105,$CF$4:$CF$18,),MATCH(BI105,$CF$4:$CL$4,)),0)","v":0},0,0,0]
[null,null,null,null,null,null,null,null,null,null,null,"Gece (Lisans)",null,null,null,null,null,null,null,null,null,null,null,null,null,null,null,null,null,null,null,null,null,null,null,null,null,null,null,null,null,null,null,null,null,null,null,null,null,null,0,null,0,null,null,null,{"$f":"ROUND(BE104/1000*7.59,2)","v":0},null,null,null,"L2",{"$f":"IFERROR(INDEX($CF$4:$CL$18,MATCH(B105,$CF$4:$CF$18,),MATCH(BI106,$CF$4:$CL$4,)),0)","v":0},0,0,0]
[null,null,null,null,null,null,null,null,null,null,null,"Gece (Y. Lisans)",null,null,null,null,null,null,null,null,null,null,null,null,null,null,null,null,null,null,null,null,null,null,null,null,null,null,null,null,null,null,null,null,null,null,null,null,null,null,0,null,0,null,null,null,{"$f":"BE105+BE106","v":0},null,null,null,"Y2",{"$f":"IFERROR(INDEX($CF$4:$CL$18,MATCH(B105,$CF$4:$CF$18,),MATCH(BI107,$CF$4:$CL$4,)),0)","v":0},0,0,0]
[null,null,null,null,null,null,null,null,null,null,null,"Gece (Doktora)",null,null,null,null,null,null,null,null,null,null,null,null,null,null,null,null,null,null,null,null,null,null,null,null,null,null,null,null,null,null,null,null,null,null,null,null,null,null,0,null,0,null,null,null,{"$f":"BE104-BE107","v":0},null,null,null,"D2",{"$f":"IFERROR(INDEX($CF$4:$CL$18,MATCH(B105,$CF$4:$CF$18,),MATCH(BI108,$CF$4:$CL$4,)),0)","v":0},0,0,0]
[null,null,null,null,null,null,null,null,null,null,null,"Gündüz (Lisans)",null,null,null,null,null,null,null,null,null,null,null,null,null,null,null,null,null,null,null,null,null,null,null,null,null,null,null,null,null,null,null,null,null,null,null,null,null,null,{"$f":"SUM(P109:AX109)","v":0},null,{"$f":"ROUND(AY109*BJ109*$AV$3,2)","v":0},null,null,null,20,null,null,null,"L1",{"$f":"IFERROR(INDEX($CF$4:$CL$18,MATCH(B111,$CF$4:$CF$18,),MATCH(BI109,$CF$4:$CL$4,)),0)","v":0},0,0,0]
[null,null,null,null,null,null,null,null,null,null,null,"Gündüz (Y. Lisans)",null,null,null,null,null,null,null,null,null,null,null,null,null,null,null,null,null,null,null,null,null,null,null,null,null,null,null,null,null,null,null,null,null,null,null,null,null,null,{"$f":"SUM(P110:AX110)","v":0},null,0,null,null,null,{"$f":"BA109+BA110+BA111+BA112+BA113+BA114","v":0},null,null,null,"Y1",{"$f":"IFERROR(INDEX($CF$4:$CL$18,MATCH(B111,$CF$4:$CF$18,),MATCH(BI110,$CF$4:$CL$4,)),0)","v":0},0,0,0]
[null,null,null,null,null,null,null,null,null,null,null,"Gündüz (Doktora)",null,null,null,null,null,null,null,null,null,null,null,null,null,null,null,null,null,null,null,null,null,null,null,null,null,null,null,null,null,null,null,null,null,null,null,null,null,null,0,null,0,null,null,null,{"$f":"ROUND(BE110/100*BE109,2)","v":0},null,null,null,"D1",{"$f":"IFERROR(INDEX($CF$4:$CL$18,MATCH(B111,$CF$4:$CF$18,),MATCH(BI111,$CF$4:$CL$4,)),0)","v":0},0,0,0]
[null,null,null,null,null,null,null,null,null,null,null,"Gece (Lisans)",null,null,null,null,null,null,null,null,null,null,null,null,null,null,null,null,null,null,null,null,null,null,null,null,null,null,null,null,null,null,null,null,null,null,null,null,null,null,0,null,0,null,null,null,{"$f":"ROUND(BE110/1000*7.59,2)","v":0},null,null,null,"L2",{"$f":"IFERROR(INDEX($CF$4:$CL$18,MATCH(B111,$CF$4:$CF$18,),MATCH(BI112,$CF$4:$CL$4,)),0)","v":0},0,0,0]
[null,null,null,null,null,null,null,null,null,null,null,"Gece (Y. Lisans)",null,null,null,null,null,null,null,null,null,null,null,null,null,null,null,null,null,null,null,null,null,null,null,null,null,null,null,null,null,null,null,null,null,null,null,null,null,null,0,null,0,null,null,null,{"$f":"BE111+BE112","v":0},null,null,null,"Y2",{"$f":"IFERROR(INDEX($CF$4:$CL$18,MATCH(B111,$CF$4:$CF$18,),MATCH(BI113,$CF$4:$CL$4,)),0)","v":0},0,0,0]
[null,null,null,null,null,null,null,null,null,null,null,"Gece (Doktora)",null,null,null,null,null,null,null,null,null,null,null,null,null,null,null,null,null,null,null,null,null,null,null,null,null,null,null,null,null,null,null,null,null,null,null,null,null,null,0,null,0,null,null,null,{"$f":"BE110-BE113","v":0},null,null,null,"D2",{"$f":"IFERROR(INDEX($CF$4:$CL$18,MATCH(B111,$CF$4:$CF$18,),MATCH(BI114,$CF$4:$CL$4,)),0)","v":0},0,0,0]
[null,null,null,null,null,null,null,null,null,null,null,"Gündüz (Lisans)",null,null,null,null,null,null,null,null,null,null,null,null,null,null,null,null,null,null,null,null,null,null,null,null,null,null,null,null,null,null,null,null,null,null,null,null,null,null,{"$f":"SUM(P115:AX115)","v":0},null,0,null,null,null,20,null,null,null,"L1",{"$f":"IFERROR(INDEX($CF$4:$CL$18,MATCH(B117,$CF$4:$CF$18,),MATCH(BI115,$CF$4:$CL$4,)),0)","v":0},0,0,0]
[null,null,null,null,null,null,null,null,null,null,null,"Gündüz (Y. Lisans)",null,null,null,null,null,null,null,null,null,null,null,null,null,null,null,null,null,null,null,null,null,null,null,null,null,null,null,null,null,null,null,null,null,null,null,null,null,null,{"$f":"SUM(P116:AX116)","v":0},null,0,null,null,null,{"$f":"BA115+BA116+BA117+BA118+BA119+BA120","v":0},null,null,null,"Y1",{"$f":"IFERROR(INDEX($CF$4:$CL$18,MATCH(B117,$CF$4:$CF$18,),MATCH(BI116,$CF$4:$CL$4,)),0)","v":0},0,0,0]
[null,null,null,null,null,null,null,null,null,null,null,"Gündüz (Doktora)",null,null,null,null,null,null,null,null,null,null,null,null,null,null,null,null,null,null,null,null,null,null,null,null,null,null,null,null,null,null,null,null,null,null,null,null,null,null,0,null,0,null,null,null,{"$f":"ROUND(BE116/100*BE115,2)","v":0},null,null,null,"D1",{"$f":"IFERROR(INDEX($CF$4:$CL$18,MATCH(B117,$CF$4:$CF$18,),MATCH(BI117,$CF$4:$CL$4,)),0)","v":0},0,0,0]
[null,null,null,null,null,null,null,null,null,null,null,"Gece (Lisans)",null,null,null,null,null,null,null,null,null,null,null,null,null,null,null,null,null,null,null,null,null,null,null,null,null,null,null,null,null,null,null,null,null,null,null,null,null,null,0,null,0,null,null,null,{"$f":"ROUND(BE116/1000*7.59,2)","v":0},null,null,null,"L2",{"$f":"IFERROR(INDEX($CF$4:$CL$18,MATCH(B117,$CF$4:$CF$18,),MATCH(BI118,$CF$4:$CL$4,)),0)","v":0},0,0,0]
[null,null,null,null,null,null,null,null,null,null,null,"Gece (Y. Lisans)",null,null,null,null,null,null,null,null,null,null,null,null,null,null,null,null,null,null,null,null,null,null,null,null,null,null,null,null,null,null,null,null,null,null,null,null,null,null,0,null,0,null,null,null,{"$f":"BE117+BE118","v":0},null,null,null,"Y2",{"$f":"IFERROR(INDEX($CF$4:$CL$18,MATCH(B117,$CF$4:$CF$18,),MATCH(BI119,$CF$4:$CL$4,)),0)","v":0},0,0,0]
[null,null,null,null,null,null,null,null,null,null,null,"Gece (Doktora)",null,null,null,null,null,null,null,null,null,null,null,null,null,null,null,null,null,null,null,null,null,null,null,null,null,null,null,null,null,null,null,null,null,null,null,null,null,null,0,null,0,null,null,null,{"$f":"BE116-BE119","v":0},null,null,null,"D2",{"$f":"IFERROR(INDEX($CF$4:$CL$18,MATCH(B117,$CF$4:$CF$18,),MATCH(BI120,$CF$4:$CL$4,)),0)","v":0},0,0,0]
[null,null,null,null,null,null,null,null,null,null,null,"Gündüz (Lisans)",null,null,null,null,null,null,null,null,null,null,null,null,null,null,null,null,null,null,null,null,null,null,null,null,null,null,null,null,null,null,null,null,null,null,null,null,null,null,{"$f":"SUM(P121:AX121)","v":0},null,0,null,null,null,20,null,null,null,"L1",{"$f":"IFERROR(INDEX($CF$4:$CL$18,MATCH(B123,$CF$4:$CF$18,),MATCH(BI121,$CF$4:$CL$4,)),0)","v":0},0,0,0]
[null,null,null,null,null,null,null,null,null,null,null,"Gündüz (Y. Lisans)",null,null,null,null,null,null,null,null,null,null,null,null,null,null,null,null,null,null,null,null,null,null,null,null,null,null,null,null,null,null,null,null,null,null,null,null,null,null,{"$f":"SUM(P122:AX122)","v":0},null,0,null,null,null,{"$f":"BA121+BA122+BA123+BA124+BA125+BA126","v":0},null,null,null,"Y1",{"$f":"IFERROR(INDEX($CF$4:$CL$18,MATCH(B123,$CF$4:$CF$18,),MATCH(BI122,$CF$4:$CL$4,)),0)","v":0},0,0,0]
[null,null,null,null,null,null,null,null,null,null,null,"Gündüz (Doktora)",null,null,null,null,null,null,null,null,null,null,null,null,null,null,null,null,null,null,null,null,null,null,null,null,null,null,null,null,null,null,null,null,null,null,null,null,null,null,0,null,0,null,null,null,{"$f":"ROUND(BE122/100*BE121,2)","v":0},null,null,null,"D1",{"$f":"IFERROR(INDEX($CF$4:$CL$18,MATCH(B123,$CF$4:$CF$18,),MATCH(BI123,$CF$4:$CL$4,)),0)","v":0},0,0,0]
[null,null,null,null,null,null,null,null,null,null,null,"Gece (Lisans)",null,null,null,null,null,null,null,null,null,null,null,null,null,null,null,null,null,null,null,null,null,null,null,null,null,null,null,null,null,null,null,null,null,null,null,null,null,null,0,null,0,null,null,null,{"$f":"ROUND(BE122/1000*7.59,2)","v":0},null,null,null,"L2",{"$f":"IFERROR(INDEX($CF$4:$CL$18,MATCH(B123,$CF$4:$CF$18,),MATCH(BI124,$CF$4:$CL$4,)),0)","v":0},0,0,0]
[null,null,null,null,null,null,null,null,null,null,null,"Gece (Y. Lisans)",null,null,null,null,null,null,null,null,null,null,null,null,null,null,null,null,null,null,null,null,null,null,null,null,null,null,null,null,null,null,null,null,null,null,null,null,null,null,0,null,0,null,null,null,{"$f":"BE123+BE124","v":0},null,null,null,"Y2",{"$f":"IFERROR(INDEX($CF$4:$CL$18,MATCH(B123,$CF$4:$CF$18,),MATCH(BI125,$CF$4:$CL$4,)),0)","v":0},0,0,0]
[null,null,null,null,null,null,null,null,null,null,null,"Gece (Doktora)",null,null,null,null,null,null,null,null,null,null,null,null,null,null,null,null,null,null,null,null,null,null,null,null,null,null,null,null,null,null,null,null,null,null,null,null,null,null,0,null,0,null,null,null,{"$f":"BE122-BE125","v":0},null,null,null,"D2",{"$f":"IFERROR(INDEX($CF$4:$CL$18,MATCH(B123,$CF$4:$CF$18,),MATCH(BI126,$CF$4:$CL$4,)),0)","v":0},0,0,0]
[null,null,null,null,null,null,null,null,null,null,null,"Gündüz (Lisans)",null,null,null,null,null,null,null,null,null,null,null,null,null,null,null,null,null,null,null,null,null,null,null,null,null,null,null,null,null,null,null,null,null,null,null,null,null,null,{"$f":"SUM(P127:AX127)","v":0},null,0,null,null,null,20,null,null,null,"L1",{"$f":"IFERROR(INDEX($CF$4:$CL$18,MATCH(B129,$CF$4:$CF$18,),MATCH(BI127,$CF$4:$CL$4,)),0)","v":0},0,0,0]
[null,null,null,null,null,null,null,null,null,null,null,"Gündüz (Y. Lisans)",null,null,null,null,null,null,null,null,null,null,null,null,null,null,null,null,null,null,null,null,null,null,null,null,null,null,null,null,null,null,null,null,null,null,null,null,null,null,{"$f":"SUM(P128:AX128)","v":0},null,0,null,null,null,{"$f":"BA127+BA128+BA129+BA130+BA131+BA132","v":0},null,null,null,"Y1",{"$f":"IFERROR(INDEX($CF$4:$CL$18,MATCH(B129,$CF$4:$CF$18,),MATCH(BI128,$CF$4:$CL$4,)),0)","v":0},0,0,0]
[null,null,null,null,null,null,null,null,null,null,null,"Gündüz (Doktora)",null,null,null,null,null,null,null,null,null,null,null,null,null,null,null,null,null,null,null,null,null,null,null,null,null,null,null,null,null,null,null,null,null,null,null,null,null,null,0,null,0,null,null,null,{"$f":"ROUND(BE128/100*BE127,2)","v":0},null,null,null,"D1",{"$f":"IFERROR(INDEX($CF$4:$CL$18,MATCH(B129,$CF$4:$CF$18,),MATCH(BI129,$CF$4:$CL$4,)),0)","v":0},0,0,0]
[null,null,null,null,null,null,null,null,null,null,null,"Gece (Lisans)",null,null,null,null,null,null,null,null,null,null,null,null,null,null,null,null,null,null,null,null,null,null,null,null,null,null,null,null,null,null,null,null,null,null,null,null,null,null,0,null,0,null,null,null,{"$f":"ROUND(BE128/1000*7.59,2)","v":0},null,null,null,"L2",{"$f":"IFERROR(INDEX($CF$4:$CL$18,MATCH(B129,$CF$4:$CF$18,),MATCH(BI130,$CF$4:$CL$4,)),0)","v":0},0,0,0]
[null,null,null,null,null,null,null,null,null,null,null,"Gece (Y. Lisans)",null,null,null,null,null,null,null,null,null,null,null,null,null,null,null,null,null,null,null,null,null,null,null,null,null,null,null,null,null,null,null,null,null,null,null,null,null,null,0,null,0,null,null,null,{"$f":"BE129+BE130","v":0},null,null,null,"Y2",{"$f":"IFERROR(INDEX($CF$4:$CL$18,MATCH(B129,$CF$4:$CF$18,),MATCH(BI131,$CF$4:$CL$4,)),0)","v":0},0,0,0]
[null,null,null,null,null,null,null,null,null,null,null,"Gece (Doktora)",null,null,null,null,null,null,null,null,null,null,null,null,null,null,null,null,null,null,null,null,null,null,null,null,null,null,null,null,null,null,null,null,null,null,null,null,null,null,0,null,0,null,null,null,{"$f":"BE128-BE131","v":0},null,null,null,"D2",{"$f":"IFERROR(INDEX($CF$4:$CL$18,MATCH(B129,$CF$4:$CF$18,),MATCH(BI132,$CF$4:$CL$4,)),0)","v":0},0,0,0]
[null,null,null,null,null,null,null,null,null,null,null,"Gündüz (Lisans)",null,null,null,null,null,null,null,null,null,null,null,null,null,null,null,null,null,null,null,null,null,null,null,null,null,null,null,null,null,null,null,null,null,null,null,null,null,null,{"$f":"SUM(P133:AX133)","v":0},null,0,null,null,null,20,null,null,null,"L1",{"$f":"IFERROR(INDEX($CF$4:$CL$18,MATCH(B135,$CF$4:$CF$18,),MATCH(BI133,$CF$4:$CL$4,)),0)","v":0},0,0,0]
[null,null,null,null,null,null,null,null,null,null,null,"Gündüz (Y. Lisans)",null,null,null,null,null,null,null,null,null,null,null,null,null,null,null,null,null,null,null,null,null,null,null,null,null,null,null,null,null,null,null,null,null,null,null,null,null,null,{"$f":"SUM(P134:AX134)","v":0},null,0,null,null,null,{"$f":"BA133+BA134+BA135+BA136+BA137+BA138","v":0},null,null,null,"Y1",{"$f":"IFERROR(INDEX($CF$4:$CL$18,MATCH(B135,$CF$4:$CF$18,),MATCH(BI134,$CF$4:$CL$4,)),0)","v":0},0,0,0]
[null,null,null,null,null,null,null,null,null,null,null,"Gündüz (Doktora)",null,null,null,null,null,null,null,null,null,null,null,null,null,null,null,null,null,null,null,null,null,null,null,null,null,null,null,null,null,null,null,null,null,null,null,null,null,null,0,null,0,null,null,null,{"$f":"ROUND(BE134/100*BE133,2)","v":0},null,null,null,"D1",{"$f":"IFERROR(INDEX($CF$4:$CL$18,MATCH(B135,$CF$4:$CF$18,),MATCH(BI135,$CF$4:$CL$4,)),0)","v":0},0,0,0]
[null,null,null,null,null,null,null,null,null,null,null,"Gece (Lisans)",null,null,null,null,null,null,null,null,null,null,null,null,null,null,null,null,null,null,null,null,null,null,null,null,null,null,null,null,null,null,null,null,null,null,null,null,null,null,0,null,0,null,null,null,{"$f":"ROUND(BE134/1000*7.59,2)","v":0},null,null,null,"L2",{"$f":"IFERROR(INDEX($CF$4:$CL$18,MATCH(B135,$CF$4:$CF$18,),MATCH(BI136,$CF$4:$CL$4,)),0)","v":0},0,0,0]
[null,null,null,null,null,null,null,null,null,null,null,"Gece (Y. Lisans)",null,null,null,null,null,null,null,null,null,null,null,null,null,null,null,null,null,null,null,null,null,null,null,null,null,null,null,null,null,null,null,null,null,null,null,null,null,null,0,null,0,null,null,null,{"$f":"BE135+BE136","v":0},null,null,null,"Y2",{"$f":"IFERROR(INDEX($CF$4:$CL$18,MATCH(B135,$CF$4:$CF$18,),MATCH(BI137,$CF$4:$CL$4,)),0)","v":0},0,0,0]
[null,null,null,null,null,null,null,null,null,null,null,"Gece (Doktora)",null,null,null,null,null,null,null,null,null,null,null,null,null,null,null,null,null,null,null,null,null,null,null,null,null,null,null,null,null,null,null,null,null,null,null,null,null,null,0,null,0,null,null,null,{"$f":"BE134-BE137","v":0},null,null,null,"D2",{"$f":"IFERROR(INDEX($CF$4:$CL$18,MATCH(B135,$CF$4:$CF$18,),MATCH(BI138,$CF$4:$CL$4,)),0)","v":0},0,0,0]
[null,null,null,null,null,null,null,null,null,null,null,"Gündüz (Lisans)",null,null,null,null,null,null,null,null,null,null,null,null,null,null,null,null,null,null,null,null,null,null,null,null,null,null,null,null,null,null,null,null,null,null,null,null,null,null,{"$f":"SUM(P139:AX139)","v":0},null,0,null,null,null,20,null,null,null,"L1",{"$f":"IFERROR(INDEX($CF$4:$CL$18,MATCH(B141,$CF$4:$CF$18,),MATCH(BI139,$CF$4:$CL$4,)),0)","v":0},0,0,0]
[null,null,null,null,null,null,null,null,null,null,null,"Gündüz (Y. Lisans)",null,null,null,null,null,null,null,null,null,null,null,null,null,null,null,null,null,null,null,null,null,null,null,null,null,null,null,null,null,null,null,null,null,null,null,null,null,null,{"$f":"SUM(P140:AX140)","v":0},null,0,null,null,null,{"$f":"BA139+BA140+BA141+BA142+BA143+BA144","v":0},null,null,null,"Y1",{"$f":"IFERROR(INDEX($CF$4:$CL$18,MATCH(B141,$CF$4:$CF$18,),MATCH(BI140,$CF$4:$CL$4,)),0)","v":0},0,0,0]
[null,null,null,null,null,null,null,null,null,null,null,"Gündüz (Doktora)",null,null,null,null,null,null,null,null,null,null,null,null,null,null,null,null,null,null,null,null,null,null,null,null,null,null,null,null,null,null,null,null,null,null,null,null,null,null,0,null,{"$f":"ROUND(AY141*BJ141*$AV$3,2)","v":0},null,null,null,{"$f":"ROUND(BE140/100*BE139,2)","v":0},null,null,null,"D1",{"$f":"IFERROR(INDEX($CF$4:$CL$18,MATCH(B141,$CF$4:$CF$18,),MATCH(BI141,$CF$4:$CL$4,)),0)","v":0},0,0,0]
[null,null,null,null,null,null,null,null,null,null,null,"Gece (Lisans)",null,null,null,null,null,null,null,null,null,null,null,null,null,null,null,null,null,null,null,null,null,null,null,null,null,null,null,null,null,null,null,null,null,null,null,null,null,null,0,null,0,null,null,null,{"$f":"ROUND(BE140/1000*7.59,2)","v":0},null,null,null,"L2",{"$f":"IFERROR(INDEX($CF$4:$CL$18,MATCH(B141,$CF$4:$CF$18,),MATCH(BI142,$CF$4:$CL$4,)),0)","v":0},{"$f":"IF(AY142=0,0,1)","v":0},{"$f":"IF(BK142=0,0,IF(AND(BJ142=0,BK142=1),1,0))","v":0},{"$f":"IF(BL142=1,AY142,0)","v":0}]
[null,null,null,null,null,null,null,null,null,null,null,"Gece (Y. Lisans)",null,null,null,null,null,null,null,null,null,null,null,null,null,null,null,null,null,null,null,null,null,null,null,null,null,null,null,null,null,null,null,null,null,null,null,null,null,null,0,null,0,null,null,null,{"$f":"BE141+BE142","v":0},null,null,null,"Y2",{"$f":"IFERROR(INDEX($CF$4:$CL$18,MATCH(B141,$CF$4:$CF$18,),MATCH(BI143,$CF$4:$CL$4,)),0)","v":0},0,0,0]
[null,null,null,null,null,null,null,null,null,null,null,"Gece (Doktora)",null,null,null,null,null,null,null,null,null,null,null,null,null,null,null,null,null,null,null,null,null,null,null,null,null,null,null,null,null,null,null,null,null,null,null,null,null,null,0,null,0,null,null,null,{"$f":"BE140-BE143","v":0},null,null,null,"D2",{"$f":"IFERROR(INDEX($CF$4:$CL$18,MATCH(B141,$CF$4:$CF$18,),MATCH(BI144,$CF$4:$CL$4,)),0)","v":0},0,0,0]
[null,null,null,null,null,null,null,null,null,null,null,"Gündüz (Lisans)",null,null,null,null,null,null,null,null,null,null,null,null,null,null,null,null,null,null,null,null,null,null,null,null,null,null,null,null,null,null,null,null,null,null,null,null,null,null,{"$f":"SUM(P145:AX145)","v":0},null,0,null,null,null,20,null,null,null,"L1",{"$f":"IFERROR(INDEX($CF$4:$CL$18,MATCH(B147,$CF$4:$CF$18,),MATCH(BI145,$CF$4:$CL$4,)),0)","v":0},0,0,0]
[null,null,null,null,null,null,null,null,null,null,null,"Gündüz (Y. Lisans)",null,null,null,null,null,null,null,null,null,null,null,null,null,null,null,null,null,null,null,null,null,null,null,null,null,null,null,null,null,null,null,null,null,null,null,null,null,null,{"$f":"SUM(P146:AX146)","v":0},null,0,null,null,null,{"$f":"BA145+BA146+BA147+BA148+BA149+BA150","v":0},null,null,null,"Y1",{"$f":"IFERROR(INDEX($CF$4:$CL$18,MATCH(B147,$CF$4:$CF$18,),MATCH(BI146,$CF$4:$CL$4,)),0)","v":0},0,0,0]
[null,null,null,null,null,null,null,null,null,null,null,"Gündüz (Doktora)",null,null,null,null,null,null,null,null,null,null,null,null,null,null,null,null,null,null,null,null,null,null,null,null,null,null,null,null,null,null,null,null,null,null,null,null,null,null,0,null,0,null,null,null,{"$f":"ROUND(BE146/100*BE145,2)","v":0},null,null,null,"D1",{"$f":"IFERROR(INDEX($CF$4:$CL$18,MATCH(B147,$CF$4:$CF$18,),MATCH(BI147,$CF$4:$CL$4,)),0)","v":0},0,0,0]
[null,null,null,null,null,null,null,null,null,null,null,"Gece (Lisans)",null,null,null,null,null,null,null,null,null,null,null,null,null,null,null,null,null,null,null,null,null,null,null,null,null,null,null,null,null,null,null,null,null,null,null,null,null,null,0,null,0,null,null,null,{"$f":"ROUND(BE146/1000*7.59,2)","v":0},null,null,null,"L2",{"$f":"IFERROR(INDEX($CF$4:$CL$18,MATCH(B147,$CF$4:$CF$18,),MATCH(BI148,$CF$4:$CL$4,)),0)","v":0},0,0,0]
[null,null,null,null,null,null,null,null,null,null,null,"Gece (Y. Lisans)",null,null,null,null,null,null,null,null,null,null,null,null,null,null,null,null,null,null,null,null,null,null,null,null,null,null,null,null,null,null,null,null,null,null,null,null,null,null,0,null,0,null,null,null,{"$f":"BE147+BE148","v":0},null,null,null,"Y2",{"$f":"IFERROR(INDEX($CF$4:$CL$18,MATCH(B147,$CF$4:$CF$18,),MATCH(BI149,$CF$4:$CL$4,)),0)","v":0},0,0,0]
[null,null,null,null,null,null,null,null,null,null,null,"Gece (Doktora)",null,null,null,null,null,null,null,null,null,null,null,null,null,null,null,null,null,null,null,null,null,null,null,null,null,null,null,null,null,null,null,null,null,null,null,null,null,null,0,null,0,null,null,null,{"$f":"BE146-BE149","v":0},null,null,null,"D2",{"$f":"IFERROR(INDEX($CF$4:$CL$18,MATCH(B147,$CF$4:$CF$18,),MATCH(BI150,$CF$4:$CL$4,)),0)","v":0},0,0,0]
[null,null,null,null,null,null,null,null,null,null,null,"Gündüz (Lisans)",null,null,null,null,null,null,null,null,null,null,null,null,null,null,null,null,null,null,null,null,null,null,null,null,null,null,null,null,null,null,null,null,null,null,null,null,null,null,{"$f":"SUM(P151:AX151)","v":0},null,0,null,null,null,20,null,null,null,"L1",{"$f":"IFERROR(INDEX($CF$4:$CL$18,MATCH(B153,$CF$4:$CF$18,),MATCH(BI151,$CF$4:$CL$4,)),0)","v":0},0,0,0]
[null,null,null,null,null,null,null,null,null,null,null,"Gündüz (Y. Lisans)",null,null,null,null,null,null,null,null,null,null,null,null,null,null,null,null,null,null,null,null,null,null,null,null,null,null,null,null,null,null,null,null,null,null,null,null,null,null,{"$f":"SUM(P152:AX152)","v":0},null,0,null,null,null,{"$f":"BA151+BA152+BA153+BA154+BA155+BA156","v":0},null,null,null,"Y1",{"$f":"IFERROR(INDEX($CF$4:$CL$18,MATCH(B153,$CF$4:$CF$18,),MATCH(BI152,$CF$4:$CL$4,)),0)","v":0},0,0,0]
[null,null,null,null,null,null,null,null,null,null,null,"Gündüz (Doktora)",null,null,null,null,null,null,null,null,null,null,null,null,null,null,null,null,null,null,null,null,null,null,null,null,null,null,null,null,null,null,null,null,null,null,null,null,null,null,0,null,0,null,null,null,{"$f":"ROUND(BE152/100*BE151,2)","v":0},null,null,null,"D1",{"$f":"IFERROR(INDEX($CF$4:$CL$18,MATCH(B153,$CF$4:$CF$18,),MATCH(BI153,$CF$4:$CL$4,)),0)","v":0},0,0,0]
[null,null,null,null,null,null,null,null,null,null,null,"Gece (Lisans)",null,null,null,null,null,null,null,null,null,null,null,null,null,null,null,null,null,null,null,null,null,null,null,null,null,null,null,null,null,null,null,null,null,null,null,null,null,null,0,null,0,null,null,null,{"$f":"ROUND(BE152/1000*7.59,2)","v":0},null,null,null,"L2",{"$f":"IFERROR(INDEX($CF$4:$CL$18,MATCH(B153,$CF$4:$CF$18,),MATCH(BI154,$CF$4:$CL$4,)),0)","v":0},0,0,0]
[null,null,null,null,null,null,null,null,null,null,null,"Gece (Y. Lisans)",null,null,null,null,null,null,null,null,null,null,null,null,null,null,null,null,null,null,null,null,null,null,null,null,null,null,null,null,null,null,null,null,null,null,null,null,null,null,0,null,0,null,null,null,{"$f":"BE153+BE154","v":0},null,null,null,"Y2",{"$f":"IFERROR(INDEX($CF$4:$CL$18,MATCH(B153,$CF$4:$CF$18,),MATCH(BI155,$CF$4:$CL$4,)),0)","v":0},0,0,0]
[null,null,null,null,null,null,null,null,null,null,null,"Gece (Doktora)",null,null,null,null,null,null,null,null,null,null,null,null,null,null,null,null,null,null,null,null,null,null,null,null,null,null,null,null,null,null,null,null,null,null,null,null,null,null,0,null,0,null,null,null,{"$f":"BE152-BE155","v":0},null,null,null,"D2",{"$f":"IFERROR(INDEX($CF$4:$CL$18,MATCH(B153,$CF$4:$CF$18,),MATCH(BI156,$CF$4:$CL$4,)),0)","v":0},0,0,0]
[null,null,null,null,null,null,null,null,null,null,null,"Gündüz (Lisans)",null,null,null,null,null,null,null,null,null,null,null,null,null,null,null,null,null,null,null,null,null,null,null,null,null,null,null,null,null,null,null,null,null,null,null,null,null,null,{"$f":"SUM(P157:AX157)","v":0},null,0,null,null,null,20,null,null,null,"L1",{"$f":"IFERROR(INDEX($CF$4:$CL$18,MATCH(B159,$CF$4:$CF$18,),MATCH(BI157,$CF$4:$CL$4,)),0)","v":0},0,0,0]
[null,null,null,null,null,null,null,null,null,null,null,"Gündüz (Y. Lisans)",null,null,null,null,null,null,null,null,null,null,null,null,null,null,null,null,null,null,null,null,null,null,null,null,null,null,null,null,null,null,null,null,null,null,null,null,null,null,{"$f":"SUM(P158:AX158)","v":0},null,0,null,null,null,{"$f":"BA157+BA158+BA159+BA160+BA161+BA162","v":0},null,null,null,"Y1",{"$f":"IFERROR(INDEX($CF$4:$CL$18,MATCH(B159,$CF$4:$CF$18,),MATCH(BI158,$CF$4:$CL$4,)),0)","v":0},0,0,0]
[null,null,null,null,null,null,null,null,null,null,null,"Gündüz (Doktora)",null,null,null,null,null,null,null,null,null,null,null,null,null,null,null,null,null,null,null,null,null,null,null,null,null,null,null,null,null,null,null,null,null,null,null,null,null,null,0,null,0,null,null,null,{"$f":"ROUND(BE158/100*BE157,2)","v":0},null,null,null,"D1",{"$f":"IFERROR(INDEX($CF$4:$CL$18,MATCH(B159,$CF$4:$CF$18,),MATCH(BI159,$CF$4:$CL$4,)),0)","v":0},0,0,0]
[null,null,null,null,null,null,null,null,null,null,null,"Gece (Lisans)",null,null,null,null,null,null,null,null,null,null,null,null,null,null,null,null,null,null,null,null,null,null,null,null,null,null,null,null,null,null,null,null,null,null,null,null,null,null,0,null,0,null,null,null,{"$f":"ROUND(BE158/1000*7.59,2)","v":0},null,null,null,"L2",{"$f":"IFERROR(INDEX($CF$4:$CL$18,MATCH(B159,$CF$4:$CF$18,),MATCH(BI160,$CF$4:$CL$4,)),0)","v":0},0,0,0]
[null,null,null,null,null,null,null,null,null,null,null,"Gece (Y. Lisans)",null,null,null,null,null,null,null,null,null,null,null,null,null,null,null,null,null,null,null,null,null,null,null,null,null,null,null,null,null,null,null,null,null,null,null,null,null,null,0,null,0,null,null,null,{"$f":"BE159+BE160","v":0},null,null,null,"Y2",{"$f":"IFERROR(INDEX($CF$4:$CL$18,MATCH(B159,$CF$4:$CF$18,),MATCH(BI161,$CF$4:$CL$4,)),0)","v":0},0,0,0]
[null,null,null,null,null,null,null,null,null,null,null,"Gece (Doktora)",null,null,null,null,null,null,null,null,null,null,null,null,null,null,null,null,null,null,null,null,null,null,null,null,null,null,null,null,null,null,null,null,null,null,null,null,null,null,0,null,0,null,null,null,{"$f":"BE158-BE161","v":0},null,null,null,"D2",{"$f":"IFERROR(INDEX($CF$4:$CL$18,MATCH(B159,$CF$4:$CF$18,),MATCH(BI162,$CF$4:$CL$4,)),0)","v":0},0,0,0]

{"sheet":"Puantaj","index":1,"n_rows":35,"n_cols":45,"rows_kept":35,"cut":false,"hidden":true,"merged":[[4,2,4,6],[3,42,3,43],[1,37,1,41],[2,37,2,41],[0,0,0,43],[1,42,1,43],[2,42,2,43],[2,2,2,6],[2,7,2,11],[1,1,1,11],[2,0,2,1],[3,2,3,6],[5,2,5,6],[6,2,6,6],[7,2,7,6],[8,2,8,6],[9,2,9,6],[10,2,10,6],[11,2,11,6],[12,2,12,6],[13,2,13,6],[14,2,14,6],[15,2,15,6],[16,2,16,6],[17,2,17,6],[18,2,18,6],[19,2,19,6],[20,2,20,6],[21,2,21,6],[22,2,22,6],[23,2,23,6],[24,2,24,6],[29,0,29,43],[25,2,25,6],[26,2,26,6],[27,2,27,6],[28,2,28,6],[25,0,25,1],[26,0,26,1],[27,0,27,1],[28,0,28,1],[31,2,31,9],[32,2,32,9],[33,2,33,9],[34,2,34,9],[3,0,3,1],[4,0,4,1],[5,0,5,1],[6,0,6,1],[7,0,7,1],[8,0,8,1],[9,0,9,1],[10,0,10,1],[11,0,11,1],[12,0,12,1],[13,0,13,1],[14,0,14,1],[15,0,15,1],[16,0,16,1],[17,0,17,1],[18,0,18,1],[19,0,19,1],[20,0,20,1],[21,0,21,1],[22,0,22,1],[23,0,23,1],[24,0,24,1]]}
["EK DERS DEVAM-DEVAMSIZLIK ÇİZELGESİ"]
["Oul/Kurum Adı",{"$f":"Ekders!AG3","v":0},null,null,null,null,null,null,null,null,null,null,null,null,null,null,null,null,null,null,null,null,null,null,null,null,null,null,null,null,null,null,null,null,null,null,null,"Ait Old. Yıl",null,null,null,null,{"$f":"Ekders!AQ6","v":2025}]
["Puantaj Başlangıç ve Bitiş Tarihleri",null,{"$f":"Ekders!AV5","v":"2025-03-03"},null,null,null,null,{"$f":"Ekders!AV6","v":"2025-03-30"},null,null,null,null,null,null,null,null,null,null,null,null,null,null,null,null,null,null,null,null,null,null,null,null,null,null,null,null,null,"Ait Old. Ay",null,null,null,null,{"$f":"Ekders!AS6","v":"Mayıs"}]
["Kimlik No\nAdı Soyadı\nUnvanı\nIBAN/Hesap No\nOkuttuğu Ders Adı\nKadrosunun Bulunduğu Kurumu",null,"Ek Ders\nTürü",null,null,null,null,{"$f":"Ekders!AV5","v":"2025-03-03"},{"$f":"IFERROR(IF(H4=Ekders!$AV$6,\"\",H4+1),\"\")","v":"2025-03-04"},{"$f":"IFERROR(IF(I4=Ekders!$AV$6,\"\",I4+1),\"\")","v":"2025-03-05"},{"$f":"IFERROR(IF(J4=Ekders!$AV$6,\"\",J4+1),\"\")","v":"2025-03-06"},{"$f":"IFERROR(IF(K4=Ekders!$AV$6,\"\",K4+1),\"\")","v":"2025-03-07"},{"$f":"IFERROR(IF(L4=Ekders!$AV$6,\"\",L4+1),\"\")","v":"2025-03-08"},{"$f":"IFERROR(IF(M4=Ekders!$AV$6,\"\",M4+1),\"\")","v":"2025-03-09"},{"$f":"IFERROR(IF(N4=Ekders!$AV$6,\"\",N4+1),\"\")","v":"2025-03-10"},{"$f":"IFERROR(IF(O4=Ekders!$AV$6,\"\",O4+1),\"\")","v":"2025-03-11"},{"$f":"IFERROR(IF(P4=Ekders!$AV$6,\"\",P4+1),\"\")","v":"2025-03-12"},{"$f":"IFERROR(IF(Q4=Ekders!$AV$6,\"\",Q4+1),\"\")","v":"2025-03-13"},{"$f":"IFERROR(IF(R4=Ekders!$AV$6,\"\",R4+1),\"\")","v":"2025-03-14"},{"$f":"IFERROR(IF(S4=Ekders!$AV$6,\"\",S4+1),\"\")","v":"2025-03-15"},{"$f":"IFERROR(IF(T4=Ekders!$AV$6,\"\",T4+1),\"\")","v":"2025-03-16"},{"$f":"IFERROR(IF(U4=Ekders!$AV$6,\"\",U4+1),\"\")","v":"2025-03-17"},{"$f":"IFERROR(IF(V4=Ekders!$AV$6,\"\",V4+1),\"\")","v":"2025-03-18"},{"$f":"IFERROR(IF(W4=Ekders!$AV$6,\"\",W4+1),\"\")","v":"2025-03-19"},{"$f":"IFERROR(IF(X4=Ekders!$AV$6,\"\",X4+1),\"\")","v":"2025-03-20"},{"$f":"IFERROR(IF(Y4=Ekders!$AV$6,\"\",Y4+1),\"\")","v":"2025-03-21"},{"$f":"IFERROR(IF(Z4=Ekders!$AV$6,\"\",Z4+1),\"\")","v":"2025-03-22"},{"$f":"IFERROR(IF(AA4=Ekders!$AV$6,\"\",AA4+1),\"\")","v":"2025-03-23"},{"$f":"IFERROR(IF(AB4=Ekders!$AV$6,\"\",AB4+1),\"\")","v":"2025-03-24"},{"$f":"IFERROR(IF(AC4=Ekders!$AV$6,\"\",AC4+1),\"\")","v":"2025-03-25"},{"$f":"IFERROR(IF(AD4=Ekders!$AV$6,\"\",AD4+1),\"\")","v":"2025-03-26"},{"$f":"IFERROR(IF(AE4=Ekders!$AV$6,\"\",AE4+1),\"\")","v":"2025-03-27"},{"$f":"IFERROR(IF(AF4=Ekders!$AV$6,\"\",AF4+1),\"\")","v":"2025-03-28"},{"$f":"IFERROR(IF(AG4=Ekders!$AV$6,\"\",AG4+1),\"\")","v":"2025-03-29"},{"$f":"IFERROR(IF(AH4=Ekders!$AV$6,\"\",AH4+1),\"\")","v":"2025-03-30"},{"$f":"IFERROR(IF(AI4=Ekders!$AV$6,\"\",AI4+1),\"\")","v":""},{"$f":"IFERROR(IF(AJ4=Ekders!$AV$6,\"\",AJ4+1),\"\")","v":""},{"$f":"IFERROR(IF(AK4=Ekders!$AV$6,\"\",AK4+1),\"\")","v":""},{"$f":"IFERROR(IF(AL4=Ekders!$AV$6,\"\",AL4+1),\"\")","v":""},{"$f":"IFERROR(IF(AM4=Ekders!$AV$6,\"\",AM4+1),\"\")","v":""},{"$f":"IFERROR(IF(AN4=Ekders!$AV$6,\"\",AN4+1),\"\")","v":""},{"$f":"IFERROR(IF(AO4=Ekders!$AV$6,\"\",AO4+1),\"\")","v":""},"Ek Ders\nToplamı",null,1]
[{"$f":"Ekders!B13&\"                                                       \"&Ekders!B14&\"                                                       \"&Ekders!B15&\"                                                       \"&Ekders!B17&\"                                                       \"&Ekders!B18&\"                                                       \"&Ekders!B16","v":"                                                                                                                                                                                                                                                                                   "},null,{"$f":"Ekders!L13&\"                    \"&Ekders!L14&\"                    \"&Ekders!L15&\"                    \"&Ekders!L16&\"                    \"&Ekders!L17&\"                    \"&Ekders!L18","v":"Gündüz (Lisans)                    Gündüz (Y. Lisans)                    Gündüz (Doktora)                    Gece (Lisans)                    Gece (Y. Lisans)                    Gece (Doktora)"},null,null,null,null,{"$f":"IF(Ekders!P13=\"\",0,Ekders!P13)&\"                    \"&IF(Ekders!P14=\"\",0,Ekders!P14)&\"                    \"&IF(Ekders!P15=\"\",0,Ekders!P15)&\"                    \"&IF(Ekders!P16=\"\",0,Ekders!P16)&\"                    \"&IF(Ekders!P17=\"\",0,Ekders!P17)&\"                    \"&IF(Ekders!P18=\"\",0,Ekders!P18)","v":"0                    0                    0                    0                    0                    0"},{"$f":"IF(Ekders!Q13=\"\",0,Ekders!Q13)&\"                    \"&IF(Ekders!Q14=\"\",0,Ekders!Q14)&\"                    \"&IF(Ekders!Q15=\"\",0,Ekders!Q15)&\"                    \"&IF(Ekders!Q16=\"\",0,Ekders!Q16)&\"                    \"&IF(Ekders!Q17=\"\",0,Ekders!Q17)&\"                    \"&IF(Ekders!Q18=\"\",0,Ekders!Q18)","v":"0                    0                    0                    0                    0                    0"},{"$f":"IF(Ekders!R13=\"\",0,Ekders!R13)&\"                    \"&IF(Ekders!R14=\"\",0,Ekders!R14)&\"                    \"&IF(Ekders!R15=\"\",0,Ekders!R15)&\"                    \"&IF(Ekders!R16=\"\",0,Ekders!R16)&\"                    \"&IF(Ekders!R17=\"\",0,Ekders!R17)&\"                    \"&IF(Ekders!R18=\"\",0,Ekders!R18)","v":"0                    0                    0                    0                    0                    0"},{"$f":"IF(Ekders!S13=\"\",0,Ekders!S13)&\"                    \"&IF(Ekders!S14=\"\",0,Ekders!S14)&\"                    \"&IF(Ekders!S15=\"\",0,Ekders!S15)&\"                    \"&IF(Ekders!S16=\"\",0,Ekders!S16)&\"                    \"&IF(Ekders!S17=\"\",0,Ekders!S17)&\"                    \"&IF(Ekders!S18=\"\",0,Ekders!S18)","v":"0                    0                    0                    0                    0                    0"},{"$f":"IF(Ekders!T13=\"\",0,Ekders!T13)&\"                    \"&IF(Ekders!T14=\"\",0,Ekders!T14)&\"                    \"&IF(Ekders!T15=\"\",0,Ekders!T15)&\"                    \"&IF(Ekders!T16=\"\",0,Ekders!T16)&\"                    \"&IF(Ekders!T17=\"\",0,Ekders!T17)&\"                    \"&IF(Ekders!T18=\"\",0,Ekders!T18)","v":"0                    0                    0                    0                    0                    0"},{"$f":"IF(Ekders!U13=\"\",0,Ekders!U13)&\"                    \"&IF(Ekders!U14=\"\",0,Ekders!U14)&\"                    \"&IF(Ekders!U15=\"\",0,Ekders!U15)&\"                    \"&IF(Ekders!U16=\"\",0,Ekders!U16)&\"                    \"&IF(Ekders!U17=\"\",0,Ekders!U17)&\"                    \"&IF(Ekders!U18=\"\",0,Ekders!U18)","v":"0                    0                    0                    0                    0                    0"},{"$f":"IF(Ekders!V13=\"\",0,Ekders!V13)&\"                    \"&IF(Ekders!V14=\"\",0,Ekders!V14)&\"                    \"&IF(Ekders!V15=\"\",0,Ekders!V15)&\"                    \"&IF(Ekders!V16=\"\",0,Ekders!V16)&\"                    \"&IF(Ekders!V17=\"\",0,Ekders!V17)&\"                    \"&IF(Ekders!V18=\"\",0,Ekders!V18)","v":"0                    0                    0                    0                    0                    0"},{"$f":"IF(Ekders!W13=\"\",0,Ekders!W13)&\"                    \"&IF(Ekders!W14=\"\",0,Ekders!W14)&\"                    \"&IF(Ekders!W15=\"\",0,Ekders!W15)&\"                    \"&IF(Ekders!W16=\"\",0,Ekders!W16)&\"                    \"&IF(Ekders!W17=\"\",0,Ekders!W17)&\"                    \"&IF(Ekders!W18=\"\",0,Ekders!W18)","v":"0                    0                    0                    0                    0                    0"},{"$f":"IF(Ekders!X13=\"\",0,Ekders!X13)&\"                    \"&IF(Ekders!X14=\"\",0,Ekders!X14)&\"                    \"&IF(Ekders!X15=\"\",0,Ekders!X15)&\"                    \"&IF(Ekders!X16=\"\",0,Ekders!X16)&\"                    \"&IF(Ekders!X17=\"\",0,Ekders!X17)&\"                    \"&IF(Ekders!X18=\"\",0,Ekders!X18)","v":"0                    0                    0                    0                    0                    0"},{"$f":"IF(Ekders!Y13=\"\",0,Ekders!Y13)&\"                    \"&IF(Ekders!Y14=\"\",0,Ekders!Y14)&\"                    \"&IF(Ekders!Y15=\"\",0,Ekders!Y15)&\"                    \"&IF(Ekders!Y16=\"\",0,Ekders!Y16)&\"                    \"&IF(Ekders!Y17=\"\",0,Ekders!Y17)&\"                    \"&IF(Ekders!Y18=\"\",0,Ekders!Y18)","v":"0                    0                    0                    0                    0                    0"},{"$f":"IF(Ekders!Z13=\"\",0,Ekders!Z13)&\"                    \"&IF(Ekders!Z14=\"\",0,Ekders!Z14)&\"                    \"&IF(Ekders!Z15=\"\",0,Ekders!Z15)&\"                    \"&IF(Ekders!Z16=\"\",0,Ekders!Z16)&\"                    \"&IF(Ekders!Z17=\"\",0,Ekders!Z17)&\"                    \"&IF(Ekders!Z18=\"\",0,Ekders!Z18)","v":"0                    0                    0                    0                    0                    0"},{"$f":"IF(Ekders!AA13=\"\",0,Ekders!AA13)&\"                    \"&IF(Ekders!AA14=\"\",0,Ekders!AA14)&\"                    \"&IF(Ekders!AA15=\"\",0,Ekders!AA15)&\"                    \"&IF(Ekders!AA16=\"\",0,Ekders!AA16)&\"                    \"&IF(Ekders!AA17=\"\",0,Ekders!AA17)&\"                    \"&IF(Ekders!AA18=\"\",0,Ekders!AA18)","v":"0                    0                    0                    0                    0                    0"},{"$f":"IF(Ekders!AB13=\"\",0,Ekders!AB13)&\"                    \"&IF(Ekders!AB14=\"\",0,Ekders!AB14)&\"                    \"&IF(Ekders!AB15=\"\",0,Ekders!AB15)&\"                    \"&IF(Ekders!AB16=\"\",0,Ekders!AB16)&\"                    \"&IF(Ekders!AB17=\"\",0,Ekders!AB17)&\"                    \"&IF(Ekders!AB18=\"\",0,Ekders!AB18)","v":"0                    0                    0                    0                    0                    0"},{"$f":"IF(Ekders!AC13=\"\",0,Ekders!AC13)&\"                    \"&IF(Ekders!AC14=\"\",0,Ekders!AC14)&\"                    \"&IF(Ekders!AC15=\"\",0,Ekders!AC15)&\"                    \"&IF(Ekders!AC16=\"\",0,Ekders!AC16)&\"                    \"&IF(Ekders!AC17=\"\",0,Ekders!AC17)&\"                    \"&IF(Ekders!AC18=\"\",0,Ekders!AC18)","v":"0                    0                    0                    0                    0                    0"},{"$f":"IF(Ekders!AD13=\"\",0,Ekders!AD13)&\"                    \"&IF(Ekders!AD14=\"\",0,Ekders!AD14)&\"                    \"&IF(Ekders!AD15=\"\",0,Ekders!AD15)&\"                    \"&IF(Ekders!AD16=\"\",0,Ekders!AD16)&\"                    \"&IF(Ekders!AD17=\"\",0,Ekders!AD17)&\"                    \"&IF(Ekders!AD18=\"\",0,Ekders!AD18)","v":"0                    0                    0                    0                    0                    0"},{"$f":"IF(Ekders!AE13=\"\",0,Ekders!AE13)&\"                    \"&IF(Ekders!AE14=\"\",0,Ekders!AE14)&\"                    \"&IF(Ekders!AE15=\"\",0,Ekders!AE15)&\"                    \"&IF(Ekders!AE16=\"\",0,Ekders!AE16)&\"                    \"&IF(Ekders!AE17=\"\",0,Ekders!AE17)&\"                    \"&IF(Ekders!AE18=\"\",0,Ekders!AE18)","v":"0                    0                    0                    0                    0                    0"},{"$f":"IF(Ekders!AF13=\"\",0,Ekders!AF13)&\"                    \"&IF(Ekders!AF14=\"\",0,Ekders!AF14)&\"                    \"&IF(Ekders!AF15=\"\",0,Ekders!AF15)&\"                    \"&IF(Ekders!AF16=\"\",0,Ekders!AF16)&\"                    \"&IF(Ekders!AF17=\"\",0,Ekders!AF17)&\"                    \"&IF(Ekders!AF18=\"\",0,Ekders!AF18)","v":"0                    0                    0                    0                    0                    0"},{"$f":"IF(Ekders!AG13=\"\",0,Ekders!AG13)&\"                    \"&IF(Ekders!AG14=\"\",0,Ekders!AG14)&\"                    \"&IF(Ekders!AG15=\"\",0,Ekders!AG15)&\"                    \"&IF(Ekders!AG16=\"\",0,Ekders!AG16)&\"                    \"&IF(Ekders!AG17=\"\",0,Ekders!AG17)&\"                    \"&IF(Ekders!AG18=\"\",0,Ekders!AG18)","v":"0                    0                    0                    0                    0                    0"},{"$f":"IF(Ekders!AH13=\"\",0,Ekders!AH13)&\"                    \"&IF(Ekders!AH14=\"\",0,Ekders!AH14)&\"                    \"&IF(Ekders!AH15=\"\",0,Ekders!AH15)&\"                    \"&IF(Ekders!AH16=\"\",0,Ekders!AH16)&\"                    \"&IF(Ekders!AH17=\"\",0,Ekders!AH17)&\"                    \"&IF(Ekders!AH18=\"\",0,Ekders!AH18)","v":"0                    0                    0                    0                    0                    0"},{"$f":"IF(Ekders!AI13=\"\",0,Ekders!AI13)&\"                    \"&IF(Ekders!AI14=\"\",0,Ekders!AI14)&\"                    \"&IF(Ekders!AI15=\"\",0,Ekders!AI15)&\"                    \"&IF(Ekders!AI16=\"\",0,Ekders!AI16)&\"                    \"&IF(Ekders!AI17=\"\",0,Ekders!AI17)&\"                    \"&IF(Ekders!AI18=\"\",0,Ekders!AI18)","v":"0                    0                    0                    0                    0                    0"},{"$f":"IF(Ekders!AJ13=\"\",0,Ekders!AJ13)&\"                    \"&IF(Ekders!AJ14=\"\",0,Ekders!AJ14)&\"                    \"&IF(Ekders!AJ15=\"\",0,Ekders!AJ15)&\"                    \"&IF(Ekders!AJ16=\"\",0,Ekders!AJ16)&\"                    \"&IF(Ekders!AJ17=\"\",0,Ekders!AJ17)&\"                    \"&IF(Ekders!AJ18=\"\",0,Ekders!AJ18)","v":"0                    0                    0                    0                    0                    0"},{"$f":"IF(Ekders!AK13=\"\",0,Ekders!AK13)&\"                    \"&IF(Ekders!AK14=\"\",0,Ekders!AK14)&\"                    \"&IF(Ekders!AK15=\"\",0,Ekders!AK15)&\"                    \"&IF(Ekders!AK16=\"\",0,Ekders!AK16)&\"                    \"&IF(Ekders!AK17=\"\",0,Ekders!AK17)&\"                    \"&IF(Ekders!AK18=\"\",0,Ekders!AK18)","v":"0                    0                    0                    0                    0                    0"},{"$f":"IF(Ekders!AL13=\"\",0,Ekders!AL13)&\"                    \"&IF(Ekders!AL14=\"\",0,Ekders!AL14)&\"                    \"&IF(Ekders!AL15=\"\",0,Ekders!AL15)&\"                    \"&IF(Ekders!AL16=\"\",0,Ekders!AL16)&\"                    \"&IF(Ekders!AL17=\"\",0,Ekders!AL17)&\"                    \"&IF(Ekders!AL18=\"\",0,Ekders!AL18)","v":"0                    0                    0                    0                    0                    0"},{"$f":"IF(Ekders!AM13=\"\",0,Ekders!AM13)&\"                    \"&IF(Ekders!AM14=\"\",0,Ekders!AM14)&\"                    \"&IF(Ekders!AM15=\"\",0,Ekders!AM15)&\"                    \"&IF(Ekders!AM16=\"\",0,Ekders!AM16)&\"                    \"&IF(Ekders!AM17=\"\",0,Ekders!AM17)&\"                    \"&IF(Ekders!AM18=\"\",0,Ekders!AM18)","v":"0                    0                    0                    0                    0                    0"},{"$f":"IF(Ekders!AN13=\"\",0,Ekders!AN13)&\"                    \"&IF(Ekders!AN14=\"\",0,Ekders!AN14)&\"                    \"&IF(Ekders!AN15=\"\",0,Ekders!AN15)&\"                    \"&IF(Ekders!AN16=\"\",0,Ekders!AN16)&\"                    \"&IF(Ekders!AN17=\"\",0,Ekders!AN17)&\"                    \"&IF(Ekders!AN18=\"\",0,Ekders!AN18)","v":"0                    0                    0                    0                    0                    0"},{"$f":"IF(Ekders!AO13=\"\",0,Ekders!AO13)&\"                    \"&IF(Ekders!AO14=\"\",0,Ekders!AO14)&\"                    \"&IF(Ekders!AO15=\"\",0,Ekders!AO15)&\"                    \"&IF(Ekders!AO16=\"\",0,Ekders!AO16)&\"                    \"&IF(Ekders!AO17=\"\",0,Ekders!AO17)&\"                    \"&IF(Ekders!AO18=\"\",0,Ekders!AO18)","v":"0                    0                    0                    0                    0                    0"},{"$f":"IF(Ekders!AP13=\"\",0,Ekders!AP13)&\"                    \"&IF(Ekders!AP14=\"\",0,Ekders!AP14)&\"                    \"&IF(Ekders!AP15=\"\",0,Ekders!AP15)&\"                    \"&IF(Ekders!AP16=\"\",0,Ekders!AP16)&\"                    \"&IF(Ekders!AP17=\"\",0,Ekders!AP17)&\"                    \"&IF(Ekders!AP18=\"\",0,Ekders!AP18)","v":"0                    0                    0                    0                    0                    0"},{"$f":"IF(Ekders!AQ13=\"\",0,Ekders!AQ13)&\"                    \"&IF(Ekders!AQ14=\"\",0,Ekders!AQ14)&\"                    \"&IF(Ekders!AQ15=\"\",0,Ekders!AQ15)&\"                    \"&IF(Ekders!AQ16=\"\",0,Ekders!AQ16)&\"                    \"&IF(Ekders!AQ17=\"\",0,Ekders!AQ17)&\"                    \"&IF(Ekders!AQ18=\"\",0,Ekders!AQ18)","v":"0                    0                    0                    0                    0                    0"},{"$f":"IF(Ekders!AR13=\"\",0,Ekders!AR13)&\"                    \"&IF(Ekders!AR14=\"\",0,Ekders!AR14)&\"                    \"&IF(Ekders!AR15=\"\",0,Ekders!AR15)&\"                    \"&IF(Ekders!AR16=\"\",0,Ekders!AR16)&\"                    \"&IF(Ekders!AR17=\"\",0,Ekders!AR17)&\"                    \"&IF(Ekders!AR18=\"\",0,Ekders!AR18)","v":"0                    0                    0                    0                    0                    0"},{"$f":"IF(Ekders!AS13=\"\",0,Ekders!AS13)&\"                    \"&IF(Ekders!AS14=\"\",0,Ekders!AS14)&\"                    \"&IF(Ekders!AS15=\"\",0,Ekders!AS15)&\"                    \"&IF(Ekders!AS16=\"\",0,Ekders!AS16)&\"                    \"&IF(Ekders!AS17=\"\",0,Ekders!AS17)&\"                    \"&IF(Ekders!AS18=\"\",0,Ekders!AS18)","v":"0                    0                    0                    0                    0                    0"},{"$f":"IF(Ekders!AT13=\"\",0,Ekders!AT13)&\"                    \"&IF(Ekders!AT14=\"\",0,Ekders!AT14)&\"                    \"&IF(Ekders!AT15=\"\",0,Ekders!AT15)&\"                    \"&IF(Ekders!AT16=\"\",0,Ekders!AT16)&\"                    \"&IF(Ekders!AT17=\"\",0,Ekders!AT17)&\"                    \"&IF(Ekders!AT18=\"\",0,Ekders!AT18)","v":"0                    0                    0                    0                    0                    0"},{"$f":"IF(Ekders!AU13=\"\",0,Ekders!AU13)&\"                    \"&IF(Ekders!AU14=\"\",0,Ekders!AU14)&\"                    \"&IF(Ekders!AU15=\"\",0,Ekders!AU15)&\"                    \"&IF(Ekders!AU16=\"\",0,Ekders!AU16)&\"                    \"&IF(Ekders!AU17=\"\",0,Ekders!AU17)&\"                    \"&IF(Ekders!AU18=\"\",0,Ekders!AU18)","v":"0                    0                    0                    0                    0                    0"},{"$f":"IF(Ekders!AV13=\"\",0,Ekders!AV13)&\"                    \"&IF(Ekders!AV14=\"\",0,Ekders!AV14)&\"                    \"&IF(Ekders!AV15=\"\",0,Ekders!AV15)&\"                    \"&IF(Ekders!AV16=\"\",0,Ekders!AV16)&\"                    \"&IF(Ekders!AV17=\"\",0,Ekders!AV17)&\"                    \"&IF(Ekders!AV18=\"\",0,Ekders!AV18)","v":"0                    0                    0                    0                    0                    0"},{"$f":"IF(Ekders!AW13=\"\",0,Ekders!AW13)&\"                    \"&IF(Ekders!AW14=\"\",0,Ekders!AW14)&\"                    \"&IF(Ekders!AW15=\"\",0,Ekders!AW15)&\"                    \"&IF(Ekders!AW16=\"\",0,Ekders!AW16)&\"                    \"&IF(Ekders!AW17=\"\",0,Ekders!AW17)&\"                    \"&IF(Ekders!AW18=\"\",0,Ekders!AW18)","v":"0                    0                    0                    0                    0                    0"},{"$f":"IF(Ekders!AX13=\"\",0,Ekders!AX13)&\"                    \"&IF(Ekders!AX14=\"\",0,Ekders!AX14)&\"                    \"&IF(Ekders!AX15=\"\",0,Ekders!AX15)&\"                    \"&IF(Ekders!AX16=\"\",0,Ekders!AX16)&\"                    \"&IF(Ekders!AX17=\"\",0,Ekders!AX17)&\"                    \"&IF(Ekders!AX18=\"\",0,Ekders!AX18)","v":"0                    0                    0                    0                    0                    0"},{"$f":"IF(Ekders!AY13=\"\",0,Ekders!AY13)&\"                    \"&IF(Ekders!AY14=\"\",0,Ekders!AY14)&\"                    \"&IF(Ekders!AY15=\"\",0,Ekders!AY15)&\"                    \"&IF(Ekders!AY16=\"\",0,Ekders!AY16)&\"                    \"&IF(Ekders!AY17=\"\",0,Ekders!AY17)&\"                    \"&IF(Ekders!AY18=\"\",0,Ekders!AY18)","v":"0                    0                    0                    0                    0                    0"},{"$f":"Ekders!AY13+Ekders!AY14+Ekders!AY15+Ekders!AY16+Ekders!AY17+Ekders!AY18","v":0},{"$f":"IF(AR5=0,0,1)","v":0}]
[{"$f":"Ekders!B19&\"                                                       \"&Ekders!B20&\"                                                       \"&Ekders!B21&\"                                                       \"&Ekders!B23&\"                                                       \"&Ekders!B24&\"                                                       \"&Ekders!B22","v":"                                                                                                                                                                                                                                                                                   "},null,{"$f":"Ekders!L19&\"                    \"&Ekders!L20&\"                    \"&Ekders!L21&\"                    \"&Ekders!L22&\"                    \"&Ekders!L23&\"                    \"&Ekders!L24","v":"Gündüz (Lisans)                    Gündüz (Y. Lisans)                    Gündüz (Doktora)                    Gece (Lisans)                    Gece (Y. Lisans)                    Gece (Doktora)"},null,null,null,null,{"$f":"IF(Ekders!P19=\"\",0,Ekders!P19)&\"                    \"&IF(Ekders!P20=\"\",0,Ekders!P20)&\"                    \"&IF(Ekders!P21=\"\",0,Ekders!P21)&\"                    \"&IF(Ekders!P22=\"\",0,Ekders!P22)&\"                    \"&IF(Ekders!P23=\"\",0,Ekders!P23)&\"                    \"&IF(Ekders!P24=\"\",0,Ekders!P24)","v":"0                    0                    0                    0                    0                    0"},{"$f":"IF(Ekders!Q19=\"\",0,Ekders!Q19)&\"                    \"&IF(Ekders!Q20=\"\",0,Ekders!Q20)&\"                    \"&IF(Ekders!Q21=\"\",0,Ekders!Q21)&\"                    \"&IF(Ekders!Q22=\"\",0,Ekders!Q22)&\"                    \"&IF(Ekders!Q23=\"\",0,Ekders!Q23)&\"                    \"&IF(Ekders!Q24=\"\",0,Ekders!Q24)","v":"0                    0                    0                    0                    0                    0"},{"$f":"IF(Ekders!R19=\"\",0,Ekders!R19)&\"                    \"&IF(Ekders!R20=\"\",0,Ekders!R20)&\"                    \"&IF(Ekders!R21=\"\",0,Ekders!R21)&\"                    \"&IF(Ekders!R22=\"\",0,Ekders!R22)&\"                    \"&IF(Ekders!R23=\"\",0,Ekders!R23)&\"                    \"&IF(Ekders!R24=\"\",0,Ekders!R24)","v":"0                    0                    0                    0                    0                    0"},{"$f":"IF(Ekders!S19=\"\",0,Ekders!S19)&\"                    \"&IF(Ekders!S20=\"\",0,Ekders!S20)&\"                    \"&IF(Ekders!S21=\"\",0,Ekders!S21)&\"                    \"&IF(Ekders!S22=\"\",0,Ekders!S22)&\"                    \"&IF(Ekders!S23=\"\",0,Ekders!S23)&\"                    \"&IF(Ekders!S24=\"\",0,Ekders!S24)","v":"0                    0                    0                    0                    0                    0"},{"$f":"IF(Ekders!T19=\"\",0,Ekders!T19)&\"                    \"&IF(Ekders!T20=\"\",0,Ekders!T20)&\"                    \"&IF(Ekders!T21=\"\",0,Ekders!T21)&\"                    \"&IF(Ekders!T22=\"\",0,Ekders!T22)&\"                    \"&IF(Ekders!T23=\"\",0,Ekders!T23)&\"                    \"&IF(Ekders!T24=\"\",0,Ekders!T24)","v":"0                    0                    0                    0                    0                    0"},{"$f":"IF(Ekders!U19=\"\",0,Ekders!U19)&\"                    \"&IF(Ekders!U20=\"\",0,Ekders!U20)&\"                    \"&IF(Ekders!U21=\"\",0,Ekders!U21)&\"                    \"&IF(Ekders!U22=\"\",0,Ekders!U22)&\"                    \"&IF(Ekders!U23=\"\",0,Ekders!U23)&\"                    \"&IF(Ekders!U24=\"\",0,Ekders!U24)","v":"0                    0                    0                    0                    0                    0"},{"$f":"IF(Ekders!V19=\"\",0,Ekders!V19)&\"                    \"&IF(Ekders!V20=\"\",0,Ekders!V20)&\"                    \"&IF(Ekders!V21=\"\",0,Ekders!V21)&\"                    \"&IF(Ekders!V22=\"\",0,Ekders!V22)&\"                    \"&IF(Ekders!V23=\"\",0,Ekders!V23)&\"                    \"&IF(Ekders!V24=\"\",0,Ekders!V24)","v":"0                    0                    0                    0                    0                    0"},{"$f":"IF(Ekders!W19=\"\",0,Ekders!W19)&\"                    \"&IF(Ekders!W20=\"\",0,Ekders!W20)&\"                    \"&IF(Ekders!W21=\"\",0,Ekders!W21)&\"                    \"&IF(Ekders!W22=\"\",0,Ekders!W22)&\"                    \"&IF(Ekders!W23=\"\",0,Ekders!W23)&\"                    \"&IF(Ekders!W24=\"\",0,Ekders!W24)","v":"0                    0                    0                    0                    0                    0"},{"$f":"IF(Ekders!X19=\"\",0,Ekders!X19)&\"                    \"&IF(Ekders!X20=\"\",0,Ekders!X20)&\"                    \"&IF(Ekders!X21=\"\",0,Ekders!X21)&\"                    \"&IF(Ekders!X22=\"\",0,Ekders!X22)&\"                    \"&IF(Ekders!X23=\"\",0,Ekders!X23)&\"                    \"&IF(Ekders!X24=\"\",0,Ekders!X24)","v":"0                    0                    0                    0                    0                    0"},{"$f":"IF(Ekders!Y19=\"\",0,Ekders!Y19)&\"                    \"&IF(Ekders!Y20=\"\",0,Ekders!Y20)&\"                    \"&IF(Ekders!Y21=\"\",0,Ekders!Y21)&\"                    \"&IF(Ekders!Y22=\"\",0,Ekders!Y22)&\"                    \"&IF(Ekders!Y23=\"\",0,Ekders!Y23)&\"                    \"&IF(Ekders!Y24=\"\",0,Ekders!Y24)","v":"0                    0                    0                    0                    0                    0"},{"$f":"IF(Ekders!Z19=\"\",0,Ekders!Z19)&\"                    \"&IF(Ekders!Z20=\"\",0,Ekders!Z20)&\"                    \"&IF(Ekders!Z21=\"\",0,Ekders!Z21)&\"                    \"&IF(Ekders!Z22=\"\",0,Ekders!Z22)&\"                    \"&IF(Ekders!Z23=\"\",0,Ekders!Z23)&\"                    \"&IF(Ekders!Z24=\"\",0,Ekders!Z24)","v":"0                    0                    0                    0                    0                    0"},{"$f":"IF(Ekders!AA19=\"\",0,Ekders!AA19)&\"                    \"&IF(Ekders!AA20=\"\",0,Ekders!AA20)&\"                    \"&IF(Ekders!AA21=\"\",0,Ekders!AA21)&\"                    \"&IF(Ekders!AA22=\"\",0,Ekders!AA22)&\"                    \"&IF(Ekders!AA23=\"\",0,Ekders!AA23)&\"                    \"&IF(Ekders!AA24=\"\",0,Ekders!AA24)","v":"0                    0                    0                    0                    0                    0"},{"$f":"IF(Ekders!AB19=\"\",0,Ekders!AB19)&\"                    \"&IF(Ekders!AB20=\"\",0,Ekders!AB20)&\"                    \"&IF(Ekders!AB21=\"\",0,Ekders!AB21)&\"                    \"&IF(Ekders!AB22=\"\",0,Ekders!AB22)&\"                    \"&IF(Ekders!AB23=\"\",0,Ekders!AB23)&\"                    \"&IF(Ekders!AB24=\"\",0,Ekders!AB24)","v":"0                    0                    0                    0                    0                    0"},{"$f":"IF(Ekders!AC19=\"\",0,Ekders!AC19)&\"                    \"&IF(Ekders!AC20=\"\",0,Ekders!AC20)&\"                    \"&IF(Ekders!AC21=\"\",0,Ekders!AC21)&\"                    \"&IF(Ekders!AC22=\"\",0,Ekders!AC22)&\"                    \"&IF(Ekders!AC23=\"\",0,Ekders!AC23)&\"                    \"&IF(Ekders!AC24=\"\",0,Ekders!AC24)","v":"0                    0                    0                    0                    0                    0"},{"$f":"IF(Ekders!AD19=\"\",0,Ekders!AD19)&\"                    \"&IF(Ekders!AD20=\"\",0,Ekders!AD20)&\"                    \"&IF(Ekders!AD21=\"\",0,Ekders!AD21)&\"                    \"&IF(Ekders!AD22=\"\",0,Ekders!AD22)&\"                    \"&IF(Ekders!AD23=\"\",0,Ekders!AD23)&\"                    \"&IF(Ekders!AD24=\"\",0,Ekders!AD24)","v":"0                    0                    0                    0                    0                    0"},{"$f":"IF(Ekders!AE19=\"\",0,Ekders!AE19)&\"                    \"&IF(Ekders!AE20=\"\",0,Ekders!AE20)&\"                    \"&IF(Ekders!AE21=\"\",0,Ekders!AE21)&\"                    \"&IF(Ekders!AE22=\"\",0,Ekders!AE22)&\"                    \"&IF(Ekders!AE23=\"\",0,Ekders!AE23)&\"                    \"&IF(Ekders!AE24=\"\",0,Ekders!AE24)","v":"0                    0                    0                    0                    0                    0"},{"$f":"IF(Ekders!AF19=\"\",0,Ekders!AF19)&\"                    \"&IF(Ekders!AF20=\"\",0,Ekders!AF20)&\"                    \"&IF(Ekders!AF21=\"\",0,Ekders!AF21)&\"                    \"&IF(Ekders!AF22=\"\",0,Ekders!AF22)&\"                    \"&IF(Ekders!AF23=\"\",0,Ekders!AF23)&\"                    \"&IF(Ekders!AF24=\"\",0,Ekders!AF24)","v":"0                    0                    0                    0                    0                    0"},{"$f":"IF(Ekders!AG19=\"\",0,Ekders!AG19)&\"                    \"&IF(Ekders!AG20=\"\",0,Ekders!AG20)&\"                    \"&IF(Ekders!AG21=\"\",0,Ekders!AG21)&\"                    \"&IF(Ekders!AG22=\"\",0,Ekders!AG22)&\"                    \"&IF(Ekders!AG23=\"\",0,Ekders!AG23)&\"                    \"&IF(Ekders!AG24=\"\",0,Ekders!AG24)","v":"0                    0                    0                    0                    0                    0"},{"$f":"IF(Ekders!AH19=\"\",0,Ekders!AH19)&\"                    \"&IF(Ekders!AH20=\"\",0,Ekders!AH20)&\"                    \"&IF(Ekders!AH21=\"\",0,Ekders!AH21)&\"                    \"&IF(Ekders!AH22=\"\",0,Ekders!AH22)&\"                    \"&IF(Ekders!AH23=\"\",0,Ekders!AH23)&\"                    \"&IF(Ekders!AH24=\"\",0,Ekders!AH24)","v":"0                    0                    0                    0                    0                    0"},{"$f":"IF(Ekders!AI19=\"\",0,Ekders!AI19)&\"                    \"&IF(Ekders!AI20=\"\",0,Ekders!AI20)&\"                    \"&IF(Ekders!AI21=\"\",0,Ekders!AI21)&\"                    \"&IF(Ekders!AI22=\"\",0,Ekders!AI22)&\"                    \"&IF(Ekders!AI23=\"\",0,Ekders!AI23)&\"                    \"&IF(Ekders!AI24=\"\",0,Ekders!AI24)","v":"0                    0                    0                    0                    0                    0"},{"$f":"IF(Ekders!AJ19=\"\",0,Ekders!AJ19)&\"                    \"&IF(Ekders!AJ20=\"\",0,Ekders!AJ20)&\"                    \"&IF(Ekders!AJ21=\"\",0,Ekders!AJ21)&\"                    \"&IF(Ekders!AJ22=\"\",0,Ekders!AJ22)&\"                    \"&IF(Ekders!AJ23=\"\",0,Ekders!AJ23)&\"                    \"&IF(Ekders!AJ24=\"\",0,Ekders!AJ24)","v":"0                    0                    0                    0                    0                    0"},{"$f":"IF(Ekders!AK19=\"\",0,Ekders!AK19)&\"                    \"&IF(Ekders!AK20=\"\",0,Ekders!AK20)&\"                    \"&IF(Ekders!AK21=\"\",0,Ekders!AK21)&\"                    \"&IF(Ekders!AK22=\"\",0,Ekders!AK22)&\"                    \"&IF(Ekders!AK23=\"\",0,Ekders!AK23)&\"                    \"&IF(Ekders!AK24=\"\",0,Ekders!AK24)","v":"0                    0                    0                    0                    0                    0"},{"$f":"IF(Ekders!AL19=\"\",0,Ekders!AL19)&\"                    \"&IF(Ekders!AL20=\"\",0,Ekders!AL20)&\"                    \"&IF(Ekders!AL21=\"\",0,Ekders!AL21)&\"                    \"&IF(Ekders!AL22=\"\",0,Ekders!AL22)&\"                    \"&IF(Ekders!AL23=\"\",0,Ekders!AL23)&\"                    \"&IF(Ekders!AL24=\"\",0,Ekders!AL24)","v":"0                    0                    0                    0                    0                    0"},{"$f":"IF(Ekders!AM19=\"\",0,Ekders!AM19)&\"                    \"&IF(Ekders!AM20=\"\",0,Ekders!AM20)&\"                    \"&IF(Ekders!AM21=\"\",0,Ekders!AM21)&\"                    \"&IF(Ekders!AM22=\"\",0,Ekders!AM22)&\"                    \"&IF(Ekders!AM23=\"\",0,Ekders!AM23)&\"                    \"&IF(Ekders!AM24=\"\",0,Ekders!AM24)","v":"0                    0                    0                    0                    0                    0"},{"$f":"IF(Ekders!AN19=\"\",0,Ekders!AN19)&\"                    \"&IF(Ekders!AN20=\"\",0,Ekders!AN20)&\"                    \"&IF(Ekders!AN21=\"\",0,Ekders!AN21)&\"                    \"&IF(Ekders!AN22=\"\",0,Ekders!AN22)&\"                    \"&IF(Ekders!AN23=\"\",0,Ekders!AN23)&\"                    \"&IF(Ekders!AN24=\"\",0,Ekders!AN24)","v":"0                    0                    0                    0                    0                    0"},{"$f":"IF(Ekders!AO19=\"\",0,Ekders!AO19)&\"                    \"&IF(Ekders!AO20=\"\",0,Ekders!AO20)&\"                    \"&IF(Ekders!AO21=\"\",0,Ekders!AO21)&\"                    \"&IF(Ekders!AO22=\"\",0,Ekders!AO22)&\"                    \"&IF(Ekders!AO23=\"\",0,Ekders!AO23)&\"                    \"&IF(Ekders!AO24=\"\",0,Ekders!AO24)","v":"0                    0                    0                    0                    0                    0"},{"$f":"IF(Ekders!AP19=\"\",0,Ekders!AP19)&\"                    \"&IF(Ekders!AP20=\"\",0,Ekders!AP20)&\"                    \"&IF(Ekders!AP21=\"\",0,Ekders!AP21)&\"                    \"&IF(Ekders!AP22=\"\",0,Ekders!AP22)&\"                    \"&IF(Ekders!AP23=\"\",0,Ekders!AP23)&\"                    \"&IF(Ekders!AP24=\"\",0,Ekders!AP24)","v":"0                    0                    0                    0                    0                    0"},{"$f":"IF(Ekders!AQ19=\"\",0,Ekders!AQ19)&\"                    \"&IF(Ekders!AQ20=\"\",0,Ekders!AQ20)&\"                    \"&IF(Ekders!AQ21=\"\",0,Ekders!AQ21)&\"                    \"&IF(Ekders!AQ22=\"\",0,Ekders!AQ22)&\"                    \"&IF(Ekders!AQ23=\"\",0,Ekders!AQ23)&\"                    \"&IF(Ekders!AQ24=\"\",0,Ekders!AQ24)","v":"0                    0                    0                    0                    0                    0"},{"$f":"IF(Ekders!AR19=\"\",0,Ekders!AR19)&\"                    \"&IF(Ekders!AR20=\"\",0,Ekders!AR20)&\"                    \"&IF(Ekders!AR21=\"\",0,Ekders!AR21)&\"                    \"&IF(Ekders!AR22=\"\",0,Ekders!AR22)&\"                    \"&IF(Ekders!AR23=\"\",0,Ekders!AR23)&\"                    \"&IF(Ekders!AR24=\"\",0,Ekders!AR24)","v":"0                    0                    0                    0                    0                    0"},{"$f":"IF(Ekders!AS19=\"\",0,Ekders!AS19)&\"                    \"&IF(Ekders!AS20=\"\",0,Ekders!AS20)&\"                    \"&IF(Ekders!AS21=\"\",0,Ekders!AS21)&\"                    \"&IF(Ekders!AS22=\"\",0,Ekders!AS22)&\"                    \"&IF(Ekders!AS23=\"\",0,Ekders!AS23)&\"                    \"&IF(Ekders!AS24=\"\",0,Ekders!AS24)","v":"0                    0                    0                    0                    0                    0"},{"$f":"IF(Ekders!AT19=\"\",0,Ekders!AT19)&\"                    \"&IF(Ekders!AT20=\"\",0,Ekders!AT20)&\"                    \"&IF(Ekders!AT21=\"\",0,Ekders!AT21)&\"                    \"&IF(Ekders!AT22=\"\",0,Ekders!AT22)&\"                    \"&IF(Ekders!AT23=\"\",0,Ekders!AT23)&\"                    \"&IF(Ekders!AT24=\"\",0,Ekders!AT24)","v":"0                    0                    0                    0                    0                    0"},{"$f":"IF(Ekders!AU19=\"\",0,Ekders!AU19)&\"                    \"&IF(Ekders!AU20=\"\",0,Ekders!AU20)&\"                    \"&IF(Ekders!AU21=\"\",0,Ekders!AU21)&\"                    \"&IF(Ekders!AU22=\"\",0,Ekders!AU22)&\"                    \"&IF(Ekders!AU23=\"\",0,Ekders!AU23)&\"                    \"&IF(Ekders!AU24=\"\",0,Ekders!AU24)","v":"0                    0                    0                    0                    0                    0"},{"$f":"IF(Ekders!AV19=\"\",0,Ekders!AV19)&\"                    \"&IF(Ekders!AV20=\"\",0,Ekders!AV20)&\"                    \"&IF(Ekders!AV21=\"\",0,Ekders!AV21)&\"                    \"&IF(Ekders!AV22=\"\",0,Ekders!AV22)&\"                    \"&IF(Ekders!AV23=\"\",0,Ekders!AV23)&\"                    \"&IF(Ekders!AV24=\"\",0,Ekders!AV24)","v":"0                    0                    0                    0                    0                    0"},{"$f":"IF(Ekders!AW19=\"\",0,Ekders!AW19)&\"                    \"&IF(Ekders!AW20=\"\",0,Ekders!AW20)&\"                    \"&IF(Ekders!AW21=\"\",0,Ekders!AW21)&\"                    \"&IF(Ekders!AW22=\"\",0,Ekders!AW22)&\"                    \"&IF(Ekders!AW23=\"\",0,Ekders!AW23)&\"                    \"&IF(Ekders!AW24=\"\",0,Ekders!AW24)","v":"0                    0                    0                    0                    0                    0"},{"$f":"IF(Ekders!AX19=\"\",0,Ekders!AX19)&\"                    \"&IF(Ekders!AX20=\"\",0,Ekders!AX20)&\"                    \"&IF(Ekders!AX21=\"\",0,Ekders!AX21)&\"                    \"&IF(Ekders!AX22=\"\",0,Ekders!AX22)&\"                    \"&IF(Ekders!AX23=\"\",0,Ekders!AX23)&\"                    \"&IF(Ekders!AX24=\"\",0,Ekders!AX24)","v":"0                    0                    0                    0                    0                    0"},{"$f":"IF(Ekders!AY19=\"\",0,Ekders!AY19)&\"                    \"&IF(Ekders!AY20=\"\",0,Ekders!AY20)&\"                    \"&IF(Ekders!AY21=\"\",0,Ekders!AY21)&\"                    \"&IF(Ekders!AY22=\"\",0,Ekders!AY22)&\"                    \"&IF(Ekders!AY23=\"\",0,Ekders!AY23)&\"                    \"&IF(Ekders!AY24=\"\",0,Ekders!AY24)","v":"0                    0                    0                    0                    0                    0"},{"$f":"Ekders!AY19+Ekders!AY20+Ekders!AY21+Ekders!AY22+Ekders!AY23+Ekders!AY24","v":0},{"$f":"IF(AR6=0,0,1)","v":0}]
[{"$f":"Ekders!B25&\"                                                       \"&Ekders!B26&\"                                                       \"&Ekders!B27&\"                                                       \"&Ekders!B29&\"                                                       \"&Ekders!B30&\"                                                       \"&Ekders!B28","v":"                                                                                                                                                                                                                                                                                   "},null,{"$f":"Ekders!L25&\"                    \"&Ekders!L26&\"                    \"&Ekders!L27&\"                    \"&Ekders!L28&\"                    \"&Ekders!L29&\"                    \"&Ekders!L30","v":"Gündüz (Lisans)                    Gündüz (Y. Lisans)                    Gündüz (Doktora)                    Gece (Lisans)                    Gece (Y. Lisans)                    Gece (Doktora)"},null,null,null,null,{"$f":"IF(Ekders!P25=\"\",0,Ekders!P25)&\"                    \"&IF(Ekders!P26=\"\",0,Ekders!P26)&\"                    \"&IF(Ekders!P27=\"\",0,Ekders!P27)&\"                    \"&IF(Ekders!P28=\"\",0,Ekders!P28)&\"                    \"&IF(Ekders!P29=\"\",0,Ekders!P29)&\"                    \"&IF(Ekders!P30=\"\",0,Ekders!P30)","v":"0                    0                    0                    0                    0                    0"},{"$f":"IF(Ekders!Q25=\"\",0,Ekders!Q25)&\"                    \"&IF(Ekders!Q26=\"\",0,Ekders!Q26)&\"                    \"&IF(Ekders!Q27=\"\",0,Ekders!Q27)&\"                    \"&IF(Ekders!Q28=\"\",0,Ekders!Q28)&\"                    \"&IF(Ekders!Q29=\"\",0,Ekders!Q29)&\"                    \"&IF(Ekders!Q30=\"\",0,Ekders!Q30)","v":"0                    0                    0                    0                    0                    0"},{"$f":"IF(Ekders!R25=\"\",0,Ekders!R25)&\"                    \"&IF(Ekders!R26=\"\",0,Ekders!R26)&\"                    \"&IF(Ekders!R27=\"\",0,Ekders!R27)&\"                    \"&IF(Ekders!R28=\"\",0,Ekders!R28)&\"                    \"&IF(Ekders!R29=\"\",0,Ekders!R29)&\"                    \"&IF(Ekders!R30=\"\",0,Ekders!R30)","v":"0                    0                    0                    0                    0                    0"},{"$f":"IF(Ekders!S25=\"\",0,Ekders!S25)&\"                    \"&IF(Ekders!S26=\"\",0,Ekders!S26)&\"                    \"&IF(Ekders!S27=\"\",0,Ekders!S27)&\"                    \"&IF(Ekders!S28=\"\",0,Ekders!S28)&\"                    \"&IF(Ekders!S29=\"\",0,Ekders!S29)&\"                    \"&IF(Ekders!S30=\"\",0,Ekders!S30)","v":"0                    0                    0                    0                    0                    0"},{"$f":"IF(Ekders!T25=\"\",0,Ekders!T25)&\"                    \"&IF(Ekders!T26=\"\",0,Ekders!T26)&\"                    \"&IF(Ekders!T27=\"\",0,Ekders!T27)&\"                    \"&IF(Ekders!T28=\"\",0,Ekders!T28)&\"                    \"&IF(Ekders!T29=\"\",0,Ekders!T29)&\"                    \"&IF(Ekders!T30=\"\",0,Ekders!T30)","v":"0                    0                    0                    0                    0                    0"},{"$f":"IF(Ekders!U25=\"\",0,Ekders!U25)&\"                    \"&IF(Ekders!U26=\"\",0,Ekders!U26)&\"                    \"&IF(Ekders!U27=\"\",0,Ekders!U27)&\"                    \"&IF(Ekders!U28=\"\",0,Ekders!U28)&\"                    \"&IF(Ekders!U29=\"\",0,Ekders!U29)&\"                    \"&IF(Ekders!U30=\"\",0,Ekders!U30)","v":"0                    0                    0                    0                    0                    0"},{"$f":"IF(Ekders!V25=\"\",0,Ekders!V25)&\"                    \"&IF(Ekders!V26=\"\",0,Ekders!V26)&\"                    \"&IF(Ekders!V27=\"\",0,Ekders!V27)&\"                    \"&IF(Ekders!V28=\"\",0,Ekders!V28)&\"                    \"&IF(Ekders!V29=\"\",0,Ekders!V29)&\"                    \"&IF(Ekders!V30=\"\",0,Ekders!V30)","v":"0                    0                    0                    0                    0                    0"},{"$f":"IF(Ekders!W25=\"\",0,Ekders!W25)&\"                    \"&IF(Ekders!W26=\"\",0,Ekders!W26)&\"                    \"&IF(Ekders!W27=\"\",0,Ekders!W27)&\"                    \"&IF(Ekders!W28=\"\",0,Ekders!W28)&\"                    \"&IF(Ekders!W29=\"\",0,Ekders!W29)&\"                    \"&IF(Ekders!W30=\"\",0,Ekders!W30)","v":"0                    0                    0                    0                    0                    0"},{"$f":"IF(Ekders!X25=\"\",0,Ekders!X25)&\"                    \"&IF(Ekders!X26=\"\",0,Ekders!X26)&\"                    \"&IF(Ekders!X27=\"\",0,Ekders!X27)&\"                    \"&IF(Ekders!X28=\"\",0,Ekders!X28)&\"                    \"&IF(Ekders!X29=\"\",0,Ekders!X29)&\"                    \"&IF(Ekders!X30=\"\",0,Ekders!X30)","v":"0                    0                    0                    0                    0                    0"},{"$f":"IF(Ekders!Y25=\"\",0,Ekders!Y25)&\"                    \"&IF(Ekders!Y26=\"\",0,Ekders!Y26)&\"                    \"&IF(Ekders!Y27=\"\",0,Ekders!Y27)&\"                    \"&IF(Ekders!Y28=\"\",0,Ekders!Y28)&\"                    \"&IF(Ekders!Y29=\"\",0,Ekders!Y29)&\"                    \"&IF(Ekders!Y30=\"\",0,Ekders!Y30)","v":"0                    0                    0                    0                    0                    0"},{"$f":"IF(Ekders!Z25=\"\",0,Ekders!Z25)&\"                    \"&IF(Ekders!Z26=\"\",0,Ekders!Z26)&\"                    \"&IF(Ekders!Z27=\"\",0,Ekders!Z27)&\"                    \"&IF(Ekders!Z28=\"\",0,Ekders!Z28)&\"                    \"&IF(Ekders!Z29=\"\",0,Ekders!Z29)&\"                    \"&IF(Ekders!Z30=\"\",0,Ekders!Z30)","v":"0                    0                    0                    0                    0                    0"},{"$f":"IF(Ekders!AA25=\"\",0,Ekders!AA25)&\"                    \"&IF(Ekders!AA26=\"\",0,Ekders!AA26)&\"                    \"&IF(Ekders!AA27=\"\",0,Ekders!AA27)&\"                    \"&IF(Ekders!AA28=\"\",0,Ekders!AA28)&\"                    \"&IF(Ekders!AA29=\"\",0,Ekders!AA29)&\"                    \"&IF(Ekders!AA30=\"\",0,Ekders!AA30)","v":"0                    0                    0                    0                    0                    0"},{"$f":"IF(Ekders!AB25=\"\",0,Ekders!AB25)&\"                    \"&IF(Ekders!AB26=\"\",0,Ekders!AB26)&\"                    \"&IF(Ekders!AB27=\"\",0,Ekders!AB27)&\"                    \"&IF(Ekders!AB28=\"\",0,Ekders!AB28)&\"                    \"&IF(Ekders!AB29=\"\",0,Ekders!AB29)&\"                    \"&IF(Ekders!AB30=\"\",0,Ekders!AB30)","v":"0                    0                    0                    0                    0                    0"},{"$f":"IF(Ekders!AC25=\"\",0,Ekders!AC25)&\"                    \"&IF(Ekders!AC26=\"\",0,Ekders!AC26)&\"                    \"&IF(Ekders!AC27=\"\",0,Ekders!AC27)&\"                    \"&IF(Ekders!AC28=\"\",0,Ekders!AC28)&\"                    \"&IF(Ekders!AC29=\"\",0,Ekders!AC29)&\"                    \"&IF(Ekders!AC30=\"\",0,Ekders!AC30)","v":"0                    0                    0                    0                    0                    0"},{"$f":"IF(Ekders!AD25=\"\",0,Ekders!AD25)&\"                    \"&IF(Ekders!AD26=\"\",0,Ekders!AD26)&\"                    \"&IF(Ekders!AD27=\"\",0,Ekders!AD27)&\"                    \"&IF(Ekders!AD28=\"\",0,Ekders!AD28)&\"                    \"&IF(Ekders!AD29=\"\",0,Ekders!AD29)&\"                    \"&IF(Ekders!AD30=\"\",0,Ekders!AD30)","v":"0                    0                    0                    0                    0                    0"},{"$f":"IF(Ekders!AE25=\"\",0,Ekders!AE25)&\"                    \"&IF(Ekders!AE26=\"\",0,Ekders!AE26)&\"                    \"&IF(Ekders!AE27=\"\",0,Ekders!AE27)&\"                    \"&IF(Ekders!AE28=\"\",0,Ekders!AE28)&\"                    \"&IF(Ekders!AE29=\"\",0,Ekders!AE29)&\"                    \"&IF(Ekders!AE30=\"\",0,Ekders!AE30)","v":"0                    0                    0                    0                    0                    0"},{"$f":"IF(Ekders!AF25=\"\",0,Ekders!AF25)&\"                    \"&IF(Ekders!AF26=\"\",0,Ekders!AF26)&\"                    \"&IF(Ekders!AF27=\"\",0,Ekders!AF27)&\"                    \"&IF(Ekders!AF28=\"\",0,Ekders!AF28)&\"                    \"&IF(Ekders!AF29=\"\",0,Ekders!AF29)&\"                    \"&IF(Ekders!AF30=\"\",0,Ekders!AF30)","v":"0                    0                    0                    0                    0                    0"},{"$f":"IF(Ekders!AG25=\"\",0,Ekders!AG25)&\"                    \"&IF(Ekders!AG26=\"\",0,Ekders!AG26)&\"                    \"&IF(Ekders!AG27=\"\",0,Ekders!AG27)&\"                    \"&IF(Ekders!AG28=\"\",0,Ekders!AG28)&\"                    \"&IF(Ekders!AG29=\"\",0,Ekders!AG29)&\"                    \"&IF(Ekders!AG30=\"\",0,Ekders!AG30)","v":"0                    0                    0                    0                    0                    0"},{"$f":"IF(Ekders!AH25=\"\",0,Ekders!AH25)&\"                    \"&IF(Ekders!AH26=\"\",0,Ekders!AH26)&\"                    \"&IF(Ekders!AH27=\"\",0,Ekders!AH27)&\"                    \"&IF(Ekders!AH28=\"\",0,Ekders!AH28)&\"                    \"&IF(Ekders!AH29=\"\",0,Ekders!AH29)&\"                    \"&IF(Ekders!AH30=\"\",0,Ekders!AH30)","v":"0                    0                    0                    0                    0                    0"},{"$f":"IF(Ekders!AI25=\"\",0,Ekders!AI25)&\"                    \"&IF(Ekders!AI26=\"\",0,Ekders!AI26)&\"                    \"&IF(Ekders!AI27=\"\",0,Ekders!AI27)&\"                    \"&IF(Ekders!AI28=\"\",0,Ekders!AI28)&\"                    \"&IF(Ekders!AI29=\"\",0,Ekders!AI29)&\"                    \"&IF(Ekders!AI30=\"\",0,Ekders!AI30)","v":"0                    0                    0                    0                    0                    0"},{"$f":"IF(Ekders!AJ25=\"\",0,Ekders!AJ25)&\"                    \"&IF(Ekders!AJ26=\"\",0,Ekders!AJ26)&\"                    \"&IF(Ekders!AJ27=\"\",0,Ekders!AJ27)&\"                    \"&IF(Ekders!AJ28=\"\",0,Ekders!AJ28)&\"                    \"&IF(Ekders!AJ29=\"\",0,Ekders!AJ29)&\"                    \"&IF(Ekders!AJ30=\"\",0,Ekders!AJ30)","v":"0                    0                    0                    0                    0                    0"},{"$f":"IF(Ekders!AK25=\"\",0,Ekders!AK25)&\"                    \"&IF(Ekders!AK26=\"\",0,Ekders!AK26)&\"                    \"&IF(Ekders!AK27=\"\",0,Ekders!AK27)&\"                    \"&IF(Ekders!AK28=\"\",0,Ekders!AK28)&\"                    \"&IF(Ekders!AK29=\"\",0,Ekders!AK29)&\"                    \"&IF(Ekders!AK30=\"\",0,Ekders!AK30)","v":"0                    0                    0                    0                    0                    0"},{"$f":"IF(Ekders!AL25=\"\",0,Ekders!AL25)&\"                    \"&IF(Ekders!AL26=\"\",0,Ekders!AL26)&\"                    \"&IF(Ekders!AL27=\"\",0,Ekders!AL27)&\"                    \"&IF(Ekders!AL28=\"\",0,Ekders!AL28)&\"                    \"&IF(Ekders!AL29=\"\",0,Ekders!AL29)&\"                    \"&IF(Ekders!AL30=\"\",0,Ekders!AL30)","v":"0                    0                    0                    0                    0                    0"},{"$f":"IF(Ekders!AM25=\"\",0,Ekders!AM25)&\"                    \"&IF(Ekders!AM26=\"\",0,Ekders!AM26)&\"                    \"&IF(Ekders!AM27=\"\",0,Ekders!AM27)&\"                    \"&IF(Ekders!AM28=\"\",0,Ekders!AM28)&\"                    \"&IF(Ekders!AM29=\"\",0,Ekders!AM29)&\"                    \"&IF(Ekders!AM30=\"\",0,Ekders!AM30)","v":"0                    0                    0                    0                    0                    0"},{"$f":"IF(Ekders!AN25=\"\",0,Ekders!AN25)&\"                    \"&IF(Ekders!AN26=\"\",0,Ekders!AN26)&\"                    \"&IF(Ekders!AN27=\"\",0,Ekders!AN27)&\"                    \"&IF(Ekders!AN28=\"\",0,Ekders!AN28)&\"                    \"&IF(Ekders!AN29=\"\",0,Ekders!AN29)&\"                    \"&IF(Ekders!AN30=\"\",0,Ekders!AN30)","v":"0                    0                    0                    0                    0                    0"},{"$f":"IF(Ekders!AO25=\"\",0,Ekders!AO25)&\"                    \"&IF(Ekders!AO26=\"\",0,Ekders!AO26)&\"                    \"&IF(Ekders!AO27=\"\",0,Ekders!AO27)&\"                    \"&IF(Ekders!AO28=\"\",0,Ekders!AO28)&\"                    \"&IF(Ekders!AO29=\"\",0,Ekders!AO29)&\"                    \"&IF(Ekders!AO30=\"\",0,Ekders!AO30)","v":"0                    0                    0                    0                    0                    0"},{"$f":"IF(Ekders!AP25=\"\",0,Ekders!AP25)&\"                    \"&IF(Ekders!AP26=\"\",0,Ekders!AP26)&\"                    \"&IF(Ekders!AP27=\"\",0,Ekders!AP27)&\"                    \"&IF(Ekders!AP28=\"\",0,Ekders!AP28)&\"                    \"&IF(Ekders!AP29=\"\",0,Ekders!AP29)&\"                    \"&IF(Ekders!AP30=\"\",0,Ekders!AP30)","v":"0                    0                    0                    0                    0                    0"},{"$f":"IF(Ekders!AQ25=\"\",0,Ekders!AQ25)&\"                    \"&IF(Ekders!AQ26=\"\",0,Ekders!AQ26)&\"                    \"&IF(Ekders!AQ27=\"\",0,Ekders!AQ27)&\"                    \"&IF(Ekders!AQ28=\"\",0,Ekders!AQ28)&\"                    \"&IF(Ekders!AQ29=\"\",0,Ekders!AQ29)&\"                    \"&IF(Ekders!AQ30=\"\",0,Ekders!AQ30)","v":"0                    0                    0                    0                    0                    0"},{"$f":"IF(Ekders!AR25=\"\",0,Ekders!AR25)&\"                    \"&IF(Ekders!AR26=\"\",0,Ekders!AR26)&\"                    \"&IF(Ekders!AR27=\"\",0,Ekders!AR27)&\"                    \"&IF(Ekders!AR28=\"\",0,Ekders!AR28)&\"                    \"&IF(Ekders!AR29=\"\",0,Ekders!AR29)&\"                    \"&IF(Ekders!AR30=\"\",0,Ekders!AR30)","v":"0                    0                    0                    0                    0                    0"},{"$f":"IF(Ekders!AS25=\"\",0,Ekders!AS25)&\"                    \"&IF(Ekders!AS26=\"\",0,Ekders!AS26)&\"                    \"&IF(Ekders!AS27=\"\",0,Ekders!AS27)&\"                    \"&IF(Ekders!AS28=\"\",0,Ekders!AS28)&\"                    \"&IF(Ekders!AS29=\"\",0,Ekders!AS29)&\"                    \"&IF(Ekders!AS30=\"\",0,Ekders!AS30)","v":"0                    0                    0                    0                    0                    0"},{"$f":"IF(Ekders!AT25=\"\",0,Ekders!AT25)&\"                    \"&IF(Ekders!AT26=\"\",0,Ekders!AT26)&\"                    \"&IF(Ekders!AT27=\"\",0,Ekders!AT27)&\"                    \"&IF(Ekders!AT28=\"\",0,Ekders!AT28)&\"                    \"&IF(Ekders!AT29=\"\",0,Ekders!AT29)&\"                    \"&IF(Ekders!AT30=\"\",0,Ekders!AT30)","v":"0                    0                    0                    0                    0                    0"},{"$f":"IF(Ekders!AU25=\"\",0,Ekders!AU25)&\"                    \"&IF(Ekders!AU26=\"\",0,Ekders!AU26)&\"                    \"&IF(Ekders!AU27=\"\",0,Ekders!AU27)&\"                    \"&IF(Ekders!AU28=\"\",0,Ekders!AU28)&\"                    \"&IF(Ekders!AU29=\"\",0,Ekders!AU29)&\"                    \"&IF(Ekders!AU30=\"\",0,Ekders!AU30)","v":"0                    0                    0                    0                    0                    0"},{"$f":"IF(Ekders!AV25=\"\",0,Ekders!AV25)&\"                    \"&IF(Ekders!AV26=\"\",0,Ekders!AV26)&\"                    \"&IF(Ekders!AV27=\"\",0,Ekders!AV27)&\"                    \"&IF(Ekders!AV28=\"\",0,Ekders!AV28)&\"                    \"&IF(Ekders!AV29=\"\",0,Ekders!AV29)&\"                    \"&IF(Ekders!AV30=\"\",0,Ekders!AV30)","v":"0                    0                    0                    0                    0                    0"},{"$f":"IF(Ekders!AW25=\"\",0,Ekders!AW25)&\"                    \"&IF(Ekders!AW26=\"\",0,Ekders!AW26)&\"                    \"&IF(Ekders!AW27=\"\",0,Ekders!AW27)&\"                    \"&IF(Ekders!AW28=\"\",0,Ekders!AW28)&\"                    \"&IF(Ekders!AW29=\"\",0,Ekders!AW29)&\"                    \"&IF(Ekders!AW30=\"\",0,Ekders!AW30)","v":"0                    0                    0                    0                    0                    0"},{"$f":"IF(Ekders!AX25=\"\",0,Ekders!AX25)&\"                    \"&IF(Ekders!AX26=\"\",0,Ekders!AX26)&\"                    \"&IF(Ekders!AX27=\"\",0,Ekders!AX27)&\"                    \"&IF(Ekders!AX28=\"\",0,Ekders!AX28)&\"                    \"&IF(Ekders!AX29=\"\",0,Ekders!AX29)&\"                    \"&IF(Ekders!AX30=\"\",0,Ekders!AX30)","v":"0                    0                    0                    0                    0                    0"},{"$f":"IF(Ekders!AY25=\"\",0,Ekders!AY25)&\"                    \"&IF(Ekders!AY26=\"\",0,Ekders!AY26)&\"                    \"&IF(Ekders!AY27=\"\",0,Ekders!AY27)&\"                    \"&IF(Ekders!AY28=\"\",0,Ekders!AY28)&\"                    \"&IF(Ekders!AY29=\"\",0,Ekders!AY29)&\"                    \"&IF(Ekders!AY30=\"\",0,Ekders!AY30)","v":"0                    0                    0                    0                    0                    0"},{"$f":"Ekders!AY25+Ekders!AY26+Ekders!AY27+Ekders!AY28+Ekders!AY29+Ekders!AY30","v":0},0]
[{"$f":"Ekders!B31&\"                                                       \"&Ekders!B32&\"                                                       \"&Ekders!B33&\"                                                       \"&Ekders!B35&\"                                                       \"&Ekders!B36&\"                                                       \"&Ekders!B34","v":"                                                                                                                                                                                                                                                                                   "},null,{"$f":"Ekders!L31&\"                    \"&Ekders!L32&\"                    \"&Ekders!L33&\"                    \"&Ekders!L34&\"                    \"&Ekders!L35&\"                    \"&Ekders!L36","v":"Gündüz (Lisans)                    Gündüz (Y. Lisans)                    Gündüz (Doktora)                    Gece (Lisans)                    Gece (Y. Lisans)                    Gece (Doktora)"},null,null,null,null,{"$f":"IF(Ekders!P31=\"\",0,Ekders!P31)&\"                    \"&IF(Ekders!P32=\"\",0,Ekders!P32)&\"                    \"&IF(Ekders!P33=\"\",0,Ekders!P33)&\"                    \"&IF(Ekders!P34=\"\",0,Ekders!P34)&\"                    \"&IF(Ekders!P35=\"\",0,Ekders!P35)&\"                    \"&IF(Ekders!P36=\"\",0,Ekders!P36)","v":"0                    0                    0                    0                    0                    0"},{"$f":"IF(Ekders!Q31=\"\",0,Ekders!Q31)&\"                    \"&IF(Ekders!Q32=\"\",0,Ekders!Q32)&\"                    \"&IF(Ekders!Q33=\"\",0,Ekders!Q33)&\"                    \"&IF(Ekders!Q34=\"\",0,Ekders!Q34)&\"                    \"&IF(Ekders!Q35=\"\",0,Ekders!Q35)&\"                    \"&IF(Ekders!Q36=\"\",0,Ekders!Q36)","v":"0                    0                    0                    0                    0                    0"},{"$f":"IF(Ekders!R31=\"\",0,Ekders!R31)&\"                    \"&IF(Ekders!R32=\"\",0,Ekders!R32)&\"                    \"&IF(Ekders!R33=\"\",0,Ekders!R33)&\"                    \"&IF(Ekders!R34=\"\",0,Ekders!R34)&\"                    \"&IF(Ekders!R35=\"\",0,Ekders!R35)&\"                    \"&IF(Ekders!R36=\"\",0,Ekders!R36)","v":"0                    0                    0                    0                    0                    0"},{"$f":"IF(Ekders!S31=\"\",0,Ekders!S31)&\"                    \"&IF(Ekders!S32=\"\",0,Ekders!S32)&\"                    \"&IF(Ekders!S33=\"\",0,Ekders!S33)&\"                    \"&IF(Ekders!S34=\"\",0,Ekders!S34)&\"                    \"&IF(Ekders!S35=\"\",0,Ekders!S35)&\"                    \"&IF(Ekders!S36=\"\",0,Ekders!S36)","v":"0                    0                    0                    0                    0                    0"},{"$f":"IF(Ekders!T31=\"\",0,Ekders!T31)&\"                    \"&IF(Ekders!T32=\"\",0,Ekders!T32)&\"                    \"&IF(Ekders!T33=\"\",0,Ekders!T33)&\"                    \"&IF(Ekders!T34=\"\",0,Ekders!T34)&\"                    \"&IF(Ekders!T35=\"\",0,Ekders!T35)&\"                    \"&IF(Ekders!T36=\"\",0,Ekders!T36)","v":"0                    0                    0                    0                    0                    0"},{"$f":"IF(Ekders!U31=\"\",0,Ekders!U31)&\"                    \"&IF(Ekders!U32=\"\",0,Ekders!U32)&\"                    \"&IF(Ekders!U33=\"\",0,Ekders!U33)&\"                    \"&IF(Ekders!U34=\"\",0,Ekders!U34)&\"                    \"&IF(Ekders!U35=\"\",0,Ekders!U35)&\"                    \"&IF(Ekders!U36=\"\",0,Ekders!U36)","v":"0                    0                    0                    0                    0                    0"},{"$f":"IF(Ekders!V31=\"\",0,Ekders!V31)&\"                    \"&IF(Ekders!V32=\"\",0,Ekders!V32)&\"                    \"&IF(Ekders!V33=\"\",0,Ekders!V33)&\"                    \"&IF(Ekders!V34=\"\",0,Ekders!V34)&\"                    \"&IF(Ekders!V35=\"\",0,Ekders!V35)&\"                    \"&IF(Ekders!V36=\"\",0,Ekders!V36)","v":"0                    0                    0                    0                    0                    0"},{"$f":"IF(Ekders!W31=\"\",0,Ekders!W31)&\"                    \"&IF(Ekders!W32=\"\",0,Ekders!W32)&\"                    \"&IF(Ekders!W33=\"\",0,Ekders!W33)&\"                    \"&IF(Ekders!W34=\"\",0,Ekders!W34)&\"                    \"&IF(Ekders!W35=\"\",0,Ekders!W35)&\"                    \"&IF(Ekders!W36=\"\",0,Ekders!W36)","v":"0                    0                    0                    0                    0                    0"},{"$f":"IF(Ekders!X31=\"\",0,Ekders!X31)&\"                    \"&IF(Ekders!X32=\"\",0,Ekders!X32)&\"                    \"&IF(Ekders!X33=\"\",0,Ekders!X33)&\"                    \"&IF(Ekders!X34=\"\",0,Ekders!X34)&\"                    \"&IF(Ekders!X35=\"\",0,Ekders!X35)&\"                    \"&IF(Ekders!X36=\"\",0,Ekders!X36)","v":"0                    0                    0                    0                    0                    0"},{"$f":"IF(Ekders!Y31=\"\",0,Ekders!Y31)&\"                    \"&IF(Ekders!Y32=\"\",0,Ekders!Y32)&\"                    \"&IF(Ekders!Y33=\"\",0,Ekders!Y33)&\"                    \"&IF(Ekders!Y34=\"\",0,Ekders!Y34)&\"                    \"&IF(Ekders!Y35=\"\",0,Ekders!Y35)&\"                    \"&IF(Ekders!Y36=\"\",0,Ekders!Y36)","v":"0                    0                    0                    0                    0                    0"},{"$f":"IF(Ekders!Z31=\"\",0,Ekders!Z31)&\"                    \"&IF(Ekders!Z32=\"\",0,Ekders!Z32)&\"                    \"&IF(Ekders!Z33=\"\",0,Ekders!Z33)&\"                    \"&IF(Ekders!Z34=\"\",0,Ekders!Z34)&\"                    \"&IF(Ekders!Z35=\"\",0,Ekders!Z35)&\"                    \"&IF(Ekders!Z36=\"\",0,Ekders!Z36)","v":"0                    0                    0                    0                    0                    0"},{"$f":"IF(Ekders!AA31=\"\",0,Ekders!AA31)&\"                    \"&IF(Ekders!AA32=\"\",0,Ekders!AA32)&\"                    \"&IF(Ekders!AA33=\"\",0,Ekders!AA33)&\"                    \"&IF(Ekders!AA34=\"\",0,Ekders!AA34)&\"                    \"&IF(Ekders!AA35=\"\",0,Ekders!AA35)&\"                    \"&IF(Ekders!AA36=\"\",0,Ekders!AA36)","v":"0                    0                    0                    0                    0                    0"},{"$f":"IF(Ekders!AB31=\"\",0,Ekders!AB31)&\"                    \"&IF(Ekders!AB32=\"\",0,Ekders!AB32)&\"                    \"&IF(Ekders!AB33=\"\",0,Ekders!AB33)&\"                    \"&IF(Ekders!AB34=\"\",0,Ekders!AB34)&\"                    \"&IF(Ekders!AB35=\"\",0,Ekders!AB35)&\"                    \"&IF(Ekders!AB36=\"\",0,Ekders!AB36)","v":"0                    0                    0                    0                    0                    0"},{"$f":"IF(Ekders!AC31=\"\",0,Ekders!AC31)&\"                    \"&IF(Ekders!AC32=\"\",0,Ekders!AC32)&\"                    \"&IF(Ekders!AC33=\"\",0,Ekders!AC33)&\"                    \"&IF(Ekders!AC34=\"\",0,Ekders!AC34)&\"                    \"&IF(Ekders!AC35=\"\",0,Ekders!AC35)&\"                    \"&IF(Ekders!AC36=\"\",0,Ekders!AC36)","v":"0                    0                    0                    0                    0                    0"},{"$f":"IF(Ekders!AD31=\"\",0,Ekders!AD31)&\"                    \"&IF(Ekders!AD32=\"\",0,Ekders!AD32)&\"                    \"&IF(Ekders!AD33=\"\",0,Ekders!AD33)&\"                    \"&IF(Ekders!AD34=\"\",0,Ekders!AD34)&\"                    \"&IF(Ekders!AD35=\"\",0,Ekders!AD35)&\"                    \"&IF(Ekders!AD36=\"\",0,Ekders!AD36)","v":"0                    0                    0                    0                    0                    0"},{"$f":"IF(Ekders!AE31=\"\",0,Ekders!AE31)&\"                    \"&IF(Ekders!AE32=\"\",0,Ekders!AE32)&\"                    \"&IF(Ekders!AE33=\"\",0,Ekders!AE33)&\"                    \"&IF(Ekders!AE34=\"\",0,Ekders!AE34)&\"                    \"&IF(Ekders!AE35=\"\",0,Ekders!AE35)&\"                    \"&IF(Ekders!AE36=\"\",0,Ekders!AE36)","v":"0                    0                    0                    0                    0                    0"},{"$f":"IF(Ekders!AF31=\"\",0,Ekders!AF31)&\"                    \"&IF(Ekders!AF32=\"\",0,Ekders!AF32)&\"                    \"&IF(Ekders!AF33=\"\",0,Ekders!AF33)&\"                    \"&IF(Ekders!AF34=\"\",0,Ekders!AF34)&\"                    \"&IF(Ekders!AF35=\"\",0,Ekders!AF35)&\"                    \"&IF(Ekders!AF36=\"\",0,Ekders!AF36)","v":"0                    0                    0                    0                    0                    0"},{"$f":"IF(Ekders!AG31=\"\",0,Ekders!AG31)&\"                    \"&IF(Ekders!AG32=\"\",0,Ekders!AG32)&\"                    \"&IF(Ekders!AG33=\"\",0,Ekders!AG33)&\"                    \"&IF(Ekders!AG34=\"\",0,Ekders!AG34)&\"                    \"&IF(Ekders!AG35=\"\",0,Ekders!AG35)&\"                    \"&IF(Ekders!AG36=\"\",0,Ekders!AG36)","v":"0                    0                    0                    0                    0                    0"},{"$f":"IF(Ekders!AH31=\"\",0,Ekders!AH31)&\"                    \"&IF(Ekders!AH32=\"\",0,Ekders!AH32)&\"                    \"&IF(Ekders!AH33=\"\",0,Ekders!AH33)&\"                    \"&IF(Ekders!AH34=\"\",0,Ekders!AH34)&\"                    \"&IF(Ekders!AH35=\"\",0,Ekders!AH35)&\"                    \"&IF(Ekders!AH36=\"\",0,Ekders!AH36)","v":"0                    0                    0                    0                    0                    0"},{"$f":"IF(Ekders!AI31=\"\",0,Ekders!AI31)&\"                    \"&IF(Ekders!AI32=\"\",0,Ekders!AI32)&\"                    \"&IF(Ekders!AI33=\"\",0,Ekders!AI33)&\"                    \"&IF(Ekders!AI34=\"\",0,Ekders!AI34)&\"                    \"&IF(Ekders!AI35=\"\",0,Ekders!AI35)&\"                    \"&IF(Ekders!AI36=\"\",0,Ekders!AI36)","v":"0                    0                    0                    0                    0                    0"},{"$f":"IF(Ekders!AJ31=\"\",0,Ekders!AJ31)&\"                    \"&IF(Ekders!AJ32=\"\",0,Ekders!AJ32)&\"                    \"&IF(Ekders!AJ33=\"\",0,Ekders!AJ33)&\"                    \"&IF(Ekders!AJ34=\"\",0,Ekders!AJ34)&\"                    \"&IF(Ekders!AJ35=\"\",0,Ekders!AJ35)&\"                    \"&IF(Ekders!AJ36=\"\",0,Ekders!AJ36)","v":"0                    0                    0                    0                    0                    0"},{"$f":"IF(Ekders!AK31=\"\",0,Ekders!AK31)&\"                    \"&IF(Ekders!AK32=\"\",0,Ekders!AK32)&\"                    \"&IF(Ekders!AK33=\"\",0,Ekders!AK33)&\"                    \"&IF(Ekders!AK34=\"\",0,Ekders!AK34)&\"                    \"&IF(Ekders!AK35=\"\",0,Ekders!AK35)&\"                    \"&IF(Ekders!AK36=\"\",0,Ekders!AK36)","v":"0                    0                    0                    0                    0                    0"},{"$f":"IF(Ekders!AL31=\"\",0,Ekders!AL31)&\"                    \"&IF(Ekders!AL32=\"\",0,Ekders!AL32)&\"                    \"&IF(Ekders!AL33=\"\",0,Ekders!AL33)&\"                    \"&IF(Ekders!AL34=\"\",0,Ekders!AL34)&\"                    \"&IF(Ekders!AL35=\"\",0,Ekders!AL35)&\"                    \"&IF(Ekders!AL36=\"\",0,Ekders!AL36)","v":"0                    0                    0                    0                    0                    0"},{"$f":"IF(Ekders!AM31=\"\",0,Ekders!AM31)&\"                    \"&IF(Ekders!AM32=\"\",0,Ekders!AM32)&\"                    \"&IF(Ekders!AM33=\"\",0,Ekders!AM33)&\"                    \"&IF(Ekders!AM34=\"\",0,Ekders!AM34)&\"                    \"&IF(Ekders!AM35=\"\",0,Ekders!AM35)&\"                    \"&IF(Ekders!AM36=\"\",0,Ekders!AM36)","v":"0                    0                    0                    0                    0                    0"},{"$f":"IF(Ekders!AN31=\"\",0,Ekders!AN31)&\"                    \"&IF(Ekders!AN32=\"\",0,Ekders!AN32)&\"                    \"&IF(Ekders!AN33=\"\",0,Ekders!AN33)&\"                    \"&IF(Ekders!AN34=\"\",0,Ekders!AN34)&\"                    \"&IF(Ekders!AN35=\"\",0,Ekders!AN35)&\"                    \"&IF(Ekders!AN36=\"\",0,Ekders!AN36)","v":"0                    0                    0                    0                    0                    0"},{"$f":"IF(Ekders!AO31=\"\",0,Ekders!AO31)&\"                    \"&IF(Ekders!AO32=\"\",0,Ekders!AO32)&\"                    \"&IF(Ekders!AO33=\"\",0,Ekders!AO33)&\"                    \"&IF(Ekders!AO34=\"\",0,Ekders!AO34)&\"                    \"&IF(Ekders!AO35=\"\",0,Ekders!AO35)&\"                    \"&IF(Ekders!AO36=\"\",0,Ekders!AO36)","v":"0                    0                    0                    0                    0                    0"},{"$f":"IF(Ekders!AP31=\"\",0,Ekders!AP31)&\"                    \"&IF(Ekders!AP32=\"\",0,Ekders!AP32)&\"                    \"&IF(Ekders!AP33=\"\",0,Ekders!AP33)&\"                    \"&IF(Ekders!AP34=\"\",0,Ekders!AP34)&\"                    \"&IF(Ekders!AP35=\"\",0,Ekders!AP35)&\"                    \"&IF(Ekders!AP36=\"\",0,Ekders!AP36)","v":"0                    0                    0                    0                    0                    0"},{"$f":"IF(Ekders!AQ31=\"\",0,Ekders!AQ31)&\"                    \"&IF(Ekders!AQ32=\"\",0,Ekders!AQ32)&\"                    \"&IF(Ekders!AQ33=\"\",0,Ekders!AQ33)&\"                    \"&IF(Ekders!AQ34=\"\",0,Ekders!AQ34)&\"                    \"&IF(Ekders!AQ35=\"\",0,Ekders!AQ35)&\"                    \"&IF(Ekders!AQ36=\"\",0,Ekders!AQ36)","v":"0                    0                    0                    0                    0                    0"},{"$f":"IF(Ekders!AR31=\"\",0,Ekders!AR31)&\"                    \"&IF(Ekders!AR32=\"\",0,Ekders!AR32)&\"                    \"&IF(Ekders!AR33=\"\",0,Ekders!AR33)&\"                    \"&IF(Ekders!AR34=\"\",0,Ekders!AR34)&\"                    \"&IF(Ekders!AR35=\"\",0,Ekders!AR35)&\"                    \"&IF(Ekders!AR36=\"\",0,Ekders!AR36)","v":"0                    0                    0                    0                    0                    0"},{"$f":"IF(Ekders!AS31=\"\",0,Ekders!AS31)&\"                    \"&IF(Ekders!AS32=\"\",0,Ekders!AS32)&\"                    \"&IF(Ekders!AS33=\"\",0,Ekders!AS33)&\"                    \"&IF(Ekders!AS34=\"\",0,Ekders!AS34)&\"                    \"&IF(Ekders!AS35=\"\",0,Ekders!AS35)&\"                    \"&IF(Ekders!AS36=\"\",0,Ekders!AS36)","v":"0                    0                    0                    0                    0                    0"},{"$f":"IF(Ekders!AT31=\"\",0,Ekders!AT31)&\"                    \"&IF(Ekders!AT32=\"\",0,Ekders!AT32)&\"                    \"&IF(Ekders!AT33=\"\",0,Ekders!AT33)&\"                    \"&IF(Ekders!AT34=\"\",0,Ekders!AT34)&\"                    \"&IF(Ekders!AT35=\"\",0,Ekders!AT35)&\"                    \"&IF(Ekders!AT36=\"\",0,Ekders!AT36)","v":"0                    0                    0                    0                    0                    0"},{"$f":"IF(Ekders!AU31=\"\",0,Ekders!AU31)&\"                    \"&IF(Ekders!AU32=\"\",0,Ekders!AU32)&\"                    \"&IF(Ekders!AU33=\"\",0,Ekders!AU33)&\"                    \"&IF(Ekders!AU34=\"\",0,Ekders!AU34)&\"                    \"&IF(Ekders!AU35=\"\",0,Ekders!AU35)&\"                    \"&IF(Ekders!AU36=\"\",0,Ekders!AU36)","v":"0                    0                    0                    0                    0                    0"},{"$f":"IF(Ekders!AV31=\"\",0,Ekders!AV31)&\"                    \"&IF(Ekders!AV32=\"\",0,Ekders!AV32)&\"                    \"&IF(Ekders!AV33=\"\",0,Ekders!AV33)&\"                    \"&IF(Ekders!AV34=\"\",0,Ekders!AV34)&\"                    \"&IF(Ekders!AV35=\"\",0,Ekders!AV35)&\"                    \"&IF(Ekders!AV36=\"\",0,Ekders!AV36)","v":"0                    0                    0                    0                    0                    0"},{"$f":"IF(Ekders!AW31=\"\",0,Ekders!AW31)&\"                    \"&IF(Ekders!AW32=\"\",0,Ekders!AW32)&\"                    \"&IF(Ekders!AW33=\"\",0,Ekders!AW33)&\"                    \"&IF(Ekders!AW34=\"\",0,Ekders!AW34)&\"                    \"&IF(Ekders!AW35=\"\",0,Ekders!AW35)&\"                    \"&IF(Ekders!AW36=\"\",0,Ekders!AW36)","v":"0                    0                    0                    0                    0                    0"},{"$f":"IF(Ekders!AX31=\"\",0,Ekders!AX31)&\"                    \"&IF(Ekders!AX32=\"\",0,Ekders!AX32)&\"                    \"&IF(Ekders!AX33=\"\",0,Ekders!AX33)&\"                    \"&IF(Ekders!AX34=\"\",0,Ekders!AX34)&\"                    \"&IF(Ekders!AX35=\"\",0,Ekders!AX35)&\"                    \"&IF(Ekders!AX36=\"\",0,Ekders!AX36)","v":"0                    0                    0                    0                    0                    0"},{"$f":"IF(Ekders!AY31=\"\",0,Ekders!AY31)&\"                    \"&IF(Ekders!AY32=\"\",0,Ekders!AY32)&\"                    \"&IF(Ekders!AY33=\"\",0,Ekders!AY33)&\"                    \"&IF(Ekders!AY34=\"\",0,Ekders!AY34)&\"                    \"&IF(Ekders!AY35=\"\",0,Ekders!AY35)&\"                    \"&IF(Ekders!AY36=\"\",0,Ekders!AY36)","v":"0                    0                    0                    0                    0                    0"},{"$f":"Ekders!AY31+Ekders!AY32+Ekders!AY33+Ekders!AY34+Ekders!AY35+Ekders!AY36","v":0},0]
[{"$f":"Ekders!B37&\"                                                       \"&Ekders!B38&\"                                                       \"&Ekders!B39&\"                                                       \"&Ekders!B41&\"                                                       \"&Ekders!B42&\"                                                       \"&Ekders!B40","v":"                                                                                                                                                                                                                                                                                   "},null,{"$f":"Ekders!L37&\"                    \"&Ekders!L38&\"                    \"&Ekders!L39&\"                    \"&Ekders!L40&\"                    \"&Ekders!L41&\"                    \"&Ekders!L42","v":"Gündüz (Lisans)                    Gündüz (Y. Lisans)                    Gündüz (Doktora)                    Gece (Lisans)                    Gece (Y. Lisans)                    Gece (Doktora)"},null,null,null,null,{"$f":"IF(Ekders!P37=\"\",0,Ekders!P37)&\"                    \"&IF(Ekders!P38=\"\",0,Ekders!P38)&\"                    \"&IF(Ekders!P39=\"\",0,Ekders!P39)&\"                    \"&IF(Ekders!P40=\"\",0,Ekders!P40)&\"                    \"&IF(Ekders!P41=\"\",0,Ekders!P41)&\"                    \"&IF(Ekders!P42=\"\",0,Ekders!P42)","v":"0                    0                    0                    0                    0                    0"},{"$f":"IF(Ekders!Q37=\"\",0,Ekders!Q37)&\"                    \"&IF(Ekders!Q38=\"\",0,Ekders!Q38)&\"                    \"&IF(Ekders!Q39=\"\",0,Ekders!Q39)&\"                    \"&IF(Ekders!Q40=\"\",0,Ekders!Q40)&\"                    \"&IF(Ekders!Q41=\"\",0,Ekders!Q41)&\"                    \"&IF(Ekders!Q42=\"\",0,Ekders!Q42)","v":"0                    0                    0                    0                    0                    0"},{"$f":"IF(Ekders!R37=\"\",0,Ekders!R37)&\"                    \"&IF(Ekders!R38=\"\",0,Ekders!R38)&\"                    \"&IF(Ekders!R39=\"\",0,Ekders!R39)&\"                    \"&IF(Ekders!R40=\"\",0,Ekders!R40)&\"                    \"&IF(Ekders!R41=\"\",0,Ekders!R41)&\"                    \"&IF(Ekders!R42=\"\",0,Ekders!R42)","v":"0                    0                    0                    0                    0                    0"},{"$f":"IF(Ekders!S37=\"\",0,Ekders!S37)&\"                    \"&IF(Ekders!S38=\"\",0,Ekders!S38)&\"                    \"&IF(Ekders!S39=\"\",0,Ekders!S39)&\"                    \"&IF(Ekders!S40=\"\",0,Ekders!S40)&\"                    \"&IF(Ekders!S41=\"\",0,Ekders!S41)&\"                    \"&IF(Ekders!S42=\"\",0,Ekders!S42)","v":"0                    0                    0                    0                    0                    0"},{"$f":"IF(Ekders!T37=\"\",0,Ekders!T37)&\"                    \"&IF(Ekders!T38=\"\",0,Ekders!T38)&\"                    \"&IF(Ekders!T39=\"\",0,Ekders!T39)&\"                    \"&IF(Ekders!T40=\"\",0,Ekders!T40)&\"                    \"&IF(Ekders!T41=\"\",0,Ekders!T41)&\"                    \"&IF(Ekders!T42=\"\",0,Ekders!T42)","v":"0                    0                    0                    0                    0                    0"},{"$f":"IF(Ekders!U37=\"\",0,Ekders!U37)&\"                    \"&IF(Ekders!U38=\"\",0,Ekders!U38)&\"                    \"&IF(Ekders!U39=\"\",0,Ekders!U39)&\"                    \"&IF(Ekders!U40=\"\",0,Ekders!U40)&\"                    \"&IF(Ekders!U41=\"\",0,Ekders!U41)&\"                    \"&IF(Ekders!U42=\"\",0,Ekders!U42)","v":"0                    0                    0                    0                    0                    0"},{"$f":"IF(Ekders!V37=\"\",0,Ekders!V37)&\"                    \"&IF(Ekders!V38=\"\",0,Ekders!V38)&\"                    \"&IF(Ekders!V39=\"\",0,Ekders!V39)&\"                    \"&IF(Ekders!V40=\"\",0,Ekders!V40)&\"                    \"&IF(Ekders!V41=\"\",0,Ekders!V41)&\"                    \"&IF(Ekders!V42=\"\",0,Ekders!V42)","v":"0                    0                    0                    0                    0                    0"},{"$f":"IF(Ekders!W37=\"\",0,Ekders!W37)&\"                    \"&IF(Ekders!W38=\"\",0,Ekders!W38)&\"                    \"&IF(Ekders!W39=\"\",0,Ekders!W39)&\"                    \"&IF(Ekders!W40=\"\",0,Ekders!W40)&\"                    \"&IF(Ekders!W41=\"\",0,Ekders!W41)&\"                    \"&IF(Ekders!W42=\"\",0,Ekders!W42)","v":"0                    0                    0                    0                    0                    0"},{"$f":"IF(Ekders!X37=\"\",0,Ekders!X37)&\"                    \"&IF(Ekders!X38=\"\",0,Ekders!X38)&\"                    \"&IF(Ekders!X39=\"\",0,Ekders!X39)&\"                    \"&IF(Ekders!X40=\"\",0,Ekders!X40)&\"                    \"&IF(Ekders!X41=\"\",0,Ekders!X41)&\"                    \"&IF(Ekders!X42=\"\",0,Ekders!X42)","v":"0                    0                    0                    0                    0                    0"},{"$f":"IF(Ekders!Y37=\"\",0,Ekders!Y37)&\"                    \"&IF(Ekders!Y38=\"\",0,Ekders!Y38)&\"                    \"&IF(Ekders!Y39=\"\",0,Ekders!Y39)&\"                    \"&IF(Ekders!Y40=\"\",0,Ekders!Y40)&\"                    \"&IF(Ekders!Y41=\"\",0,Ekders!Y41)&\"                    \"&IF(Ekders!Y42=\"\",0,Ekders!Y42)","v":"0                    0                    0                    0                    0                    0"},{"$f":"IF(Ekders!Z37=\"\",0,Ekders!Z37)&\"                    \"&IF(Ekders!Z38=\"\",0,Ekders!Z38)&\"                    \"&IF(Ekders!Z39=\"\",0,Ekders!Z39)&\"                    \"&IF(Ekders!Z40=\"\",0,Ekders!Z40)&\"                    \"&IF(Ekders!Z41=\"\",0,Ekders!Z41)&\"                    \"&IF(Ekders!Z42=\"\",0,Ekders!Z42)","v":"0                    0                    0                    0                    0                    0"},{"$f":"IF(Ekders!AA37=\"\",0,Ekders!AA37)&\"                    \"&IF(Ekders!AA38=\"\",0,Ekders!AA38)&\"                    \"&IF(Ekders!AA39=\"\",0,Ekders!AA39)&\"                    \"&IF(Ekders!AA40=\"\",0,Ekders!AA40)&\"                    \"&IF(Ekders!AA41=\"\",0,Ekders!AA41)&\"                    \"&IF(Ekders!AA42=\"\",0,Ekders!AA42)","v":"0                    0                    0                    0                    0                    0"},{"$f":"IF(Ekders!AB37=\"\",0,Ekders!AB37)&\"                    \"&IF(Ekders!AB38=\"\",0,Ekders!AB38)&\"                    \"&IF(Ekders!AB39=\"\",0,Ekders!AB39)&\"                    \"&IF(Ekders!AB40=\"\",0,Ekders!AB40)&\"                    \"&IF(Ekders!AB41=\"\",0,Ekders!AB41)&\"                    \"&IF(Ekders!AB42=\"\",0,Ekders!AB42)","v":"0                    0                    0                    0                    0                    0"},{"$f":"IF(Ekders!AC37=\"\",0,Ekders!AC37)&\"                    \"&IF(Ekders!AC38=\"\",0,Ekders!AC38)&\"                    \"&IF(Ekders!AC39=\"\",0,Ekders!AC39)&\"                    \"&IF(Ekders!AC40=\"\",0,Ekders!AC40)&\"                    \"&IF(Ekders!AC41=\"\",0,Ekders!AC41)&\"                    \"&IF(Ekders!AC42=\"\",0,Ekders!AC42)","v":"0                    0                    0                    0                    0                    0"},{"$f":"IF(Ekders!AD37=\"\",0,Ekders!AD37)&\"                    \"&IF(Ekders!AD38=\"\",0,Ekders!AD38)&\"                    \"&IF(Ekders!AD39=\"\",0,Ekders!AD39)&\"                    \"&IF(Ekders!AD40=\"\",0,Ekders!AD40)&\"                    \"&IF(Ekders!AD41=\"\",0,Ekders!AD41)&\"                    \"&IF(Ekders!AD42=\"\",0,Ekders!AD42)","v":"0                    0                    0                    0                    0                    0"},{"$f":"IF(Ekders!AE37=\"\",0,Ekders!AE37)&\"                    \"&IF(Ekders!AE38=\"\",0,Ekders!AE38)&\"                    \"&IF(Ekders!AE39=\"\",0,Ekders!AE39)&\"                    \"&IF(Ekders!AE40=\"\",0,Ekders!AE40)&\"                    \"&IF(Ekders!AE41=\"\",0,Ekders!AE41)&\"                    \"&IF(Ekders!AE42=\"\",0,Ekders!AE42)","v":"0                    0                    0                    0                    0                    0"},{"$f":"IF(Ekders!AF37=\"\",0,Ekders!AF37)&\"                    \"&IF(Ekders!AF38=\"\",0,Ekders!AF38)&\"                    \"&IF(Ekders!AF39=\"\",0,Ekders!AF39)&\"                    \"&IF(Ekders!AF40=\"\",0,Ekders!AF40)&\"                    \"&IF(Ekders!AF41=\"\",0,Ekders!AF41)&\"                    \"&IF(Ekders!AF42=\"\",0,Ekders!AF42)","v":"0                    0                    0                    0                    0                    0"},{"$f":"IF(Ekders!AG37=\"\",0,Ekders!AG37)&\"                    \"&IF(Ekders!AG38=\"\",0,Ekders!AG38)&\"                    \"&IF(Ekders!AG39=\"\",0,Ekders!AG39)&\"                    \"&IF(Ekders!AG40=\"\",0,Ekders!AG40)&\"                    \"&IF(Ekders!AG41=\"\",0,Ekders!AG41)&\"                    \"&IF(Ekders!AG42=\"\",0,Ekders!AG42)","v":"0                    0                    0                    0                    0                    0"},{"$f":"IF(Ekders!AH37=\"\",0,Ekders!AH37)&\"                    \"&IF(Ekders!AH38=\"\",0,Ekders!AH38)&\"                    \"&IF(Ekders!AH39=\"\",0,Ekders!AH39)&\"                    \"&IF(Ekders!AH40=\"\",0,Ekders!AH40)&\"                    \"&IF(Ekders!AH41=\"\",0,Ekders!AH41)&\"                    \"&IF(Ekders!AH42=\"\",0,Ekders!AH42)","v":"0                    0                    0                    0                    0                    0"},{"$f":"IF(Ekders!AI37=\"\",0,Ekders!AI37)&\"                    \"&IF(Ekders!AI38=\"\",0,Ekders!AI38)&\"                    \"&IF(Ekders!AI39=\"\",0,Ekders!AI39)&\"                    \"&IF(Ekders!AI40=\"\",0,Ekders!AI40)&\"                    \"&IF(Ekders!AI41=\"\",0,Ekders!AI41)&\"                    \"&IF(Ekders!AI42=\"\",0,Ekders!AI42)","v":"0                    0                    0                    0                    0                    0"},{"$f":"IF(Ekders!AJ37=\"\",0,Ekders!AJ37)&\"                    \"&IF(Ekders!AJ38=\"\",0,Ekders!AJ38)&\"                    \"&IF(Ekders!AJ39=\"\",0,Ekders!AJ39)&\"                    \"&IF(Ekders!AJ40=\"\",0,Ekders!AJ40)&\"                    \"&IF(Ekders!AJ41=\"\",0,Ekders!AJ41)&\"                    \"&IF(Ekders!AJ42=\"\",0,Ekders!AJ42)","v":"0                    0                    0                    0                    0                    0"},{"$f":"IF(Ekders!AK37=\"\",0,Ekders!AK37)&\"                    \"&IF(Ekders!AK38=\"\",0,Ekders!AK38)&\"                    \"&IF(Ekders!AK39=\"\",0,Ekders!AK39)&\"                    \"&IF(Ekders!AK40=\"\",0,Ekders!AK40)&\"                    \"&IF(Ekders!AK41=\"\",0,Ekders!AK41)&\"                    \"&IF(Ekders!AK42=\"\",0,Ekders!AK42)","v":"0                    0                    0                    0                    0                    0"},{"$f":"IF(Ekders!AL37=\"\",0,Ekders!AL37)&\"                    \"&IF(Ekders!AL38=\"\",0,Ekders!AL38)&\"                    \"&IF(Ekders!AL39=\"\",0,Ekders!AL39)&\"                    \"&IF(Ekders!AL40=\"\",0,Ekders!AL40)&\"                    \"&IF(Ekders!AL41=\"\",0,Ekders!AL41)&\"                    \"&IF(Ekders!AL42=\"\",0,Ekders!AL42)","v":"0                    0                    0                    0                    0                    0"},{"$f":"IF(Ekders!AM37=\"\",0,Ekders!AM37)&\"                    \"&IF(Ekders!AM38=\"\",0,Ekders!AM38)&\"                    \"&IF(Ekders!AM39=\"\",0,Ekders!AM39)&\"                    \"&IF(Ekders!AM40=\"\",0,Ekders!AM40)&\"                    \"&IF(Ekders!AM41=\"\",0,Ekders!AM41)&\"                    \"&IF(Ekders!AM42=\"\",0,Ekders!AM42)","v":"0                    0                    0                    0                    0                    0"},{"$f":"IF(Ekders!AN37=\"\",0,Ekders!AN37)&\"                    \"&IF(Ekders!AN38=\"\",0,Ekders!AN38)&\"                    \"&IF(Ekders!AN39=\"\",0,Ekders!AN39)&\"                    \"&IF(Ekders!AN40=\"\",0,Ekders!AN40)&\"                    \"&IF(Ekders!AN41=\"\",0,Ekders!AN41)&\"                    \"&IF(Ekders!AN42=\"\",0,Ekders!AN42)","v":"0                    0                    0                    0                    0                    0"},{"$f":"IF(Ekders!AO37=\"\",0,Ekders!AO37)&\"                    \"&IF(Ekders!AO38=\"\",0,Ekders!AO38)&\"                    \"&IF(Ekders!AO39=\"\",0,Ekders!AO39)&\"                    \"&IF(Ekders!AO40=\"\",0,Ekders!AO40)&\"                    \"&IF(Ekders!AO41=\"\",0,Ekders!AO41)&\"                    \"&IF(Ekders!AO42=\"\",0,Ekders!AO42)","v":"0                    0                    0                    0                    0                    0"},{"$f":"IF(Ekders!AP37=\"\",0,Ekders!AP37)&\"                    \"&IF(Ekders!AP38=\"\",0,Ekders!AP38)&\"                    \"&IF(Ekders!AP39=\"\",0,Ekders!AP39)&\"                    \"&IF(Ekders!AP40=\"\",0,Ekders!AP40)&\"                    \"&IF(Ekders!AP41=\"\",0,Ekders!AP41)&\"                    \"&IF(Ekders!AP42=\"\",0,Ekders!AP42)","v":"0                    0                    0                    0                    0                    0"},{"$f":"IF(Ekders!AQ37=\"\",0,Ekders!AQ37)&\"                    \"&IF(Ekders!AQ38=\"\",0,Ekders!AQ38)&\"                    \"&IF(Ekders!AQ39=\"\",0,Ekders!AQ39)&\"                    \"&IF(Ekders!AQ40=\"\",0,Ekders!AQ40)&\"                    \"&IF(Ekders!AQ41=\"\",0,Ekders!AQ41)&\"                    \"&IF(Ekders!AQ42=\"\",0,Ekders!AQ42)","v":"0                    0                    0                    0                    0                    0"},{"$f":"IF(Ekders!AR37=\"\",0,Ekders!AR37)&\"                    \"&IF(Ekders!AR38=\"\",0,Ekders!AR38)&\"                    \"&IF(Ekders!AR39=\"\",0,Ekders!AR39)&\"                    \"&IF(Ekders!AR40=\"\",0,Ekders!AR40)&\"                    \"&IF(Ekders!AR41=\"\",0,Ekders!AR41)&\"                    \"&IF(Ekders!AR42=\"\",0,Ekders!AR42)","v":"0                    0                    0                    0                    0                    0"},{"$f":"IF(Ekders!AS37=\"\",0,Ekders!AS37)&\"                    \"&IF(Ekders!AS38=\"\",0,Ekders!AS38)&\"                    \"&IF(Ekders!AS39=\"\",0,Ekders!AS39)&\"                    \"&IF(Ekders!AS40=\"\",0,Ekders!AS40)&\"                    \"&IF(Ekders!AS41=\"\",0,Ekders!AS41)&\"                    \"&IF(Ekders!AS42=\"\",0,Ekders!AS42)","v":"0                    0                    0                    0                    0                    0"},{"$f":"IF(Ekders!AT37=\"\",0,Ekders!AT37)&\"                    \"&IF(Ekders!AT38=\"\",0,Ekders!AT38)&\"                    \"&IF(Ekders!AT39=\"\",0,Ekders!AT39)&\"                    \"&IF(Ekders!AT40=\"\",0,Ekders!AT40)&\"                    \"&IF(Ekders!AT41=\"\",0,Ekders!AT41)&\"                    \"&IF(Ekders!AT42=\"\",0,Ekders!AT42)","v":"0                    0                    0                    0                    0                    0"},{"$f":"IF(Ekders!AU37=\"\",0,Ekders!AU37)&\"                    \"&IF(Ekders!AU38=\"\",0,Ekders!AU38)&\"                    \"&IF(Ekders!AU39=\"\",0,Ekders!AU39)&\"                    \"&IF(Ekders!AU40=\"\",0,Ekders!AU40)&\"                    \"&IF(Ekders!AU41=\"\",0,Ekders!AU41)&\"                    \"&IF(Ekders!AU42=\"\",0,Ekders!AU42)","v":"0                    0                    0                    0                    0                    0"},{"$f":"IF(Ekders!AV37=\"\",0,Ekders!AV37)&\"                    \"&IF(Ekders!AV38=\"\",0,Ekders!AV38)&\"                    \"&IF(Ekders!AV39=\"\",0,Ekders!AV39)&\"                    \"&IF(Ekders!AV40=\"\",0,Ekders!AV40)&\"                    \"&IF(Ekders!AV41=\"\",0,Ekders!AV41)&\"                    \"&IF(Ekders!AV42=\"\",0,Ekders!AV42)","v":"0                    0                    0                    0                    0                    0"},{"$f":"IF(Ekders!AW37=\"\",0,Ekders!AW37)&\"                    \"&IF(Ekders!AW38=\"\",0,Ekders!AW38)&\"                    \"&IF(Ekders!AW39=\"\",0,Ekders!AW39)&\"                    \"&IF(Ekders!AW40=\"\",0,Ekders!AW40)&\"                    \"&IF(Ekders!AW41=\"\",0,Ekders!AW41)&\"                    \"&IF(Ekders!AW42=\"\",0,Ekders!AW42)","v":"0                    0                    0                    0                    0                    0"},{"$f":"IF(Ekders!AX37=\"\",0,Ekders!AX37)&\"                    \"&IF(Ekders!AX38=\"\",0,Ekders!AX38)&\"                    \"&IF(Ekders!AX39=\"\",0,Ekders!AX39)&\"                    \"&IF(Ekders!AX40=\"\",0,Ekders!AX40)&\"                    \"&IF(Ekders!AX41=\"\",0,Ekders!AX41)&\"                    \"&IF(Ekders!AX42=\"\",0,Ekders!AX42)","v":"0                    0                    0                    0                    0                    0"},{"$f":"IF(Ekders!AY37=\"\",0,Ekders!AY37)&\"                    \"&IF(Ekders!AY38=\"\",0,Ekders!AY38)&\"                    \"&IF(Ekders!AY39=\"\",0,Ekders!AY39)&\"                    \"&IF(Ekders!AY40=\"\",0,Ekders!AY40)&\"                    \"&IF(Ekders!AY41=\"\",0,Ekders!AY41)&\"                    \"&IF(Ekders!AY42=\"\",0,Ekders!AY42)","v":"0                    0                    0                    0                    0                    0"},{"$f":"Ekders!AY37+Ekders!AY38+Ekders!AY39+Ekders!AY40+Ekders!AY41+Ekders!AY42","v":0},0]
[{"$f":"Ekders!B43&\"                                                       \"&Ekders!B44&\"                                                       \"&Ekders!B45&\"                                                       \"&Ekders!B47&\"                                                       \"&Ekders!B48&\"                                                       \"&Ekders!B46","v":"                                                                                                                                                                                                                                                                                   "},null,{"$f":"Ekders!L43&\"                    \"&Ekders!L44&\"                    \"&Ekders!L45&\"                    \"&Ekders!L46&\"                    \"&Ekders!L47&\"                    \"&Ekders!L48","v":"Gündüz (Lisans)                    Gündüz (Y. Lisans)                    Gündüz (Doktora)                    Gece (Lisans)                    Gece (Y. Lisans)                    Gece (Doktora)"},null,null,null,null,{"$f":"IF(Ekders!P43=\"\",0,Ekders!P43)&\"                    \"&IF(Ekders!P44=\"\",0,Ekders!P44)&\"                    \"&IF(Ekders!P45=\"\",0,Ekders!P45)&\"                    \"&IF(Ekders!P46=\"\",0,Ekders!P46)&\"                    \"&IF(Ekders!P47=\"\",0,Ekders!P47)&\"                    \"&IF(Ekders!P48=\"\",0,Ekders!P48)","v":"0                    0                    0                    0                    0                    0"},{"$f":"IF(Ekders!Q43=\"\",0,Ekders!Q43)&\"                    \"&IF(Ekders!Q44=\"\",0,Ekders!Q44)&\"                    \"&IF(Ekders!Q45=\"\",0,Ekders!Q45)&\"                    \"&IF(Ekders!Q46=\"\",0,Ekders!Q46)&\"                    \"&IF(Ekders!Q47=\"\",0,Ekders!Q47)&\"                    \"&IF(Ekders!Q48=\"\",0,Ekders!Q48)","v":"0                    0                    0                    0                    0                    0"},{"$f":"IF(Ekders!R43=\"\",0,Ekders!R43)&\"                    \"&IF(Ekders!R44=\"\",0,Ekders!R44)&\"                    \"&IF(Ekders!R45=\"\",0,Ekders!R45)&\"                    \"&IF(Ekders!R46=\"\",0,Ekders!R46)&\"                    \"&IF(Ekders!R47=\"\",0,Ekders!R47)&\"                    \"&IF(Ekders!R48=\"\",0,Ekders!R48)","v":"0                    0                    0                    0                    0                    0"},{"$f":"IF(Ekders!S43=\"\",0,Ekders!S43)&\"                    \"&IF(Ekders!S44=\"\",0,Ekders!S44)&\"                    \"&IF(Ekders!S45=\"\",0,Ekders!S45)&\"                    \"&IF(Ekders!S46=\"\",0,Ekders!S46)&\"                    \"&IF(Ekders!S47=\"\",0,Ekders!S47)&\"                    \"&IF(Ekders!S48=\"\",0,Ekders!S48)","v":"0                    0                    0                    0                    0                    0"},{"$f":"IF(Ekders!T43=\"\",0,Ekders!T43)&\"                    \"&IF(Ekders!T44=\"\",0,Ekders!T44)&\"                    \"&IF(Ekders!T45=\"\",0,Ekders!T45)&\"                    \"&IF(Ekders!T46=\"\",0,Ekders!T46)&\"                    \"&IF(Ekders!T47=\"\",0,Ekders!T47)&\"                    \"&IF(Ekders!T48=\"\",0,Ekders!T48)","v":"0                    0                    0                    0                    0                    0"},{"$f":"IF(Ekders!U43=\"\",0,Ekders!U43)&\"                    \"&IF(Ekders!U44=\"\",0,Ekders!U44)&\"                    \"&IF(Ekders!U45=\"\",0,Ekders!U45)&\"                    \"&IF(Ekders!U46=\"\",0,Ekders!U46)&\"                    \"&IF(Ekders!U47=\"\",0,Ekders!U47)&\"                    \"&IF(Ekders!U48=\"\",0,Ekders!U48)","v":"0                    0                    0                    0                    0                    0"},{"$f":"IF(Ekders!V43=\"\",0,Ekders!V43)&\"                    \"&IF(Ekders!V44=\"\",0,Ekders!V44)&\"                    \"&IF(Ekders!V45=\"\",0,Ekders!V45)&\"                    \"&IF(Ekders!V46=\"\",0,Ekders!V46)&\"                    \"&IF(Ekders!V47=\"\",0,Ekders!V47)&\"                    \"&IF(Ekders!V48=\"\",0,Ekders!V48)","v":"0                    0                    0                    0                    0                    0"},{"$f":"IF(Ekders!W43=\"\",0,Ekders!W43)&\"                    \"&IF(Ekders!W44=\"\",0,Ekders!W44)&\"                    \"&IF(Ekders!W45=\"\",0,Ekders!W45)&\"                    \"&IF(Ekders!W46=\"\",0,Ekders!W46)&\"                    \"&IF(Ekders!W47=\"\",0,Ekders!W47)&\"                    \"&IF(Ekders!W48=\"\",0,Ekders!W48)","v":"0                    0                    0                    0                    0                    0"},{"$f":"IF(Ekders!X43=\"\",0,Ekders!X43)&\"                    \"&IF(Ekders!X44=\"\",0,Ekders!X44)&\"                    \"&IF(Ekders!X45=\"\",0,Ekders!X45)&\"                    \"&IF(Ekders!X46=\"\",0,Ekders!X46)&\"                    \"&IF(Ekders!X47=\"\",0,Ekders!X47)&\"                    \"&IF(Ekders!X48=\"\",0,Ekders!X48)","v":"0                    0                    0                    0                    0                    0"},{"$f":"IF(Ekders!Y43=\"\",0,Ekders!Y43)&\"                    \"&IF(Ekders!Y44=\"\",0,Ekders!Y44)&\"                    \"&IF(Ekders!Y45=\"\",0,Ekders!Y45)&\"                    \"&IF(Ekders!Y46=\"\",0,Ekders!Y46)&\"                    \"&IF(Ekders!Y47=\"\",0,Ekders!Y47)&\"                    \"&IF(Ekders!Y48=\"\",0,Ekders!Y48)","v":"0                    0                    0                    0                    0                    0"},{"$f":"IF(Ekders!Z43=\"\",0,Ekders!Z43)&\"                    \"&IF(Ekders!Z44=\"\",0,Ekders!Z44)&\"                    \"&IF(Ekders!Z45=\"\",0,Ekders!Z45)&\"                    \"&IF(Ekders!Z46=\"\",0,Ekders!Z46)&\"                    \"&IF(Ekders!Z47=\"\",0,Ekders!Z47)&\"                    \"&IF(Ekders!Z48=\"\",0,Ekders!Z48)","v":"0                    0                    0                    0                    0                    0"},{"$f":"IF(Ekders!AA43=\"\",0,Ekders!AA43)&\"                    \"&IF(Ekders!AA44=\"\",0,Ekders!AA44)&\"                    \"&IF(Ekders!AA45=\"\",0,Ekders!AA45)&\"                    \"&IF(Ekders!AA46=\"\",0,Ekders!AA46)&\"                    \"&IF(Ekders!AA47=\"\",0,Ekders!AA47)&\"                    \"&IF(Ekders!AA48=\"\",0,Ekders!AA48)","v":"0                    0                    0                    0                    0                    0"},{"$f":"IF(Ekders!AB43=\"\",0,Ekders!AB43)&\"                    \"&IF(Ekders!AB44=\"\",0,Ekders!AB44)&\"                    \"&IF(Ekders!AB45=\"\",0,Ekders!AB45)&\"                    \"&IF(Ekders!AB46=\"\",0,Ekders!AB46)&\"                    \"&IF(Ekders!AB47=\"\",0,Ekders!AB47)&\"                    \"&IF(Ekders!AB48=\"\",0,Ekders!AB48)","v":"0                    0                    0                    0                    0                    0"},{"$f":"IF(Ekders!AC43=\"\",0,Ekders!AC43)&\"                    \"&IF(Ekders!AC44=\"\",0,Ekders!AC44)&\"                    \"&IF(Ekders!AC45=\"\",0,Ekders!AC45)&\"                    \"&IF(Ekders!AC46=\"\",0,Ekders!AC46)&\"                    \"&IF(Ekders!AC47=\"\",0,Ekders!AC47)&\"                    \"&IF(Ekders!AC48=\"\",0,Ekders!AC48)","v":"0                    0                    0                    0                    0                    0"},{"$f":"IF(Ekders!AD43=\"\",0,Ekders!AD43)&\"                    \"&IF(Ekders!AD44=\"\",0,Ekders!AD44)&\"                    \"&IF(Ekders!AD45=\"\",0,Ekders!AD45)&\"                    \"&IF(Ekders!AD46=\"\",0,Ekders!AD46)&\"                    \"&IF(Ekders!AD47=\"\",0,Ekders!AD47)&\"                    \"&IF(Ekders!AD48=\"\",0,Ekders!AD48)","v":"0                    0                    0                    0                    0                    0"},{"$f":"IF(Ekders!AE43=\"\",0,Ekders!AE43)&\"                    \"&IF(Ekders!AE44=\"\",0,Ekders!AE44)&\"                    \"&IF(Ekders!AE45=\"\",0,Ekders!AE45)&\"                    \"&IF(Ekders!AE46=\"\",0,Ekders!AE46)&\"                    \"&IF(Ekders!AE47=\"\",0,Ekders!AE47)&\"                    \"&IF(Ekders!AE48=\"\",0,Ekders!AE48)","v":"0                    0                    0                    0                    0                    0"},{"$f":"IF(Ekders!AF43=\"\",0,Ekders!AF43)&\"                    \"&IF(Ekders!AF44=\"\",0,Ekders!AF44)&\"                    \"&IF(Ekders!AF45=\"\",0,Ekders!AF45)&\"                    \"&IF(Ekders!AF46=\"\",0,Ekders!AF46)&\"                    \"&IF(Ekders!AF47=\"\",0,Ekders!AF47)&\"                    \"&IF(Ekders!AF48=\"\",0,Ekders!AF48)","v":"0                    0                    0                    0                    0                    0"},{"$f":"IF(Ekders!AG43=\"\",0,Ekders!AG43)&\"                    \"&IF(Ekders!AG44=\"\",0,Ekders!AG44)&\"                    \"&IF(Ekders!AG45=\"\",0,Ekders!AG45)&\"                    \"&IF(Ekders!AG46=\"\",0,Ekders!AG46)&\"                    \"&IF(Ekders!AG47=\"\",0,Ekders!AG47)&\"                    \"&IF(Ekders!AG48=\"\",0,Ekders!AG48)","v":"0                    0                    0                    0                    0                    0"},{"$f":"IF(Ekders!AH43=\"\",0,Ekders!AH43)&\"                    \"&IF(Ekders!AH44=\"\",0,Ekders!AH44)&\"                    \"&IF(Ekders!AH45=\"\",0,Ekders!AH45)&\"                    \"&IF(Ekders!AH46=\"\",0,Ekders!AH46)&\"                    \"&IF(Ekders!AH47=\"\",0,Ekders!AH47)&\"                    \"&IF(Ekders!AH48=\"\",0,Ekders!AH48)","v":"0                    0                    0                    0                    0                    0"},{"$f":"IF(Ekders!AI43=\"\",0,Ekders!AI43)&\"                    \"&IF(Ekders!AI44=\"\",0,Ekders!AI44)&\"                    \"&IF(Ekders!AI45=\"\",0,Ekders!AI45)&\"                    \"&IF(Ekders!AI46=\"\",0,Ekders!AI46)&\"                    \"&IF(Ekders!AI47=\"\",0,Ekders!AI47)&\"                    \"&IF(Ekders!AI48=\"\",0,Ekders!AI48)","v":"0                    0                    0                    0                    0                    0"},{"$f":"IF(Ekders!AJ43=\"\",0,Ekders!AJ43)&\"                    \"&IF(Ekders!AJ44=\"\",0,Ekders!AJ44)&\"                    \"&IF(Ekders!AJ45=\"\",0,Ekders!AJ45)&\"                    \"&IF(Ekders!AJ46=\"\",0,Ekders!AJ46)&\"                    \"&IF(Ekders!AJ47=\"\",0,Ekders!AJ47)&\"                    \"&IF(Ekders!AJ48=\"\",0,Ekders!AJ48)","v":"0                    0                    0                    0                    0                    0"},{"$f":"IF(Ekders!AK43=\"\",0,Ekders!AK43)&\"                    \"&IF(Ekders!AK44=\"\",0,Ekders!AK44)&\"                    \"&IF(Ekders!AK45=\"\",0,Ekders!AK45)&\"                    \"&IF(Ekders!AK46=\"\",0,Ekders!AK46)&\"                    \"&IF(Ekders!AK47=\"\",0,Ekders!AK47)&\"                    \"&IF(Ekders!AK48=\"\",0,Ekders!AK48)","v":"0                    0                    0                    0                    0                    0"},{"$f":"IF(Ekders!AL43=\"\",0,Ekders!AL43)&\"                    \"&IF(Ekders!AL44=\"\",0,Ekders!AL44)&\"                    \"&IF(Ekders!AL45=\"\",0,Ekders!AL45)&\"                    \"&IF(Ekders!AL46=\"\",0,Ekders!AL46)&\"                    \"&IF(Ekders!AL47=\"\",0,Ekders!AL47)&\"                    \"&IF(Ekders!AL48=\"\",0,Ekders!AL48)","v":"0                    0                    0                    0                    0                    0"},{"$f":"IF(Ekders!AM43=\"\",0,Ekders!AM43)&\"                    \"&IF(Ekders!AM44=\"\",0,Ekders!AM44)&\"                    \"&IF(Ekders!AM45=\"\",0,Ekders!AM45)&\"                    \"&IF(Ekders!AM46=\"\",0,Ekders!AM46)&\"                    \"&IF(Ekders!AM47=\"\",0,Ekders!AM47)&\"                    \"&IF(Ekders!AM48=\"\",0,Ekders!AM48)","v":"0                    0                    0                    0                    0                    0"},{"$f":"IF(Ekders!AN43=\"\",0,Ekders!AN43)&\"                    \"&IF(Ekders!AN44=\"\",0,Ekders!AN44)&\"                    \"&IF(Ekders!AN45=\"\",0,Ekders!AN45)&\"                    \"&IF(Ekders!AN46=\"\",0,Ekders!AN46)&\"                    \"&IF(Ekders!AN47=\"\",0,Ekders!AN47)&\"                    \"&IF(Ekders!AN48=\"\",0,Ekders!AN48)","v":"0                    0                    0                    0                    0                    0"},{"$f":"IF(Ekders!AO43=\"\",0,Ekders!AO43)&\"                    \"&IF(Ekders!AO44=\"\",0,Ekders!AO44)&\"                    \"&IF(Ekders!AO45=\"\",0,Ekders!AO45)&\"                    \"&IF(Ekders!AO46=\"\",0,Ekders!AO46)&\"                    \"&IF(Ekders!AO47=\"\",0,Ekders!AO47)&\"                    \"&IF(Ekders!AO48=\"\",0,Ekders!AO48)","v":"0                    0                    0                    0                    0                    0"},{"$f":"IF(Ekders!AP43=\"\",0,Ekders!AP43)&\"                    \"&IF(Ekders!AP44=\"\",0,Ekders!AP44)&\"                    \"&IF(Ekders!AP45=\"\",0,Ekders!AP45)&\"                    \"&IF(Ekders!AP46=\"\",0,Ekders!AP46)&\"                    \"&IF(Ekders!AP47=\"\",0,Ekders!AP47)&\"                    \"&IF(Ekders!AP48=\"\",0,Ekders!AP48)","v":"0                    0                    0                    0                    0                    0"},{"$f":"IF(Ekders!AQ43=\"\",0,Ekders!AQ43)&\"                    \"&IF(Ekders!AQ44=\"\",0,Ekders!AQ44)&\"                    \"&IF(Ekders!AQ45=\"\",0,Ekders!AQ45)&\"                    \"&IF(Ekders!AQ46=\"\",0,Ekders!AQ46)&\"                    \"&IF(Ekders!AQ47=\"\",0,Ekders!AQ47)&\"                    \"&IF(Ekders!AQ48=\"\",0,Ekders!AQ48)","v":"0                    0                    0                    0                    0                    0"},{"$f":"IF(Ekders!AR43=\"\",0,Ekders!AR43)&\"                    \"&IF(Ekders!AR44=\"\",0,Ekders!AR44)&\"                    \"&IF(Ekders!AR45=\"\",0,Ekders!AR45)&\"                    \"&IF(Ekders!AR46=\"\",0,Ekders!AR46)&\"                    \"&IF(Ekders!AR47=\"\",0,Ekders!AR47)&\"                    \"&IF(Ekders!AR48=\"\",0,Ekders!AR48)","v":"0                    0                    0                    0                    0                    0"},{"$f":"IF(Ekders!AS43=\"\",0,Ekders!AS43)&\"                    \"&IF(Ekders!AS44=\"\",0,Ekders!AS44)&\"                    \"&IF(Ekders!AS45=\"\",0,Ekders!AS45)&\"                    \"&IF(Ekders!AS46=\"\",0,Ekders!AS46)&\"                    \"&IF(Ekders!AS47=\"\",0,Ekders!AS47)&\"                    \"&IF(Ekders!AS48=\"\",0,Ekders!AS48)","v":"0                    0                    0                    0                    0                    0"},{"$f":"IF(Ekders!AT43=\"\",0,Ekders!AT43)&\"                    \"&IF(Ekders!AT44=\"\",0,Ekders!AT44)&\"                    \"&IF(Ekders!AT45=\"\",0,Ekders!AT45)&\"                    \"&IF(Ekders!AT46=\"\",0,Ekders!AT46)&\"                    \"&IF(Ekders!AT47=\"\",0,Ekders!AT47)&\"                    \"&IF(Ekders!AT48=\"\",0,Ekders!AT48)","v":"0                    0                    0                    0                    0                    0"},{"$f":"IF(Ekders!AU43=\"\",0,Ekders!AU43)&\"                    \"&IF(Ekders!AU44=\"\",0,Ekders!AU44)&\"                    \"&IF(Ekders!AU45=\"\",0,Ekders!AU45)&\"                    \"&IF(Ekders!AU46=\"\",0,Ekders!AU46)&\"                    \"&IF(Ekders!AU47=\"\",0,Ekders!AU47)&\"                    \"&IF(Ekders!AU48=\"\",0,Ekders!AU48)","v":"0                    0                    0                    0                    0                    0"},{"$f":"IF(Ekders!AV43=\"\",0,Ekders!AV43)&\"                    \"&IF(Ekders!AV44=\"\",0,Ekders!AV44)&\"                    \"&IF(Ekders!AV45=\"\",0,Ekders!AV45)&\"                    \"&IF(Ekders!AV46=\"\",0,Ekders!AV46)&\"                    \"&IF(Ekders!AV47=\"\",0,Ekders!AV47)&\"                    \"&IF(Ekders!AV48=\"\",0,Ekders!AV48)","v":"0                    0                    0                    0                    0                    0"},{"$f":"IF(Ekders!AW43=\"\",0,Ekders!AW43)&\"                    \"&IF(Ekders!AW44=\"\",0,Ekders!AW44)&\"                    \"&IF(Ekders!AW45=\"\",0,Ekders!AW45)&\"                    \"&IF(Ekders!AW46=\"\",0,Ekders!AW46)&\"                    \"&IF(Ekders!AW47=\"\",0,Ekders!AW47)&\"                    \"&IF(Ekders!AW48=\"\",0,Ekders!AW48)","v":"0                    0                    0                    0                    0                    0"},{"$f":"IF(Ekders!AX43=\"\",0,Ekders!AX43)&\"                    \"&IF(Ekders!AX44=\"\",0,Ekders!AX44)&\"                    \"&IF(Ekders!AX45=\"\",0,Ekders!AX45)&\"                    \"&IF(Ekders!AX46=\"\",0,Ekders!AX46)&\"                    \"&IF(Ekders!AX47=\"\",0,Ekders!AX47)&\"                    \"&IF(Ekders!AX48=\"\",0,Ekders!AX48)","v":"0                    0                    0                    0                    0                    0"},{"$f":"IF(Ekders!AY43=\"\",0,Ekders!AY43)&\"                    \"&IF(Ekders!AY44=\"\",0,Ekders!AY44)&\"                    \"&IF(Ekders!AY45=\"\",0,Ekders!AY45)&\"                    \"&IF(Ekders!AY46=\"\",0,Ekders!AY46)&\"                    \"&IF(Ekders!AY47=\"\",0,Ekders!AY47)&\"                    \"&IF(Ekders!AY48=\"\",0,Ekders!AY48)","v":"0                    0                    0                    0                    0                    0"},{"$f":"Ekders!AY43+Ekders!AY44+Ekders!AY45+Ekders!AY46+Ekders!AY47+Ekders!AY48","v":0},0]
[{"$f":"Ekders!B49&\"                                                       \"&Ekders!B50&\"                                                       \"&Ekders!B51&\"                                                       \"&Ekders!B53&\"                                                       \"&Ekders!B54&\"                                                       \"&Ekders!B52","v":"                                                                                                                                                                                                                                                                                   "},null,{"$f":"Ekders!L49&\"                    \"&Ekders!L50&\"                    \"&Ekders!L51&\"                    \"&Ekders!L52&\"                    \"&Ekders!L53&\"                    \"&Ekders!L54","v":"Gündüz (Lisans)                    Gündüz (Y. Lisans)                    Gündüz (Doktora)                    Gece (Lisans)                    Gece (Y. Lisans)                    Gece (Doktora)"},null,null,null,null,{"$f":"IF(Ekders!P49=\"\",0,Ekders!P49)&\"                    \"&IF(Ekders!P50=\"\",0,Ekders!P50)&\"                    \"&IF(Ekders!P51=\"\",0,Ekders!P51)&\"                    \"&IF(Ekders!P52=\"\",0,Ekders!P52)&\"                    \"&IF(Ekders!P53=\"\",0,Ekders!P53)&\"                    \"&IF(Ekders!P54=\"\",0,Ekders!P54)","v":"0                    0                    0                    0                    0                    0"},{"$f":"IF(Ekders!Q49=\"\",0,Ekders!Q49)&\"                    \"&IF(Ekders!Q50=\"\",0,Ekders!Q50)&\"                    \"&IF(Ekders!Q51=\"\",0,Ekders!Q51)&\"                    \"&IF(Ekders!Q52=\"\",0,Ekders!Q52)&\"                    \"&IF(Ekders!Q53=\"\",0,Ekders!Q53)&\"                    \"&IF(Ekders!Q54=\"\",0,Ekders!Q54)","v":"0                    0                    0                    0                    0                    0"},{"$f":"IF(Ekders!R49=\"\",0,Ekders!R49)&\"                    \"&IF(Ekders!R50=\"\",0,Ekders!R50)&\"                    \"&IF(Ekders!R51=\"\",0,Ekders!R51)&\"                    \"&IF(Ekders!R52=\"\",0,Ekders!R52)&\"                    \"&IF(Ekders!R53=\"\",0,Ekders!R53)&\"                    \"&IF(Ekders!R54=\"\",0,Ekders!R54)","v":"0                    0                    0                    0                    0                    0"},{"$f":"IF(Ekders!S49=\"\",0,Ekders!S49)&\"                    \"&IF(Ekders!S50=\"\",0,Ekders!S50)&\"                    \"&IF(Ekders!S51=\"\",0,Ekders!S51)&\"                    \"&IF(Ekders!S52=\"\",0,Ekders!S52)&\"                    \"&IF(Ekders!S53=\"\",0,Ekders!S53)&\"                    \"&IF(Ekders!S54=\"\",0,Ekders!S54)","v":"0                    0                    0                    0                    0                    0"},{"$f":"IF(Ekders!T49=\"\",0,Ekders!T49)&\"                    \"&IF(Ekders!T50=\"\",0,Ekders!T50)&\"                    \"&IF(Ekders!T51=\"\",0,Ekders!T51)&\"                    \"&IF(Ekders!T52=\"\",0,Ekders!T52)&\"                    \"&IF(Ekders!T53=\"\",0,Ekders!T53)&\"                    \"&IF(Ekders!T54=\"\",0,Ekders!T54)","v":"0                    0                    0                    0                    0                    0"},{"$f":"IF(Ekders!U49=\"\",0,Ekders!U49)&\"                    \"&IF(Ekders!U50=\"\",0,Ekders!U50)&\"                    \"&IF(Ekders!U51=\"\",0,Ekders!U51)&\"                    \"&IF(Ekders!U52=\"\",0,Ekders!U52)&\"                    \"&IF(Ekders!U53=\"\",0,Ekders!U53)&\"                    \"&IF(Ekders!U54=\"\",0,Ekders!U54)","v":"0                    0                    0                    0                    0                    0"},{"$f":"IF(Ekders!V49=\"\",0,Ekders!V49)&\"                    \"&IF(Ekders!V50=\"\",0,Ekders!V50)&\"                    \"&IF(Ekders!V51=\"\",0,Ekders!V51)&\"                    \"&IF(Ekders!V52=\"\",0,Ekders!V52)&\"                    \"&IF(Ekders!V53=\"\",0,Ekders!V53)&\"                    \"&IF(Ekders!V54=\"\",0,Ekders!V54)","v":"0                    0                    0                    0                    0                    0"},{"$f":"IF(Ekders!W49=\"\",0,Ekders!W49)&\"                    \"&IF(Ekders!W50=\"\",0,Ekders!W50)&\"                    \"&IF(Ekders!W51=\"\",0,Ekders!W51)&\"                    \"&IF(Ekders!W52=\"\",0,Ekders!W52)&\"                    \"&IF(Ekders!W53=\"\",0,Ekders!W53)&\"                    \"&IF(Ekders!W54=\"\",0,Ekders!W54)","v":"0                    0                    0                    0                    0                    0"},{"$f":"IF(Ekders!X49=\"\",0,Ekders!X49)&\"                    \"&IF(Ekders!X50=\"\",0,Ekders!X50)&\"                    \"&IF(Ekders!X51=\"\",0,Ekders!X51)&\"                    \"&IF(Ekders!X52=\"\",0,Ekders!X52)&\"                    \"&IF(Ekders!X53=\"\",0,Ekders!X53)&\"                    \"&IF(Ekders!X54=\"\",0,Ekders!X54)","v":"0                    0                    0                    0                    0                    0"},{"$f":"IF(Ekders!Y49=\"\",0,Ekders!Y49)&\"                    \"&IF(Ekders!Y50=\"\",0,Ekders!Y50)&\"                    \"&IF(Ekders!Y51=\"\",0,Ekders!Y51)&\"                    \"&IF(Ekders!Y52=\"\",0,Ekders!Y52)&\"                    \"&IF(Ekders!Y53=\"\",0,Ekders!Y53)&\"                    \"&IF(Ekders!Y54=\"\",0,Ekders!Y54)","v":"0                    0                    0                    0                    0                    0"},{"$f":"IF(Ekders!Z49=\"\",0,Ekders!Z49)&\"                    \"&IF(Ekders!Z50=\"\",0,Ekders!Z50)&\"                    \"&IF(Ekders!Z51=\"\",0,Ekders!Z51)&\"                    \"&IF(Ekders!Z52=\"\",0,Ekders!Z52)&\"                    \"&IF(Ekders!Z53=\"\",0,Ekders!Z53)&\"                    \"&IF(Ekders!Z54=\"\",0,Ekders!Z54)","v":"0                    0                    0                    0                    0                    0"},{"$f":"IF(Ekders!AA49=\"\",0,Ekders!AA49)&\"                    \"&IF(Ekders!AA50=\"\",0,Ekders!AA50)&\"                    \"&IF(Ekders!AA51=\"\",0,Ekders!AA51)&\"                    \"&IF(Ekders!AA52=\"\",0,Ekders!AA52)&\"                    \"&IF(Ekders!AA53=\"\",0,Ekders!AA53)&\"                    \"&IF(Ekders!AA54=\"\",0,Ekders!AA54)","v":"0                    0                    0                    0                    0                    0"},{"$f":"IF(Ekders!AB49=\"\",0,Ekders!AB49)&\"                    \"&IF(Ekders!AB50=\"\",0,Ekders!AB50)&\"                    \"&IF(Ekders!AB51=\"\",0,Ekders!AB51)&\"                    \"&IF(Ekders!AB52=\"\",0,Ekders!AB52)&\"                    \"&IF(Ekders!AB53=\"\",0,Ekders!AB53)&\"                    \"&IF(Ekders!AB54=\"\",0,Ekders!AB54)","v":"0                    0                    0                    0                    0                    0"},{"$f":"IF(Ekders!AC49=\"\",0,Ekders!AC49)&\"                    \"&IF(Ekders!AC50=\"\",0,Ekders!AC50)&\"                    \"&IF(Ekders!AC51=\"\",0,Ekders!AC51)&\"                    \"&IF(Ekders!AC52=\"\",0,Ekders!AC52)&\"                    \"&IF(Ekders!AC53=\"\",0,Ekders!AC53)&\"                    \"&IF(Ekders!AC54=\"\",0,Ekders!AC54)","v":"0                    0                    0                    0                    0                    0"},{"$f":"IF(Ekders!AD49=\"\",0,Ekders!AD49)&\"                    \"&IF(Ekders!AD50=\"\",0,Ekders!AD50)&\"                    \"&IF(Ekders!AD51=\"\",0,Ekders!AD51)&\"                    \"&IF(Ekders!AD52=\"\",0,Ekders!AD52)&\"                    \"&IF(Ekders!AD53=\"\",0,Ekders!AD53)&\"                    \"&IF(Ekders!AD54=\"\",0,Ekders!AD54)","v":"0                    0                    0                    0                    0                    0"},{"$f":"IF(Ekders!AE49=\"\",0,Ekders!AE49)&\"                    \"&IF(Ekders!AE50=\"\",0,Ekders!AE50)&\"                    \"&IF(Ekders!AE51=\"\",0,Ekders!AE51)&\"                    \"&IF(Ekders!AE52=\"\",0,Ekders!AE52)&\"                    \"&IF(Ekders!AE53=\"\",0,Ekders!AE53)&\"                    \"&IF(Ekders!AE54=\"\",0,Ekders!AE54)","v":"0                    0                    0                    0                    0                    0"},{"$f":"IF(Ekders!AF49=\"\",0,Ekders!AF49)&\"                    \"&IF(Ekders!AF50=\"\",0,Ekders!AF50)&\"                    \"&IF(Ekders!AF51=\"\",0,Ekders!AF51)&\"                    \"&IF(Ekders!AF52=\"\",0,Ekders!AF52)&\"                    \"&IF(Ekders!AF53=\"\",0,Ekders!AF53)&\"                    \"&IF(Ekders!AF54=\"\",0,Ekders!AF54)","v":"0                    0                    0                    0                    0                    0"},{"$f":"IF(Ekders!AG49=\"\",0,Ekders!AG49)&\"                    \"&IF(Ekders!AG50=\"\",0,Ekders!AG50)&\"                    \"&IF(Ekders!AG51=\"\",0,Ekders!AG51)&\"                    \"&IF(Ekders!AG52=\"\",0,Ekders!AG52)&\"                    \"&IF(Ekders!AG53=\"\",0,Ekders!AG53)&\"                    \"&IF(Ekders!AG54=\"\",0,Ekders!AG54)","v":"0                    0                    0                    0                    0                    0"},{"$f":"IF(Ekders!AH49=\"\",0,Ekders!AH49)&\"                    \"&IF(Ekders!AH50=\"\",0,Ekders!AH50)&\"                    \"&IF(Ekders!AH51=\"\",0,Ekders!AH51)&\"                    \"&IF(Ekders!AH52=\"\",0,Ekders!AH52)&\"                    \"&IF(Ekders!AH53=\"\",0,Ekders!AH53)&\"                    \"&IF(Ekders!AH54=\"\",0,Ekders!AH54)","v":"0                    0                    0                    0                    0                    0"},{"$f":"IF(Ekders!AI49=\"\",0,Ekders!AI49)&\"                    \"&IF(Ekders!AI50=\"\",0,Ekders!AI50)&\"                    \"&IF(Ekders!AI51=\"\",0,Ekders!AI51)&\"                    \"&IF(Ekders!AI52=\"\",0,Ekders!AI52)&\"                    \"&IF(Ekders!AI53=\"\",0,Ekders!AI53)&\"                    \"&IF(Ekders!AI54=\"\",0,Ekders!AI54)","v":"0                    0                    0                    0                    0                    0"},{"$f":"IF(Ekders!AJ49=\"\",0,Ekders!AJ49)&\"                    \"&IF(Ekders!AJ50=\"\",0,Ekders!AJ50)&\"                    \"&IF(Ekders!AJ51=\"\",0,Ekders!AJ51)&\"                    \"&IF(Ekders!AJ52=\"\",0,Ekders!AJ52)&\"                    \"&IF(Ekders!AJ53=\"\",0,Ekders!AJ53)&\"                    \"&IF(Ekders!AJ54=\"\",0,Ekders!AJ54)","v":"0                    0                    0                    0                    0                    0"},{"$f":"IF(Ekders!AK49=\"\",0,Ekders!AK49)&\"                    \"&IF(Ekders!AK50=\"\",0,Ekders!AK50)&\"                    \"&IF(Ekders!AK51=\"\",0,Ekders!AK51)&\"                    \"&IF(Ekders!AK52=\"\",0,Ekders!AK52)&\"                    \"&IF(Ekders!AK53=\"\",0,Ekders!AK53)&\"                    \"&IF(Ekders!AK54=\"\",0,Ekders!AK54)","v":"0                    0                    0                    0                    0                    0"},{"$f":"IF(Ekders!AL49=\"\",0,Ekders!AL49)&\"                    \"&IF(Ekders!AL50=\"\",0,Ekders!AL50)&\"                    \"&IF(Ekders!AL51=\"\",0,Ekders!AL51)&\"                    \"&IF(Ekders!AL52=\"\",0,Ekders!AL52)&\"                    \"&IF(Ekders!AL53=\"\",0,Ekders!AL53)&\"                    \"&IF(Ekders!AL54=\"\",0,Ekders!AL54)","v":"0                    0                    0                    0                    0                    0"},{"$f":"IF(Ekders!AM49=\"\",0,Ekders!AM49)&\"                    \"&IF(Ekders!AM50=\"\",0,Ekders!AM50)&\"                    \"&IF(Ekders!AM51=\"\",0,Ekders!AM51)&\"                    \"&IF(Ekders!AM52=\"\",0,Ekders!AM52)&\"                    \"&IF(Ekders!AM53=\"\",0,Ekders!AM53)&\"                    \"&IF(Ekders!AM54=\"\",0,Ekders!AM54)","v":"0                    0                    0                    0                    0                    0"},{"$f":"IF(Ekders!AN49=\"\",0,Ekders!AN49)&\"                    \"&IF(Ekders!AN50=\"\",0,Ekders!AN50)&\"                    \"&IF(Ekders!AN51=\"\",0,Ekders!AN51)&\"                    \"&IF(Ekders!AN52=\"\",0,Ekders!AN52)&\"                    \"&IF(Ekders!AN53=\"\",0,Ekders!AN53)&\"                    \"&IF(Ekders!AN54=\"\",0,Ekders!AN54)","v":"0                    0                    0                    0                    0                    0"},{"$f":"IF(Ekders!AO49=\"\",0,Ekders!AO49)&\"                    \"&IF(Ekders!AO50=\"\",0,Ekders!AO50)&\"                    \"&IF(Ekders!AO51=\"\",0,Ekders!AO51)&\"                    \"&IF(Ekders!AO52=\"\",0,Ekders!AO52)&\"                    \"&IF(Ekders!AO53=\"\",0,Ekders!AO53)&\"                    \"&IF(Ekders!AO54=\"\",0,Ekders!AO54)","v":"0                    0                    0                    0                    0                    0"},{"$f":"IF(Ekders!AP49=\"\",0,Ekders!AP49)&\"                    \"&IF(Ekders!AP50=\"\",0,Ekders!AP50)&\"                    \"&IF(Ekders!AP51=\"\",0,Ekders!AP51)&\"                    \"&IF(Ekders!AP52=\"\",0,Ekders!AP52)&\"                    \"&IF(Ekders!AP53=\"\",0,Ekders!AP53)&\"                    \"&IF(Ekders!AP54=\"\",0,Ekders!AP54)","v":"0                    0                    0                    0                    0                    0"},{"$f":"IF(Ekders!AQ49=\"\",0,Ekders!AQ49)&\"                    \"&IF(Ekders!AQ50=\"\",0,Ekders!AQ50)&\"                    \"&IF(Ekders!AQ51=\"\",0,Ekders!AQ51)&\"                    \"&IF(Ekders!AQ52=\"\",0,Ekders!AQ52)&\"                    \"&IF(Ekders!AQ53=\"\",0,Ekders!AQ53)&\"                    \"&IF(Ekders!AQ54=\"\",0,Ekders!AQ54)","v":"0                    0                    0                    0                    0                    0"},{"$f":"IF(Ekders!AR49=\"\",0,Ekders!AR49)&\"                    \"&IF(Ekders!AR50=\"\",0,Ekders!AR50)&\"                    \"&IF(Ekders!AR51=\"\",0,Ekders!AR51)&\"                    \"&IF(Ekders!AR52=\"\",0,Ekders!AR52)&\"                    \"&IF(Ekders!AR53=\"\",0,Ekders!AR53)&\"                    \"&IF(Ekders!AR54=\"\",0,Ekders!AR54)","v":"0                    0                    0                    0                    0                    0"},{"$f":"IF(Ekders!AS49=\"\",0,Ekders!AS49)&\"                    \"&IF(Ekders!AS50=\"\",0,Ekders!AS50)&\"                    \"&IF(Ekders!AS51=\"\",0,Ekders!AS51)&\"                    \"&IF(Ekders!AS52=\"\",0,Ekders!AS52)&\"                    \"&IF(Ekders!AS53=\"\",0,Ekders!AS53)&\"                    \"&IF(Ekders!AS54=\"\",0,Ekders!AS54)","v":"0                    0                    0                    0                    0                    0"},{"$f":"IF(Ekders!AT49=\"\",0,Ekders!AT49)&\"                    \"&IF(Ekders!AT50=\"\",0,Ekders!AT50)&\"                    \"&IF(Ekders!AT51=\"\",0,Ekders!AT51)&\"                    \"&IF(Ekders!AT52=\"\",0,Ekders!AT52)&\"                    \"&IF(Ekders!AT53=\"\",0,Ekders!AT53)&\"                    \"&IF(Ekders!AT54=\"\",0,Ekders!AT54)","v":"0                    0                    0                    0                    0                    0"},{"$f":"IF(Ekders!AU49=\"\",0,Ekders!AU49)&\"                    \"&IF(Ekders!AU50=\"\",0,Ekders!AU50)&\"                    \"&IF(Ekders!AU51=\"\",0,Ekders!AU51)&\"                    \"&IF(Ekders!AU52=\"\",0,Ekders!AU52)&\"                    \"&IF(Ekders!AU53=\"\",0,Ekders!AU53)&\"                    \"&IF(Ekders!AU54=\"\",0,Ekders!AU54)","v":"0                    0                    0                    0                    0                    0"},{"$f":"IF(Ekders!AV49=\"\",0,Ekders!AV49)&\"                    \"&IF(Ekders!AV50=\"\",0,Ekders!AV50)&\"                    \"&IF(Ekders!AV51=\"\",0,Ekders!AV51)&\"                    \"&IF(Ekders!AV52=\"\",0,Ekders!AV52)&\"                    \"&IF(Ekders!AV53=\"\",0,Ekders!AV53)&\"                    \"&IF(Ekders!AV54=\"\",0,Ekders!AV54)","v":"0                    0                    0                    0                    0                    0"},{"$f":"IF(Ekders!AW49=\"\",0,Ekders!AW49)&\"                    \"&IF(Ekders!AW50=\"\",0,Ekders!AW50)&\"                    \"&IF(Ekders!AW51=\"\",0,Ekders!AW51)&\"                    \"&IF(Ekders!AW52=\"\",0,Ekders!AW52)&\"                    \"&IF(Ekders!AW53=\"\",0,Ekders!AW53)&\"                    \"&IF(Ekders!AW54=\"\",0,Ekders!AW54)","v":"0                    0                    0                    0                    0                    0"},{"$f":"IF(Ekders!AX49=\"\",0,Ekders!AX49)&\"                    \"&IF(Ekders!AX50=\"\",0,Ekders!AX50)&\"                    \"&IF(Ekders!AX51=\"\",0,Ekders!AX51)&\"                    \"&IF(Ekders!AX52=\"\",0,Ekders!AX52)&\"                    \"&IF(Ekders!AX53=\"\",0,Ekders!AX53)&\"                    \"&IF(Ekders!AX54=\"\",0,Ekders!AX54)","v":"0                    0                    0                    0                    0                    0"},{"$f":"IF(Ekders!AY49=\"\",0,Ekders!AY49)&\"                    \"&IF(Ekders!AY50=\"\",0,Ekders!AY50)&\"                    \"&IF(Ekders!AY51=\"\",0,Ekders!AY51)&\"                    \"&IF(Ekders!AY52=\"\",0,Ekders!AY52)&\"                    \"&IF(Ekders!AY53=\"\",0,Ekders!AY53)&\"                    \"&IF(Ekders!AY54=\"\",0,Ekders!AY54)","v":"0                    0                    0                    0                    0                    0"},{"$f":"Ekders!AY49+Ekders!AY50+Ekders!AY51+Ekders!AY52+Ekders!AY53+Ekders!AY54","v":0},0]
[{"$f":"Ekders!B55&\"                                                       \"&Ekders!B56&\"                                                       \"&Ekders!B57&\"                                                       \"&Ekders!B59&\"                                                       \"&Ekders!B60&\"                                                       \"&Ekders!B58","v":"                                                                                                                                                                                                                                                                                   "},null,{"$f":"Ekders!L55&\"                    \"&Ekders!L56&\"                    \"&Ekders!L57&\"                    \"&Ekders!L58&\"                    \"&Ekders!L59&\"                    \"&Ekders!L60","v":"Gündüz (Lisans)                    Gündüz (Y. Lisans)                    Gündüz (Doktora)                    Gece (Lisans)                    Gece (Y. Lisans)                    Gece (Doktora)"},null,null,null,null,{"$f":"IF(Ekders!P55=\"\",0,Ekders!P55)&\"                    \"&IF(Ekders!P56=\"\",0,Ekders!P56)&\"                    \"&IF(Ekders!P57=\"\",0,Ekders!P57)&\"                    \"&IF(Ekders!P58=\"\",0,Ekders!P58)&\"                    \"&IF(Ekders!P59=\"\",0,Ekders!P59)&\"                    \"&IF(Ekders!P60=\"\",0,Ekders!P60)","v":"0                    0                    0                    0                    0                    0"},{"$f":"IF(Ekders!Q55=\"\",0,Ekders!Q55)&\"                    \"&IF(Ekders!Q56=\"\",0,Ekders!Q56)&\"                    \"&IF(Ekders!Q57=\"\",0,Ekders!Q57)&\"                    \"&IF(Ekders!Q58=\"\",0,Ekders!Q58)&\"                    \"&IF(Ekders!Q59=\"\",0,Ekders!Q59)&\"                    \"&IF(Ekders!Q60=\"\",0,Ekders!Q60)","v":"0                    0                    0                    0                    0                    0"},{"$f":"IF(Ekders!R55=\"\",0,Ekders!R55)&\"                    \"&IF(Ekders!R56=\"\",0,Ekders!R56)&\"                    \"&IF(Ekders!R57=\"\",0,Ekders!R57)&\"                    \"&IF(Ekders!R58=\"\",0,Ekders!R58)&\"                    \"&IF(Ekders!R59=\"\",0,Ekders!R59)&\"                    \"&IF(Ekders!R60=\"\",0,Ekders!R60)","v":"0                    0                    0                    0                    0                    0"},{"$f":"IF(Ekders!S55=\"\",0,Ekders!S55)&\"                    \"&IF(Ekders!S56=\"\",0,Ekders!S56)&\"                    \"&IF(Ekders!S57=\"\",0,Ekders!S57)&\"                    \"&IF(Ekders!S58=\"\",0,Ekders!S58)&\"                    \"&IF(Ekders!S59=\"\",0,Ekders!S59)&\"                    \"&IF(Ekders!S60=\"\",0,Ekders!S60)","v":"0                    0                    0                    0                    0                    0"},{"$f":"IF(Ekders!T55=\"\",0,Ekders!T55)&\"                    \"&IF(Ekders!T56=\"\",0,Ekders!T56)&\"                    \"&IF(Ekders!T57=\"\",0,Ekders!T57)&\"                    \"&IF(Ekders!T58=\"\",0,Ekders!T58)&\"                    \"&IF(Ekders!T59=\"\",0,Ekders!T59)&\"                    \"&IF(Ekders!T60=\"\",0,Ekders!T60)","v":"0                    0                    0                    0                    0                    0"},{"$f":"IF(Ekders!U55=\"\",0,Ekders!U55)&\"                    \"&IF(Ekders!U56=\"\",0,Ekders!U56)&\"                    \"&IF(Ekders!U57=\"\",0,Ekders!U57)&\"                    \"&IF(Ekders!U58=\"\",0,Ekders!U58)&\"                    \"&IF(Ekders!U59=\"\",0,Ekders!U59)&\"                    \"&IF(Ekders!U60=\"\",0,Ekders!U60)","v":"0                    0                    0                    0                    0                    0"},{"$f":"IF(Ekders!V55=\"\",0,Ekders!V55)&\"                    \"&IF(Ekders!V56=\"\",0,Ekders!V56)&\"                    \"&IF(Ekders!V57=\"\",0,Ekders!V57)&\"                    \"&IF(Ekders!V58=\"\",0,Ekders!V58)&\"                    \"&IF(Ekders!V59=\"\",0,Ekders!V59)&\"                    \"&IF(Ekders!V60=\"\",0,Ekders!V60)","v":"0                    0                    0                    0                    0                    0"},{"$f":"IF(Ekders!W55=\"\",0,Ekders!W55)&\"                    \"&IF(Ekders!W56=\"\",0,Ekders!W56)&\"                    \"&IF(Ekders!W57=\"\",0,Ekders!W57)&\"                    \"&IF(Ekders!W58=\"\",0,Ekders!W58)&\"                    \"&IF(Ekders!W59=\"\",0,Ekders!W59)&\"                    \"&IF(Ekders!W60=\"\",0,Ekders!W60)","v":"0                    0                    0                    0                    0                    0"},{"$f":"IF(Ekders!X55=\"\",0,Ekders!X55)&\"                    \"&IF(Ekders!X56=\"\",0,Ekders!X56)&\"                    \"&IF(Ekders!X57=\"\",0,Ekders!X57)&\"                    \"&IF(Ekders!X58=\"\",0,Ekders!X58)&\"                    \"&IF(Ekders!X59=\"\",0,Ekders!X59)&\"                    \"&IF(Ekders!X60=\"\",0,Ekders!X60)","v":"0                    0                    0                    0                    0                    0"},{"$f":"IF(Ekders!Y55=\"\",0,Ekders!Y55)&\"                    \"&IF(Ekders!Y56=\"\",0,Ekders!Y56)&\"                    \"&IF(Ekders!Y57=\"\",0,Ekders!Y57)&\"                    \"&IF(Ekders!Y58=\"\",0,Ekders!Y58)&\"                    \"&IF(Ekders!Y59=\"\",0,Ekders!Y59)&\"                    \"&IF(Ekders!Y60=\"\",0,Ekders!Y60)","v":"0                    0                    0                    0                    0                    0"},{"$f":"IF(Ekders!Z55=\"\",0,Ekders!Z55)&\"                    \"&IF(Ekders!Z56=\"\",0,Ekders!Z56)&\"                    \"&IF(Ekders!Z57=\"\",0,Ekders!Z57)&\"                    \"&IF(Ekders!Z58=\"\",0,Ekders!Z58)&\"                    \"&IF(Ekders!Z59=\"\",0,Ekders!Z59)&\"                    \"&IF(Ekders!Z60=\"\",0,Ekders!Z60)","v":"0                    0                    0                    0                    0                    0"},{"$f":"IF(Ekders!AA55=\"\",0,Ekders!AA55)&\"                    \"&IF(Ekders!AA56=\"\",0,Ekders!AA56)&\"                    \"&IF(Ekders!AA57=\"\",0,Ekders!AA57)&\"                    \"&IF(Ekders!AA58=\"\",0,Ekders!AA58)&\"                    \"&IF(Ekders!AA59=\"\",0,Ekders!AA59)&\"                    \"&IF(Ekders!AA60=\"\",0,Ekders!AA60)","v":"0                    0                    0                    0                    0                    0"},{"$f":"IF(Ekders!AB55=\"\",0,Ekders!AB55)&\"                    \"&IF(Ekders!AB56=\"\",0,Ekders!AB56)&\"                    \"&IF(Ekders!AB57=\"\",0,Ekders!AB57)&\"                    \"&IF(Ekders!AB58=\"\",0,Ekders!AB58)&\"                    \"&IF(Ekders!AB59=\"\",0,Ekders!AB59)&\"                    \"&IF(Ekders!AB60=\"\",0,Ekders!AB60)","v":"0                    0                    0                    0                    0                    0"},{"$f":"IF(Ekders!AC55=\"\",0,Ekders!AC55)&\"                    \"&IF(Ekders!AC56=\"\",0,Ekders!AC56)&\"                    \"&IF(Ekders!AC57=\"\",0,Ekders!AC57)&\"                    \"&IF(Ekders!AC58=\"\",0,Ekders!AC58)&\"                    \"&IF(Ekders!AC59=\"\",0,Ekders!AC59)&\"                    \"&IF(Ekders!AC60=\"\",0,Ekders!AC60)","v":"0                    0                    0                    0                    0                    0"},{"$f":"IF(Ekders!AD55=\"\",0,Ekders!AD55)&\"                    \"&IF(Ekders!AD56=\"\",0,Ekders!AD56)&\"                    \"&IF(Ekders!AD57=\"\",0,Ekders!AD57)&\"                    \"&IF(Ekders!AD58=\"\",0,Ekders!AD58)&\"                    \"&IF(Ekders!AD59=\"\",0,Ekders!AD59)&\"                    \"&IF(Ekders!AD60=\"\",0,Ekders!AD60)","v":"0                    0                    0                    0                    0                    0"},{"$f":"IF(Ekders!AE55=\"\",0,Ekders!AE55)&\"                    \"&IF(Ekders!AE56=\"\",0,Ekders!AE56)&\"                    \"&IF(Ekders!AE57=\"\",0,Ekders!AE57)&\"                    \"&IF(Ekders!AE58=\"\",0,Ekders!AE58)&\"                    \"&IF(Ekders!AE59=\"\",0,Ekders!AE59)&\"                    \"&IF(Ekders!AE60=\"\",0,Ekders!AE60)","v":"0                    0                    0                    0                    0                    0"},{"$f":"IF(Ekders!AF55=\"\",0,Ekders!AF55)&\"                    \"&IF(Ekders!AF56=\"\",0,Ekders!AF56)&\"                    \"&IF(Ekders!AF57=\"\",0,Ekders!AF57)&\"                    \"&IF(Ekders!AF58=\"\",0,Ekders!AF58)&\"                    \"&IF(Ekders!AF59=\"\",0,Ekders!AF59)&\"                    \"&IF(Ekders!AF60=\"\",0,Ekders!AF60)","v":"0                    0                    0                    0                    0                    0"},{"$f":"IF(Ekders!AG55=\"\",0,Ekders!AG55)&\"                    \"&IF(Ekders!AG56=\"\",0,Ekders!AG56)&\"                    \"&IF(Ekders!AG57=\"\",0,Ekders!AG57)&\"                    \"&IF(Ekders!AG58=\"\",0,Ekders!AG58)&\"                    \"&IF(Ekders!AG59=\"\",0,Ekders!AG59)&\"                    \"&IF(Ekders!AG60=\"\",0,Ekders!AG60)","v":"0                    0                    0                    0                    0                    0"},{"$f":"IF(Ekders!AH55=\"\",0,Ekders!AH55)&\"                    \"&IF(Ekders!AH56=\"\",0,Ekders!AH56)&\"                    \"&IF(Ekders!AH57=\"\",0,Ekders!AH57)&\"                    \"&IF(Ekders!AH58=\"\",0,Ekders!AH58)&\"                    \"&IF(Ekders!AH59=\"\",0,Ekders!AH59)&\"                    \"&IF(Ekders!AH60=\"\",0,Ekders!AH60)","v":"0                    0                    0                    0                    0                    0"},{"$f":"IF(Ekders!AI55=\"\",0,Ekders!AI55)&\"                    \"&IF(Ekders!AI56=\"\",0,Ekders!AI56)&\"                    \"&IF(Ekders!AI57=\"\",0,Ekders!AI57)&\"                    \"&IF(Ekders!AI58=\"\",0,Ekders!AI58)&\"                    \"&IF(Ekders!AI59=\"\",0,Ekders!AI59)&\"                    \"&IF(Ekders!AI60=\"\",0,Ekders!AI60)","v":"0                    0                    0                    0                    0                    0"},{"$f":"IF(Ekders!AJ55=\"\",0,Ekders!AJ55)&\"                    \"&IF(Ekders!AJ56=\"\",0,Ekders!AJ56)&\"                    \"&IF(Ekders!AJ57=\"\",0,Ekders!AJ57)&\"                    \"&IF(Ekders!AJ58=\"\",0,Ekders!AJ58)&\"                    \"&IF(Ekders!AJ59=\"\",0,Ekders!AJ59)&\"                    \"&IF(Ekders!AJ60=\"\",0,Ekders!AJ60)","v":"0                    0                    0                    0                    0                    0"},{"$f":"IF(Ekders!AK55=\"\",0,Ekders!AK55)&\"                    \"&IF(Ekders!AK56=\"\",0,Ekders!AK56)&\"                    \"&IF(Ekders!AK57=\"\",0,Ekders!AK57)&\"                    \"&IF(Ekders!AK58=\"\",0,Ekders!AK58)&\"                    \"&IF(Ekders!AK59=\"\",0,Ekders!AK59)&\"                    \"&IF(Ekders!AK60=\"\",0,Ekders!AK60)","v":"0                    0                    0                    0                    0                    0"},{"$f":"IF(Ekders!AL55=\"\",0,Ekders!AL55)&\"                    \"&IF(Ekders!AL56=\"\",0,Ekders!AL56)&\"                    \"&IF(Ekders!AL57=\"\",0,Ekders!AL57)&\"                    \"&IF(Ekders!AL58=\"\",0,Ekders!AL58)&\"                    \"&IF(Ekders!AL59=\"\",0,Ekders!AL59)&\"                    \"&IF(Ekders!AL60=\"\",0,Ekders!AL60)","v":"0                    0                    0                    0                    0                    0"},{"$f":"IF(Ekders!AM55=\"\",0,Ekders!AM55)&\"                    \"&IF(Ekders!AM56=\"\",0,Ekders!AM56)&\"                    \"&IF(Ekders!AM57=\"\",0,Ekders!AM57)&\"                    \"&IF(Ekders!AM58=\"\",0,Ekders!AM58)&\"                    \"&IF(Ekders!AM59=\"\",0,Ekders!AM59)&\"                    \"&IF(Ekders!AM60=\"\",0,Ekders!AM60)","v":"0                    0                    0                    0                    0                    0"},{"$f":"IF(Ekders!AN55=\"\",0,Ekders!AN55)&\"                    \"&IF(Ekders!AN56=\"\",0,Ekders!AN56)&\"                    \"&IF(Ekders!AN57=\"\",0,Ekders!AN57)&\"                    \"&IF(Ekders!AN58=\"\",0,Ekders!AN58)&\"                    \"&IF(Ekders!AN59=\"\",0,Ekders!AN59)&\"                    \"&IF(Ekders!AN60=\"\",0,Ekders!AN60)","v":"0                    0                    0                    0                    0                    0"},{"$f":"IF(Ekders!AO55=\"\",0,Ekders!AO55)&\"                    \"&IF(Ekders!AO56=\"\",0,Ekders!AO56)&\"                    \"&IF(Ekders!AO57=\"\",0,Ekders!AO57)&\"                    \"&IF(Ekders!AO58=\"\",0,Ekders!AO58)&\"                    \"&IF(Ekders!AO59=\"\",0,Ekders!AO59)&\"                    \"&IF(Ekders!AO60=\"\",0,Ekders!AO60)","v":"0                    0                    0                    0                    0                    0"},{"$f":"IF(Ekders!AP55=\"\",0,Ekders!AP55)&\"                    \"&IF(Ekders!AP56=\"\",0,Ekders!AP56)&\"                    \"&IF(Ekders!AP57=\"\",0,Ekders!AP57)&\"                    \"&IF(Ekders!AP58=\"\",0,Ekders!AP58)&\"                    \"&IF(Ekders!AP59=\"\",0,Ekders!AP59)&\"                    \"&IF(Ekders!AP60=\"\",0,Ekders!AP60)","v":"0                    0                    0                    0                    0                    0"},{"$f":"IF(Ekders!AQ55=\"\",0,Ekders!AQ55)&\"                    \"&IF(Ekders!AQ56=\"\",0,Ekders!AQ56)&\"                    \"&IF(Ekders!AQ57=\"\",0,Ekders!AQ57)&\"                    \"&IF(Ekders!AQ58=\"\",0,Ekders!AQ58)&\"                    \"&IF(Ekders!AQ59=\"\",0,Ekders!AQ59)&\"                    \"&IF(Ekders!AQ60=\"\",0,Ekders!AQ60)","v":"0                    0                    0                    0                    0                    0"},{"$f":"IF(Ekders!AR55=\"\",0,Ekders!AR55)&\"                    \"&IF(Ekders!AR56=\"\",0,Ekders!AR56)&\"                    \"&IF(Ekders!AR57=\"\",0,Ekders!AR57)&\"                    \"&IF(Ekders!AR58=\"\",0,Ekders!AR58)&\"                    \"&IF(Ekders!AR59=\"\",0,Ekders!AR59)&\"                    \"&IF(Ekders!AR60=\"\",0,Ekders!AR60)","v":"0                    0                    0                    0                    0                    0"},{"$f":"IF(Ekders!AS55=\"\",0,Ekders!AS55)&\"                    \"&IF(Ekders!AS56=\"\",0,Ekders!AS56)&\"                    \"&IF(Ekders!AS57=\"\",0,Ekders!AS57)&\"                    \"&IF(Ekders!AS58=\"\",0,Ekders!AS58)&\"                    \"&IF(Ekders!AS59=\"\",0,Ekders!AS59)&\"                    \"&IF(Ekders!AS60=\"\",0,Ekders!AS60)","v":"0                    0                    0                    0                    0                    0"},{"$f":"IF(Ekders!AT55=\"\",0,Ekders!AT55)&\"                    \"&IF(Ekders!AT56=\"\",0,Ekders!AT56)&\"                    \"&IF(Ekders!AT57=\"\",0,Ekders!AT57)&\"                    \"&IF(Ekders!AT58=\"\",0,Ekders!AT58)&\"                    \"&IF(Ekders!AT59=\"\",0,Ekders!AT59)&\"                    \"&IF(Ekders!AT60=\"\",0,Ekders!AT60)","v":"0                    0                    0                    0                    0                    0"},{"$f":"IF(Ekders!AU55=\"\",0,Ekders!AU55)&\"                    \"&IF(Ekders!AU56=\"\",0,Ekders!AU56)&\"                    \"&IF(Ekders!AU57=\"\",0,Ekders!AU57)&\"                    \"&IF(Ekders!AU58=\"\",0,Ekders!AU58)&\"                    \"&IF(Ekders!AU59=\"\",0,Ekders!AU59)&\"                    \"&IF(Ekders!AU60=\"\",0,Ekders!AU60)","v":"0                    0                    0                    0                    0                    0"},{"$f":"IF(Ekders!AV55=\"\",0,Ekders!AV55)&\"                    \"&IF(Ekders!AV56=\"\",0,Ekders!AV56)&\"                    \"&IF(Ekders!AV57=\"\",0,Ekders!AV57)&\"                    \"&IF(Ekders!AV58=\"\",0,Ekders!AV58)&\"                    \"&IF(Ekders!AV59=\"\",0,Ekders!AV59)&\"                    \"&IF(Ekders!AV60=\"\",0,Ekders!AV60)","v":"0                    0                    0                    0                    0                    0"},{"$f":"IF(Ekders!AW55=\"\",0,Ekders!AW55)&\"                    \"&IF(Ekders!AW56=\"\",0,Ekders!AW56)&\"                    \"&IF(Ekders!AW57=\"\",0,Ekders!AW57)&\"                    \"&IF(Ekders!AW58=\"\",0,Ekders!AW58)&\"                    \"&IF(Ekders!AW59=\"\",0,Ekders!AW59)&\"                    \"&IF(Ekders!AW60=\"\",0,Ekders!AW60)","v":"0                    0                    0                    0                    0                    0"},{"$f":"IF(Ekders!AX55=\"\",0,Ekders!AX55)&\"                    \"&IF(Ekders!AX56=\"\",0,Ekders!AX56)&\"                    \"&IF(Ekders!AX57=\"\",0,Ekders!AX57)&\"                    \"&IF(Ekders!AX58=\"\",0,Ekders!AX58)&\"                    \"&IF(Ekders!AX59=\"\",0,Ekders!AX59)&\"                    \"&IF(Ekders!AX60=\"\",0,Ekders!AX60)","v":"0                    0                    0                    0                    0                    0"},{"$f":"IF(Ekders!AY55=\"\",0,Ekders!AY55)&\"                    \"&IF(Ekders!AY56=\"\",0,Ekders!AY56)&\"                    \"&IF(Ekders!AY57=\"\",0,Ekders!AY57)&\"                    \"&IF(Ekders!AY58=\"\",0,Ekders!AY58)&\"                    \"&IF(Ekders!AY59=\"\",0,Ekders!AY59)&\"                    \"&IF(Ekders!AY60=\"\",0,Ekders!AY60)","v":"0                    0                    0                    0                    0                    0"},{"$f":"Ekders!AY55+Ekders!AY56+Ekders!AY57+Ekders!AY58+Ekders!AY59+Ekders!AY60","v":0},0]
[{"$f":"Ekders!B61&\"                                                       \"&Ekders!B62&\"                                                       \"&Ekders!B63&\"                                                       \"&Ekders!B65&\"                                                       \"&Ekders!B66&\"                                                       \"&Ekders!B64","v":"                                                                                                                                                                                                                                                                                   "},null,{"$f":"Ekders!L61&\"                    \"&Ekders!L62&\"                    \"&Ekders!L63&\"                    \"&Ekders!L64&\"                    \"&Ekders!L65&\"                    \"&Ekders!L66","v":"Gündüz (Lisans)                    Gündüz (Y. Lisans)                    Gündüz (Doktora)                    Gece (Lisans)                    Gece (Y. Lisans)                    Gece (Doktora)"},null,null,null,null,{"$f":"IF(Ekders!P61=\"\",0,Ekders!P61)&\"                    \"&IF(Ekders!P62=\"\",0,Ekders!P62)&\"                    \"&IF(Ekders!P63=\"\",0,Ekders!P63)&\"                    \"&IF(Ekders!P64=\"\",0,Ekders!P64)&\"                    \"&IF(Ekders!P65=\"\",0,Ekders!P65)&\"                    \"&IF(Ekders!P66=\"\",0,Ekders!P66)","v":"0                    0                    0                    0                    0                    0"},{"$f":"IF(Ekders!Q61=\"\",0,Ekders!Q61)&\"                    \"&IF(Ekders!Q62=\"\",0,Ekders!Q62)&\"                    \"&IF(Ekders!Q63=\"\",0,Ekders!Q63)&\"                    \"&IF(Ekders!Q64=\"\",0,Ekders!Q64)&\"                    \"&IF(Ekders!Q65=\"\",0,Ekders!Q65)&\"                    \"&IF(Ekders!Q66=\"\",0,Ekders!Q66)","v":"0                    0                    0                    0                    0                    0"},{"$f":"IF(Ekders!R61=\"\",0,Ekders!R61)&\"                    \"&IF(Ekders!R62=\"\",0,Ekders!R62)&\"                    \"&IF(Ekders!R63=\"\",0,Ekders!R63)&\"                    \"&IF(Ekders!R64=\"\",0,Ekders!R64)&\"                    \"&IF(Ekders!R65=\"\",0,Ekders!R65)&\"                    \"&IF(Ekders!R66=\"\",0,Ekders!R66)","v":"0                    0                    0                    0                    0                    0"},{"$f":"IF(Ekders!S61=\"\",0,Ekders!S61)&\"                    \"&IF(Ekders!S62=\"\",0,Ekders!S62)&\"                    \"&IF(Ekders!S63=\"\",0,Ekders!S63)&\"                    \"&IF(Ekders!S64=\"\",0,Ekders!S64)&\"                    \"&IF(Ekders!S65=\"\",0,Ekders!S65)&\"                    \"&IF(Ekders!S66=\"\",0,Ekders!S66)","v":"0                    0                    0                    0                    0                    0"},{"$f":"IF(Ekders!T61=\"\",0,Ekders!T61)&\"                    \"&IF(Ekders!T62=\"\",0,Ekders!T62)&\"                    \"&IF(Ekders!T63=\"\",0,Ekders!T63)&\"                    \"&IF(Ekders!T64=\"\",0,Ekders!T64)&\"                    \"&IF(Ekders!T65=\"\",0,Ekders!T65)&\"                    \"&IF(Ekders!T66=\"\",0,Ekders!T66)","v":"0                    0                    0                    0                    0                    0"},{"$f":"IF(Ekders!U61=\"\",0,Ekders!U61)&\"                    \"&IF(Ekders!U62=\"\",0,Ekders!U62)&\"                    \"&IF(Ekders!U63=\"\",0,Ekders!U63)&\"                    \"&IF(Ekders!U64=\"\",0,Ekders!U64)&\"                    \"&IF(Ekders!U65=\"\",0,Ekders!U65)&\"                    \"&IF(Ekders!U66=\"\",0,Ekders!U66)","v":"0                    0                    0                    0                    0                    0"},{"$f":"IF(Ekders!V61=\"\",0,Ekders!V61)&\"                    \"&IF(Ekders!V62=\"\",0,Ekders!V62)&\"                    \"&IF(Ekders!V63=\"\",0,Ekders!V63)&\"                    \"&IF(Ekders!V64=\"\",0,Ekders!V64)&\"                    \"&IF(Ekders!V65=\"\",0,Ekders!V65)&\"                    \"&IF(Ekders!V66=\"\",0,Ekders!V66)","v":"0                    0                    0                    0                    0                    0"},{"$f":"IF(Ekders!W61=\"\",0,Ekders!W61)&\"                    \"&IF(Ekders!W62=\"\",0,Ekders!W62)&\"                    \"&IF(Ekders!W63=\"\",0,Ekders!W63)&\"                    \"&IF(Ekders!W64=\"\",0,Ekders!W64)&\"                    \"&IF(Ekders!W65=\"\",0,Ekders!W65)&\"                    \"&IF(Ekders!W66=\"\",0,Ekders!W66)","v":"0                    0                    0                    0                    0                    0"},{"$f":"IF(Ekders!X61=\"\",0,Ekders!X61)&\"                    \"&IF(Ekders!X62=\"\",0,Ekders!X62)&\"                    \"&IF(Ekders!X63=\"\",0,Ekders!X63)&\"                    \"&IF(Ekders!X64=\"\",0,Ekders!X64)&\"                    \"&IF(Ekders!X65=\"\",0,Ekders!X65)&\"                    \"&IF(Ekders!X66=\"\",0,Ekders!X66)","v":"0                    0                    0                    0                    0                    0"},{"$f":"IF(Ekders!Y61=\"\",0,Ekders!Y61)&\"                    \"&IF(Ekders!Y62=\"\",0,Ekders!Y62)&\"                    \"&IF(Ekders!Y63=\"\",0,Ekders!Y63)&\"                    \"&IF(Ekders!Y64=\"\",0,Ekders!Y64)&\"                    \"&IF(Ekders!Y65=\"\",0,Ekders!Y65)&\"                    \"&IF(Ekders!Y66=\"\",0,Ekders!Y66)","v":"0                    0                    0                    0                    0                    0"},{"$f":"IF(Ekders!Z61=\"\",0,Ekders!Z61)&\"                    \"&IF(Ekders!Z62=\"\",0,Ekders!Z62)&\"                    \"&IF(Ekders!Z63=\"\",0,Ekders!Z63)&\"                    \"&IF(Ekders!Z64=\"\",0,Ekders!Z64)&\"                    \"&IF(Ekders!Z65=\"\",0,Ekders!Z65)&\"                    \"&IF(Ekders!Z66=\"\",0,Ekders!Z66)","v":"0                    0                    0                    0                    0                    0"},{"$f":"IF(Ekders!AA61=\"\",0,Ekders!AA61)&\"                    \"&IF(Ekders!AA62=\"\",0,Ekders!AA62)&\"                    \"&IF(Ekders!AA63=\"\",0,Ekders!AA63)&\"                    \"&IF(Ekders!AA64=\"\",0,Ekders!AA64)&\"                    \"&IF(Ekders!AA65=\"\",0,Ekders!AA65)&\"                    \"&IF(Ekders!AA66=\"\",0,Ekders!AA66)","v":"0                    0                    0                    0                    0                    0"},{"$f":"IF(Ekders!AB61=\"\",0,Ekders!AB61)&\"                    \"&IF(Ekders!AB62=\"\",0,Ekders!AB62)&\"                    \"&IF(Ekders!AB63=\"\",0,Ekders!AB63)&\"                    \"&IF(Ekders!AB64=\"\",0,Ekders!AB64)&\"                    \"&IF(Ekders!AB65=\"\",0,Ekders!AB65)&\"                    \"&IF(Ekders!AB66=\"\",0,Ekders!AB66)","v":"0                    0                    0                    0                    0                    0"},{"$f":"IF(Ekders!AC61=\"\",0,Ekders!AC61)&\"                    \"&IF(Ekders!AC62=\"\",0,Ekders!AC62)&\"                    \"&IF(Ekders!AC63=\"\",0,Ekders!AC63)&\"                    \"&IF(Ekders!AC64=\"\",0,Ekders!AC64)&\"                    \"&IF(Ekders!AC65=\"\",0,Ekders!AC65)&\"                    \"&IF(Ekders!AC66=\"\",0,Ekders!AC66)","v":"0                    0                    0                    0                    0                    0"},{"$f":"IF(Ekders!AD61=\"\",0,Ekders!AD61)&\"                    \"&IF(Ekders!AD62=\"\",0,Ekders!AD62)&\"                    \"&IF(Ekders!AD63=\"\",0,Ekders!AD63)&\"                    \"&IF(Ekders!AD64=\"\",0,Ekders!AD64)&\"                    \"&IF(Ekders!AD65=\"\",0,Ekders!AD65)&\"                    \"&IF(Ekders!AD66=\"\",0,Ekders!AD66)","v":"0                    0                    0                    0                    0                    0"},{"$f":"IF(Ekders!AE61=\"\",0,Ekders!AE61)&\"                    \"&IF(Ekders!AE62=\"\",0,Ekders!AE62)&\"                    \"&IF(Ekders!AE63=\"\",0,Ekders!AE63)&\"                    \"&IF(Ekders!AE64=\"\",0,Ekders!AE64)&\"                    \"&IF(Ekders!AE65=\"\",0,Ekders!AE65)&\"                    \"&IF(Ekders!AE66=\"\",0,Ekders!AE66)","v":"0                    0                    0                    0                    0                    0"},{"$f":"IF(Ekders!AF61=\"\",0,Ekders!AF61)&\"                    \"&IF(Ekders!AF62=\"\",0,Ekders!AF62)&\"                    \"&IF(Ekders!AF63=\"\",0,Ekders!AF63)&\"                    \"&IF(Ekders!AF64=\"\",0,Ekders!AF64)&\"                    \"&IF(Ekders!AF65=\"\",0,Ekders!AF65)&\"                    \"&IF(Ekders!AF66=\"\",0,Ekders!AF66)","v":"0                    0                    0                    0                    0                    0"},{"$f":"IF(Ekders!AG61=\"\",0,Ekders!AG61)&\"                    \"&IF(Ekders!AG62=\"\",0,Ekders!AG62)&\"                    \"&IF(Ekders!AG63=\"\",0,Ekders!AG63)&\"                    \"&IF(Ekders!AG64=\"\",0,Ekders!AG64)&\"                    \"&IF(Ekders!AG65=\"\",0,Ekders!AG65)&\"                    \"&IF(Ekders!AG66=\"\",0,Ekders!AG66)","v":"0                    0                    0                    0                    0                    0"},{"$f":"IF(Ekders!AH61=\"\",0,Ekders!AH61)&\"                    \"&IF(Ekders!AH62=\"\",0,Ekders!AH62)&\"                    \"&IF(Ekders!AH63=\"\",0,Ekders!AH63)&\"                    \"&IF(Ekders!AH64=\"\",0,Ekders!AH64)&\"                    \"&IF(Ekders!AH65=\"\",0,Ekders!AH65)&\"                    \"&IF(Ekders!AH66=\"\",0,Ekders!AH66)","v":"0                    0                    0                    0                    0                    0"},{"$f":"IF(Ekders!AI61=\"\",0,Ekders!AI61)&\"                    \"&IF(Ekders!AI62=\"\",0,Ekders!AI62)&\"                    \"&IF(Ekders!AI63=\"\",0,Ekders!AI63)&\"                    \"&IF(Ekders!AI64=\"\",0,Ekders!AI64)&\"                    \"&IF(Ekders!AI65=\"\",0,Ekders!AI65)&\"                    \"&IF(Ekders!AI66=\"\",0,Ekders!AI66)","v":"0                    0                    0                    0                    0                    0"},{"$f":"IF(Ekders!AJ61=\"\",0,Ekders!AJ61)&\"                    \"&IF(Ekders!AJ62=\"\",0,Ekders!AJ62)&\"                    \"&IF(Ekders!AJ63=\"\",0,Ekders!AJ63)&\"                    \"&IF(Ekders!AJ64=\"\",0,Ekders!AJ64)&\"                    \"&IF(Ekders!AJ65=\"\",0,Ekders!AJ65)&\"                    \"&IF(Ekders!AJ66=\"\",0,Ekders!AJ66)","v":"0                    0                    0                    0                    0                    0"},{"$f":"IF(Ekders!AK61=\"\",0,Ekders!AK61)&\"                    \"&IF(Ekders!AK62=\"\",0,Ekders!AK62)&\"                    \"&IF(Ekders!AK63=\"\",0,Ekders!AK63)&\"                    \"&IF(Ekders!AK64=\"\",0,Ekders!AK64)&\"                    \"&IF(Ekders!AK65=\"\",0,Ekders!AK65)&\"                    \"&IF(Ekders!AK66=\"\",0,Ekders!AK66)","v":"0                    0                    0                    0                    0                    0"},{"$f":"IF(Ekders!AL61=\"\",0,Ekders!AL61)&\"                    \"&IF(Ekders!AL62=\"\",0,Ekders!AL62)&\"                    \"&IF(Ekders!AL63=\"\",0,Ekders!AL63)&\"                    \"&IF(Ekders!AL64=\"\",0,Ekders!AL64)&\"                    \"&IF(Ekders!AL65=\"\",0,Ekders!AL65)&\"                    \"&IF(Ekders!AL66=\"\",0,Ekders!AL66)","v":"0                    0                    0                    0                    0                    0"},{"$f":"IF(Ekders!AM61=\"\",0,Ekders!AM61)&\"                    \"&IF(Ekders!AM62=\"\",0,Ekders!AM62)&\"                    \"&IF(Ekders!AM63=\"\",0,Ekders!AM63)&\"                    \"&IF(Ekders!AM64=\"\",0,Ekders!AM64)&\"                    \"&IF(Ekders!AM65=\"\",0,Ekders!AM65)&\"                    \"&IF(Ekders!AM66=\"\",0,Ekders!AM66)","v":"0                    0                    0                    0                    0                    0"},{"$f":"IF(Ekders!AN61=\"\",0,Ekders!AN61)&\"                    \"&IF(Ekders!AN62=\"\",0,Ekders!AN62)&\"                    \"&IF(Ekders!AN63=\"\",0,Ekders!AN63)&\"                    \"&IF(Ekders!AN64=\"\",0,Ekders!AN64)&\"                    \"&IF(Ekders!AN65=\"\",0,Ekders!AN65)&\"                    \"&IF(Ekders!AN66=\"\",0,Ekders!AN66)","v":"0                    0                    0                    0                    0                    0"},{"$f":"IF(Ekders!AO61=\"\",0,Ekders!AO61)&\"                    \"&IF(Ekders!AO62=\"\",0,Ekders!AO62)&\"                    \"&IF(Ekders!AO63=\"\",0,Ekders!AO63)&\"                    \"&IF(Ekders!AO64=\"\",0,Ekders!AO64)&\"                    \"&IF(Ekders!AO65=\"\",0,Ekders!AO65)&\"                    \"&IF(Ekders!AO66=\"\",0,Ekders!AO66)","v":"0                    0                    0                    0                    0                    0"},{"$f":"IF(Ekders!AP61=\"\",0,Ekders!AP61)&\"                    \"&IF(Ekders!AP62=\"\",0,Ekders!AP62)&\"                    \"&IF(Ekders!AP63=\"\",0,Ekders!AP63)&\"                    \"&IF(Ekders!AP64=\"\",0,Ekders!AP64)&\"                    \"&IF(Ekders!AP65=\"\",0,Ekders!AP65)&\"                    \"&IF(Ekders!AP66=\"\",0,Ekders!AP66)","v":"0                    0                    0                    0                    0                    0"},{"$f":"IF(Ekders!AQ61=\"\",0,Ekders!AQ61)&\"                    \"&IF(Ekders!AQ62=\"\",0,Ekders!AQ62)&\"                    \"&IF(Ekders!AQ63=\"\",0,Ekders!AQ63)&\"                    \"&IF(Ekders!AQ64=\"\",0,Ekders!AQ64)&\"                    \"&IF(Ekders!AQ65=\"\",0,Ekders!AQ65)&\"                    \"&IF(Ekders!AQ66=\"\",0,Ekders!AQ66)","v":"0                    0                    0                    0                    0                    0"},{"$f":"IF(Ekders!AR61=\"\",0,Ekders!AR61)&\"                    \"&IF(Ekders!AR62=\"\",0,Ekders!AR62)&\"                    \"&IF(Ekders!AR63=\"\",0,Ekders!AR63)&\"                    \"&IF(Ekders!AR64=\"\",0,Ekders!AR64)&\"                    \"&IF(Ekders!AR65=\"\",0,Ekders!AR65)&\"                    \"&IF(Ekders!AR66=\"\",0,Ekders!AR66)","v":"0                    0                    0                    0                    0                    0"},{"$f":"IF(Ekders!AS61=\"\",0,Ekders!AS61)&\"                    \"&IF(Ekders!AS62=\"\",0,Ekders!AS62)&\"                    \"&IF(Ekders!AS63=\"\",0,Ekders!AS63)&\"                    \"&IF(Ekders!AS64=\"\",0,Ekders!AS64)&\"                    \"&IF(Ekders!AS65=\"\",0,Ekders!AS65)&\"                    \"&IF(Ekders!AS66=\"\",0,Ekders!AS66)","v":"0                    0                    0                    0                    0                    0"},{"$f":"IF(Ekders!AT61=\"\",0,Ekders!AT61)&\"                    \"&IF(Ekders!AT62=\"\",0,Ekders!AT62)&\"                    \"&IF(Ekders!AT63=\"\",0,Ekders!AT63)&\"                    \"&IF(Ekders!AT64=\"\",0,Ekders!AT64)&\"                    \"&IF(Ekders!AT65=\"\",0,Ekders!AT65)&\"                    \"&IF(Ekders!AT66=\"\",0,Ekders!AT66)","v":"0                    0                    0                    0                    0                    0"},{"$f":"IF(Ekders!AU61=\"\",0,Ekders!AU61)&\"                    \"&IF(Ekders!AU62=\"\",0,Ekders!AU62)&\"                    \"&IF(Ekders!AU63=\"\",0,Ekders!AU63)&\"                    \"&IF(Ekders!AU64=\"\",0,Ekders!AU64)&\"                    \"&IF(Ekders!AU65=\"\",0,Ekders!AU65)&\"                    \"&IF(Ekders!AU66=\"\",0,Ekders!AU66)","v":"0                    0                    0                    0                    0                    0"},{"$f":"IF(Ekders!AV61=\"\",0,Ekders!AV61)&\"                    \"&IF(Ekders!AV62=\"\",0,Ekders!AV62)&\"                    \"&IF(Ekders!AV63=\"\",0,Ekders!AV63)&\"                    \"&IF(Ekders!AV64=\"\",0,Ekders!AV64)&\"                    \"&IF(Ekders!AV65=\"\",0,Ekders!AV65)&\"                    \"&IF(Ekders!AV66=\"\",0,Ekders!AV66)","v":"0                    0                    0                    0                    0                    0"},{"$f":"IF(Ekders!AW61=\"\",0,Ekders!AW61)&\"                    \"&IF(Ekders!AW62=\"\",0,Ekders!AW62)&\"                    \"&IF(Ekders!AW63=\"\",0,Ekders!AW63)&\"                    \"&IF(Ekders!AW64=\"\",0,Ekders!AW64)&\"                    \"&IF(Ekders!AW65=\"\",0,Ekders!AW65)&\"                    \"&IF(Ekders!AW66=\"\",0,Ekders!AW66)","v":"0                    0                    0                    0                    0                    0"},{"$f":"IF(Ekders!AX61=\"\",0,Ekders!AX61)&\"                    \"&IF(Ekders!AX62=\"\",0,Ekders!AX62)&\"                    \"&IF(Ekders!AX63=\"\",0,Ekders!AX63)&\"                    \"&IF(Ekders!AX64=\"\",0,Ekders!AX64)&\"                    \"&IF(Ekders!AX65=\"\",0,Ekders!AX65)&\"                    \"&IF(Ekders!AX66=\"\",0,Ekders!AX66)","v":"0                    0                    0                    0                    0                    0"},{"$f":"IF(Ekders!AY61=\"\",0,Ekders!AY61)&\"                    \"&IF(Ekders!AY62=\"\",0,Ekders!AY62)&\"                    \"&IF(Ekders!AY63=\"\",0,Ekders!AY63)&\"                    \"&IF(Ekders!AY64=\"\",0,Ekders!AY64)&\"                    \"&IF(Ekders!AY65=\"\",0,Ekders!AY65)&\"                    \"&IF(Ekders!AY66=\"\",0,Ekders!AY66)","v":"0                    0                    0                    0                    0                    0"},{"$f":"Ekders!AY61+Ekders!AY62+Ekders!AY63+Ekders!AY64+Ekders!AY65+Ekders!AY66","v":0},0]
[{"$f":"Ekders!B67&\"                                                       \"&Ekders!B68&\"                                                       \"&Ekders!B69&\"                                                       \"&Ekders!B71&\"                                                       \"&Ekders!B72&\"                                                       \"&Ekders!B70","v":"                                                                                                                                                                                                                                                                                   "},null,{"$f":"Ekders!L67&\"                    \"&Ekders!L68&\"                    \"&Ekders!L69&\"                    \"&Ekders!L70&\"                    \"&Ekders!L71&\"                    \"&Ekders!L72","v":"Gündüz (Lisans)                    Gündüz (Y. Lisans)                    Gündüz (Doktora)                    Gece (Lisans)                    Gece (Y. Lisans)                    Gece (Doktora)"},null,null,null,null,{"$f":"IF(Ekders!P67=\"\",0,Ekders!P67)&\"                    \"&IF(Ekders!P68=\"\",0,Ekders!P68)&\"                    \"&IF(Ekders!P69=\"\",0,Ekders!P69)&\"                    \"&IF(Ekders!P70=\"\",0,Ekders!P70)&\"                    \"&IF(Ekders!P71=\"\",0,Ekders!P71)&\"                    \"&IF(Ekders!P72=\"\",0,Ekders!P72)","v":"0                    0                    0                    0                    0                    0"},{"$f":"IF(Ekders!Q67=\"\",0,Ekders!Q67)&\"                    \"&IF(Ekders!Q68=\"\",0,Ekders!Q68)&\"                    \"&IF(Ekders!Q69=\"\",0,Ekders!Q69)&\"                    \"&IF(Ekders!Q70=\"\",0,Ekders!Q70)&\"                    \"&IF(Ekders!Q71=\"\",0,Ekders!Q71)&\"                    \"&IF(Ekders!Q72=\"\",0,Ekders!Q72)","v":"0                    0                    0                    0                    0                    0"},{"$f":"IF(Ekders!R67=\"\",0,Ekders!R67)&\"                    \"&IF(Ekders!R68=\"\",0,Ekders!R68)&\"                    \"&IF(Ekders!R69=\"\",0,Ekders!R69)&\"                    \"&IF(Ekders!R70=\"\",0,Ekders!R70)&\"                    \"&IF(Ekders!R71=\"\",0,Ekders!R71)&\"                    \"&IF(Ekders!R72=\"\",0,Ekders!R72)","v":"0                    0                    0                    0                    0                    0"},{"$f":"IF(Ekders!S67=\"\",0,Ekders!S67)&\"                    \"&IF(Ekders!S68=\"\",0,Ekders!S68)&\"                    \"&IF(Ekders!S69=\"\",0,Ekders!S69)&\"                    \"&IF(Ekders!S70=\"\",0,Ekders!S70)&\"                    \"&IF(Ekders!S71=\"\",0,Ekders!S71)&\"                    \"&IF(Ekders!S72=\"\",0,Ekders!S72)","v":"0                    0                    0                    0                    0                    0"},{"$f":"IF(Ekders!T67=\"\",0,Ekders!T67)&\"                    \"&IF(Ekders!T68=\"\",0,Ekders!T68)&\"                    \"&IF(Ekders!T69=\"\",0,Ekders!T69)&\"                    \"&IF(Ekders!T70=\"\",0,Ekders!T70)&\"                    \"&IF(Ekders!T71=\"\",0,Ekders!T71)&\"                    \"&IF(Ekders!T72=\"\",0,Ekders!T72)","v":"0                    0                    0                    0                    0                    0"},{"$f":"IF(Ekders!U67=\"\",0,Ekders!U67)&\"                    \"&IF(Ekders!U68=\"\",0,Ekders!U68)&\"                    \"&IF(Ekders!U69=\"\",0,Ekders!U69)&\"                    \"&IF(Ekders!U70=\"\",0,Ekders!U70)&\"                    \"&IF(Ekders!U71=\"\",0,Ekders!U71)&\"                    \"&IF(Ekders!U72=\"\",0,Ekders!U72)","v":"0                    0                    0                    0                    0                    0"},{"$f":"IF(Ekders!V67=\"\",0,Ekders!V67)&\"                    \"&IF(Ekders!V68=\"\",0,Ekders!V68)&\"                    \"&IF(Ekders!V69=\"\",0,Ekders!V69)&\"                    \"&IF(Ekders!V70=\"\",0,Ekders!V70)&\"                    \"&IF(Ekders!V71=\"\",0,Ekders!V71)&\"                    \"&IF(Ekders!V72=\"\",0,Ekders!V72)","v":"0                    0                    0                    0                    0                    0"},{"$f":"IF(Ekders!W67=\"\",0,Ekders!W67)&\"                    \"&IF(Ekders!W68=\"\",0,Ekders!W68)&\"                    \"&IF(Ekders!W69=\"\",0,Ekders!W69)&\"                    \"&IF(Ekders!W70=\"\",0,Ekders!W70)&\"                    \"&IF(Ekders!W71=\"\",0,Ekders!W71)&\"                    \"&IF(Ekders!W72=\"\",0,Ekders!W72)","v":"0                    0                    0                    0                    0                    0"},{"$f":"IF(Ekders!X67=\"\",0,Ekders!X67)&\"                    \"&IF(Ekders!X68=\"\",0,Ekders!X68)&\"                    \"&IF(Ekders!X69=\"\",0,Ekders!X69)&\"                    \"&IF(Ekders!X70=\"\",0,Ekders!X70)&\"                    \"&IF(Ekders!X71=\"\",0,Ekders!X71)&\"                    \"&IF(Ekders!X72=\"\",0,Ekders!X72)","v":"0                    0                    0                    0                    0                    0"},{"$f":"IF(Ekders!Y67=\"\",0,Ekders!Y67)&\"                    \"&IF(Ekders!Y68=\"\",0,Ekders!Y68)&\"                    \"&IF(Ekders!Y69=\"\",0,Ekders!Y69)&\"                    \"&IF(Ekders!Y70=\"\",0,Ekders!Y70)&\"                    \"&IF(Ekders!Y71=\"\",0,Ekders!Y71)&\"                    \"&IF(Ekders!Y72=\"\",0,Ekders!Y72)","v":"0                    0                    0                    0                    0                    0"},{"$f":"IF(Ekders!Z67=\"\",0,Ekders!Z67)&\"                    \"&IF(Ekders!Z68=\"\",0,Ekders!Z68)&\"                    \"&IF(Ekders!Z69=\"\",0,Ekders!Z69)&\"                    \"&IF(Ekders!Z70=\"\",0,Ekders!Z70)&\"                    \"&IF(Ekders!Z71=\"\",0,Ekders!Z71)&\"                    \"&IF(Ekders!Z72=\"\",0,Ekders!Z72)","v":"0                    0                    0                    0                    0                    0"},{"$f":"IF(Ekders!AA67=\"\",0,Ekders!AA67)&\"                    \"&IF(Ekders!AA68=\"\",0,Ekders!AA68)&\"                    \"&IF(Ekders!AA69=\"\",0,Ekders!AA69)&\"                    \"&IF(Ekders!AA70=\"\",0,Ekders!AA70)&\"                    \"&IF(Ekders!AA71=\"\",0,Ekders!AA71)&\"                    \"&IF(Ekders!AA72=\"\",0,Ekders!AA72)","v":"0                    0                    0                    0                    0                    0"},{"$f":"IF(Ekders!AB67=\"\",0,Ekders!AB67)&\"                    \"&IF(Ekders!AB68=\"\",0,Ekders!AB68)&\"                    \"&IF(Ekders!AB69=\"\",0,Ekders!AB69)&\"                    \"&IF(Ekders!AB70=\"\",0,Ekders!AB70)&\"                    \"&IF(Ekders!AB71=\"\",0,Ekders!AB71)&\"                    \"&IF(Ekders!AB72=\"\",0,Ekders!AB72)","v":"0                    0                    0                    0                    0                    0"},{"$f":"IF(Ekders!AC67=\"\",0,Ekders!AC67)&\"                    \"&IF(Ekders!AC68=\"\",0,Ekders!AC68)&\"                    \"&IF(Ekders!AC69=\"\",0,Ekders!AC69)&\"                    \"&IF(Ekders!AC70=\"\",0,Ekders!AC70)&\"                    \"&IF(Ekders!AC71=\"\",0,Ekders!AC71)&\"                    \"&IF(Ekders!AC72=\"\",0,Ekders!AC72)","v":"0                    0                    0                    0                    0                    0"},{"$f":"IF(Ekders!AD67=\"\",0,Ekders!AD67)&\"                    \"&IF(Ekders!AD68=\"\",0,Ekders!AD68)&\"                    \"&IF(Ekders!AD69=\"\",0,Ekders!AD69)&\"                    \"&IF(Ekders!AD70=\"\",0,Ekders!AD70)&\"                    \"&IF(Ekders!AD71=\"\",0,Ekders!AD71)&\"                    \"&IF(Ekders!AD72=\"\",0,Ekders!AD72)","v":"0                    0                    0                    0                    0                    0"},{"$f":"IF(Ekders!AE67=\"\",0,Ekders!AE67)&\"                    \"&IF(Ekders!AE68=\"\",0,Ekders!AE68)&\"                    \"&IF(Ekders!AE69=\"\",0,Ekders!AE69)&\"                    \"&IF(Ekders!AE70=\"\",0,Ekders!AE70)&\"                    \"&IF(Ekders!AE71=\"\",0,Ekders!AE71)&\"                    \"&IF(Ekders!AE72=\"\",0,Ekders!AE72)","v":"0                    0                    0                    0                    0                    0"},{"$f":"IF(Ekders!AF67=\"\",0,Ekders!AF67)&\"                    \"&IF(Ekders!AF68=\"\",0,Ekders!AF68)&\"                    \"&IF(Ekders!AF69=\"\",0,Ekders!AF69)&\"                    \"&IF(Ekders!AF70=\"\",0,Ekders!AF70)&\"                    \"&IF(Ekders!AF71=\"\",0,Ekders!AF71)&\"                    \"&IF(Ekders!AF72=\"\",0,Ekders!AF72)","v":"0                    0                    0                    0                    0                    0"},{"$f":"IF(Ekders!AG67=\"\",0,Ekders!AG67)&\"                    \"&IF(Ekders!AG68=\"\",0,Ekders!AG68)&\"                    \"&IF(Ekders!AG69=\"\",0,Ekders!AG69)&\"                    \"&IF(Ekders!AG70=\"\",0,Ekders!AG70)&\"                    \"&IF(Ekders!AG71=\"\",0,Ekders!AG71)&\"                    \"&IF(Ekders!AG72=\"\",0,Ekders!AG72)","v":"0                    0                    0                    0                    0                    0"},{"$f":"IF(Ekders!AH67=\"\",0,Ekders!AH67)&\"                    \"&IF(Ekders!AH68=\"\",0,Ekders!AH68)&\"                    \"&IF(Ekders!AH69=\"\",0,Ekders!AH69)&\"                    \"&IF(Ekders!AH70=\"\",0,Ekders!AH70)&\"                    \"&IF(Ekders!AH71=\"\",0,Ekders!AH71)&\"                    \"&IF(Ekders!AH72=\"\",0,Ekders!AH72)","v":"0                    0                    0                    0                    0                    0"},{"$f":"IF(Ekders!AI67=\"\",0,Ekders!AI67)&\"                    \"&IF(Ekders!AI68=\"\",0,Ekders!AI68)&\"                    \"&IF(Ekders!AI69=\"\",0,Ekders!AI69)&\"                    \"&IF(Ekders!AI70=\"\",0,Ekders!AI70)&\"                    \"&IF(Ekders!AI71=\"\",0,Ekders!AI71)&\"                    \"&IF(Ekders!AI72=\"\",0,Ekders!AI72)","v":"0                    0                    0                    0                    0                    0"},{"$f":"IF(Ekders!AJ67=\"\",0,Ekders!AJ67)&\"                    \"&IF(Ekders!AJ68=\"\",0,Ekders!AJ68)&\"                    \"&IF(Ekders!AJ69=\"\",0,Ekders!AJ69)&\"                    \"&IF(Ekders!AJ70=\"\",0,Ekders!AJ70)&\"                    \"&IF(Ekders!AJ71=\"\",0,Ekders!AJ71)&\"                    \"&IF(Ekders!AJ72=\"\",0,Ekders!AJ72)","v":"0                    0                    0                    0                    0                    0"},{"$f":"IF(Ekders!AK67=\"\",0,Ekders!AK67)&\"                    \"&IF(Ekders!AK68=\"\",0,Ekders!AK68)&\"                    \"&IF(Ekders!AK69=\"\",0,Ekders!AK69)&\"                    \"&IF(Ekders!AK70=\"\",0,Ekders!AK70)&\"                    \"&IF(Ekders!AK71=\"\",0,Ekders!AK71)&\"                    \"&IF(Ekders!AK72=\"\",0,Ekders!AK72)","v":"0                    0                    0                    0                    0                    0"},{"$f":"IF(Ekders!AL67=\"\",0,Ekders!AL67)&\"                    \"&IF(Ekders!AL68=\"\",0,Ekders!AL68)&\"                    \"&IF(Ekders!AL69=\"\",0,Ekders!AL69)&\"                    \"&IF(Ekders!AL70=\"\",0,Ekders!AL70)&\"                    \"&IF(Ekders!AL71=\"\",0,Ekders!AL71)&\"                    \"&IF(Ekders!AL72=\"\",0,Ekders!AL72)","v":"0                    0                    0                    0                    0                    0"},{"$f":"IF(Ekders!AM67=\"\",0,Ekders!AM67)&\"                    \"&IF(Ekders!AM68=\"\",0,Ekders!AM68)&\"                    \"&IF(Ekders!AM69=\"\",0,Ekders!AM69)&\"                    \"&IF(Ekders!AM70=\"\",0,Ekders!AM70)&\"                    \"&IF(Ekders!AM71=\"\",0,Ekders!AM71)&\"                    \"&IF(Ekders!AM72=\"\",0,Ekders!AM72)","v":"0                    0                    0                    0                    0                    0"},{"$f":"IF(Ekders!AN67=\"\",0,Ekders!AN67)&\"                    \"&IF(Ekders!AN68=\"\",0,Ekders!AN68)&\"                    \"&IF(Ekders!AN69=\"\",0,Ekders!AN69)&\"                    \"&IF(Ekders!AN70=\"\",0,Ekders!AN70)&\"                    \"&IF(Ekders!AN71=\"\",0,Ekders!AN71)&\"                    \"&IF(Ekders!AN72=\"\",0,Ekders!AN72)","v":"0                    0                    0                    0                    0                    0"},{"$f":"IF(Ekders!AO67=\"\",0,Ekders!AO67)&\"                    \"&IF(Ekders!AO68=\"\",0,Ekders!AO68)&\"                    \"&IF(Ekders!AO69=\"\",0,Ekders!AO69)&\"                    \"&IF(Ekders!AO70=\"\",0,Ekders!AO70)&\"                    \"&IF(Ekders!AO71=\"\",0,Ekders!AO71)&\"                    \"&IF(Ekders!AO72=\"\",0,Ekders!AO72)","v":"0                    0                    0                    0                    0                    0"},{"$f":"IF(Ekders!AP67=\"\",0,Ekders!AP67)&\"                    \"&IF(Ekders!AP68=\"\",0,Ekders!AP68)&\"                    \"&IF(Ekders!AP69=\"\",0,Ekders!AP69)&\"                    \"&IF(Ekders!AP70=\"\",0,Ekders!AP70)&\"                    \"&IF(Ekders!AP71=\"\",0,Ekders!AP71)&\"                    \"&IF(Ekders!AP72=\"\",0,Ekders!AP72)","v":"0                    0                    0                    0                    0                    0"},{"$f":"IF(Ekders!AQ67=\"\",0,Ekders!AQ67)&\"                    \"&IF(Ekders!AQ68=\"\",0,Ekders!AQ68)&\"                    \"&IF(Ekders!AQ69=\"\",0,Ekders!AQ69)&\"                    \"&IF(Ekders!AQ70=\"\",0,Ekders!AQ70)&\"                    \"&IF(Ekders!AQ71=\"\",0,Ekders!AQ71)&\"                    \"&IF(Ekders!AQ72=\"\",0,Ekders!AQ72)","v":"0                    0                    0                    0                    0                    0"},{"$f":"IF(Ekders!AR67=\"\",0,Ekders!AR67)&\"                    \"&IF(Ekders!AR68=\"\",0,Ekders!AR68)&\"                    \"&IF(Ekders!AR69=\"\",0,Ekders!AR69)&\"                    \"&IF(Ekders!AR70=\"\",0,Ekders!AR70)&\"                    \"&IF(Ekders!AR71=\"\",0,Ekders!AR71)&\"                    \"&IF(Ekders!AR72=\"\",0,Ekders!AR72)","v":"0                    0                    0                    0                    0                    0"},{"$f":"IF(Ekders!AS67=\"\",0,Ekders!AS67)&\"                    \"&IF(Ekders!AS68=\"\",0,Ekders!AS68)&\"                    \"&IF(Ekders!AS69=\"\",0,Ekders!AS69)&\"                    \"&IF(Ekders!AS70=\"\",0,Ekders!AS70)&\"                    \"&IF(Ekders!AS71=\"\",0,Ekders!AS71)&\"                    \"&IF(Ekders!AS72=\"\",0,Ekders!AS72)","v":"0                    0                    0                    0                    0                    0"},{"$f":"IF(Ekders!AT67=\"\",0,Ekders!AT67)&\"                    \"&IF(Ekders!AT68=\"\",0,Ekders!AT68)&\"                    \"&IF(Ekders!AT69=\"\",0,Ekders!AT69)&\"                    \"&IF(Ekders!AT70=\"\",0,Ekders!AT70)&\"                    \"&IF(Ekders!AT71=\"\",0,Ekders!AT71)&\"                    \"&IF(Ekders!AT72=\"\",0,Ekders!AT72)","v":"0                    0                    0                    0                    0                    0"},{"$f":"IF(Ekders!AU67=\"\",0,Ekders!AU67)&\"                    \"&IF(Ekders!AU68=\"\",0,Ekders!AU68)&\"                    \"&IF(Ekders!AU69=\"\",0,Ekders!AU69)&\"                    \"&IF(Ekders!AU70=\"\",0,Ekders!AU70)&\"                    \"&IF(Ekders!AU71=\"\",0,Ekders!AU71)&\"                    \"&IF(Ekders!AU72=\"\",0,Ekders!AU72)","v":"0                    0                    0                    0                    0                    0"},{"$f":"IF(Ekders!AV67=\"\",0,Ekders!AV67)&\"                    \"&IF(Ekders!AV68=\"\",0,Ekders!AV68)&\"                    \"&IF(Ekders!AV69=\"\",0,Ekders!AV69)&\"                    \"&IF(Ekders!AV70=\"\",0,Ekders!AV70)&\"                    \"&IF(Ekders!AV71=\"\",0,Ekders!AV71)&\"                    \"&IF(Ekders!AV72=\"\",0,Ekders!AV72)","v":"0                    0                    0                    0                    0                    0"},{"$f":"IF(Ekders!AW67=\"\",0,Ekders!AW67)&\"                    \"&IF(Ekders!AW68=\"\",0,Ekders!AW68)&\"                    \"&IF(Ekders!AW69=\"\",0,Ekders!AW69)&\"                    \"&IF(Ekders!AW70=\"\",0,Ekders!AW70)&\"                    \"&IF(Ekders!AW71=\"\",0,Ekders!AW71)&\"                    \"&IF(Ekders!AW72=\"\",0,Ekders!AW72)","v":"0                    0                    0                    0                    0                    0"},{"$f":"IF(Ekders!AX67=\"\",0,Ekders!AX67)&\"                    \"&IF(Ekders!AX68=\"\",0,Ekders!AX68)&\"                    \"&IF(Ekders!AX69=\"\",0,Ekders!AX69)&\"                    \"&IF(Ekders!AX70=\"\",0,Ekders!AX70)&\"                    \"&IF(Ekders!AX71=\"\",0,Ekders!AX71)&\"                    \"&IF(Ekders!AX72=\"\",0,Ekders!AX72)","v":"0                    0                    0                    0                    0                    0"},{"$f":"IF(Ekders!AY67=\"\",0,Ekders!AY67)&\"                    \"&IF(Ekders!AY68=\"\",0,Ekders!AY68)&\"                    \"&IF(Ekders!AY69=\"\",0,Ekders!AY69)&\"                    \"&IF(Ekders!AY70=\"\",0,Ekders!AY70)&\"                    \"&IF(Ekders!AY71=\"\",0,Ekders!AY71)&\"                    \"&IF(Ekders!AY72=\"\",0,Ekders!AY72)","v":"0                    0                    0                    0                    0                    0"},{"$f":"Ekders!AY67+Ekders!AY68+Ekders!AY69+Ekders!AY70+Ekders!AY71+Ekders!AY72","v":0},0]
[{"$f":"Ekders!B73&\"                                                       \"&Ekders!B74&\"                                                       \"&Ekders!B75&\"                                                       \"&Ekders!B77&\"                                                       \"&Ekders!B78&\"                                                       \"&Ekders!B76","v":"                                                                                                                                                                                                                                                                                   "},null,{"$f":"Ekders!L73&\"                    \"&Ekders!L74&\"                    \"&Ekders!L75&\"                    \"&Ekders!L76&\"                    \"&Ekders!L77&\"                    \"&Ekders!L78","v":"Gündüz (Lisans)                    Gündüz (Y. Lisans)                    Gündüz (Doktora)                    Gece (Lisans)                    Gece (Y. Lisans)                    Gece (Doktora)"},null,null,null,null,{"$f":"IF(Ekders!P73=\"\",0,Ekders!P73)&\"                    \"&IF(Ekders!P74=\"\",0,Ekders!P74)&\"                    \"&IF(Ekders!P75=\"\",0,Ekders!P75)&\"                    \"&IF(Ekders!P76=\"\",0,Ekders!P76)&\"                    \"&IF(Ekders!P77=\"\",0,Ekders!P77)&\"                    \"&IF(Ekders!P78=\"\",0,Ekders!P78)","v":"0                    0                    0                    0                    0                    0"},{"$f":"IF(Ekders!Q73=\"\",0,Ekders!Q73)&\"                    \"&IF(Ekders!Q74=\"\",0,Ekders!Q74)&\"                    \"&IF(Ekders!Q75=\"\",0,Ekders!Q75)&\"                    \"&IF(Ekders!Q76=\"\",0,Ekders!Q76)&\"                    \"&IF(Ekders!Q77=\"\",0,Ekders!Q77)&\"                    \"&IF(Ekders!Q78=\"\",0,Ekders!Q78)","v":"0                    0                    0                    0                    0                    0"},{"$f":"IF(Ekders!R73=\"\",0,Ekders!R73)&\"                    \"&IF(Ekders!R74=\"\",0,Ekders!R74)&\"                    \"&IF(Ekders!R75=\"\",0,Ekders!R75)&\"                    \"&IF(Ekders!R76=\"\",0,Ekders!R76)&\"                    \"&IF(Ekders!R77=\"\",0,Ekders!R77)&\"                    \"&IF(Ekders!R78=\"\",0,Ekders!R78)","v":"0                    0                    0                    0                    0                    0"},{"$f":"IF(Ekders!S73=\"\",0,Ekders!S73)&\"                    \"&IF(Ekders!S74=\"\",0,Ekders!S74)&\"                    \"&IF(Ekders!S75=\"\",0,Ekders!S75)&\"                    \"&IF(Ekders!S76=\"\",0,Ekders!S76)&\"                    \"&IF(Ekders!S77=\"\",0,Ekders!S77)&\"                    \"&IF(Ekders!S78=\"\",0,Ekders!S78)","v":"0                    0                    0                    0                    0                    0"},{"$f":"IF(Ekders!T73=\"\",0,Ekders!T73)&\"                    \"&IF(Ekders!T74=\"\",0,Ekders!T74)&\"                    \"&IF(Ekders!T75=\"\",0,Ekders!T75)&\"                    \"&IF(Ekders!T76=\"\",0,Ekders!T76)&\"                    \"&IF(Ekders!T77=\"\",0,Ekders!T77)&\"                    \"&IF(Ekders!T78=\"\",0,Ekders!T78)","v":"0                    0                    0                    0                    0                    0"},{"$f":"IF(Ekders!U73=\"\",0,Ekders!U73)&\"                    \"&IF(Ekders!U74=\"\",0,Ekders!U74)&\"                    \"&IF(Ekders!U75=\"\",0,Ekders!U75)&\"                    \"&IF(Ekders!U76=\"\",0,Ekders!U76)&\"                    \"&IF(Ekders!U77=\"\",0,Ekders!U77)&\"                    \"&IF(Ekders!U78=\"\",0,Ekders!U78)","v":"0                    0                    0                    0                    0                    0"},{"$f":"IF(Ekders!V73=\"\",0,Ekders!V73)&\"                    \"&IF(Ekders!V74=\"\",0,Ekders!V74)&\"                    \"&IF(Ekders!V75=\"\",0,Ekders!V75)&\"                    \"&IF(Ekders!V76=\"\",0,Ekders!V76)&\"                    \"&IF(Ekders!V77=\"\",0,Ekders!V77)&\"                    \"&IF(Ekders!V78=\"\",0,Ekders!V78)","v":"0                    0                    0                    0                    0                    0"},{"$f":"IF(Ekders!W73=\"\",0,Ekders!W73)&\"                    \"&IF(Ekders!W74=\"\",0,Ekders!W74)&\"                    \"&IF(Ekders!W75=\"\",0,Ekders!W75)&\"                    \"&IF(Ekders!W76=\"\",0,Ekders!W76)&\"                    \"&IF(Ekders!W77=\"\",0,Ekders!W77)&\"                    \"&IF(Ekders!W78=\"\",0,Ekders!W78)","v":"0                    0                    0                    0                    0                    0"},{"$f":"IF(Ekders!X73=\"\",0,Ekders!X73)&\"                    \"&IF(Ekders!X74=\"\",0,Ekders!X74)&\"                    \"&IF(Ekders!X75=\"\",0,Ekders!X75)&\"                    \"&IF(Ekders!X76=\"\",0,Ekders!X76)&\"                    \"&IF(Ekders!X77=\"\",0,Ekders!X77)&\"                    \"&IF(Ekders!X78=\"\",0,Ekders!X78)","v":"0                    0                    0                    0                    0                    0"},{"$f":"IF(Ekders!Y73=\"\",0,Ekders!Y73)&\"                    \"&IF(Ekders!Y74=\"\",0,Ekders!Y74)&\"                    \"&IF(Ekders!Y75=\"\",0,Ekders!Y75)&\"                    \"&IF(Ekders!Y76=\"\",0,Ekders!Y76)&\"                    \"&IF(Ekders!Y77=\"\",0,Ekders!Y77)&\"                    \"&IF(Ekders!Y78=\"\",0,Ekders!Y78)","v":"0                    0                    0                    0                    0                    0"},{"$f":"IF(Ekders!Z73=\"\",0,Ekders!Z73)&\"                    \"&IF(Ekders!Z74=\"\",0,Ekders!Z74)&\"                    \"&IF(Ekders!Z75=\"\",0,Ekders!Z75)&\"                    \"&IF(Ekders!Z76=\"\",0,Ekders!Z76)&\"                    \"&IF(Ekders!Z77=\"\",0,Ekders!Z77)&\"                    \"&IF(Ekders!Z78=\"\",0,Ekders!Z78)","v":"0                    0                    0                    0                    0                    0"},{"$f":"IF(Ekders!AA73=\"\",0,Ekders!AA73)&\"                    \"&IF(Ekders!AA74=\"\",0,Ekders!AA74)&\"                    \"&IF(Ekders!AA75=\"\",0,Ekders!AA75)&\"                    \"&IF(Ekders!AA76=\"\",0,Ekders!AA76)&\"                    \"&IF(Ekders!AA77=\"\",0,Ekders!AA77)&\"                    \"&IF(Ekders!AA78=\"\",0,Ekders!AA78)","v":"0                    0                    0                    0                    0                    0"},{"$f":"IF(Ekders!AB73=\"\",0,Ekders!AB73)&\"                    \"&IF(Ekders!AB74=\"\",0,Ekders!AB74)&\"                    \"&IF(Ekders!AB75=\"\",0,Ekders!AB75)&\"                    \"&IF(Ekders!AB76=\"\",0,Ekders!AB76)&\"                    \"&IF(Ekders!AB77=\"\",0,Ekders!AB77)&\"                    \"&IF(Ekders!AB78=\"\",0,Ekders!AB78)","v":"0                    0                    0                    0                    0                    0"},{"$f":"IF(Ekders!AC73=\"\",0,Ekders!AC73)&\"                    \"&IF(Ekders!AC74=\"\",0,Ekders!AC74)&\"                    \"&IF(Ekders!AC75=\"\",0,Ekders!AC75)&\"                    \"&IF(Ekders!AC76=\"\",0,Ekders!AC76)&\"                    \"&IF(Ekders!AC77=\"\",0,Ekders!AC77)&\"                    \"&IF(Ekders!AC78=\"\",0,Ekders!AC78)","v":"0                    0                    0                    0                    0                    0"},{"$f":"IF(Ekders!AD73=\"\",0,Ekders!AD73)&\"                    \"&IF(Ekders!AD74=\"\",0,Ekders!AD74)&\"                    \"&IF(Ekders!AD75=\"\",0,Ekders!AD75)&\"                    \"&IF(Ekders!AD76=\"\",0,Ekders!AD76)&\"                    \"&IF(Ekders!AD77=\"\",0,Ekders!AD77)&\"                    \"&IF(Ekders!AD78=\"\",0,Ekders!AD78)","v":"0                    0                    0                    0                    0                    0"},{"$f":"IF(Ekders!AE73=\"\",0,Ekders!AE73)&\"                    \"&IF(Ekders!AE74=\"\",0,Ekders!AE74)&\"                    \"&IF(Ekders!AE75=\"\",0,Ekders!AE75)&\"                    \"&IF(Ekders!AE76=\"\",0,Ekders!AE76)&\"                    \"&IF(Ekders!AE77=\"\",0,Ekders!AE77)&\"                    \"&IF(Ekders!AE78=\"\",0,Ekders!AE78)","v":"0                    0                    0                    0                    0                    0"},{"$f":"IF(Ekders!AF73=\"\",0,Ekders!AF73)&\"                    \"&IF(Ekders!AF74=\"\",0,Ekders!AF74)&\"                    \"&IF(Ekders!AF75=\"\",0,Ekders!AF75)&\"                    \"&IF(Ekders!AF76=\"\",0,Ekders!AF76)&\"                    \"&IF(Ekders!AF77=\"\",0,Ekders!AF77)&\"                    \"&IF(Ekders!AF78=\"\",0,Ekders!AF78)","v":"0                    0                    0                    0                    0                    0"},{"$f":"IF(Ekders!AG73=\"\",0,Ekders!AG73)&\"                    \"&IF(Ekders!AG74=\"\",0,Ekders!AG74)&\"                    \"&IF(Ekders!AG75=\"\",0,Ekders!AG75)&\"                    \"&IF(Ekders!AG76=\"\",0,Ekders!AG76)&\"                    \"&IF(Ekders!AG77=\"\",0,Ekders!AG77)&\"                    \"&IF(Ekders!AG78=\"\",0,Ekders!AG78)","v":"0                    0                    0                    0                    0                    0"},{"$f":"IF(Ekders!AH73=\"\",0,Ekders!AH73)&\"                    \"&IF(Ekders!AH74=\"\",0,Ekders!AH74)&\"                    \"&IF(Ekders!AH75=\"\",0,Ekders!AH75)&\"                    \"&IF(Ekders!AH76=\"\",0,Ekders!AH76)&\"                    \"&IF(Ekders!AH77=\"\",0,Ekders!AH77)&\"                    \"&IF(Ekders!AH78=\"\",0,Ekders!AH78)","v":"0                    0                    0                    0                    0                    0"},{"$f":"IF(Ekders!AI73=\"\",0,Ekders!AI73)&\"                    \"&IF(Ekders!AI74=\"\",0,Ekders!AI74)&\"                    \"&IF(Ekders!AI75=\"\",0,Ekders!AI75)&\"                    \"&IF(Ekders!AI76=\"\",0,Ekders!AI76)&\"                    \"&IF(Ekders!AI77=\"\",0,Ekders!AI77)&\"                    \"&IF(Ekders!AI78=\"\",0,Ekders!AI78)","v":"0                    0                    0                    0                    0                    0"},{"$f":"IF(Ekders!AJ73=\"\",0,Ekders!AJ73)&\"                    \"&IF(Ekders!AJ74=\"\",0,Ekders!AJ74)&\"                    \"&IF(Ekders!AJ75=\"\",0,Ekders!AJ75)&\"                    \"&IF(Ekders!AJ76=\"\",0,Ekders!AJ76)&\"                    \"&IF(Ekders!AJ77=\"\",0,Ekders!AJ77)&\"                    \"&IF(Ekders!AJ78=\"\",0,Ekders!AJ78)","v":"0                    0                    0                    0                    0                    0"},{"$f":"IF(Ekders!AK73=\"\",0,Ekders!AK73)&\"                    \"&IF(Ekders!AK74=\"\",0,Ekders!AK74)&\"                    \"&IF(Ekders!AK75=\"\",0,Ekders!AK75)&\"                    \"&IF(Ekders!AK76=\"\",0,Ekders!AK76)&\"                    \"&IF(Ekders!AK77=\"\",0,Ekders!AK77)&\"                    \"&IF(Ekders!AK78=\"\",0,Ekders!AK78)","v":"0                    0                    0                    0                    0                    0"},{"$f":"IF(Ekders!AL73=\"\",0,Ekders!AL73)&\"                    \"&IF(Ekders!AL74=\"\",0,Ekders!AL74)&\"                    \"&IF(Ekders!AL75=\"\",0,Ekders!AL75)&\"                    \"&IF(Ekders!AL76=\"\",0,Ekders!AL76)&\"                    \"&IF(Ekders!AL77=\"\",0,Ekders!AL77)&\"                    \"&IF(Ekders!AL78=\"\",0,Ekders!AL78)","v":"0                    0                    0                    0                    0                    0"},{"$f":"IF(Ekders!AM73=\"\",0,Ekders!AM73)&\"                    \"&IF(Ekders!AM74=\"\",0,Ekders!AM74)&\"                    \"&IF(Ekders!AM75=\"\",0,Ekders!AM75)&\"                    \"&IF(Ekders!AM76=\"\",0,Ekders!AM76)&\"                    \"&IF(Ekders!AM77=\"\",0,Ekders!AM77)&\"                    \"&IF(Ekders!AM78=\"\",0,Ekders!AM78)","v":"0                    0                    0                    0                    0                    0"},{"$f":"IF(Ekders!AN73=\"\",0,Ekders!AN73)&\"                    \"&IF(Ekders!AN74=\"\",0,Ekders!AN74)&\"                    \"&IF(Ekders!AN75=\"\",0,Ekders!AN75)&\"                    \"&IF(Ekders!AN76=\"\",0,Ekders!AN76)&\"                    \"&IF(Ekders!AN77=\"\",0,Ekders!AN77)&\"                    \"&IF(Ekders!AN78=\"\",0,Ekders!AN78)","v":"0                    0                    0                    0                    0                    0"},{"$f":"IF(Ekders!AO73=\"\",0,Ekders!AO73)&\"                    \"&IF(Ekders!AO74=\"\",0,Ekders!AO74)&\"                    \"&IF(Ekders!AO75=\"\",0,Ekders!AO75)&\"                    \"&IF(Ekders!AO76=\"\",0,Ekders!AO76)&\"                    \"&IF(Ekders!AO77=\"\",0,Ekders!AO77)&\"                    \"&IF(Ekders!AO78=\"\",0,Ekders!AO78)","v":"0                    0                    0                    0                    0                    0"},{"$f":"IF(Ekders!AP73=\"\",0,Ekders!AP73)&\"                    \"&IF(Ekders!AP74=\"\",0,Ekders!AP74)&\"                    \"&IF(Ekders!AP75=\"\",0,Ekders!AP75)&\"                    \"&IF(Ekders!AP76=\"\",0,Ekders!AP76)&\"                    \"&IF(Ekders!AP77=\"\",0,Ekders!AP77)&\"                    \"&IF(Ekders!AP78=\"\",0,Ekders!AP78)","v":"0                    0                    0                    0                    0                    0"},{"$f":"IF(Ekders!AQ73=\"\",0,Ekders!AQ73)&\"                    \"&IF(Ekders!AQ74=\"\",0,Ekders!AQ74)&\"                    \"&IF(Ekders!AQ75=\"\",0,Ekders!AQ75)&\"                    \"&IF(Ekders!AQ76=\"\",0,Ekders!AQ76)&\"                    \"&IF(Ekders!AQ77=\"\",0,Ekders!AQ77)&\"                    \"&IF(Ekders!AQ78=\"\",0,Ekders!AQ78)","v":"0                    0                    0                    0                    0                    0"},{"$f":"IF(Ekders!AR73=\"\",0,Ekders!AR73)&\"                    \"&IF(Ekders!AR74=\"\",0,Ekders!AR74)&\"                    \"&IF(Ekders!AR75=\"\",0,Ekders!AR75)&\"                    \"&IF(Ekders!AR76=\"\",0,Ekders!AR76)&\"                    \"&IF(Ekders!AR77=\"\",0,Ekders!AR77)&\"                    \"&IF(Ekders!AR78=\"\",0,Ekders!AR78)","v":"0                    0                    0                    0                    0                    0"},{"$f":"IF(Ekders!AS73=\"\",0,Ekders!AS73)&\"                    \"&IF(Ekders!AS74=\"\",0,Ekders!AS74)&\"                    \"&IF(Ekders!AS75=\"\",0,Ekders!AS75)&\"                    \"&IF(Ekders!AS76=\"\",0,Ekders!AS76)&\"                    \"&IF(Ekders!AS77=\"\",0,Ekders!AS77)&\"                    \"&IF(Ekders!AS78=\"\",0,Ekders!AS78)","v":"0                    0                    0                    0                    0                    0"},{"$f":"IF(Ekders!AT73=\"\",0,Ekders!AT73)&\"                    \"&IF(Ekders!AT74=\"\",0,Ekders!AT74)&\"                    \"&IF(Ekders!AT75=\"\",0,Ekders!AT75)&\"                    \"&IF(Ekders!AT76=\"\",0,Ekders!AT76)&\"                    \"&IF(Ekders!AT77=\"\",0,Ekders!AT77)&\"                    \"&IF(Ekders!AT78=\"\",0,Ekders!AT78)","v":"0                    0                    0                    0                    0                    0"},{"$f":"IF(Ekders!AU73=\"\",0,Ekders!AU73)&\"                    \"&IF(Ekders!AU74=\"\",0,Ekders!AU74)&\"                    \"&IF(Ekders!AU75=\"\",0,Ekders!AU75)&\"                    \"&IF(Ekders!AU76=\"\",0,Ekders!AU76)&\"                    \"&IF(Ekders!AU77=\"\",0,Ekders!AU77)&\"                    \"&IF(Ekders!AU78=\"\",0,Ekders!AU78)","v":"0                    0                    0                    0                    0                    0"},{"$f":"IF(Ekders!AV73=\"\",0,Ekders!AV73)&\"                    \"&IF(Ekders!AV74=\"\",0,Ekders!AV74)&\"                    \"&IF(Ekders!AV75=\"\",0,Ekders!AV75)&\"                    \"&IF(Ekders!AV76=\"\",0,Ekders!AV76)&\"                    \"&IF(Ekders!AV77=\"\",0,Ekders!AV77)&\"                    \"&IF(Ekders!AV78=\"\",0,Ekders!AV78)","v":"0                    0                    0                    0                    0                    0"},{"$f":"IF(Ekders!AW73=\"\",0,Ekders!AW73)&\"                    \"&IF(Ekders!AW74=\"\",0,Ekders!AW74)&\"                    \"&IF(Ekders!AW75=\"\",0,Ekders!AW75)&\"                    \"&IF(Ekders!AW76=\"\",0,Ekders!AW76)&\"                    \"&IF(Ekders!AW77=\"\",0,Ekders!AW77)&\"                    \"&IF(Ekders!AW78=\"\",0,Ekders!AW78)","v":"0                    0                    0                    0                    0                    0"},{"$f":"IF(Ekders!AX73=\"\",0,Ekders!AX73)&\"                    \"&IF(Ekders!AX74=\"\",0,Ekders!AX74)&\"                    \"&IF(Ekders!AX75=\"\",0,Ekders!AX75)&\"                    \"&IF(Ekders!AX76=\"\",0,Ekders!AX76)&\"                    \"&IF(Ekders!AX77=\"\",0,Ekders!AX77)&\"                    \"&IF(Ekders!AX78=\"\",0,Ekders!AX78)","v":"0                    0                    0                    0                    0                    0"},{"$f":"IF(Ekders!AY73=\"\",0,Ekders!AY73)&\"                    \"&IF(Ekders!AY74=\"\",0,Ekders!AY74)&\"                    \"&IF(Ekders!AY75=\"\",0,Ekders!AY75)&\"                    \"&IF(Ekders!AY76=\"\",0,Ekders!AY76)&\"                    \"&IF(Ekders!AY77=\"\",0,Ekders!AY77)&\"                    \"&IF(Ekders!AY78=\"\",0,Ekders!AY78)","v":"0                    0                    0                    0                    0                    0"},{"$f":"Ekders!AY73+Ekders!AY74+Ekders!AY75+Ekders!AY76+Ekders!AY77+Ekders!AY78","v":0},0]
[{"$f":"Ekders!B79&\"                                                       \"&Ekders!B80&\"                                                       \"&Ekders!B81&\"                                                       \"&Ekders!B83&\"                                                       \"&Ekders!B84&\"                                                       \"&Ekders!B82","v":"                                                                                                                                                                                                                                                                                   "},null,{"$f":"Ekders!L79&\"                    \"&Ekders!L80&\"                    \"&Ekders!L81&\"                    \"&Ekders!L82&\"                    \"&Ekders!L83&\"                    \"&Ekders!L84","v":"Gündüz (Lisans)                    Gündüz (Y. Lisans)                    Gündüz (Doktora)                    Gece (Lisans)                    Gece (Y. Lisans)                    Gece (Doktora)"},null,null,null,null,{"$f":"IF(Ekders!P79=\"\",0,Ekders!P79)&\"                    \"&IF(Ekders!P80=\"\",0,Ekders!P80)&\"                    \"&IF(Ekders!P81=\"\",0,Ekders!P81)&\"                    \"&IF(Ekders!P82=\"\",0,Ekders!P82)&\"                    \"&IF(Ekders!P83=\"\",0,Ekders!P83)&\"                    \"&IF(Ekders!P84=\"\",0,Ekders!P84)","v":"0                    0                    0                    0                    0                    0"},{"$f":"IF(Ekders!Q79=\"\",0,Ekders!Q79)&\"                    \"&IF(Ekders!Q80=\"\",0,Ekders!Q80)&\"                    \"&IF(Ekders!Q81=\"\",0,Ekders!Q81)&\"                    \"&IF(Ekders!Q82=\"\",0,Ekders!Q82)&\"                    \"&IF(Ekders!Q83=\"\",0,Ekders!Q83)&\"                    \"&IF(Ekders!Q84=\"\",0,Ekders!Q84)","v":"0                    0                    0                    0                    0                    0"},{"$f":"IF(Ekders!R79=\"\",0,Ekders!R79)&\"                    \"&IF(Ekders!R80=\"\",0,Ekders!R80)&\"                    \"&IF(Ekders!R81=\"\",0,Ekders!R81)&\"                    \"&IF(Ekders!R82=\"\",0,Ekders!R82)&\"                    \"&IF(Ekders!R83=\"\",0,Ekders!R83)&\"                    \"&IF(Ekders!R84=\"\",0,Ekders!R84)","v":"0                    0                    0                    0                    0                    0"},{"$f":"IF(Ekders!S79=\"\",0,Ekders!S79)&\"                    \"&IF(Ekders!S80=\"\",0,Ekders!S80)&\"                    \"&IF(Ekders!S81=\"\",0,Ekders!S81)&\"                    \"&IF(Ekders!S82=\"\",0,Ekders!S82)&\"                    \"&IF(Ekders!S83=\"\",0,Ekders!S83)&\"                    \"&IF(Ekders!S84=\"\",0,Ekders!S84)","v":"0                    0                    0                    0                    0                    0"},{"$f":"IF(Ekders!T79=\"\",0,Ekders!T79)&\"                    \"&IF(Ekders!T80=\"\",0,Ekders!T80)&\"                    \"&IF(Ekders!T81=\"\",0,Ekders!T81)&\"                    \"&IF(Ekders!T82=\"\",0,Ekders!T82)&\"                    \"&IF(Ekders!T83=\"\",0,Ekders!T83)&\"                    \"&IF(Ekders!T84=\"\",0,Ekders!T84)","v":"0                    0                    0                    0                    0                    0"},{"$f":"IF(Ekders!U79=\"\",0,Ekders!U79)&\"                    \"&IF(Ekders!U80=\"\",0,Ekders!U80)&\"                    \"&IF(Ekders!U81=\"\",0,Ekders!U81)&\"                    \"&IF(Ekders!U82=\"\",0,Ekders!U82)&\"                    \"&IF(Ekders!U83=\"\",0,Ekders!U83)&\"                    \"&IF(Ekders!U84=\"\",0,Ekders!U84)","v":"0                    0                    0                    0                    0                    0"},{"$f":"IF(Ekders!V79=\"\",0,Ekders!V79)&\"                    \"&IF(Ekders!V80=\"\",0,Ekders!V80)&\"                    \"&IF(Ekders!V81=\"\",0,Ekders!V81)&\"                    \"&IF(Ekders!V82=\"\",0,Ekders!V82)&\"                    \"&IF(Ekders!V83=\"\",0,Ekders!V83)&\"                    \"&IF(Ekders!V84=\"\",0,Ekders!V84)","v":"0                    0                    0                    0                    0                    0"},{"$f":"IF(Ekders!W79=\"\",0,Ekders!W79)&\"                    \"&IF(Ekders!W80=\"\",0,Ekders!W80)&\"                    \"&IF(Ekders!W81=\"\",0,Ekders!W81)&\"                    \"&IF(Ekders!W82=\"\",0,Ekders!W82)&\"                    \"&IF(Ekders!W83=\"\",0,Ekders!W83)&\"                    \"&IF(Ekders!W84=\"\",0,Ekders!W84)","v":"0                    0                    0                    0                    0                    0"},{"$f":"IF(Ekders!X79=\"\",0,Ekders!X79)&\"                    \"&IF(Ekders!X80=\"\",0,Ekders!X80)&\"                    \"&IF(Ekders!X81=\"\",0,Ekders!X81)&\"                    \"&IF(Ekders!X82=\"\",0,Ekders!X82)&\"                    \"&IF(Ekders!X83=\"\",0,Ekders!X83)&\"                    \"&IF(Ekders!X84=\"\",0,Ekders!X84)","v":"0                    0                    0                    0                    0                    0"},{"$f":"IF(Ekders!Y79=\"\",0,Ekders!Y79)&\"                    \"&IF(Ekders!Y80=\"\",0,Ekders!Y80)&\"                    \"&IF(Ekders!Y81=\"\",0,Ekders!Y81)&\"                    \"&IF(Ekders!Y82=\"\",0,Ekders!Y82)&\"                    \"&IF(Ekders!Y83=\"\",0,Ekders!Y83)&\"                    \"&IF(Ekders!Y84=\"\",0,Ekders!Y84)","v":"0                    0                    0                    0                    0                    0"},{"$f":"IF(Ekders!Z79=\"\",0,Ekders!Z79)&\"                    \"&IF(Ekders!Z80=\"\",0,Ekders!Z80)&\"                    \"&IF(Ekders!Z81=\"\",0,Ekders!Z81)&\"                    \"&IF(Ekders!Z82=\"\",0,Ekders!Z82)&\"                    \"&IF(Ekders!Z83=\"\",0,Ekders!Z83)&\"                    \"&IF(Ekders!Z84=\"\",0,Ekders!Z84)","v":"0                    0                    0                    0                    0                    0"},{"$f":"IF(Ekders!AA79=\"\",0,Ekders!AA79)&\"                    \"&IF(Ekders!AA80=\"\",0,Ekders!AA80)&\"                    \"&IF(Ekders!AA81=\"\",0,Ekders!AA81)&\"                    \"&IF(Ekders!AA82=\"\",0,Ekders!AA82)&\"                    \"&IF(Ekders!AA83=\"\",0,Ekders!AA83)&\"                    \"&IF(Ekders!AA84=\"\",0,Ekders!AA84)","v":"0                    0                    0                    0                    0                    0"},{"$f":"IF(Ekders!AB79=\"\",0,Ekders!AB79)&\"                    \"&IF(Ekders!AB80=\"\",0,Ekders!AB80)&\"                    \"&IF(Ekders!AB81=\"\",0,Ekders!AB81)&\"                    \"&IF(Ekders!AB82=\"\",0,Ekders!AB82)&\"                    \"&IF(Ekders!AB83=\"\",0,Ekders!AB83)&\"                    \"&IF(Ekders!AB84=\"\",0,Ekders!AB84)","v":"0                    0                    0                    0                    0                    0"},{"$f":"IF(Ekders!AC79=\"\",0,Ekders!AC79)&\"                    \"&IF(Ekders!AC80=\"\",0,Ekders!AC80)&\"                    \"&IF(Ekders!AC81=\"\",0,Ekders!AC81)&\"                    \"&IF(Ekders!AC82=\"\",0,Ekders!AC82)&\"                    \"&IF(Ekders!AC83=\"\",0,Ekders!AC83)&\"                    \"&IF(Ekders!AC84=\"\",0,Ekders!AC84)","v":"0                    0                    0                    0                    0                    0"},{"$f":"IF(Ekders!AD79=\"\",0,Ekders!AD79)&\"                    \"&IF(Ekders!AD80=\"\",0,Ekders!AD80)&\"                    \"&IF(Ekders!AD81=\"\",0,Ekders!AD81)&\"                    \"&IF(Ekders!AD82=\"\",0,Ekders!AD82)&\"                    \"&IF(Ekders!AD83=\"\",0,Ekders!AD83)&\"                    \"&IF(Ekders!AD84=\"\",0,Ekders!AD84)","v":"0                    0                    0                    0                    0                    0"},{"$f":"IF(Ekders!AE79=\"\",0,Ekders!AE79)&\"                    \"&IF(Ekders!AE80=\"\",0,Ekders!AE80)&\"                    \"&IF(Ekders!AE81=\"\",0,Ekders!AE81)&\"                    \"&IF(Ekders!AE82=\"\",0,Ekders!AE82)&\"                    \"&IF(Ekders!AE83=\"\",0,Ekders!AE83)&\"                    \"&IF(Ekders!AE84=\"\",0,Ekders!AE84)","v":"0                    0                    0                    0                    0                    0"},{"$f":"IF(Ekders!AF79=\"\",0,Ekders!AF79)&\"                    \"&IF(Ekders!AF80=\"\",0,Ekders!AF80)&\"                    \"&IF(Ekders!AF81=\"\",0,Ekders!AF81)&\"                    \"&IF(Ekders!AF82=\"\",0,Ekders!AF82)&\"                    \"&IF(Ekders!AF83=\"\",0,Ekders!AF83)&\"                    \"&IF(Ekders!AF84=\"\",0,Ekders!AF84)","v":"0                    0                    0                    0                    0                    0"},{"$f":"IF(Ekders!AG79=\"\",0,Ekders!AG79)&\"                    \"&IF(Ekders!AG80=\"\",0,Ekders!AG80)&\"                    \"&IF(Ekders!AG81=\"\",0,Ekders!AG81)&\"                    \"&IF(Ekders!AG82=\"\",0,Ekders!AG82)&\"                    \"&IF(Ekders!AG83=\"\",0,Ekders!AG83)&\"                    \"&IF(Ekders!AG84=\"\",0,Ekders!AG84)","v":"0                    0                    0                    0                    0                    0"},{"$f":"IF(Ekders!AH79=\"\",0,Ekders!AH79)&\"                    \"&IF(Ekders!AH80=\"\",0,Ekders!AH80)&\"                    \"&IF(Ekders!AH81=\"\",0,Ekders!AH81)&\"                    \"&IF(Ekders!AH82=\"\",0,Ekders!AH82)&\"                    \"&IF(Ekders!AH83=\"\",0,Ekders!AH83)&\"                    \"&IF(Ekders!AH84=\"\",0,Ekders!AH84)","v":"0                    0                    0                    0                    0                    0"},{"$f":"IF(Ekders!AI79=\"\",0,Ekders!AI79)&\"                    \"&IF(Ekders!AI80=\"\",0,Ekders!AI80)&\"                    \"&IF(Ekders!AI81=\"\",0,Ekders!AI81)&\"                    \"&IF(Ekders!AI82=\"\",0,Ekders!AI82)&\"                    \"&IF(Ekders!AI83=\"\",0,Ekders!AI83)&\"                    \"&IF(Ekders!AI84=\"\",0,Ekders!AI84)","v":"0                    0                    0                    0                    0                    0"},{"$f":"IF(Ekders!AJ79=\"\",0,Ekders!AJ79)&\"                    \"&IF(Ekders!AJ80=\"\",0,Ekders!AJ80)&\"                    \"&IF(Ekders!AJ81=\"\",0,Ekders!AJ81)&\"                    \"&IF(Ekders!AJ82=\"\",0,Ekders!AJ82)&\"                    \"&IF(Ekders!AJ83=\"\",0,Ekders!AJ83)&\"                    \"&IF(Ekders!AJ84=\"\",0,Ekders!AJ84)","v":"0                    0                    0                    0                    0                    0"},{"$f":"IF(Ekders!AK79=\"\",0,Ekders!AK79)&\"                    \"&IF(Ekders!AK80=\"\",0,Ekders!AK80)&\"                    \"&IF(Ekders!AK81=\"\",0,Ekders!AK81)&\"                    \"&IF(Ekders!AK82=\"\",0,Ekders!AK82)&\"                    \"&IF(Ekders!AK83=\"\",0,Ekders!AK83)&\"                    \"&IF(Ekders!AK84=\"\",0,Ekders!AK84)","v":"0                    0                    0                    0                    0                    0"},{"$f":"IF(Ekders!AL79=\"\",0,Ekders!AL79)&\"                    \"&IF(Ekders!AL80=\"\",0,Ekders!AL80)&\"                    \"&IF(Ekders!AL81=\"\",0,Ekders!AL81)&\"                    \"&IF(Ekders!AL82=\"\",0,Ekders!AL82)&\"                    \"&IF(Ekders!AL83=\"\",0,Ekders!AL83)&\"                    \"&IF(Ekders!AL84=\"\",0,Ekders!AL84)","v":"0                    0                    0                    0                    0                    0"},{"$f":"IF(Ekders!AM79=\"\",0,Ekders!AM79)&\"                    \"&IF(Ekders!AM80=\"\",0,Ekders!AM80)&\"                    \"&IF(Ekders!AM81=\"\",0,Ekders!AM81)&\"                    \"&IF(Ekders!AM82=\"\",0,Ekders!AM82)&\"                    \"&IF(Ekders!AM83=\"\",0,Ekders!AM83)&\"                    \"&IF(Ekders!AM84=\"\",0,Ekders!AM84)","v":"0                    0                    0                    0                    0                    0"},{"$f":"IF(Ekders!AN79=\"\",0,Ekders!AN79)&\"                    \"&IF(Ekders!AN80=\"\",0,Ekders!AN80)&\"                    \"&IF(Ekders!AN81=\"\",0,Ekders!AN81)&\"                    \"&IF(Ekders!AN82=\"\",0,Ekders!AN82)&\"                    \"&IF(Ekders!AN83=\"\",0,Ekders!AN83)&\"                    \"&IF(Ekders!AN84=\"\",0,Ekders!AN84)","v":"0                    0                    0                    0                    0                    0"},{"$f":"IF(Ekders!AO79=\"\",0,Ekders!AO79)&\"                    \"&IF(Ekders!AO80=\"\",0,Ekders!AO80)&\"                    \"&IF(Ekders!AO81=\"\",0,Ekders!AO81)&\"                    \"&IF(Ekders!AO82=\"\",0,Ekders!AO82)&\"                    \"&IF(Ekders!AO83=\"\",0,Ekders!AO83)&\"                    \"&IF(Ekders!AO84=\"\",0,Ekders!AO84)","v":"0                    0                    0                    0                    0                    0"},{"$f":"IF(Ekders!AP79=\"\",0,Ekders!AP79)&\"                    \"&IF(Ekders!AP80=\"\",0,Ekders!AP80)&\"                    \"&IF(Ekders!AP81=\"\",0,Ekders!AP81)&\"                    \"&IF(Ekders!AP82=\"\",0,Ekders!AP82)&\"                    \"&IF(Ekders!AP83=\"\",0,Ekders!AP83)&\"                    \"&IF(Ekders!AP84=\"\",0,Ekders!AP84)","v":"0                    0                    0                    0                    0                    0"},{"$f":"IF(Ekders!AQ79=\"\",0,Ekders!AQ79)&\"                    \"&IF(Ekders!AQ80=\"\",0,Ekders!AQ80)&\"                    \"&IF(Ekders!AQ81=\"\",0,Ekders!AQ81)&\"                    \"&IF(Ekders!AQ82=\"\",0,Ekders!AQ82)&\"                    \"&IF(Ekders!AQ83=\"\",0,Ekders!AQ83)&\"                    \"&IF(Ekders!AQ84=\"\",0,Ekders!AQ84)","v":"0                    0                    0                    0                    0                    0"},{"$f":"IF(Ekders!AR79=\"\",0,Ekders!AR79)&\"                    \"&IF(Ekders!AR80=\"\",0,Ekders!AR80)&\"                    \"&IF(Ekders!AR81=\"\",0,Ekders!AR81)&\"                    \"&IF(Ekders!AR82=\"\",0,Ekders!AR82)&\"                    \"&IF(Ekders!AR83=\"\",0,Ekders!AR83)&\"                    \"&IF(Ekders!AR84=\"\",0,Ekders!AR84)","v":"0                    0                    0                    0                    0                    0"},{"$f":"IF(Ekders!AS79=\"\",0,Ekders!AS79)&\"                    \"&IF(Ekders!AS80=\"\",0,Ekders!AS80)&\"                    \"&IF(Ekders!AS81=\"\",0,Ekders!AS81)&\"                    \"&IF(Ekders!AS82=\"\",0,Ekders!AS82)&\"                    \"&IF(Ekders!AS83=\"\",0,Ekders!AS83)&\"                    \"&IF(Ekders!AS84=\"\",0,Ekders!AS84)","v":"0                    0                    0                    0                    0                    0"},{"$f":"IF(Ekders!AT79=\"\",0,Ekders!AT79)&\"                    \"&IF(Ekders!AT80=\"\",0,Ekders!AT80)&\"                    \"&IF(Ekders!AT81=\"\",0,Ekders!AT81)&\"                    \"&IF(Ekders!AT82=\"\",0,Ekders!AT82)&\"                    \"&IF(Ekders!AT83=\"\",0,Ekders!AT83)&\"                    \"&IF(Ekders!AT84=\"\",0,Ekders!AT84)","v":"0                    0                    0                    0                    0                    0"},{"$f":"IF(Ekders!AU79=\"\",0,Ekders!AU79)&\"                    \"&IF(Ekders!AU80=\"\",0,Ekders!AU80)&\"                    \"&IF(Ekders!AU81=\"\",0,Ekders!AU81)&\"                    \"&IF(Ekders!AU82=\"\",0,Ekders!AU82)&\"                    \"&IF(Ekders!AU83=\"\",0,Ekders!AU83)&\"                    \"&IF(Ekders!AU84=\"\",0,Ekders!AU84)","v":"0                    0                    0                    0                    0                    0"},{"$f":"IF(Ekders!AV79=\"\",0,Ekders!AV79)&\"                    \"&IF(Ekders!AV80=\"\",0,Ekders!AV80)&\"                    \"&IF(Ekders!AV81=\"\",0,Ekders!AV81)&\"                    \"&IF(Ekders!AV82=\"\",0,Ekders!AV82)&\"                    \"&IF(Ekders!AV83=\"\",0,Ekders!AV83)&\"                    \"&IF(Ekders!AV84=\"\",0,Ekders!AV84)","v":"0                    0                    0                    0                    0                    0"},{"$f":"IF(Ekders!AW79=\"\",0,Ekders!AW79)&\"                    \"&IF(Ekders!AW80=\"\",0,Ekders!AW80)&\"                    \"&IF(Ekders!AW81=\"\",0,Ekders!AW81)&\"                    \"&IF(Ekders!AW82=\"\",0,Ekders!AW82)&\"                    \"&IF(Ekders!AW83=\"\",0,Ekders!AW83)&\"                    \"&IF(Ekders!AW84=\"\",0,Ekders!AW84)","v":"0                    0                    0                    0                    0                    0"},{"$f":"IF(Ekders!AX79=\"\",0,Ekders!AX79)&\"                    \"&IF(Ekders!AX80=\"\",0,Ekders!AX80)&\"                    \"&IF(Ekders!AX81=\"\",0,Ekders!AX81)&\"                    \"&IF(Ekders!AX82=\"\",0,Ekders!AX82)&\"                    \"&IF(Ekders!AX83=\"\",0,Ekders!AX83)&\"                    \"&IF(Ekders!AX84=\"\",0,Ekders!AX84)","v":"0                    0                    0                    0                    0                    0"},{"$f":"IF(Ekders!AY79=\"\",0,Ekders!AY79)&\"                    \"&IF(Ekders!AY80=\"\",0,Ekders!AY80)&\"                    \"&IF(Ekders!AY81=\"\",0,Ekders!AY81)&\"                    \"&IF(Ekders!AY82=\"\",0,Ekders!AY82)&\"                    \"&IF(Ekders!AY83=\"\",0,Ekders!AY83)&\"                    \"&IF(Ekders!AY84=\"\",0,Ekders!AY84)","v":"0                    0                    0                    0                    0                    0"},{"$f":"Ekders!AY79+Ekders!AY80+Ekders!AY81+Ekders!AY82+Ekders!AY83+Ekders!AY84","v":0},0]
[{"$f":"Ekders!B85&\"                                                       \"&Ekders!B86&\"                                                       \"&Ekders!B87&\"                                                       \"&Ekders!B89&\"                                                       \"&Ekders!B90&\"                                                       \"&Ekders!B88","v":"                                                                                                                                                                                                                                                                                   "},null,{"$f":"Ekders!L85&\"                    \"&Ekders!L86&\"                    \"&Ekders!L87&\"                    \"&Ekders!L88&\"                    \"&Ekders!L89&\"                    \"&Ekders!L90","v":"Gündüz (Lisans)                    Gündüz (Y. Lisans)                    Gündüz (Doktora)                    Gece (Lisans)                    Gece (Y. Lisans)                    Gece (Doktora)"},null,null,null,null,{"$f":"IF(Ekders!P85=\"\",0,Ekders!P85)&\"                    \"&IF(Ekders!P86=\"\",0,Ekders!P86)&\"                    \"&IF(Ekders!P87=\"\",0,Ekders!P87)&\"                    \"&IF(Ekders!P88=\"\",0,Ekders!P88)&\"                    \"&IF(Ekders!P89=\"\",0,Ekders!P89)&\"                    \"&IF(Ekders!P90=\"\",0,Ekders!P90)","v":"0                    0                    0                    0                    0                    0"},{"$f":"IF(Ekders!Q85=\"\",0,Ekders!Q85)&\"                    \"&IF(Ekders!Q86=\"\",0,Ekders!Q86)&\"                    \"&IF(Ekders!Q87=\"\",0,Ekders!Q87)&\"                    \"&IF(Ekders!Q88=\"\",0,Ekders!Q88)&\"                    \"&IF(Ekders!Q89=\"\",0,Ekders!Q89)&\"                    \"&IF(Ekders!Q90=\"\",0,Ekders!Q90)","v":"0                    0                    0                    0                    0                    0"},{"$f":"IF(Ekders!R85=\"\",0,Ekders!R85)&\"                    \"&IF(Ekders!R86=\"\",0,Ekders!R86)&\"                    \"&IF(Ekders!R87=\"\",0,Ekders!R87)&\"                    \"&IF(Ekders!R88=\"\",0,Ekders!R88)&\"                    \"&IF(Ekders!R89=\"\",0,Ekders!R89)&\"                    \"&IF(Ekders!R90=\"\",0,Ekders!R90)","v":"0                    0                    0                    0                    0                    0"},{"$f":"IF(Ekders!S85=\"\",0,Ekders!S85)&\"                    \"&IF(Ekders!S86=\"\",0,Ekders!S86)&\"                    \"&IF(Ekders!S87=\"\",0,Ekders!S87)&\"                    \"&IF(Ekders!S88=\"\",0,Ekders!S88)&\"                    \"&IF(Ekders!S89=\"\",0,Ekders!S89)&\"                    \"&IF(Ekders!S90=\"\",0,Ekders!S90)","v":"0                    0                    0                    0                    0                    0"},{"$f":"IF(Ekders!T85=\"\",0,Ekders!T85)&\"                    \"&IF(Ekders!T86=\"\",0,Ekders!T86)&\"                    \"&IF(Ekders!T87=\"\",0,Ekders!T87)&\"                    \"&IF(Ekders!T88=\"\",0,Ekders!T88)&\"                    \"&IF(Ekders!T89=\"\",0,Ekders!T89)&\"                    \"&IF(Ekders!T90=\"\",0,Ekders!T90)","v":"0                    0                    0                    0                    0                    0"},{"$f":"IF(Ekders!U85=\"\",0,Ekders!U85)&\"                    \"&IF(Ekders!U86=\"\",0,Ekders!U86)&\"                    \"&IF(Ekders!U87=\"\",0,Ekders!U87)&\"                    \"&IF(Ekders!U88=\"\",0,Ekders!U88)&\"                    \"&IF(Ekders!U89=\"\",0,Ekders!U89)&\"                    \"&IF(Ekders!U90=\"\",0,Ekders!U90)","v":"0                    0                    0                    0                    0                    0"},{"$f":"IF(Ekders!V85=\"\",0,Ekders!V85)&\"                    \"&IF(Ekders!V86=\"\",0,Ekders!V86)&\"                    \"&IF(Ekders!V87=\"\",0,Ekders!V87)&\"                    \"&IF(Ekders!V88=\"\",0,Ekders!V88)&\"                    \"&IF(Ekders!V89=\"\",0,Ekders!V89)&\"                    \"&IF(Ekders!V90=\"\",0,Ekders!V90)","v":"0                    0                    0                    0                    0                    0"},{"$f":"IF(Ekders!W85=\"\",0,Ekders!W85)&\"                    \"&IF(Ekders!W86=\"\",0,Ekders!W86)&\"                    \"&IF(Ekders!W87=\"\",0,Ekders!W87)&\"                    \"&IF(Ekders!W88=\"\",0,Ekders!W88)&\"                    \"&IF(Ekders!W89=\"\",0,Ekders!W89)&\"                    \"&IF(Ekders!W90=\"\",0,Ekders!W90)","v":"0                    0                    0                    0                    0                    0"},{"$f":"IF(Ekders!X85=\"\",0,Ekders!X85)&\"                    \"&IF(Ekders!X86=\"\",0,Ekders!X86)&\"                    \"&IF(Ekders!X87=\"\",0,Ekders!X87)&\"                    \"&IF(Ekders!X88=\"\",0,Ekders!X88)&\"                    \"&IF(Ekders!X89=\"\",0,Ekders!X89)&\"                    \"&IF(Ekders!X90=\"\",0,Ekders!X90)","v":"0                    0                    0                    0                    0                    0"},{"$f":"IF(Ekders!Y85=\"\",0,Ekders!Y85)&\"                    \"&IF(Ekders!Y86=\"\",0,Ekders!Y86)&\"                    \"&IF(Ekders!Y87=\"\",0,Ekders!Y87)&\"                    \"&IF(Ekders!Y88=\"\",0,Ekders!Y88)&\"                    \"&IF(Ekders!Y89=\"\",0,Ekders!Y89)&\"                    \"&IF(Ekders!Y90=\"\",0,Ekders!Y90)","v":"0                    0                    0                    0                    0                    0"},{"$f":"IF(Ekders!Z85=\"\",0,Ekders!Z85)&\"                    \"&IF(Ekders!Z86=\"\",0,Ekders!Z86)&\"                    \"&IF(Ekders!Z87=\"\",0,Ekders!Z87)&\"                    \"&IF(Ekders!Z88=\"\",0,Ekders!Z88)&\"                    \"&IF(Ekders!Z89=\"\",0,Ekders!Z89)&\"                    \"&IF(Ekders!Z90=\"\",0,Ekders!Z90)","v":"0                    0                    0                    0                    0                    0"},{"$f":"IF(Ekders!AA85=\"\",0,Ekders!AA85)&\"                    \"&IF(Ekders!AA86=\"\",0,Ekders!AA86)&\"                    \"&IF(Ekders!AA87=\"\",0,Ekders!AA87)&\"                    \"&IF(Ekders!AA88=\"\",0,Ekders!AA88)&\"                    \"&IF(Ekders!AA89=\"\",0,Ekders!AA89)&\"                    \"&IF(Ekders!AA90=\"\",0,Ekders!AA90)","v":"0                    0                    0                    0                    0                    0"},{"$f":"IF(Ekders!AB85=\"\",0,Ekders!AB85)&\"                    \"&IF(Ekders!AB86=\"\",0,Ekders!AB86)&\"                    \"&IF(Ekders!AB87=\"\",0,Ekders!AB87)&\"                    \"&IF(Ekders!AB88=\"\",0,Ekders!AB88)&\"                    \"&IF(Ekders!AB89=\"\",0,Ekders!AB89)&\"                    \"&IF(Ekders!AB90=\"\",0,Ekders!AB90)","v":"0                    0                    0                    0                    0                    0"},{"$f":"IF(Ekders!AC85=\"\",0,Ekders!AC85)&\"                    \"&IF(Ekders!AC86=\"\",0,Ekders!AC86)&\"                    \"&IF(Ekders!AC87=\"\",0,Ekders!AC87)&\"                    \"&IF(Ekders!AC88=\"\",0,Ekders!AC88)&\"                    \"&IF(Ekders!AC89=\"\",0,Ekders!AC89)&\"                    \"&IF(Ekders!AC90=\"\",0,Ekders!AC90)","v":"0                    0                    0                    0                    0                    0"},{"$f":"IF(Ekders!AD85=\"\",0,Ekders!AD85)&\"                    \"&IF(Ekders!AD86=\"\",0,Ekders!AD86)&\"                    \"&IF(Ekders!AD87=\"\",0,Ekders!AD87)&\"                    \"&IF(Ekders!AD88=\"\",0,Ekders!AD88)&\"                    \"&IF(Ekders!AD89=\"\",0,Ekders!AD89)&\"                    \"&IF(Ekders!AD90=\"\",0,Ekders!AD90)","v":"0                    0                    0                    0                    0                    0"},{"$f":"IF(Ekders!AE85=\"\",0,Ekders!AE85)&\"                    \"&IF(Ekders!AE86=\"\",0,Ekders!AE86)&\"                    \"&IF(Ekders!AE87=\"\",0,Ekders!AE87)&\"                    \"&IF(Ekders!AE88=\"\",0,Ekders!AE88)&\"                    \"&IF(Ekders!AE89=\"\",0,Ekders!AE89)&\"                    \"&IF(Ekders!AE90=\"\",0,Ekders!AE90)","v":"0                    0                    0                    0                    0                    0"},{"$f":"IF(Ekders!AF85=\"\",0,Ekders!AF85)&\"                    \"&IF(Ekders!AF86=\"\",0,Ekders!AF86)&\"                    \"&IF(Ekders!AF87=\"\",0,Ekders!AF87)&\"                    \"&IF(Ekders!AF88=\"\",0,Ekders!AF88)&\"                    \"&IF(Ekders!AF89=\"\",0,Ekders!AF89)&\"                    \"&IF(Ekders!AF90=\"\",0,Ekders!AF90)","v":"0                    0                    0                    0                    0                    0"},{"$f":"IF(Ekders!AG85=\"\",0,Ekders!AG85)&\"                    \"&IF(Ekders!AG86=\"\",0,Ekders!AG86)&\"                    \"&IF(Ekders!AG87=\"\",0,Ekders!AG87)&\"                    \"&IF(Ekders!AG88=\"\",0,Ekders!AG88)&\"                    \"&IF(Ekders!AG89=\"\",0,Ekders!AG89)&\"                    \"&IF(Ekders!AG90=\"\",0,Ekders!AG90)","v":"0                    0                    0                    0                    0                    0"},{"$f":"IF(Ekders!AH85=\"\",0,Ekders!AH85)&\"                    \"&IF(Ekders!AH86=\"\",0,Ekders!AH86)&\"                    \"&IF(Ekders!AH87=\"\",0,Ekders!AH87)&\"                    \"&IF(Ekders!AH88=\"\",0,Ekders!AH88)&\"                    \"&IF(Ekders!AH89=\"\",0,Ekders!AH89)&\"                    \"&IF(Ekders!AH90=\"\",0,Ekders!AH90)","v":"0                    0                    0                    0                    0                    0"},{"$f":"IF(Ekders!AI85=\"\",0,Ekders!AI85)&\"                    \"&IF(Ekders!AI86=\"\",0,Ekders!AI86)&\"                    \"&IF(Ekders!AI87=\"\",0,Ekders!AI87)&\"                    \"&IF(Ekders!AI88=\"\",0,Ekders!AI88)&\"                    \"&IF(Ekders!AI89=\"\",0,Ekders!AI89)&\"                    \"&IF(Ekders!AI90=\"\",0,Ekders!AI90)","v":"0                    0                    0                    0                    0                    0"},{"$f":"IF(Ekders!AJ85=\"\",0,Ekders!AJ85)&\"                    \"&IF(Ekders!AJ86=\"\",0,Ekders!AJ86)&\"                    \"&IF(Ekders!AJ87=\"\",0,Ekders!AJ87)&\"                    \"&IF(Ekders!AJ88=\"\",0,Ekders!AJ88)&\"                    \"&IF(Ekders!AJ89=\"\",0,Ekders!AJ89)&\"                    \"&IF(Ekders!AJ90=\"\",0,Ekders!AJ90)","v":"0                    0                    0                    0                    0                    0"},{"$f":"IF(Ekders!AK85=\"\",0,Ekders!AK85)&\"                    \"&IF(Ekders!AK86=\"\",0,Ekders!AK86)&\"                    \"&IF(Ekders!AK87=\"\",0,Ekders!AK87)&\"                    \"&IF(Ekders!AK88=\"\",0,Ekders!AK88)&\"                    \"&IF(Ekders!AK89=\"\",0,Ekders!AK89)&\"                    \"&IF(Ekders!AK90=\"\",0,Ekders!AK90)","v":"0                    0                    0                    0                    0                    0"},{"$f":"IF(Ekders!AL85=\"\",0,Ekders!AL85)&\"                    \"&IF(Ekders!AL86=\"\",0,Ekders!AL86)&\"                    \"&IF(Ekders!AL87=\"\",0,Ekders!AL87)&\"                    \"&IF(Ekders!AL88=\"\",0,Ekders!AL88)&\"                    \"&IF(Ekders!AL89=\"\",0,Ekders!AL89)&\"                    \"&IF(Ekders!AL90=\"\",0,Ekders!AL90)","v":"0                    0                    0                    0                    0                    0"},{"$f":"IF(Ekders!AM85=\"\",0,Ekders!AM85)&\"                    \"&IF(Ekders!AM86=\"\",0,Ekders!AM86)&\"                    \"&IF(Ekders!AM87=\"\",0,Ekders!AM87)&\"                    \"&IF(Ekders!AM88=\"\",0,Ekders!AM88)&\"                    \"&IF(Ekders!AM89=\"\",0,Ekders!AM89)&\"                    \"&IF(Ekders!AM90=\"\",0,Ekders!AM90)","v":"0                    0                    0                    0                    0                    0"},{"$f":"IF(Ekders!AN85=\"\",0,Ekders!AN85)&\"                    \"&IF(Ekders!AN86=\"\",0,Ekders!AN86)&\"                    \"&IF(Ekders!AN87=\"\",0,Ekders!AN87)&\"                    \"&IF(Ekders!AN88=\"\",0,Ekders!AN88)&\"                    \"&IF(Ekders!AN89=\"\",0,Ekders!AN89)&\"                    \"&IF(Ekders!AN90=\"\",0,Ekders!AN90)","v":"0                    0                    0                    0                    0                    0"},{"$f":"IF(Ekders!AO85=\"\",0,Ekders!AO85)&\"                    \"&IF(Ekders!AO86=\"\",0,Ekders!AO86)&\"                    \"&IF(Ekders!AO87=\"\",0,Ekders!AO87)&\"                    \"&IF(Ekders!AO88=\"\",0,Ekders!AO88)&\"                    \"&IF(Ekders!AO89=\"\",0,Ekders!AO89)&\"                    \"&IF(Ekders!AO90=\"\",0,Ekders!AO90)","v":"0                    0                    0                    0                    0                    0"},{"$f":"IF(Ekders!AP85=\"\",0,Ekders!AP85)&\"                    \"&IF(Ekders!AP86=\"\",0,Ekders!AP86)&\"                    \"&IF(Ekders!AP87=\"\",0,Ekders!AP87)&\"                    \"&IF(Ekders!AP88=\"\",0,Ekders!AP88)&\"                    \"&IF(Ekders!AP89=\"\",0,Ekders!AP89)&\"                    \"&IF(Ekders!AP90=\"\",0,Ekders!AP90)","v":"0                    0                    0                    0                    0                    0"},{"$f":"IF(Ekders!AQ85=\"\",0,Ekders!AQ85)&\"                    \"&IF(Ekders!AQ86=\"\",0,Ekders!AQ86)&\"                    \"&IF(Ekders!AQ87=\"\",0,Ekders!AQ87)&\"                    \"&IF(Ekders!AQ88=\"\",0,Ekders!AQ88)&\"                    \"&IF(Ekders!AQ89=\"\",0,Ekders!AQ89)&\"                    \"&IF(Ekders!AQ90=\"\",0,Ekders!AQ90)","v":"0                    0                    0                    0                    0                    0"},{"$f":"IF(Ekders!AR85=\"\",0,Ekders!AR85)&\"                    \"&IF(Ekders!AR86=\"\",0,Ekders!AR86)&\"                    \"&IF(Ekders!AR87=\"\",0,Ekders!AR87)&\"                    \"&IF(Ekders!AR88=\"\",0,Ekders!AR88)&\"                    \"&IF(Ekders!AR89=\"\",0,Ekders!AR89)&\"                    \"&IF(Ekders!AR90=\"\",0,Ekders!AR90)","v":"0                    0                    0                    0                    0                    0"},{"$f":"IF(Ekders!AS85=\"\",0,Ekders!AS85)&\"                    \"&IF(Ekders!AS86=\"\",0,Ekders!AS86)&\"                    \"&IF(Ekders!AS87=\"\",0,Ekders!AS87)&\"                    \"&IF(Ekders!AS88=\"\",0,Ekders!AS88)&\"                    \"&IF(Ekders!AS89=\"\",0,Ekders!AS89)&\"                    \"&IF(Ekders!AS90=\"\",0,Ekders!AS90)","v":"0                    0                    0                    0                    0                    0"},{"$f":"IF(Ekders!AT85=\"\",0,Ekders!AT85)&\"                    \"&IF(Ekders!AT86=\"\",0,Ekders!AT86)&\"                    \"&IF(Ekders!AT87=\"\",0,Ekders!AT87)&\"                    \"&IF(Ekders!AT88=\"\",0,Ekders!AT88)&\"                    \"&IF(Ekders!AT89=\"\",0,Ekders!AT89)&\"                    \"&IF(Ekders!AT90=\"\",0,Ekders!AT90)","v":"0                    0                    0                    0                    0                    0"},{"$f":"IF(Ekders!AU85=\"\",0,Ekders!AU85)&\"                    \"&IF(Ekders!AU86=\"\",0,Ekders!AU86)&\"                    \"&IF(Ekders!AU87=\"\",0,Ekders!AU87)&\"                    \"&IF(Ekders!AU88=\"\",0,Ekders!AU88)&\"                    \"&IF(Ekders!AU89=\"\",0,Ekders!AU89)&\"                    \"&IF(Ekders!AU90=\"\",0,Ekders!AU90)","v":"0                    0                    0                    0                    0                    0"},{"$f":"IF(Ekders!AV85=\"\",0,Ekders!AV85)&\"                    \"&IF(Ekders!AV86=\"\",0,Ekders!AV86)&\"                    \"&IF(Ekders!AV87=\"\",0,Ekders!AV87)&\"                    \"&IF(Ekders!AV88=\"\",0,Ekders!AV88)&\"                    \"&IF(Ekders!AV89=\"\",0,Ekders!AV89)&\"                    \"&IF(Ekders!AV90=\"\",0,Ekders!AV90)","v":"0                    0                    0                    0                    0                    0"},{"$f":"IF(Ekders!AW85=\"\",0,Ekders!AW85)&\"                    \"&IF(Ekders!AW86=\"\",0,Ekders!AW86)&\"                    \"&IF(Ekders!AW87=\"\",0,Ekders!AW87)&\"                    \"&IF(Ekders!AW88=\"\",0,Ekders!AW88)&\"                    \"&IF(Ekders!AW89=\"\",0,Ekders!AW89)&\"                    \"&IF(Ekders!AW90=\"\",0,Ekders!AW90)","v":"0                    0                    0                    0                    0                    0"},{"$f":"IF(Ekders!AX85=\"\",0,Ekders!AX85)&\"                    \"&IF(Ekders!AX86=\"\",0,Ekders!AX86)&\"                    \"&IF(Ekders!AX87=\"\",0,Ekders!AX87)&\"                    \"&IF(Ekders!AX88=\"\",0,Ekders!AX88)&\"                    \"&IF(Ekders!AX89=\"\",0,Ekders!AX89)&\"                    \"&IF(Ekders!AX90=\"\",0,Ekders!AX90)","v":"0                    0                    0                    0                    0                    0"},{"$f":"IF(Ekders!AY85=\"\",0,Ekders!AY85)&\"                    \"&IF(Ekders!AY86=\"\",0,Ekders!AY86)&\"                    \"&IF(Ekders!AY87=\"\",0,Ekders!AY87)&\"                    \"&IF(Ekders!AY88=\"\",0,Ekders!AY88)&\"                    \"&IF(Ekders!AY89=\"\",0,Ekders!AY89)&\"                    \"&IF(Ekders!AY90=\"\",0,Ekders!AY90)","v":"0                    0                    0                    0                    0                    0"},{"$f":"Ekders!AY85+Ekders!AY86+Ekders!AY87+Ekders!AY88+Ekders!AY89+Ekders!AY90","v":0},0]
[{"$f":"Ekders!B91&\"                                                       \"&Ekders!B92&\"                                                       \"&Ekders!B93&\"                                                       \"&Ekders!B95&\"                                                       \"&Ekders!B96&\"                                                       \"&Ekders!B94","v":"                                                                                                                                                                                                                                                                                   "},null,{"$f":"Ekders!L91&\"                    \"&Ekders!L92&\"                    \"&Ekders!L93&\"                    \"&Ekders!L94&\"                    \"&Ekders!L95&\"                    \"&Ekders!L96","v":"Gündüz (Lisans)                    Gündüz (Y. Lisans)                    Gündüz (Doktora)                    Gece (Lisans)                    Gece (Y. Lisans)                    Gece (Doktora)"},null,null,null,null,{"$f":"IF(Ekders!P91=\"\",0,Ekders!P91)&\"                    \"&IF(Ekders!P92=\"\",0,Ekders!P92)&\"                    \"&IF(Ekders!P93=\"\",0,Ekders!P93)&\"                    \"&IF(Ekders!P94=\"\",0,Ekders!P94)&\"                    \"&IF(Ekders!P95=\"\",0,Ekders!P95)&\"                    \"&IF(Ekders!P96=\"\",0,Ekders!P96)","v":"0                    0                    0                    0                    0                    0"},{"$f":"IF(Ekders!Q91=\"\",0,Ekders!Q91)&\"                    \"&IF(Ekders!Q92=\"\",0,Ekders!Q92)&\"                    \"&IF(Ekders!Q93=\"\",0,Ekders!Q93)&\"                    \"&IF(Ekders!Q94=\"\",0,Ekders!Q94)&\"                    \"&IF(Ekders!Q95=\"\",0,Ekders!Q95)&\"                    \"&IF(Ekders!Q96=\"\",0,Ekders!Q96)","v":"0                    0                    0                    0                    0                    0"},{"$f":"IF(Ekders!R91=\"\",0,Ekders!R91)&\"                    \"&IF(Ekders!R92=\"\",0,Ekders!R92)&\"                    \"&IF(Ekders!R93=\"\",0,Ekders!R93)&\"                    \"&IF(Ekders!R94=\"\",0,Ekders!R94)&\"                    \"&IF(Ekders!R95=\"\",0,Ekders!R95)&\"                    \"&IF(Ekders!R96=\"\",0,Ekders!R96)","v":"0                    0                    0                    0                    0                    0"},{"$f":"IF(Ekders!S91=\"\",0,Ekders!S91)&\"                    \"&IF(Ekders!S92=\"\",0,Ekders!S92)&\"                    \"&IF(Ekders!S93=\"\",0,Ekders!S93)&\"                    \"&IF(Ekders!S94=\"\",0,Ekders!S94)&\"                    \"&IF(Ekders!S95=\"\",0,Ekders!S95)&\"                    \"&IF(Ekders!S96=\"\",0,Ekders!S96)","v":"0                    0                    0                    0                    0                    0"},{"$f":"IF(Ekders!T91=\"\",0,Ekders!T91)&\"                    \"&IF(Ekders!T92=\"\",0,Ekders!T92)&\"                    \"&IF(Ekders!T93=\"\",0,Ekders!T93)&\"                    \"&IF(Ekders!T94=\"\",0,Ekders!T94)&\"                    \"&IF(Ekders!T95=\"\",0,Ekders!T95)&\"                    \"&IF(Ekders!T96=\"\",0,Ekders!T96)","v":"0                    0                    0                    0                    0                    0"},{"$f":"IF(Ekders!U91=\"\",0,Ekders!U91)&\"                    \"&IF(Ekders!U92=\"\",0,Ekders!U92)&\"                    \"&IF(Ekders!U93=\"\",0,Ekders!U93)&\"                    \"&IF(Ekders!U94=\"\",0,Ekders!U94)&\"                    \"&IF(Ekders!U95=\"\",0,Ekders!U95)&\"                    \"&IF(Ekders!U96=\"\",0,Ekders!U96)","v":"0                    0                    0                    0                    0                    0"},{"$f":"IF(Ekders!V91=\"\",0,Ekders!V91)&\"                    \"&IF(Ekders!V92=\"\",0,Ekders!V92)&\"                    \"&IF(Ekders!V93=\"\",0,Ekders!V93)&\"                    \"&IF(Ekders!V94=\"\",0,Ekders!V94)&\"                    \"&IF(Ekders!V95=\"\",0,Ekders!V95)&\"                    \"&IF(Ekders!V96=\"\",0,Ekders!V96)","v":"0                    0                    0                    0                    0                    0"},{"$f":"IF(Ekders!W91=\"\",0,Ekders!W91)&\"                    \"&IF(Ekders!W92=\"\",0,Ekders!W92)&\"                    \"&IF(Ekders!W93=\"\",0,Ekders!W93)&\"                    \"&IF(Ekders!W94=\"\",0,Ekders!W94)&\"                    \"&IF(Ekders!W95=\"\",0,Ekders!W95)&\"                    \"&IF(Ekders!W96=\"\",0,Ekders!W96)","v":"0                    0                    0                    0                    0                    0"},{"$f":"IF(Ekders!X91=\"\",0,Ekders!X91)&\"                    \"&IF(Ekders!X92=\"\",0,Ekders!X92)&\"                    \"&IF(Ekders!X93=\"\",0,Ekders!X93)&\"                    \"&IF(Ekders!X94=\"\",0,Ekders!X94)&\"                    \"&IF(Ekders!X95=\"\",0,Ekders!X95)&\"                    \"&IF(Ekders!X96=\"\",0,Ekders!X96)","v":"0                    0                    0                    0                    0                    0"},{"$f":"IF(Ekders!Y91=\"\",0,Ekders!Y91)&\"                    \"&IF(Ekders!Y92=\"\",0,Ekders!Y92)&\"                    \"&IF(Ekders!Y93=\"\",0,Ekders!Y93)&\"                    \"&IF(Ekders!Y94=\"\",0,Ekders!Y94)&\"                    \"&IF(Ekders!Y95=\"\",0,Ekders!Y95)&\"                    \"&IF(Ekders!Y96=\"\",0,Ekders!Y96)","v":"0                    0                    0                    0                    0                    0"},{"$f":"IF(Ekders!Z91=\"\",0,Ekders!Z91)&\"                    \"&IF(Ekders!Z92=\"\",0,Ekders!Z92)&\"                    \"&IF(Ekders!Z93=\"\",0,Ekders!Z93)&\"                    \"&IF(Ekders!Z94=\"\",0,Ekders!Z94)&\"                    \"&IF(Ekders!Z95=\"\",0,Ekders!Z95)&\"                    \"&IF(Ekders!Z96=\"\",0,Ekders!Z96)","v":"0                    0                    0                    0                    0                    0"},{"$f":"IF(Ekders!AA91=\"\",0,Ekders!AA91)&\"                    \"&IF(Ekders!AA92=\"\",0,Ekders!AA92)&\"                    \"&IF(Ekders!AA93=\"\",0,Ekders!AA93)&\"                    \"&IF(Ekders!AA94=\"\",0,Ekders!AA94)&\"                    \"&IF(Ekders!AA95=\"\",0,Ekders!AA95)&\"                    \"&IF(Ekders!AA96=\"\",0,Ekders!AA96)","v":"0                    0                    0                    0                    0                    0"},{"$f":"IF(Ekders!AB91=\"\",0,Ekders!AB91)&\"                    \"&IF(Ekders!AB92=\"\",0,Ekders!AB92)&\"                    \"&IF(Ekders!AB93=\"\",0,Ekders!AB93)&\"                    \"&IF(Ekders!AB94=\"\",0,Ekders!AB94)&\"                    \"&IF(Ekders!AB95=\"\",0,Ekders!AB95)&\"                    \"&IF(Ekders!AB96=\"\",0,Ekders!AB96)","v":"0                    0                    0                    0                    0                    0"},{"$f":"IF(Ekders!AC91=\"\",0,Ekders!AC91)&\"                    \"&IF(Ekders!AC92=\"\",0,Ekders!AC92)&\"                    \"&IF(Ekders!AC93=\"\",0,Ekders!AC93)&\"                    \"&IF(Ekders!AC94=\"\",0,Ekders!AC94)&\"                    \"&IF(Ekders!AC95=\"\",0,Ekders!AC95)&\"                    \"&IF(Ekders!AC96=\"\",0,Ekders!AC96)","v":"0                    0                    0                    0                    0                    0"},{"$f":"IF(Ekders!AD91=\"\",0,Ekders!AD91)&\"                    \"&IF(Ekders!AD92=\"\",0,Ekders!AD92)&\"                    \"&IF(Ekders!AD93=\"\",0,Ekders!AD93)&\"                    \"&IF(Ekders!AD94=\"\",0,Ekders!AD94)&\"                    \"&IF(Ekders!AD95=\"\",0,Ekders!AD95)&\"                    \"&IF(Ekders!AD96=\"\",0,Ekders!AD96)","v":"0                    0                    0                    0                    0                    0"},{"$f":"IF(Ekders!AE91=\"\",0,Ekders!AE91)&\"                    \"&IF(Ekders!AE92=\"\",0,Ekders!AE92)&\"                    \"&IF(Ekders!AE93=\"\",0,Ekders!AE93)&\"                    \"&IF(Ekders!AE94=\"\",0,Ekders!AE94)&\"                    \"&IF(Ekders!AE95=\"\",0,Ekders!AE95)&\"                    \"&IF(Ekders!AE96=\"\",0,Ekders!AE96)","v":"0                    0                    0                    0                    0                    0"},{"$f":"IF(Ekders!AF91=\"\",0,Ekders!AF91)&\"                    \"&IF(Ekders!AF92=\"\",0,Ekders!AF92)&\"                    \"&IF(Ekders!AF93=\"\",0,Ekders!AF93)&\"                    \"&IF(Ekders!AF94=\"\",0,Ekders!AF94)&\"                    \"&IF(Ekders!AF95=\"\",0,Ekders!AF95)&\"                    \"&IF(Ekders!AF96=\"\",0,Ekders!AF96)","v":"0                    0                    0                    0                    0                    0"},{"$f":"IF(Ekders!AG91=\"\",0,Ekders!AG91)&\"                    \"&IF(Ekders!AG92=\"\",0,Ekders!AG92)&\"                    \"&IF(Ekders!AG93=\"\",0,Ekders!AG93)&\"                    \"&IF(Ekders!AG94=\"\",0,Ekders!AG94)&\"                    \"&IF(Ekders!AG95=\"\",0,Ekders!AG95)&\"                    \"&IF(Ekders!AG96=\"\",0,Ekders!AG96)","v":"0                    0                    0                    0                    0                    0"},{"$f":"IF(Ekders!AH91=\"\",0,Ekders!AH91)&\"                    \"&IF(Ekders!AH92=\"\",0,Ekders!AH92)&\"                    \"&IF(Ekders!AH93=\"\",0,Ekders!AH93)&\"                    \"&IF(Ekders!AH94=\"\",0,Ekders!AH94)&\"                    \"&IF(Ekders!AH95=\"\",0,Ekders!AH95)&\"                    \"&IF(Ekders!AH96=\"\",0,Ekders!AH96)","v":"0                    0                    0                    0                    0                    0"},{"$f":"IF(Ekders!AI91=\"\",0,Ekders!AI91)&\"                    \"&IF(Ekders!AI92=\"\",0,Ekders!AI92)&\"                    \"&IF(Ekders!AI93=\"\",0,Ekders!AI93)&\"                    \"&IF(Ekders!AI94=\"\",0,Ekders!AI94)&\"                    \"&IF(Ekders!AI95=\"\",0,Ekders!AI95)&\"                    \"&IF(Ekders!AI96=\"\",0,Ekders!AI96)","v":"0                    0                    0                    0                    0                    0"},{"$f":"IF(Ekders!AJ91=\"\",0,Ekders!AJ91)&\"                    \"&IF(Ekders!AJ92=\"\",0,Ekders!AJ92)&\"                    \"&IF(Ekders!AJ93=\"\",0,Ekders!AJ93)&\"                    \"&IF(Ekders!AJ94=\"\",0,Ekders!AJ94)&\"                    \"&IF(Ekders!AJ95=\"\",0,Ekders!AJ95)&\"                    \"&IF(Ekders!AJ96=\"\",0,Ekders!AJ96)","v":"0                    0                    0                    0                    0                    0"},{"$f":"IF(Ekders!AK91=\"\",0,Ekders!AK91)&\"                    \"&IF(Ekders!AK92=\"\",0,Ekders!AK92)&\"                    \"&IF(Ekders!AK93=\"\",0,Ekders!AK93)&\"                    \"&IF(Ekders!AK94=\"\",0,Ekders!AK94)&\"                    \"&IF(Ekders!AK95=\"\",0,Ekders!AK95)&\"                    \"&IF(Ekders!AK96=\"\",0,Ekders!AK96)","v":"0                    0                    0                    0                    0                    0"},{"$f":"IF(Ekders!AL91=\"\",0,Ekders!AL91)&\"                    \"&IF(Ekders!AL92=\"\",0,Ekders!AL92)&\"                    \"&IF(Ekders!AL93=\"\",0,Ekders!AL93)&\"                    \"&IF(Ekders!AL94=\"\",0,Ekders!AL94)&\"                    \"&IF(Ekders!AL95=\"\",0,Ekders!AL95)&\"                    \"&IF(Ekders!AL96=\"\",0,Ekders!AL96)","v":"0                    0                    0                    0                    0                    0"},{"$f":"IF(Ekders!AM91=\"\",0,Ekders!AM91)&\"                    \"&IF(Ekders!AM92=\"\",0,Ekders!AM92)&\"                    \"&IF(Ekders!AM93=\"\",0,Ekders!AM93)&\"                    \"&IF(Ekders!AM94=\"\",0,Ekders!AM94)&\"                    \"&IF(Ekders!AM95=\"\",0,Ekders!AM95)&\"                    \"&IF(Ekders!AM96=\"\",0,Ekders!AM96)","v":"0                    0                    0                    0                    0                    0"},{"$f":"IF(Ekders!AN91=\"\",0,Ekders!AN91)&\"                    \"&IF(Ekders!AN92=\"\",0,Ekders!AN92)&\"                    \"&IF(Ekders!AN93=\"\",0,Ekders!AN93)&\"                    \"&IF(Ekders!AN94=\"\",0,Ekders!AN94)&\"                    \"&IF(Ekders!AN95=\"\",0,Ekders!AN95)&\"                    \"&IF(Ekders!AN96=\"\",0,Ekders!AN96)","v":"0                    0                    0                    0                    0                    0"},{"$f":"IF(Ekders!AO91=\"\",0,Ekders!AO91)&\"                    \"&IF(Ekders!AO92=\"\",0,Ekders!AO92)&\"                    \"&IF(Ekders!AO93=\"\",0,Ekders!AO93)&\"                    \"&IF(Ekders!AO94=\"\",0,Ekders!AO94)&\"                    \"&IF(Ekders!AO95=\"\",0,Ekders!AO95)&\"                    \"&IF(Ekders!AO96=\"\",0,Ekders!AO96)","v":"0                    0                    0                    0                    0                    0"},{"$f":"IF(Ekders!AP91=\"\",0,Ekders!AP91)&\"                    \"&IF(Ekders!AP92=\"\",0,Ekders!AP92)&\"                    \"&IF(Ekders!AP93=\"\",0,Ekders!AP93)&\"                    \"&IF(Ekders!AP94=\"\",0,Ekders!AP94)&\"                    \"&IF(Ekders!AP95=\"\",0,Ekders!AP95)&\"                    \"&IF(Ekders!AP96=\"\",0,Ekders!AP96)","v":"0                    0                    0                    0                    0                    0"},{"$f":"IF(Ekders!AQ91=\"\",0,Ekders!AQ91)&\"                    \"&IF(Ekders!AQ92=\"\",0,Ekders!AQ92)&\"                    \"&IF(Ekders!AQ93=\"\",0,Ekders!AQ93)&\"                    \"&IF(Ekders!AQ94=\"\",0,Ekders!AQ94)&\"                    \"&IF(Ekders!AQ95=\"\",0,Ekders!AQ95)&\"                    \"&IF(Ekders!AQ96=\"\",0,Ekders!AQ96)","v":"0                    0                    0                    0                    0                    0"},{"$f":"IF(Ekders!AR91=\"\",0,Ekders!AR91)&\"                    \"&IF(Ekders!AR92=\"\",0,Ekders!AR92)&\"                    \"&IF(Ekders!AR93=\"\",0,Ekders!AR93)&\"                    \"&IF(Ekders!AR94=\"\",0,Ekders!AR94)&\"                    \"&IF(Ekders!AR95=\"\",0,Ekders!AR95)&\"                    \"&IF(Ekders!AR96=\"\",0,Ekders!AR96)","v":"0                    0                    0                    0                    0                    0"},{"$f":"IF(Ekders!AS91=\"\",0,Ekders!AS91)&\"                    \"&IF(Ekders!AS92=\"\",0,Ekders!AS92)&\"                    \"&IF(Ekders!AS93=\"\",0,Ekders!AS93)&\"                    \"&IF(Ekders!AS94=\"\",0,Ekders!AS94)&\"                    \"&IF(Ekders!AS95=\"\",0,Ekders!AS95)&\"                    \"&IF(Ekders!AS96=\"\",0,Ekders!AS96)","v":"0                    0                    0                    0                    0                    0"},{"$f":"IF(Ekders!AT91=\"\",0,Ekders!AT91)&\"                    \"&IF(Ekders!AT92=\"\",0,Ekders!AT92)&\"                    \"&IF(Ekders!AT93=\"\",0,Ekders!AT93)&\"                    \"&IF(Ekders!AT94=\"\",0,Ekders!AT94)&\"                    \"&IF(Ekders!AT95=\"\",0,Ekders!AT95)&\"                    \"&IF(Ekders!AT96=\"\",0,Ekders!AT96)","v":"0                    0                    0                    0                    0                    0"},{"$f":"IF(Ekders!AU91=\"\",0,Ekders!AU91)&\"                    \"&IF(Ekders!AU92=\"\",0,Ekders!AU92)&\"                    \"&IF(Ekders!AU93=\"\",0,Ekders!AU93)&\"                    \"&IF(Ekders!AU94=\"\",0,Ekders!AU94)&\"                    \"&IF(Ekders!AU95=\"\",0,Ekders!AU95)&\"                    \"&IF(Ekders!AU96=\"\",0,Ekders!AU96)","v":"0                    0                    0                    0                    0                    0"},{"$f":"IF(Ekders!AV91=\"\",0,Ekders!AV91)&\"                    \"&IF(Ekders!AV92=\"\",0,Ekders!AV92)&\"                    \"&IF(Ekders!AV93=\"\",0,Ekders!AV93)&\"                    \"&IF(Ekders!AV94=\"\",0,Ekders!AV94)&\"                    \"&IF(Ekders!AV95=\"\",0,Ekders!AV95)&\"                    \"&IF(Ekders!AV96=\"\",0,Ekders!AV96)","v":"0                    0                    0                    0                    0                    0"},{"$f":"IF(Ekders!AW91=\"\",0,Ekders!AW91)&\"                    \"&IF(Ekders!AW92=\"\",0,Ekders!AW92)&\"                    \"&IF(Ekders!AW93=\"\",0,Ekders!AW93)&\"                    \"&IF(Ekders!AW94=\"\",0,Ekders!AW94)&\"                    \"&IF(Ekders!AW95=\"\",0,Ekders!AW95)&\"                    \"&IF(Ekders!AW96=\"\",0,Ekders!AW96)","v":"0                    0                    0                    0                    0                    0"},{"$f":"IF(Ekders!AX91=\"\",0,Ekders!AX91)&\"                    \"&IF(Ekders!AX92=\"\",0,Ekders!AX92)&\"                    \"&IF(Ekders!AX93=\"\",0,Ekders!AX93)&\"                    \"&IF(Ekders!AX94=\"\",0,Ekders!AX94)&\"                    \"&IF(Ekders!AX95=\"\",0,Ekders!AX95)&\"                    \"&IF(Ekders!AX96=\"\",0,Ekders!AX96)","v":"0                    0                    0                    0                    0                    0"},{"$f":"IF(Ekders!AY91=\"\",0,Ekders!AY91)&\"                    \"&IF(Ekders!AY92=\"\",0,Ekders!AY92)&\"                    \"&IF(Ekders!AY93=\"\",0,Ekders!AY93)&\"                    \"&IF(Ekders!AY94=\"\",0,Ekders!AY94)&\"                    \"&IF(Ekders!AY95=\"\",0,Ekders!AY95)&\"                    \"&IF(Ekders!AY96=\"\",0,Ekders!AY96)","v":"0                    0                    0                    0                    0                    0"},{"$f":"Ekders!AY91+Ekders!AY92+Ekders!AY93+Ekders!AY94+Ekders!AY95+Ekders!AY96","v":0},0]
[{"$f":"Ekders!B97&\"                                                       \"&Ekders!B98&\"                                                       \"&Ekders!B99&\"                                                       \"&Ekders!B101&\"                                                       \"&Ekders!B102&\"                                                       \"&Ekders!B100","v":"                                                                                                                                                                                                                                                                                   "},null,{"$f":"Ekders!L97&\"                    \"&Ekders!L98&\"                    \"&Ekders!L99&\"                    \"&Ekders!L100&\"                    \"&Ekders!L101&\"                    \"&Ekders!L102","v":"Gündüz (Lisans)                    Gündüz (Y. Lisans)                    Gündüz (Doktora)                    Gece (Lisans)                    Gece (Y. Lisans)                    Gece (Doktora)"},null,null,null,null,{"$f":"IF(Ekders!P97=\"\",0,Ekders!P97)&\"                    \"&IF(Ekders!P98=\"\",0,Ekders!P98)&\"                    \"&IF(Ekders!P99=\"\",0,Ekders!P99)&\"                    \"&IF(Ekders!P100=\"\",0,Ekders!P100)&\"                    \"&IF(Ekders!P101=\"\",0,Ekders!P101)&\"                    \"&IF(Ekders!P102=\"\",0,Ekders!P102)","v":"0                    0                    0                    0                    0                    0"},{"$f":"IF(Ekders!Q97=\"\",0,Ekders!Q97)&\"                    \"&IF(Ekders!Q98=\"\",0,Ekders!Q98)&\"                    \"&IF(Ekders!Q99=\"\",0,Ekders!Q99)&\"                    \"&IF(Ekders!Q100=\"\",0,Ekders!Q100)&\"                    \"&IF(Ekders!Q101=\"\",0,Ekders!Q101)&\"                    \"&IF(Ekders!Q102=\"\",0,Ekders!Q102)","v":"0                    0                    0                    0                    0                    0"},{"$f":"IF(Ekders!R97=\"\",0,Ekders!R97)&\"                    \"&IF(Ekders!R98=\"\",0,Ekders!R98)&\"                    \"&IF(Ekders!R99=\"\",0,Ekders!R99)&\"                    \"&IF(Ekders!R100=\"\",0,Ekders!R100)&\"                    \"&IF(Ekders!R101=\"\",0,Ekders!R101)&\"                    \"&IF(Ekders!R102=\"\",0,Ekders!R102)","v":"0                    0                    0                    0                    0                    0"},{"$f":"IF(Ekders!S97=\"\",0,Ekders!S97)&\"                    \"&IF(Ekders!S98=\"\",0,Ekders!S98)&\"                    \"&IF(Ekders!S99=\"\",0,Ekders!S99)&\"                    \"&IF(Ekders!S100=\"\",0,Ekders!S100)&\"                    \"&IF(Ekders!S101=\"\",0,Ekders!S101)&\"                    \"&IF(Ekders!S102=\"\",0,Ekders!S102)","v":"0                    0                    0                    0                    0                    0"},{"$f":"IF(Ekders!T97=\"\",0,Ekders!T97)&\"                    \"&IF(Ekders!T98=\"\",0,Ekders!T98)&\"                    \"&IF(Ekders!T99=\"\",0,Ekders!T99)&\"                    \"&IF(Ekders!T100=\"\",0,Ekders!T100)&\"                    \"&IF(Ekders!T101=\"\",0,Ekders!T101)&\"                    \"&IF(Ekders!T102=\"\",0,Ekders!T102)","v":"0                    0                    0                    0                    0                    0"},{"$f":"IF(Ekders!U97=\"\",0,Ekders!U97)&\"                    \"&IF(Ekders!U98=\"\",0,Ekders!U98)&\"                    \"&IF(Ekders!U99=\"\",0,Ekders!U99)&\"                    \"&IF(Ekders!U100=\"\",0,Ekders!U100)&\"                    \"&IF(Ekders!U101=\"\",0,Ekders!U101)&\"                    \"&IF(Ekders!U102=\"\",0,Ekders!U102)","v":"0                    0                    0                    0                    0                    0"},{"$f":"IF(Ekders!V97=\"\",0,Ekders!V97)&\"                    \"&IF(Ekders!V98=\"\",0,Ekders!V98)&\"                    \"&IF(Ekders!V99=\"\",0,Ekders!V99)&\"                    \"&IF(Ekders!V100=\"\",0,Ekders!V100)&\"                    \"&IF(Ekders!V101=\"\",0,Ekders!V101)&\"                    \"&IF(Ekders!V102=\"\",0,Ekders!V102)","v":"0                    0                    0                    0                    0                    0"},{"$f":"IF(Ekders!W97=\"\",0,Ekders!W97)&\"                    \"&IF(Ekders!W98=\"\",0,Ekders!W98)&\"                    \"&IF(Ekders!W99=\"\",0,Ekders!W99)&\"                    \"&IF(Ekders!W100=\"\",0,Ekders!W100)&\"                    \"&IF(Ekders!W101=\"\",0,Ekders!W101)&\"                    \"&IF(Ekders!W102=\"\",0,Ekders!W102)","v":"0                    0                    0                    0                    0                    0"},{"$f":"IF(Ekders!X97=\"\",0,Ekders!X97)&\"                    \"&IF(Ekders!X98=\"\",0,Ekders!X98)&\"                    \"&IF(Ekders!X99=\"\",0,Ekders!X99)&\"                    \"&IF(Ekders!X100=\"\",0,Ekders!X100)&\"                    \"&IF(Ekders!X101=\"\",0,Ekders!X101)&\"                    \"&IF(Ekders!X102=\"\",0,Ekders!X102)","v":"0                    0                    0                    0                    0                    0"},{"$f":"IF(Ekders!Y97=\"\",0,Ekders!Y97)&\"                    \"&IF(Ekders!Y98=\"\",0,Ekders!Y98)&\"                    \"&IF(Ekders!Y99=\"\",0,Ekders!Y99)&\"                    \"&IF(Ekders!Y100=\"\",0,Ekders!Y100)&\"                    \"&IF(Ekders!Y101=\"\",0,Ekders!Y101)&\"                    \"&IF(Ekders!Y102=\"\",0,Ekders!Y102)","v":"0                    0                    0                    0                    0                    0"},{"$f":"IF(Ekders!Z97=\"\",0,Ekders!Z97)&\"                    \"&IF(Ekders!Z98=\"\",0,Ekders!Z98)&\"                    \"&IF(Ekders!Z99=\"\",0,Ekders!Z99)&\"                    \"&IF(Ekders!Z100=\"\",0,Ekders!Z100)&\"                    \"&IF(Ekders!Z101=\"\",0,Ekders!Z101)&\"                    \"&IF(Ekders!Z102=\"\",0,Ekders!Z102)","v":"0                    0                    0                    0                    0                    0"},{"$f":"IF(Ekders!AA97=\"\",0,Ekders!AA97)&\"                    \"&IF(Ekders!AA98=\"\",0,Ekders!AA98)&\"                    \"&IF(Ekders!AA99=\"\",0,Ekders!AA99)&\"                    \"&IF(Ekders!AA100=\"\",0,Ekders!AA100)&\"                    \"&IF(Ekders!AA101=\"\",0,Ekders!AA101)&\"                    \"&IF(Ekders!AA102=\"\",0,Ekders!AA102)","v":"0                    0                    0                    0                    0                    0"},{"$f":"IF(Ekders!AB97=\"\",0,Ekders!AB97)&\"                    \"&IF(Ekders!AB98=\"\",0,Ekders!AB98)&\"                    \"&IF(Ekders!AB99=\"\",0,Ekders!AB99)&\"                    \"&IF(Ekders!AB100=\"\",0,Ekders!AB100)&\"                    \"&IF(Ekders!AB101=\"\",0,Ekders!AB101)&\"                    \"&IF(Ekders!AB102=\"\",0,Ekders!AB102)","v":"0                    0                    0                    0                    0                    0"},{"$f":"IF(Ekders!AC97=\"\",0,Ekders!AC97)&\"                    \"&IF(Ekders!AC98=\"\",0,Ekders!AC98)&\"                    \"&IF(Ekders!AC99=\"\",0,Ekders!AC99)&\"                    \"&IF(Ekders!AC100=\"\",0,Ekders!AC100)&\"                    \"&IF(Ekders!AC101=\"\",0,Ekders!AC101)&\"                    \"&IF(Ekders!AC102=\"\",0,Ekders!AC102)","v":"0                    0                    0                    0                    0                    0"},{"$f":"IF(Ekders!AD97=\"\",0,Ekders!AD97)&\"                    \"&IF(Ekders!AD98=\"\",0,Ekders!AD98)&\"                    \"&IF(Ekders!AD99=\"\",0,Ekders!AD99)&\"                    \"&IF(Ekders!AD100=\"\",0,Ekders!AD100)&\"                    \"&IF(Ekders!AD101=\"\",0,Ekders!AD101)&\"                    \"&IF(Ekders!AD102=\"\",0,Ekders!AD102)","v":"0                    0                    0                    0                    0                    0"},{"$f":"IF(Ekders!AE97=\"\",0,Ekders!AE97)&\"                    \"&IF(Ekders!AE98=\"\",0,Ekders!AE98)&\"                    \"&IF(Ekders!AE99=\"\",0,Ekders!AE99)&\"                    \"&IF(Ekders!AE100=\"\",0,Ekders!AE100)&\"                    \"&IF(Ekders!AE101=\"\",0,Ekders!AE101)&\"                    \"&IF(Ekders!AE102=\"\",0,Ekders!AE102)","v":"0                    0                    0                    0                    0                    0"},{"$f":"IF(Ekders!AF97=\"\",0,Ekders!AF97)&\"                    \"&IF(Ekders!AF98=\"\",0,Ekders!AF98)&\"                    \"&IF(Ekders!AF99=\"\",0,Ekders!AF99)&\"                    \"&IF(Ekders!AF100=\"\",0,Ekders!AF100)&\"                    \"&IF(Ekders!AF101=\"\",0,Ekders!AF101)&\"                    \"&IF(Ekders!AF102=\"\",0,Ekders!AF102)","v":"0                    0                    0                    0                    0                    0"},{"$f":"IF(Ekders!AG97=\"\",0,Ekders!AG97)&\"                    \"&IF(Ekders!AG98=\"\",0,Ekders!AG98)&\"                    \"&IF(Ekders!AG99=\"\",0,Ekders!AG99)&\"                    \"&IF(Ekders!AG100=\"\",0,Ekders!AG100)&\"                    \"&IF(Ekders!AG101=\"\",0,Ekders!AG101)&\"                    \"&IF(Ekders!AG102=\"\",0,Ekders!AG102)","v":"0                    0                    0                    0                    0                    0"},{"$f":"IF(Ekders!AH97=\"\",0,Ekders!AH97)&\"                    \"&IF(Ekders!AH98=\"\",0,Ekders!AH98)&\"                    \"&IF(Ekders!AH99=\"\",0,Ekders!AH99)&\"                    \"&IF(Ekders!AH100=\"\",0,Ekders!AH100)&\"                    \"&IF(Ekders!AH101=\"\",0,Ekders!AH101)&\"                    \"&IF(Ekders!AH102=\"\",0,Ekders!AH102)","v":"0                    0                    0                    0                    0                    0"},{"$f":"IF(Ekders!AI97=\"\",0,Ekders!AI97)&\"                    \"&IF(Ekders!AI98=\"\",0,Ekders!AI98)&\"                    \"&IF(Ekders!AI99=\"\",0,Ekders!AI99)&\"                    \"&IF(Ekders!AI100=\"\",0,Ekders!AI100)&\"                    \"&IF(Ekders!AI101=\"\",0,Ekders!AI101)&\"                    \"&IF(Ekders!AI102=\"\",0,Ekders!AI102)","v":"0                    0                    0                    0                    0                    0"},{"$f":"IF(Ekders!AJ97=\"\",0,Ekders!AJ97)&\"                    \"&IF(Ekders!AJ98=\"\",0,Ekders!AJ98)&\"                    \"&IF(Ekders!AJ99=\"\",0,Ekders!AJ99)&\"                    \"&IF(Ekders!AJ100=\"\",0,Ekders!AJ100)&\"                    \"&IF(Ekders!AJ101=\"\",0,Ekders!AJ101)&\"                    \"&IF(Ekders!AJ102=\"\",0,Ekders!AJ102)","v":"0                    0                    0                    0                    0                    0"},{"$f":"IF(Ekders!AK97=\"\",0,Ekders!AK97)&\"                    \"&IF(Ekders!AK98=\"\",0,Ekders!AK98)&\"                    \"&IF(Ekders!AK99=\"\",0,Ekders!AK99)&\"                    \"&IF(Ekders!AK100=\"\",0,Ekders!AK100)&\"                    \"&IF(Ekders!AK101=\"\",0,Ekders!AK101)&\"                    \"&IF(Ekders!AK102=\"\",0,Ekders!AK102)","v":"0                    0                    0                    0                    0                    0"},{"$f":"IF(Ekders!AL97=\"\",0,Ekders!AL97)&\"                    \"&IF(Ekders!AL98=\"\",0,Ekders!AL98)&\"                    \"&IF(Ekders!AL99=\"\",0,Ekders!AL99)&\"                    \"&IF(Ekders!AL100=\"\",0,Ekders!AL100)&\"                    \"&IF(Ekders!AL101=\"\",0,Ekders!AL101)&\"                    \"&IF(Ekders!AL102=\"\",0,Ekders!AL102)","v":"0                    0                    0                    0                    0                    0"},{"$f":"IF(Ekders!AM97=\"\",0,Ekders!AM97)&\"                    \"&IF(Ekders!AM98=\"\",0,Ekders!AM98)&\"                    \"&IF(Ekders!AM99=\"\",0,Ekders!AM99)&\"                    \"&IF(Ekders!AM100=\"\",0,Ekders!AM100)&\"                    \"&IF(Ekders!AM101=\"\",0,Ekders!AM101)&\"                    \"&IF(Ekders!AM102=\"\",0,Ekders!AM102)","v":"0                    0                    0                    0                    0                    0"},{"$f":"IF(Ekders!AN97=\"\",0,Ekders!AN97)&\"                    \"&IF(Ekders!AN98=\"\",0,Ekders!AN98)&\"                    \"&IF(Ekders!AN99=\"\",0,Ekders!AN99)&\"                    \"&IF(Ekders!AN100=\"\",0,Ekders!AN100)&\"                    \"&IF(Ekders!AN101=\"\",0,Ekders!AN101)&\"                    \"&IF(Ekders!AN102=\"\",0,Ekders!AN102)","v":"0                    0                    0                    0                    0                    0"},{"$f":"IF(Ekders!AO97=\"\",0,Ekders!AO97)&\"                    \"&IF(Ekders!AO98=\"\",0,Ekders!AO98)&\"                    \"&IF(Ekders!AO99=\"\",0,Ekders!AO99)&\"                    \"&IF(Ekders!AO100=\"\",0,Ekders!AO100)&\"                    \"&IF(Ekders!AO101=\"\",0,Ekders!AO101)&\"                    \"&IF(Ekders!AO102=\"\",0,Ekders!AO102)","v":"0                    0                    0                    0                    0                    0"},{"$f":"IF(Ekders!AP97=\"\",0,Ekders!AP97)&\"                    \"&IF(Ekders!AP98=\"\",0,Ekders!AP98)&\"                    \"&IF(Ekders!AP99=\"\",0,Ekders!AP99)&\"                    \"&IF(Ekders!AP100=\"\",0,Ekders!AP100)&\"                    \"&IF(Ekders!AP101=\"\",0,Ekders!AP101)&\"                    \"&IF(Ekders!AP102=\"\",0,Ekders!AP102)","v":"0                    0                    0                    0                    0                    0"},{"$f":"IF(Ekders!AQ97=\"\",0,Ekders!AQ97)&\"                    \"&IF(Ekders!AQ98=\"\",0,Ekders!AQ98)&\"                    \"&IF(Ekders!AQ99=\"\",0,Ekders!AQ99)&\"                    \"&IF(Ekders!AQ100=\"\",0,Ekders!AQ100)&\"                    \"&IF(Ekders!AQ101=\"\",0,Ekders!AQ101)&\"                    \"&IF(Ekders!AQ102=\"\",0,Ekders!AQ102)","v":"0                    0                    0                    0                    0                    0"},{"$f":"IF(Ekders!AR97=\"\",0,Ekders!AR97)&\"                    \"&IF(Ekders!AR98=\"\",0,Ekders!AR98)&\"                    \"&IF(Ekders!AR99=\"\",0,Ekders!AR99)&\"                    \"&IF(Ekders!AR100=\"\",0,Ekders!AR100)&\"                    \"&IF(Ekders!AR101=\"\",0,Ekders!AR101)&\"                    \"&IF(Ekders!AR102=\"\",0,Ekders!AR102)","v":"0                    0                    0                    0                    0                    0"},{"$f":"IF(Ekders!AS97=\"\",0,Ekders!AS97)&\"                    \"&IF(Ekders!AS98=\"\",0,Ekders!AS98)&\"                    \"&IF(Ekders!AS99=\"\",0,Ekders!AS99)&\"                    \"&IF(Ekders!AS100=\"\",0,Ekders!AS100)&\"                    \"&IF(Ekders!AS101=\"\",0,Ekders!AS101)&\"                    \"&IF(Ekders!AS102=\"\",0,Ekders!AS102)","v":"0                    0                    0                    0                    0                    0"},{"$f":"IF(Ekders!AT97=\"\",0,Ekders!AT97)&\"                    \"&IF(Ekders!AT98=\"\",0,Ekders!AT98)&\"                    \"&IF(Ekders!AT99=\"\",0,Ekders!AT99)&\"                    \"&IF(Ekders!AT100=\"\",0,Ekders!AT100)&\"                    \"&IF(Ekders!AT101=\"\",0,Ekders!AT101)&\"                    \"&IF(Ekders!AT102=\"\",0,Ekders!AT102)","v":"0                    0                    0                    0                    0                    0"},{"$f":"IF(Ekders!AU97=\"\",0,Ekders!AU97)&\"                    \"&IF(Ekders!AU98=\"\",0,Ekders!AU98)&\"                    \"&IF(Ekders!AU99=\"\",0,Ekders!AU99)&\"                    \"&IF(Ekders!AU100=\"\",0,Ekders!AU100)&\"                    \"&IF(Ekders!AU101=\"\",0,Ekders!AU101)&\"                    \"&IF(Ekders!AU102=\"\",0,Ekders!AU102)","v":"0                    0                    0                    0                    0                    0"},{"$f":"IF(Ekders!AV97=\"\",0,Ekders!AV97)&\"                    \"&IF(Ekders!AV98=\"\",0,Ekders!AV98)&\"                    \"&IF(Ekders!AV99=\"\",0,Ekders!AV99)&\"                    \"&IF(Ekders!AV100=\"\",0,Ekders!AV100)&\"                    \"&IF(Ekders!AV101=\"\",0,Ekders!AV101)&\"                    \"&IF(Ekders!AV102=\"\",0,Ekders!AV102)","v":"0                    0                    0                    0                    0                    0"},{"$f":"IF(Ekders!AW97=\"\",0,Ekders!AW97)&\"                    \"&IF(Ekders!AW98=\"\",0,Ekders!AW98)&\"                    \"&IF(Ekders!AW99=\"\",0,Ekders!AW99)&\"                    \"&IF(Ekders!AW100=\"\",0,Ekders!AW100)&\"                    \"&IF(Ekders!AW101=\"\",0,Ekders!AW101)&\"                    \"&IF(Ekders!AW102=\"\",0,Ekders!AW102)","v":"0                    0                    0                    0                    0                    0"},{"$f":"IF(Ekders!AX97=\"\",0,Ekders!AX97)&\"                    \"&IF(Ekders!AX98=\"\",0,Ekders!AX98)&\"                    \"&IF(Ekders!AX99=\"\",0,Ekders!AX99)&\"                    \"&IF(Ekders!AX100=\"\",0,Ekders!AX100)&\"                    \"&IF(Ekders!AX101=\"\",0,Ekders!AX101)&\"                    \"&IF(Ekders!AX102=\"\",0,Ekders!AX102)","v":"0                    0                    0                    0                    0                    0"},{"$f":"IF(Ekders!AY97=\"\",0,Ekders!AY97)&\"                    \"&IF(Ekders!AY98=\"\",0,Ekders!AY98)&\"                    \"&IF(Ekders!AY99=\"\",0,Ekders!AY99)&\"                    \"&IF(Ekders!AY100=\"\",0,Ekders!AY100)&\"                    \"&IF(Ekders!AY101=\"\",0,Ekders!AY101)&\"                    \"&IF(Ekders!AY102=\"\",0,Ekders!AY102)","v":"0                    0                    0                    0                    0                    0"},{"$f":"Ekders!AY97+Ekders!AY98+Ekders!AY99+Ekders!AY100+Ekders!AY101+Ekders!AY102","v":0},0]
[{"$f":"Ekders!B103&\"                                                       \"&Ekders!B104&\"                                                       \"&Ekders!B105&\"                                                       \"&Ekders!B107&\"                                                       \"&Ekders!B108&\"                                                       \"&Ekders!B106","v":"                                                                                                                                                                                                                                                                                   "},null,{"$f":"Ekders!L103&\"                    \"&Ekders!L104&\"                    \"&Ekders!L105&\"                    \"&Ekders!L106&\"                    \"&Ekders!L107&\"                    \"&Ekders!L108","v":"Gündüz (Lisans)                    Gündüz (Y. Lisans)                    Gündüz (Doktora)                    Gece (Lisans)                    Gece (Y. Lisans)                    Gece (Doktora)"},null,null,null,null,{"$f":"IF(Ekders!P103=\"\",0,Ekders!P103)&\"                    \"&IF(Ekders!P104=\"\",0,Ekders!P104)&\"                    \"&IF(Ekders!P105=\"\",0,Ekders!P105)&\"                    \"&IF(Ekders!P106=\"\",0,Ekders!P106)&\"                    \"&IF(Ekders!P107=\"\",0,Ekders!P107)&\"                    \"&IF(Ekders!P108=\"\",0,Ekders!P108)","v":"0                    0                    0                    0                    0                    0"},{"$f":"IF(Ekders!Q103=\"\",0,Ekders!Q103)&\"                    \"&IF(Ekders!Q104=\"\",0,Ekders!Q104)&\"                    \"&IF(Ekders!Q105=\"\",0,Ekders!Q105)&\"                    \"&IF(Ekders!Q106=\"\",0,Ekders!Q106)&\"                    \"&IF(Ekders!Q107=\"\",0,Ekders!Q107)&\"                    \"&IF(Ekders!Q108=\"\",0,Ekders!Q108)","v":"0                    0                    0                    0                    0                    0"},{"$f":"IF(Ekders!R103=\"\",0,Ekders!R103)&\"                    \"&IF(Ekders!R104=\"\",0,Ekders!R104)&\"                    \"&IF(Ekders!R105=\"\",0,Ekders!R105)&\"                    \"&IF(Ekders!R106=\"\",0,Ekders!R106)&\"                    \"&IF(Ekders!R107=\"\",0,Ekders!R107)&\"                    \"&IF(Ekders!R108=\"\",0,Ekders!R108)","v":"0                    0                    0                    0                    0                    0"},{"$f":"IF(Ekders!S103=\"\",0,Ekders!S103)&\"                    \"&IF(Ekders!S104=\"\",0,Ekders!S104)&\"                    \"&IF(Ekders!S105=\"\",0,Ekders!S105)&\"                    \"&IF(Ekders!S106=\"\",0,Ekders!S106)&\"                    \"&IF(Ekders!S107=\"\",0,Ekders!S107)&\"                    \"&IF(Ekders!S108=\"\",0,Ekders!S108)","v":"0                    0                    0                    0                    0                    0"},{"$f":"IF(Ekders!T103=\"\",0,Ekders!T103)&\"                    \"&IF(Ekders!T104=\"\",0,Ekders!T104)&\"                    \"&IF(Ekders!T105=\"\",0,Ekders!T105)&\"                    \"&IF(Ekders!T106=\"\",0,Ekders!T106)&\"                    \"&IF(Ekders!T107=\"\",0,Ekders!T107)&\"                    \"&IF(Ekders!T108=\"\",0,Ekders!T108)","v":"0                    0                    0                    0                    0                    0"},{"$f":"IF(Ekders!U103=\"\",0,Ekders!U103)&\"                    \"&IF(Ekders!U104=\"\",0,Ekders!U104)&\"                    \"&IF(Ekders!U105=\"\",0,Ekders!U105)&\"                    \"&IF(Ekders!U106=\"\",0,Ekders!U106)&\"                    \"&IF(Ekders!U107=\"\",0,Ekders!U107)&\"                    \"&IF(Ekders!U108=\"\",0,Ekders!U108)","v":"0                    0                    0                    0                    0                    0"},{"$f":"IF(Ekders!V103=\"\",0,Ekders!V103)&\"                    \"&IF(Ekders!V104=\"\",0,Ekders!V104)&\"                    \"&IF(Ekders!V105=\"\",0,Ekders!V105)&\"                    \"&IF(Ekders!V106=\"\",0,Ekders!V106)&\"                    \"&IF(Ekders!V107=\"\",0,Ekders!V107)&\"                    \"&IF(Ekders!V108=\"\",0,Ekders!V108)","v":"0                    0                    0                    0                    0                    0"},{"$f":"IF(Ekders!W103=\"\",0,Ekders!W103)&\"                    \"&IF(Ekders!W104=\"\",0,Ekders!W104)&\"                    \"&IF(Ekders!W105=\"\",0,Ekders!W105)&\"                    \"&IF(Ekders!W106=\"\",0,Ekders!W106)&\"                    \"&IF(Ekders!W107=\"\",0,Ekders!W107)&\"                    \"&IF(Ekders!W108=\"\",0,Ekders!W108)","v":"0                    0                    0                    0                    0                    0"},{"$f":"IF(Ekders!X103=\"\",0,Ekders!X103)&\"                    \"&IF(Ekders!X104=\"\",0,Ekders!X104)&\"                    \"&IF(Ekders!X105=\"\",0,Ekders!X105)&\"                    \"&IF(Ekders!X106=\"\",0,Ekders!X106)&\"                    \"&IF(Ekders!X107=\"\",0,Ekders!X107)&\"                    \"&IF(Ekders!X108=\"\",0,Ekders!X108)","v":"0                    0                    0                    0                    0                    0"},{"$f":"IF(Ekders!Y103=\"\",0,Ekders!Y103)&\"                    \"&IF(Ekders!Y104=\"\",0,Ekders!Y104)&\"                    \"&IF(Ekders!Y105=\"\",0,Ekders!Y105)&\"                    \"&IF(Ekders!Y106=\"\",0,Ekders!Y106)&\"                    \"&IF(Ekders!Y107=\"\",0,Ekders!Y107)&\"                    \"&IF(Ekders!Y108=\"\",0,Ekders!Y108)","v":"0                    0                    0                    0                    0                    0"},{"$f":"IF(Ekders!Z103=\"\",0,Ekders!Z103)&\"                    \"&IF(Ekders!Z104=\"\",0,Ekders!Z104)&\"                    \"&IF(Ekders!Z105=\"\",0,Ekders!Z105)&\"                    \"&IF(Ekders!Z106=\"\",0,Ekders!Z106)&\"                    \"&IF(Ekders!Z107=\"\",0,Ekders!Z107)&\"                    \"&IF(Ekders!Z108=\"\",0,Ekders!Z108)","v":"0                    0                    0                    0                    0                    0"},{"$f":"IF(Ekders!AA103=\"\",0,Ekders!AA103)&\"                    \"&IF(Ekders!AA104=\"\",0,Ekders!AA104)&\"                    \"&IF(Ekders!AA105=\"\",0,Ekders!AA105)&\"                    \"&IF(Ekders!AA106=\"\",0,Ekders!AA106)&\"                    \"&IF(Ekders!AA107=\"\",0,Ekders!AA107)&\"                    \"&IF(Ekders!AA108=\"\",0,Ekders!AA108)","v":"0                    0                    0                    0                    0                    0"},{"$f":"IF(Ekders!AB103=\"\",0,Ekders!AB103)&\"                    \"&IF(Ekders!AB104=\"\",0,Ekders!AB104)&\"                    \"&IF(Ekders!AB105=\"\",0,Ekders!AB105)&\"                    \"&IF(Ekders!AB106=\"\",0,Ekders!AB106)&\"                    \"&IF(Ekders!AB107=\"\",0,Ekders!AB107)&\"                    \"&IF(Ekders!AB108=\"\",0,Ekders!AB108)","v":"0                    0                    0                    0                    0                    0"},{"$f":"IF(Ekders!AC103=\"\",0,Ekders!AC103)&\"                    \"&IF(Ekders!AC104=\"\",0,Ekders!AC104)&\"                    \"&IF(Ekders!AC105=\"\",0,Ekders!AC105)&\"                    \"&IF(Ekders!AC106=\"\",0,Ekders!AC106)&\"                    \"&IF(Ekders!AC107=\"\",0,Ekders!AC107)&\"                    \"&IF(Ekders!AC108=\"\",0,Ekders!AC108)","v":"0                    0                    0                    0                    0                    0"},{"$f":"IF(Ekders!AD103=\"\",0,Ekders!AD103)&\"                    \"&IF(Ekders!AD104=\"\",0,Ekders!AD104)&\"                    \"&IF(Ekders!AD105=\"\",0,Ekders!AD105)&\"                    \"&IF(Ekders!AD106=\"\",0,Ekders!AD106)&\"                    \"&IF(Ekders!AD107=\"\",0,Ekders!AD107)&\"                    \"&IF(Ekders!AD108=\"\",0,Ekders!AD108)","v":"0                    0                    0                    0                    0                    0"},{"$f":"IF(Ekders!AE103=\"\",0,Ekders!AE103)&\"                    \"&IF(Ekders!AE104=\"\",0,Ekders!AE104)&\"                    \"&IF(Ekders!AE105=\"\",0,Ekders!AE105)&\"                    \"&IF(Ekders!AE106=\"\",0,Ekders!AE106)&\"                    \"&IF(Ekders!AE107=\"\",0,Ekders!AE107)&\"                    \"&IF(Ekders!AE108=\"\",0,Ekders!AE108)","v":"0                    0                    0                    0                    0                    0"},{"$f":"IF(Ekders!AF103=\"\",0,Ekders!AF103)&\"                    \"&IF(Ekders!AF104=\"\",0,Ekders!AF104)&\"                    \"&IF(Ekders!AF105=\"\",0,Ekders!AF105)&\"                    \"&IF(Ekders!AF106=\"\",0,Ekders!AF106)&\"                    \"&IF(Ekders!AF107=\"\",0,Ekders!AF107)&\"                    \"&IF(Ekders!AF108=\"\",0,Ekders!AF108)","v":"0                    0                    0                    0                    0                    0"},{"$f":"IF(Ekders!AG103=\"\",0,Ekders!AG103)&\"                    \"&IF(Ekders!AG104=\"\",0,Ekders!AG104)&\"                    \"&IF(Ekders!AG105=\"\",0,Ekders!AG105)&\"                    \"&IF(Ekders!AG106=\"\",0,Ekders!AG106)&\"                    \"&IF(Ekders!AG107=\"\",0,Ekders!AG107)&\"                    \"&IF(Ekders!AG108=\"\",0,Ekders!AG108)","v":"0                    0                    0                    0                    0                    0"},{"$f":"IF(Ekders!AH103=\"\",0,Ekders!AH103)&\"                    \"&IF(Ekders!AH104=\"\",0,Ekders!AH104)&\"                    \"&IF(Ekders!AH105=\"\",0,Ekders!AH105)&\"                    \"&IF(Ekders!AH106=\"\",0,Ekders!AH106)&\"                    \"&IF(Ekders!AH107=\"\",0,Ekders!AH107)&\"                    \"&IF(Ekders!AH108=\"\",0,Ekders!AH108)","v":"0                    0                    0                    0                    0                    0"},{"$f":"IF(Ekders!AI103=\"\",0,Ekders!AI103)&\"                    \"&IF(Ekders!AI104=\"\",0,Ekders!AI104)&\"                    \"&IF(Ekders!AI105=\"\",0,Ekders!AI105)&\"                    \"&IF(Ekders!AI106=\"\",0,Ekders!AI106)&\"                    \"&IF(Ekders!AI107=\"\",0,Ekders!AI107)&\"                    \"&IF(Ekders!AI108=\"\",0,Ekders!AI108)","v":"0                    0                    0                    0                    0                    0"},{"$f":"IF(Ekders!AJ103=\"\",0,Ekders!AJ103)&\"                    \"&IF(Ekders!AJ104=\"\",0,Ekders!AJ104)&\"                    \"&IF(Ekders!AJ105=\"\",0,Ekders!AJ105)&\"                    \"&IF(Ekders!AJ106=\"\",0,Ekders!AJ106)&\"                    \"&IF(Ekders!AJ107=\"\",0,Ekders!AJ107)&\"                    \"&IF(Ekders!AJ108=\"\",0,Ekders!AJ108)","v":"0                    0                    0                    0                    0                    0"},{"$f":"IF(Ekders!AK103=\"\",0,Ekders!AK103)&\"                    \"&IF(Ekders!AK104=\"\",0,Ekders!AK104)&\"                    \"&IF(Ekders!AK105=\"\",0,Ekders!AK105)&\"                    \"&IF(Ekders!AK106=\"\",0,Ekders!AK106)&\"                    \"&IF(Ekders!AK107=\"\",0,Ekders!AK107)&\"                    \"&IF(Ekders!AK108=\"\",0,Ekders!AK108)","v":"0                    0                    0                    0                    0                    0"},{"$f":"IF(Ekders!AL103=\"\",0,Ekders!AL103)&\"                    \"&IF(Ekders!AL104=\"\",0,Ekders!AL104)&\"                    \"&IF(Ekders!AL105=\"\",0,Ekders!AL105)&\"                    \"&IF(Ekders!AL106=\"\",0,Ekders!AL106)&\"                    \"&IF(Ekders!AL107=\"\",0,Ekders!AL107)&\"                    \"&IF(Ekders!AL108=\"\",0,Ekders!AL108)","v":"0                    0                    0                    0                    0                    0"},{"$f":"IF(Ekders!AM103=\"\",0,Ekders!AM103)&\"                    \"&IF(Ekders!AM104=\"\",0,Ekders!AM104)&\"                    \"&IF(Ekders!AM105=\"\",0,Ekders!AM105)&\"                    \"&IF(Ekders!AM106=\"\",0,Ekders!AM106)&\"                    \"&IF(Ekders!AM107=\"\",0,Ekders!AM107)&\"                    \"&IF(Ekders!AM108=\"\",0,Ekders!AM108)","v":"0                    0                    0                    0                    0                    0"},{"$f":"IF(Ekders!AN103=\"\",0,Ekders!AN103)&\"                    \"&IF(Ekders!AN104=\"\",0,Ekders!AN104)&\"                    \"&IF(Ekders!AN105=\"\",0,Ekders!AN105)&\"                    \"&IF(Ekders!AN106=\"\",0,Ekders!AN106)&\"                    \"&IF(Ekders!AN107=\"\",0,Ekders!AN107)&\"                    \"&IF(Ekders!AN108=\"\",0,Ekders!AN108)","v":"0                    0                    0                    0                    0                    0"},{"$f":"IF(Ekders!AO103=\"\",0,Ekders!AO103)&\"                    \"&IF(Ekders!AO104=\"\",0,Ekders!AO104)&\"                    \"&IF(Ekders!AO105=\"\",0,Ekders!AO105)&\"                    \"&IF(Ekders!AO106=\"\",0,Ekders!AO106)&\"                    \"&IF(Ekders!AO107=\"\",0,Ekders!AO107)&\"                    \"&IF(Ekders!AO108=\"\",0,Ekders!AO108)","v":"0                    0                    0                    0                    0                    0"},{"$f":"IF(Ekders!AP103=\"\",0,Ekders!AP103)&\"                    \"&IF(Ekders!AP104=\"\",0,Ekders!AP104)&\"                    \"&IF(Ekders!AP105=\"\",0,Ekders!AP105)&\"                    \"&IF(Ekders!AP106=\"\",0,Ekders!AP106)&\"                    \"&IF(Ekders!AP107=\"\",0,Ekders!AP107)&\"                    \"&IF(Ekders!AP108=\"\",0,Ekders!AP108)","v":"0                    0                    0                    0                    0                    0"},{"$f":"IF(Ekders!AQ103=\"\",0,Ekders!AQ103)&\"                    \"&IF(Ekders!AQ104=\"\",0,Ekders!AQ104)&\"                    \"&IF(Ekders!AQ105=\"\",0,Ekders!AQ105)&\"                    \"&IF(Ekders!AQ106=\"\",0,Ekders!AQ106)&\"                    \"&IF(Ekders!AQ107=\"\",0,Ekders!AQ107)&\"                    \"&IF(Ekders!AQ108=\"\",0,Ekders!AQ108)","v":"0                    0                    0                    0                    0                    0"},{"$f":"IF(Ekders!AR103=\"\",0,Ekders!AR103)&\"                    \"&IF(Ekders!AR104=\"\",0,Ekders!AR104)&\"                    \"&IF(Ekders!AR105=\"\",0,Ekders!AR105)&\"                    \"&IF(Ekders!AR106=\"\",0,Ekders!AR106)&\"                    \"&IF(Ekders!AR107=\"\",0,Ekders!AR107)&\"                    \"&IF(Ekders!AR108=\"\",0,Ekders!AR108)","v":"0                    0                    0                    0                    0                    0"},{"$f":"IF(Ekders!AS103=\"\",0,Ekders!AS103)&\"                    \"&IF(Ekders!AS104=\"\",0,Ekders!AS104)&\"                    \"&IF(Ekders!AS105=\"\",0,Ekders!AS105)&\"                    \"&IF(Ekders!AS106=\"\",0,Ekders!AS106)&\"                    \"&IF(Ekders!AS107=\"\",0,Ekders!AS107)&\"                    \"&IF(Ekders!AS108=\"\",0,Ekders!AS108)","v":"0                    0                    0                    0                    0                    0"},{"$f":"IF(Ekders!AT103=\"\",0,Ekders!AT103)&\"                    \"&IF(Ekders!AT104=\"\",0,Ekders!AT104)&\"                    \"&IF(Ekders!AT105=\"\",0,Ekders!AT105)&\"                    \"&IF(Ekders!AT106=\"\",0,Ekders!AT106)&\"                    \"&IF(Ekders!AT107=\"\",0,Ekders!AT107)&\"                    \"&IF(Ekders!AT108=\"\",0,Ekders!AT108)","v":"0                    0                    0                    0                    0                    0"},{"$f":"IF(Ekders!AU103=\"\",0,Ekders!AU103)&\"                    \"&IF(Ekders!AU104=\"\",0,Ekders!AU104)&\"                    \"&IF(Ekders!AU105=\"\",0,Ekders!AU105)&\"                    \"&IF(Ekders!AU106=\"\",0,Ekders!AU106)&\"                    \"&IF(Ekders!AU107=\"\",0,Ekders!AU107)&\"                    \"&IF(Ekders!AU108=\"\",0,Ekders!AU108)","v":"0                    0                    0                    0                    0                    0"},{"$f":"IF(Ekders!AV103=\"\",0,Ekders!AV103)&\"                    \"&IF(Ekders!AV104=\"\",0,Ekders!AV104)&\"                    \"&IF(Ekders!AV105=\"\",0,Ekders!AV105)&\"                    \"&IF(Ekders!AV106=\"\",0,Ekders!AV106)&\"                    \"&IF(Ekders!AV107=\"\",0,Ekders!AV107)&\"                    \"&IF(Ekders!AV108=\"\",0,Ekders!AV108)","v":"0                    0                    0                    0                    0                    0"},{"$f":"IF(Ekders!AW103=\"\",0,Ekders!AW103)&\"                    \"&IF(Ekders!AW104=\"\",0,Ekders!AW104)&\"                    \"&IF(Ekders!AW105=\"\",0,Ekders!AW105)&\"                    \"&IF(Ekders!AW106=\"\",0,Ekders!AW106)&\"                    \"&IF(Ekders!AW107=\"\",0,Ekders!AW107)&\"                    \"&IF(Ekders!AW108=\"\",0,Ekders!AW108)","v":"0                    0                    0                    0                    0                    0"},{"$f":"IF(Ekders!AX103=\"\",0,Ekders!AX103)&\"                    \"&IF(Ekders!AX104=\"\",0,Ekders!AX104)&\"                    \"&IF(Ekders!AX105=\"\",0,Ekders!AX105)&\"                    \"&IF(Ekders!AX106=\"\",0,Ekders!AX106)&\"                    \"&IF(Ekders!AX107=\"\",0,Ekders!AX107)&\"                    \"&IF(Ekders!AX108=\"\",0,Ekders!AX108)","v":"0                    0                    0                    0                    0                    0"},{"$f":"IF(Ekders!AY103=\"\",0,Ekders!AY103)&\"                    \"&IF(Ekders!AY104=\"\",0,Ekders!AY104)&\"                    \"&IF(Ekders!AY105=\"\",0,Ekders!AY105)&\"                    \"&IF(Ekders!AY106=\"\",0,Ekders!AY106)&\"                    \"&IF(Ekders!AY107=\"\",0,Ekders!AY107)&\"                    \"&IF(Ekders!AY108=\"\",0,Ekders!AY108)","v":"0                    0                    0                    0                    0                    0"},{"$f":"Ekders!AY103+Ekders!AY104+Ekders!AY105+Ekders!AY106+Ekders!AY107+Ekders!AY108","v":0},0]
[{"$f":"Ekders!B109&\"                                                       \"&Ekders!B110&\"                                                       \"&Ekders!B111&\"                                                       \"&Ekders!B113&\"                                                       \"&Ekders!B114&\"                                                       \"&Ekders!B112","v":"                                                                                                                                                                                                                                                                                   "},null,{"$f":"Ekders!L109&\"                    \"&Ekders!L110&\"                    \"&Ekders!L111&\"                    \"&Ekders!L112&\"                    \"&Ekders!L113&\"                    \"&Ekders!L114","v":"Gündüz (Lisans)                    Gündüz (Y. Lisans)                    Gündüz (Doktora)                    Gece (Lisans)                    Gece (Y. Lisans)                    Gece (Doktora)"},null,null,null,null,{"$f":"IF(Ekders!P109=\"\",0,Ekders!P109)&\"                    \"&IF(Ekders!P110=\"\",0,Ekders!P110)&\"                    \"&IF(Ekders!P111=\"\",0,Ekders!P111)&\"                    \"&IF(Ekders!P112=\"\",0,Ekders!P112)&\"                    \"&IF(Ekders!P113=\"\",0,Ekders!P113)&\"                    \"&IF(Ekders!P114=\"\",0,Ekders!P114)","v":"0                    0                    0                    0                    0                    0"},{"$f":"IF(Ekders!Q109=\"\",0,Ekders!Q109)&\"                    \"&IF(Ekders!Q110=\"\",0,Ekders!Q110)&\"                    \"&IF(Ekders!Q111=\"\",0,Ekders!Q111)&\"                    \"&IF(Ekders!Q112=\"\",0,Ekders!Q112)&\"                    \"&IF(Ekders!Q113=\"\",0,Ekders!Q113)&\"                    \"&IF(Ekders!Q114=\"\",0,Ekders!Q114)","v":"0                    0                    0                    0                    0                    0"},{"$f":"IF(Ekders!R109=\"\",0,Ekders!R109)&\"                    \"&IF(Ekders!R110=\"\",0,Ekders!R110)&\"                    \"&IF(Ekders!R111=\"\",0,Ekders!R111)&\"                    \"&IF(Ekders!R112=\"\",0,Ekders!R112)&\"                    \"&IF(Ekders!R113=\"\",0,Ekders!R113)&\"                    \"&IF(Ekders!R114=\"\",0,Ekders!R114)","v":"0                    0                    0                    0                    0                    0"},{"$f":"IF(Ekders!S109=\"\",0,Ekders!S109)&\"                    \"&IF(Ekders!S110=\"\",0,Ekders!S110)&\"                    \"&IF(Ekders!S111=\"\",0,Ekders!S111)&\"                    \"&IF(Ekders!S112=\"\",0,Ekders!S112)&\"                    \"&IF(Ekders!S113=\"\",0,Ekders!S113)&\"                    \"&IF(Ekders!S114=\"\",0,Ekders!S114)","v":"0                    0                    0                    0                    0                    0"},{"$f":"IF(Ekders!T109=\"\",0,Ekders!T109)&\"                    \"&IF(Ekders!T110=\"\",0,Ekders!T110)&\"                    \"&IF(Ekders!T111=\"\",0,Ekders!T111)&\"                    \"&IF(Ekders!T112=\"\",0,Ekders!T112)&\"                    \"&IF(Ekders!T113=\"\",0,Ekders!T113)&\"                    \"&IF(Ekders!T114=\"\",0,Ekders!T114)","v":"0                    0                    0                    0                    0                    0"},{"$f":"IF(Ekders!U109=\"\",0,Ekders!U109)&\"                    \"&IF(Ekders!U110=\"\",0,Ekders!U110)&\"                    \"&IF(Ekders!U111=\"\",0,Ekders!U111)&\"                    \"&IF(Ekders!U112=\"\",0,Ekders!U112)&\"                    \"&IF(Ekders!U113=\"\",0,Ekders!U113)&\"                    \"&IF(Ekders!U114=\"\",0,Ekders!U114)","v":"0                    0                    0                    0                    0                    0"},{"$f":"IF(Ekders!V109=\"\",0,Ekders!V109)&\"                    \"&IF(Ekders!V110=\"\",0,Ekders!V110)&\"                    \"&IF(Ekders!V111=\"\",0,Ekders!V111)&\"                    \"&IF(Ekders!V112=\"\",0,Ekders!V112)&\"                    \"&IF(Ekders!V113=\"\",0,Ekders!V113)&\"                    \"&IF(Ekders!V114=\"\",0,Ekders!V114)","v":"0                    0                    0                    0                    0                    0"},{"$f":"IF(Ekders!W109=\"\",0,Ekders!W109)&\"                    \"&IF(Ekders!W110=\"\",0,Ekders!W110)&\"                    \"&IF(Ekders!W111=\"\",0,Ekders!W111)&\"                    \"&IF(Ekders!W112=\"\",0,Ekders!W112)&\"                    \"&IF(Ekders!W113=\"\",0,Ekders!W113)&\"                    \"&IF(Ekders!W114=\"\",0,Ekders!W114)","v":"0                    0                    0                    0                    0                    0"},{"$f":"IF(Ekders!X109=\"\",0,Ekders!X109)&\"                    \"&IF(Ekders!X110=\"\",0,Ekders!X110)&\"                    \"&IF(Ekders!X111=\"\",0,Ekders!X111)&\"                    \"&IF(Ekders!X112=\"\",0,Ekders!X112)&\"                    \"&IF(Ekders!X113=\"\",0,Ekders!X113)&\"                    \"&IF(Ekders!X114=\"\",0,Ekders!X114)","v":"0                    0                    0                    0                    0                    0"},{"$f":"IF(Ekders!Y109=\"\",0,Ekders!Y109)&\"                    \"&IF(Ekders!Y110=\"\",0,Ekders!Y110)&\"                    \"&IF(Ekders!Y111=\"\",0,Ekders!Y111)&\"                    \"&IF(Ekders!Y112=\"\",0,Ekders!Y112)&\"                    \"&IF(Ekders!Y113=\"\",0,Ekders!Y113)&\"                    \"&IF(Ekders!Y114=\"\",0,Ekders!Y114)","v":"0                    0                    0                    0                    0                    0"},{"$f":"IF(Ekders!Z109=\"\",0,Ekders!Z109)&\"                    \"&IF(Ekders!Z110=\"\",0,Ekders!Z110)&\"                    \"&IF(Ekders!Z111=\"\",0,Ekders!Z111)&\"                    \"&IF(Ekders!Z112=\"\",0,Ekders!Z112)&\"                    \"&IF(Ekders!Z113=\"\",0,Ekders!Z113)&\"                    \"&IF(Ekders!Z114=\"\",0,Ekders!Z114)","v":"0                    0                    0                    0                    0                    0"},{"$f":"IF(Ekders!AA109=\"\",0,Ekders!AA109)&\"                    \"&IF(Ekders!AA110=\"\",0,Ekders!AA110)&\"                    \"&IF(Ekders!AA111=\"\",0,Ekders!AA111)&\"                    \"&IF(Ekders!AA112=\"\",0,Ekders!AA112)&\"                    \"&IF(Ekders!AA113=\"\",0,Ekders!AA113)&\"                    \"&IF(Ekders!AA114=\"\",0,Ekders!AA114)","v":"0                    0                    0                    0                    0                    0"},{"$f":"IF(Ekders!AB109=\"\",0,Ekders!AB109)&\"                    \"&IF(Ekders!AB110=\"\",0,Ekders!AB110)&\"                    \"&IF(Ekders!AB111=\"\",0,Ekders!AB111)&\"                    \"&IF(Ekders!AB112=\"\",0,Ekders!AB112)&\"                    \"&IF(Ekders!AB113=\"\",0,Ekders!AB113)&\"                    \"&IF(Ekders!AB114=\"\",0,Ekders!AB114)","v":"0                    0                    0                    0                    0                    0"},{"$f":"IF(Ekders!AC109=\"\",0,Ekders!AC109)&\"                    \"&IF(Ekders!AC110=\"\",0,Ekders!AC110)&\"                    \"&IF(Ekders!AC111=\"\",0,Ekders!AC111)&\"                    \"&IF(Ekders!AC112=\"\",0,Ekders!AC112)&\"                    \"&IF(Ekders!AC113=\"\",0,Ekders!AC113)&\"                    \"&IF(Ekders!AC114=\"\",0,Ekders!AC114)","v":"0                    0                    0                    0                    0                    0"},{"$f":"IF(Ekders!AD109=\"\",0,Ekders!AD109)&\"                    \"&IF(Ekders!AD110=\"\",0,Ekders!AD110)&\"                    \"&IF(Ekders!AD111=\"\",0,Ekders!AD111)&\"                    \"&IF(Ekders!AD112=\"\",0,Ekders!AD112)&\"                    \"&IF(Ekders!AD113=\"\",0,Ekders!AD113)&\"                    \"&IF(Ekders!AD114=\"\",0,Ekders!AD114)","v":"0                    0                    0                    0                    0                    0"},{"$f":"IF(Ekders!AE109=\"\",0,Ekders!AE109)&\"                    \"&IF(Ekders!AE110=\"\",0,Ekders!AE110)&\"                    \"&IF(Ekders!AE111=\"\",0,Ekders!AE111)&\"                    \"&IF(Ekders!AE112=\"\",0,Ekders!AE112)&\"                    \"&IF(Ekders!AE113=\"\",0,Ekders!AE113)&\"                    \"&IF(Ekders!AE114=\"\",0,Ekders!AE114)","v":"0                    0                    0                    0                    0                    0"},{"$f":"IF(Ekders!AF109=\"\",0,Ekders!AF109)&\"                    \"&IF(Ekders!AF110=\"\",0,Ekders!AF110)&\"                    \"&IF(Ekders!AF111=\"\",0,Ekders!AF111)&\"                    \"&IF(Ekders!AF112=\"\",0,Ekders!AF112)&\"                    \"&IF(Ekders!AF113=\"\",0,Ekders!AF113)&\"                    \"&IF(Ekders!AF114=\"\",0,Ekders!AF114)","v":"0                    0                    0                    0                    0                    0"},{"$f":"IF(Ekders!AG109=\"\",0,Ekders!AG109)&\"                    \"&IF(Ekders!AG110=\"\",0,Ekders!AG110)&\"                    \"&IF(Ekders!AG111=\"\",0,Ekders!AG111)&\"                    \"&IF(Ekders!AG112=\"\",0,Ekders!AG112)&\"                    \"&IF(Ekders!AG113=\"\",0,Ekders!AG113)&\"                    \"&IF(Ekders!AG114=\"\",0,Ekders!AG114)","v":"0                    0                    0                    0                    0                    0"},{"$f":"IF(Ekders!AH109=\"\",0,Ekders!AH109)&\"                    \"&IF(Ekders!AH110=\"\",0,Ekders!AH110)&\"                    \"&IF(Ekders!AH111=\"\",0,Ekders!AH111)&\"                    \"&IF(Ekders!AH112=\"\",0,Ekders!AH112)&\"                    \"&IF(Ekders!AH113=\"\",0,Ekders!AH113)&\"                    \"&IF(Ekders!AH114=\"\",0,Ekders!AH114)","v":"0                    0                    0                    0                    0                    0"},{"$f":"IF(Ekders!AI109=\"\",0,Ekders!AI109)&\"                    \"&IF(Ekders!AI110=\"\",0,Ekders!AI110)&\"                    \"&IF(Ekders!AI111=\"\",0,Ekders!AI111)&\"                    \"&IF(Ekders!AI112=\"\",0,Ekders!AI112)&\"                    \"&IF(Ekders!AI113=\"\",0,Ekders!AI113)&\"                    \"&IF(Ekders!AI114=\"\",0,Ekders!AI114)","v":"0                    0                    0                    0                    0                    0"},{"$f":"IF(Ekders!AJ109=\"\",0,Ekders!AJ109)&\"                    \"&IF(Ekders!AJ110=\"\",0,Ekders!AJ110)&\"                    \"&IF(Ekders!AJ111=\"\",0,Ekders!AJ111)&\"                    \"&IF(Ekders!AJ112=\"\",0,Ekders!AJ112)&\"                    \"&IF(Ekders!AJ113=\"\",0,Ekders!AJ113)&\"                    \"&IF(Ekders!AJ114=\"\",0,Ekders!AJ114)","v":"0                    0                    0                    0                    0                    0"},{"$f":"IF(Ekders!AK109=\"\",0,Ekders!AK109)&\"                    \"&IF(Ekders!AK110=\"\",0,Ekders!AK110)&\"                    \"&IF(Ekders!AK111=\"\",0,Ekders!AK111)&\"                    \"&IF(Ekders!AK112=\"\",0,Ekders!AK112)&\"                    \"&IF(Ekders!AK113=\"\",0,Ekders!AK113)&\"                    \"&IF(Ekders!AK114=\"\",0,Ekders!AK114)","v":"0                    0                    0                    0                    0                    0"},{"$f":"IF(Ekders!AL109=\"\",0,Ekders!AL109)&\"                    \"&IF(Ekders!AL110=\"\",0,Ekders!AL110)&\"                    \"&IF(Ekders!AL111=\"\",0,Ekders!AL111)&\"                    \"&IF(Ekders!AL112=\"\",0,Ekders!AL112)&\"                    \"&IF(Ekders!AL113=\"\",0,Ekders!AL113)&\"                    \"&IF(Ekders!AL114=\"\",0,Ekders!AL114)","v":"0                    0                    0                    0                    0                    0"},{"$f":"IF(Ekders!AM109=\"\",0,Ekders!AM109)&\"                    \"&IF(Ekders!AM110=\"\",0,Ekders!AM110)&\"                    \"&IF(Ekders!AM111=\"\",0,Ekders!AM111)&\"                    \"&IF(Ekders!AM112=\"\",0,Ekders!AM112)&\"                    \"&IF(Ekders!AM113=\"\",0,Ekders!AM113)&\"                    \"&IF(Ekders!AM114=\"\",0,Ekders!AM114)","v":"0                    0                    0                    0                    0                    0"},{"$f":"IF(Ekders!AN109=\"\",0,Ekders!AN109)&\"                    \"&IF(Ekders!AN110=\"\",0,Ekders!AN110)&\"                    \"&IF(Ekders!AN111=\"\",0,Ekders!AN111)&\"                    \"&IF(Ekders!AN112=\"\",0,Ekders!AN112)&\"                    \"&IF(Ekders!AN113=\"\",0,Ekders!AN113)&\"                    \"&IF(Ekders!AN114=\"\",0,Ekders!AN114)","v":"0                    0                    0                    0                    0                    0"},{"$f":"IF(Ekders!AO109=\"\",0,Ekders!AO109)&\"                    \"&IF(Ekders!AO110=\"\",0,Ekders!AO110)&\"                    \"&IF(Ekders!AO111=\"\",0,Ekders!AO111)&\"                    \"&IF(Ekders!AO112=\"\",0,Ekders!AO112)&\"                    \"&IF(Ekders!AO113=\"\",0,Ekders!AO113)&\"                    \"&IF(Ekders!AO114=\"\",0,Ekders!AO114)","v":"0                    0                    0                    0                    0                    0"},{"$f":"IF(Ekders!AP109=\"\",0,Ekders!AP109)&\"                    \"&IF(Ekders!AP110=\"\",0,Ekders!AP110)&\"                    \"&IF(Ekders!AP111=\"\",0,Ekders!AP111)&\"                    \"&IF(Ekders!AP112=\"\",0,Ekders!AP112)&\"                    \"&IF(Ekders!AP113=\"\",0,Ekders!AP113)&\"                    \"&IF(Ekders!AP114=\"\",0,Ekders!AP114)","v":"0                    0                    0                    0                    0                    0"},{"$f":"IF(Ekders!AQ109=\"\",0,Ekders!AQ109)&\"                    \"&IF(Ekders!AQ110=\"\",0,Ekders!AQ110)&\"                    \"&IF(Ekders!AQ111=\"\",0,Ekders!AQ111)&\"                    \"&IF(Ekders!AQ112=\"\",0,Ekders!AQ112)&\"                    \"&IF(Ekders!AQ113=\"\",0,Ekders!AQ113)&\"                    \"&IF(Ekders!AQ114=\"\",0,Ekders!AQ114)","v":"0                    0                    0                    0                    0                    0"},{"$f":"IF(Ekders!AR109=\"\",0,Ekders!AR109)&\"                    \"&IF(Ekders!AR110=\"\",0,Ekders!AR110)&\"                    \"&IF(Ekders!AR111=\"\",0,Ekders!AR111)&\"                    \"&IF(Ekders!AR112=\"\",0,Ekders!AR112)&\"                    \"&IF(Ekders!AR113=\"\",0,Ekders!AR113)&\"                    \"&IF(Ekders!AR114=\"\",0,Ekders!AR114)","v":"0                    0                    0                    0                    0                    0"},{"$f":"IF(Ekders!AS109=\"\",0,Ekders!AS109)&\"                    \"&IF(Ekders!AS110=\"\",0,Ekders!AS110)&\"                    \"&IF(Ekders!AS111=\"\",0,Ekders!AS111)&\"                    \"&IF(Ekders!AS112=\"\",0,Ekders!AS112)&\"                    \"&IF(Ekders!AS113=\"\",0,Ekders!AS113)&\"                    \"&IF(Ekders!AS114=\"\",0,Ekders!AS114)","v":"0                    0                    0                    0                    0                    0"},{"$f":"IF(Ekders!AT109=\"\",0,Ekders!AT109)&\"                    \"&IF(Ekders!AT110=\"\",0,Ekders!AT110)&\"                    \"&IF(Ekders!AT111=\"\",0,Ekders!AT111)&\"                    \"&IF(Ekders!AT112=\"\",0,Ekders!AT112)&\"                    \"&IF(Ekders!AT113=\"\",0,Ekders!AT113)&\"                    \"&IF(Ekders!AT114=\"\",0,Ekders!AT114)","v":"0                    0                    0                    0                    0                    0"},{"$f":"IF(Ekders!AU109=\"\",0,Ekders!AU109)&\"                    \"&IF(Ekders!AU110=\"\",0,Ekders!AU110)&\"                    \"&IF(Ekders!AU111=\"\",0,Ekders!AU111)&\"                    \"&IF(Ekders!AU112=\"\",0,Ekders!AU112)&\"                    \"&IF(Ekders!AU113=\"\",0,Ekders!AU113)&\"                    \"&IF(Ekders!AU114=\"\",0,Ekders!AU114)","v":"0                    0                    0                    0                    0                    0"},{"$f":"IF(Ekders!AV109=\"\",0,Ekders!AV109)&\"                    \"&IF(Ekders!AV110=\"\",0,Ekders!AV110)&\"                    \"&IF(Ekders!AV111=\"\",0,Ekders!AV111)&\"                    \"&IF(Ekders!AV112=\"\",0,Ekders!AV112)&\"                    \"&IF(Ekders!AV113=\"\",0,Ekders!AV113)&\"                    \"&IF(Ekders!AV114=\"\",0,Ekders!AV114)","v":"0                    0                    0                    0                    0                    0"},{"$f":"IF(Ekders!AW109=\"\",0,Ekders!AW109)&\"                    \"&IF(Ekders!AW110=\"\",0,Ekders!AW110)&\"                    \"&IF(Ekders!AW111=\"\",0,Ekders!AW111)&\"                    \"&IF(Ekders!AW112=\"\",0,Ekders!AW112)&\"                    \"&IF(Ekders!AW113=\"\",0,Ekders!AW113)&\"                    \"&IF(Ekders!AW114=\"\",0,Ekders!AW114)","v":"0                    0                    0                    0                    0                    0"},{"$f":"IF(Ekders!AX109=\"\",0,Ekders!AX109)&\"                    \"&IF(Ekders!AX110=\"\",0,Ekders!AX110)&\"                    \"&IF(Ekders!AX111=\"\",0,Ekders!AX111)&\"                    \"&IF(Ekders!AX112=\"\",0,Ekders!AX112)&\"                    \"&IF(Ekders!AX113=\"\",0,Ekders!AX113)&\"                    \"&IF(Ekders!AX114=\"\",0,Ekders!AX114)","v":"0                    0                    0                    0                    0                    0"},{"$f":"IF(Ekders!AY109=\"\",0,Ekders!AY109)&\"                    \"&IF(Ekders!AY110=\"\",0,Ekders!AY110)&\"                    \"&IF(Ekders!AY111=\"\",0,Ekders!AY111)&\"                    \"&IF(Ekders!AY112=\"\",0,Ekders!AY112)&\"                    \"&IF(Ekders!AY113=\"\",0,Ekders!AY113)&\"                    \"&IF(Ekders!AY114=\"\",0,Ekders!AY114)","v":"0                    0                    0                    0                    0                    0"},{"$f":"Ekders!AY109+Ekders!AY110+Ekders!AY111+Ekders!AY112+Ekders!AY113+Ekders!AY114","v":0},0]
[{"$f":"Ekders!B115&\"                                                       \"&Ekders!B116&\"                                                       \"&Ekders!B117&\"                                                       \"&Ekders!B119&\"                                                       \"&Ekders!B120&\"                                                       \"&Ekders!B118","v":"                                                                                                                                                                                                                                                                                   "},null,{"$f":"Ekders!L115&\"                    \"&Ekders!L116&\"                    \"&Ekders!L117&\"                    \"&Ekders!L118&\"                    \"&Ekders!L119&\"                    \"&Ekders!L120","v":"Gündüz (Lisans)                    Gündüz (Y. Lisans)                    Gündüz (Doktora)                    Gece (Lisans)                    Gece (Y. Lisans)                    Gece (Doktora)"},null,null,null,null,{"$f":"IF(Ekders!P115=\"\",0,Ekders!P115)&\"                    \"&IF(Ekders!P116=\"\",0,Ekders!P116)&\"                    \"&IF(Ekders!P117=\"\",0,Ekders!P117)&\"                    \"&IF(Ekders!P118=\"\",0,Ekders!P118)&\"                    \"&IF(Ekders!P119=\"\",0,Ekders!P119)&\"                    \"&IF(Ekders!P120=\"\",0,Ekders!P120)","v":"0                    0                    0                    0                    0                    0"},{"$f":"IF(Ekders!Q115=\"\",0,Ekders!Q115)&\"                    \"&IF(Ekders!Q116=\"\",0,Ekders!Q116)&\"                    \"&IF(Ekders!Q117=\"\",0,Ekders!Q117)&\"                    \"&IF(Ekders!Q118=\"\",0,Ekders!Q118)&\"                    \"&IF(Ekders!Q119=\"\",0,Ekders!Q119)&\"                    \"&IF(Ekders!Q120=\"\",0,Ekders!Q120)","v":"0                    0                    0                    0                    0                    0"},{"$f":"IF(Ekders!R115=\"\",0,Ekders!R115)&\"                    \"&IF(Ekders!R116=\"\",0,Ekders!R116)&\"                    \"&IF(Ekders!R117=\"\",0,Ekders!R117)&\"                    \"&IF(Ekders!R118=\"\",0,Ekders!R118)&\"                    \"&IF(Ekders!R119=\"\",0,Ekders!R119)&\"                    \"&IF(Ekders!R120=\"\",0,Ekders!R120)","v":"0                    0                    0                    0                    0                    0"},{"$f":"IF(Ekders!S115=\"\",0,Ekders!S115)&\"                    \"&IF(Ekders!S116=\"\",0,Ekders!S116)&\"                    \"&IF(Ekders!S117=\"\",0,Ekders!S117)&\"                    \"&IF(Ekders!S118=\"\",0,Ekders!S118)&\"                    \"&IF(Ekders!S119=\"\",0,Ekders!S119)&\"                    \"&IF(Ekders!S120=\"\",0,Ekders!S120)","v":"0                    0                    0                    0                    0                    0"},{"$f":"IF(Ekders!T115=\"\",0,Ekders!T115)&\"                    \"&IF(Ekders!T116=\"\",0,Ekders!T116)&\"                    \"&IF(Ekders!T117=\"\",0,Ekders!T117)&\"                    \"&IF(Ekders!T118=\"\",0,Ekders!T118)&\"                    \"&IF(Ekders!T119=\"\",0,Ekders!T119)&\"                    \"&IF(Ekders!T120=\"\",0,Ekders!T120)","v":"0                    0                    0                    0                    0                    0"},{"$f":"IF(Ekders!U115=\"\",0,Ekders!U115)&\"                    \"&IF(Ekders!U116=\"\",0,Ekders!U116)&\"                    \"&IF(Ekders!U117=\"\",0,Ekders!U117)&\"                    \"&IF(Ekders!U118=\"\",0,Ekders!U118)&\"                    \"&IF(Ekders!U119=\"\",0,Ekders!U119)&\"                    \"&IF(Ekders!U120=\"\",0,Ekders!U120)","v":"0                    0                    0                    0                    0                    0"},{"$f":"IF(Ekders!V115=\"\",0,Ekders!V115)&\"                    \"&IF(Ekders!V116=\"\",0,Ekders!V116)&\"                    \"&IF(Ekders!V117=\"\",0,Ekders!V117)&\"                    \"&IF(Ekders!V118=\"\",0,Ekders!V118)&\"                    \"&IF(Ekders!V119=\"\",0,Ekders!V119)&\"                    \"&IF(Ekders!V120=\"\",0,Ekders!V120)","v":"0                    0                    0                    0                    0                    0"},{"$f":"IF(Ekders!W115=\"\",0,Ekders!W115)&\"                    \"&IF(Ekders!W116=\"\",0,Ekders!W116)&\"                    \"&IF(Ekders!W117=\"\",0,Ekders!W117)&\"                    \"&IF(Ekders!W118=\"\",0,Ekders!W118)&\"                    \"&IF(Ekders!W119=\"\",0,Ekders!W119)&\"                    \"&IF(Ekders!W120=\"\",0,Ekders!W120)","v":"0                    0                    0                    0                    0                    0"},{"$f":"IF(Ekders!X115=\"\",0,Ekders!X115)&\"                    \"&IF(Ekders!X116=\"\",0,Ekders!X116)&\"                    \"&IF(Ekders!X117=\"\",0,Ekders!X117)&\"                    \"&IF(Ekders!X118=\"\",0,Ekders!X118)&\"                    \"&IF(Ekders!X119=\"\",0,Ekders!X119)&\"                    \"&IF(Ekders!X120=\"\",0,Ekders!X120)","v":"0                    0                    0                    0                    0                    0"},{"$f":"IF(Ekders!Y115=\"\",0,Ekders!Y115)&\"                    \"&IF(Ekders!Y116=\"\",0,Ekders!Y116)&\"                    \"&IF(Ekders!Y117=\"\",0,Ekders!Y117)&\"                    \"&IF(Ekders!Y118=\"\",0,Ekders!Y118)&\"                    \"&IF(Ekders!Y119=\"\",0,Ekders!Y119)&\"                    \"&IF(Ekders!Y120=\"\",0,Ekders!Y120)","v":"0                    0                    0                    0                    0                    0"},{"$f":"IF(Ekders!Z115=\"\",0,Ekders!Z115)&\"                    \"&IF(Ekders!Z116=\"\",0,Ekders!Z116)&\"                    \"&IF(Ekders!Z117=\"\",0,Ekders!Z117)&\"                    \"&IF(Ekders!Z118=\"\",0,Ekders!Z118)&\"                    \"&IF(Ekders!Z119=\"\",0,Ekders!Z119)&\"                    \"&IF(Ekders!Z120=\"\",0,Ekders!Z120)","v":"0                    0                    0                    0                    0                    0"},{"$f":"IF(Ekders!AA115=\"\",0,Ekders!AA115)&\"                    \"&IF(Ekders!AA116=\"\",0,Ekders!AA116)&\"                    \"&IF(Ekders!AA117=\"\",0,Ekders!AA117)&\"                    \"&IF(Ekders!AA118=\"\",0,Ekders!AA118)&\"                    \"&IF(Ekders!AA119=\"\",0,Ekders!AA119)&\"                    \"&IF(Ekders!AA120=\"\",0,Ekders!AA120)","v":"0                    0                    0                    0                    0                    0"},{"$f":"IF(Ekders!AB115=\"\",0,Ekders!AB115)&\"                    \"&IF(Ekders!AB116=\"\",0,Ekders!AB116)&\"                    \"&IF(Ekders!AB117=\"\",0,Ekders!AB117)&\"                    \"&IF(Ekders!AB118=\"\",0,Ekders!AB118)&\"                    \"&IF(Ekders!AB119=\"\",0,Ekders!AB119)&\"                    \"&IF(Ekders!AB120=\"\",0,Ekders!AB120)","v":"0                    0                    0                    0                    0                    0"},{"$f":"IF(Ekders!AC115=\"\",0,Ekders!AC115)&\"                    \"&IF(Ekders!AC116=\"\",0,Ekders!AC116)&\"                    \"&IF(Ekders!AC117=\"\",0,Ekders!AC117)&\"                    \"&IF(Ekders!AC118=\"\",0,Ekders!AC118)&\"                    \"&IF(Ekders!AC119=\"\",0,Ekders!AC119)&\"                    \"&IF(Ekders!AC120=\"\",0,Ekders!AC120)","v":"0                    0                    0                    0                    0                    0"},{"$f":"IF(Ekders!AD115=\"\",0,Ekders!AD115)&\"                    \"&IF(Ekders!AD116=\"\",0,Ekders!AD116)&\"                    \"&IF(Ekders!AD117=\"\",0,Ekders!AD117)&\"                    \"&IF(Ekders!AD118=\"\",0,Ekders!AD118)&\"                    \"&IF(Ekders!AD119=\"\",0,Ekders!AD119)&\"                    \"&IF(Ekders!AD120=\"\",0,Ekders!AD120)","v":"0                    0                    0                    0                    0                    0"},{"$f":"IF(Ekders!AE115=\"\",0,Ekders!AE115)&\"                    \"&IF(Ekders!AE116=\"\",0,Ekders!AE116)&\"                    \"&IF(Ekders!AE117=\"\",0,Ekders!AE117)&\"                    \"&IF(Ekders!AE118=\"\",0,Ekders!AE118)&\"                    \"&IF(Ekders!AE119=\"\",0,Ekders!AE119)&\"                    \"&IF(Ekders!AE120=\"\",0,Ekders!AE120)","v":"0                    0                    0                    0                    0                    0"},{"$f":"IF(Ekders!AF115=\"\",0,Ekders!AF115)&\"                    \"&IF(Ekders!AF116=\"\",0,Ekders!AF116)&\"                    \"&IF(Ekders!AF117=\"\",0,Ekders!AF117)&\"                    \"&IF(Ekders!AF118=\"\",0,Ekders!AF118)&\"                    \"&IF(Ekders!AF119=\"\",0,Ekders!AF119)&\"                    \"&IF(Ekders!AF120=\"\",0,Ekders!AF120)","v":"0                    0                    0                    0                    0                    0"},{"$f":"IF(Ekders!AG115=\"\",0,Ekders!AG115)&\"                    \"&IF(Ekders!AG116=\"\",0,Ekders!AG116)&\"                    \"&IF(Ekders!AG117=\"\",0,Ekders!AG117)&\"                    \"&IF(Ekders!AG118=\"\",0,Ekders!AG118)&\"                    \"&IF(Ekders!AG119=\"\",0,Ekders!AG119)&\"                    \"&IF(Ekders!AG120=\"\",0,Ekders!AG120)","v":"0                    0                    0                    0                    0                    0"},{"$f":"IF(Ekders!AH115=\"\",0,Ekders!AH115)&\"                    \"&IF(Ekders!AH116=\"\",0,Ekders!AH116)&\"                    \"&IF(Ekders!AH117=\"\",0,Ekders!AH117)&\"                    \"&IF(Ekders!AH118=\"\",0,Ekders!AH118)&\"                    \"&IF(Ekders!AH119=\"\",0,Ekders!AH119)&\"                    \"&IF(Ekders!AH120=\"\",0,Ekders!AH120)","v":"0                    0                    0                    0                    0                    0"},{"$f":"IF(Ekders!AI115=\"\",0,Ekders!AI115)&\"                    \"&IF(Ekders!AI116=\"\",0,Ekders!AI116)&\"                    \"&IF(Ekders!AI117=\"\",0,Ekders!AI117)&\"                    \"&IF(Ekders!AI118=\"\",0,Ekders!AI118)&\"                    \"&IF(Ekders!AI119=\"\",0,Ekders!AI119)&\"                    \"&IF(Ekders!AI120=\"\",0,Ekders!AI120)","v":"0                    0                    0                    0                    0                    0"},{"$f":"IF(Ekders!AJ115=\"\",0,Ekders!AJ115)&\"                    \"&IF(Ekders!AJ116=\"\",0,Ekders!AJ116)&\"                    \"&IF(Ekders!AJ117=\"\",0,Ekders!AJ117)&\"                    \"&IF(Ekders!AJ118=\"\",0,Ekders!AJ118)&\"                    \"&IF(Ekders!AJ119=\"\",0,Ekders!AJ119)&\"                    \"&IF(Ekders!AJ120=\"\",0,Ekders!AJ120)","v":"0                    0                    0                    0                    0                    0"},{"$f":"IF(Ekders!AK115=\"\",0,Ekders!AK115)&\"                    \"&IF(Ekders!AK116=\"\",0,Ekders!AK116)&\"                    \"&IF(Ekders!AK117=\"\",0,Ekders!AK117)&\"                    \"&IF(Ekders!AK118=\"\",0,Ekders!AK118)&\"                    \"&IF(Ekders!AK119=\"\",0,Ekders!AK119)&\"                    \"&IF(Ekders!AK120=\"\",0,Ekders!AK120)","v":"0                    0                    0                    0                    0                    0"},{"$f":"IF(Ekders!AL115=\"\",0,Ekders!AL115)&\"                    \"&IF(Ekders!AL116=\"\",0,Ekders!AL116)&\"                    \"&IF(Ekders!AL117=\"\",0,Ekders!AL117)&\"                    \"&IF(Ekders!AL118=\"\",0,Ekders!AL118)&\"                    \"&IF(Ekders!AL119=\"\",0,Ekders!AL119)&\"                    \"&IF(Ekders!AL120=\"\",0,Ekders!AL120)","v":"0                    0                    0                    0                    0                    0"},{"$f":"IF(Ekders!AM115=\"\",0,Ekders!AM115)&\"                    \"&IF(Ekders!AM116=\"\",0,Ekders!AM116)&\"                    \"&IF(Ekders!AM117=\"\",0,Ekders!AM117)&\"                    \"&IF(Ekders!AM118=\"\",0,Ekders!AM118)&\"                    \"&IF(Ekders!AM119=\"\",0,Ekders!AM119)&\"                    \"&IF(Ekders!AM120=\"\",0,Ekders!AM120)","v":"0                    0                    0                    0                    0                    0"},{"$f":"IF(Ekders!AN115=\"\",0,Ekders!AN115)&\"                    \"&IF(Ekders!AN116=\"\",0,Ekders!AN116)&\"                    \"&IF(Ekders!AN117=\"\",0,Ekders!AN117)&\"                    \"&IF(Ekders!AN118=\"\",0,Ekders!AN118)&\"                    \"&IF(Ekders!AN119=\"\",0,Ekders!AN119)&\"                    \"&IF(Ekders!AN120=\"\",0,Ekders!AN120)","v":"0                    0                    0                    0                    0                    0"},{"$f":"IF(Ekders!AO115=\"\",0,Ekders!AO115)&\"                    \"&IF(Ekders!AO116=\"\",0,Ekders!AO116)&\"                    \"&IF(Ekders!AO117=\"\",0,Ekders!AO117)&\"                    \"&IF(Ekders!AO118=\"\",0,Ekders!AO118)&\"                    \"&IF(Ekders!AO119=\"\",0,Ekders!AO119)&\"                    \"&IF(Ekders!AO120=\"\",0,Ekders!AO120)","v":"0                    0                    0                    0                    0                    0"},{"$f":"IF(Ekders!AP115=\"\",0,Ekders!AP115)&\"                    \"&IF(Ekders!AP116=\"\",0,Ekders!AP116)&\"                    \"&IF(Ekders!AP117=\"\",0,Ekders!AP117)&\"                    \"&IF(Ekders!AP118=\"\",0,Ekders!AP118)&\"                    \"&IF(Ekders!AP119=\"\",0,Ekders!AP119)&\"                    \"&IF(Ekders!AP120=\"\",0,Ekders!AP120)","v":"0                    0                    0                    0                    0                    0"},{"$f":"IF(Ekders!AQ115=\"\",0,Ekders!AQ115)&\"                    \"&IF(Ekders!AQ116=\"\",0,Ekders!AQ116)&\"                    \"&IF(Ekders!AQ117=\"\",0,Ekders!AQ117)&\"                    \"&IF(Ekders!AQ118=\"\",0,Ekders!AQ118)&\"                    \"&IF(Ekders!AQ119=\"\",0,Ekders!AQ119)&\"                    \"&IF(Ekders!AQ120=\"\",0,Ekders!AQ120)","v":"0                    0                    0                    0                    0                    0"},{"$f":"IF(Ekders!AR115=\"\",0,Ekders!AR115)&\"                    \"&IF(Ekders!AR116=\"\",0,Ekders!AR116)&\"                    \"&IF(Ekders!AR117=\"\",0,Ekders!AR117)&\"                    \"&IF(Ekders!AR118=\"\",0,Ekders!AR118)&\"                    \"&IF(Ekders!AR119=\"\",0,Ekders!AR119)&\"                    \"&IF(Ekders!AR120=\"\",0,Ekders!AR120)","v":"0                    0                    0                    0                    0                    0"},{"$f":"IF(Ekders!AS115=\"\",0,Ekders!AS115)&\"                    \"&IF(Ekders!AS116=\"\",0,Ekders!AS116)&\"                    \"&IF(Ekders!AS117=\"\",0,Ekders!AS117)&\"                    \"&IF(Ekders!AS118=\"\",0,Ekders!AS118)&\"                    \"&IF(Ekders!AS119=\"\",0,Ekders!AS119)&\"                    \"&IF(Ekders!AS120=\"\",0,Ekders!AS120)","v":"0                    0                    0                    0                    0                    0"},{"$f":"IF(Ekders!AT115=\"\",0,Ekders!AT115)&\"                    \"&IF(Ekders!AT116=\"\",0,Ekders!AT116)&\"                    \"&IF(Ekders!AT117=\"\",0,Ekders!AT117)&\"                    \"&IF(Ekders!AT118=\"\",0,Ekders!AT118)&\"                    \"&IF(Ekders!AT119=\"\",0,Ekders!AT119)&\"                    \"&IF(Ekders!AT120=\"\",0,Ekders!AT120)","v":"0                    0                    0                    0                    0                    0"},{"$f":"IF(Ekders!AU115=\"\",0,Ekders!AU115)&\"                    \"&IF(Ekders!AU116=\"\",0,Ekders!AU116)&\"                    \"&IF(Ekders!AU117=\"\",0,Ekders!AU117)&\"                    \"&IF(Ekders!AU118=\"\",0,Ekders!AU118)&\"                    \"&IF(Ekders!AU119=\"\",0,Ekders!AU119)&\"                    \"&IF(Ekders!AU120=\"\",0,Ekders!AU120)","v":"0                    0                    0                    0                    0                    0"},{"$f":"IF(Ekders!AV115=\"\",0,Ekders!AV115)&\"                    \"&IF(Ekders!AV116=\"\",0,Ekders!AV116)&\"                    \"&IF(Ekders!AV117=\"\",0,Ekders!AV117)&\"                    \"&IF(Ekders!AV118=\"\",0,Ekders!AV118)&\"                    \"&IF(Ekders!AV119=\"\",0,Ekders!AV119)&\"                    \"&IF(Ekders!AV120=\"\",0,Ekders!AV120)","v":"0                    0                    0                    0                    0                    0"},{"$f":"IF(Ekders!AW115=\"\",0,Ekders!AW115)&\"                    \"&IF(Ekders!AW116=\"\",0,Ekders!AW116)&\"                    \"&IF(Ekders!AW117=\"\",0,Ekders!AW117)&\"                    \"&IF(Ekders!AW118=\"\",0,Ekders!AW118)&\"                    \"&IF(Ekders!AW119=\"\",0,Ekders!AW119)&\"                    \"&IF(Ekders!AW120=\"\",0,Ekders!AW120)","v":"0                    0                    0                    0                    0                    0"},{"$f":"IF(Ekders!AX115=\"\",0,Ekders!AX115)&\"                    \"&IF(Ekders!AX116=\"\",0,Ekders!AX116)&\"                    \"&IF(Ekders!AX117=\"\",0,Ekders!AX117)&\"                    \"&IF(Ekders!AX118=\"\",0,Ekders!AX118)&\"                    \"&IF(Ekders!AX119=\"\",0,Ekders!AX119)&\"                    \"&IF(Ekders!AX120=\"\",0,Ekders!AX120)","v":"0                    0                    0                    0                    0                    0"},{"$f":"IF(Ekders!AY115=\"\",0,Ekders!AY115)&\"                    \"&IF(Ekders!AY116=\"\",0,Ekders!AY116)&\"                    \"&IF(Ekders!AY117=\"\",0,Ekders!AY117)&\"                    \"&IF(Ekders!AY118=\"\",0,Ekders!AY118)&\"                    \"&IF(Ekders!AY119=\"\",0,Ekders!AY119)&\"                    \"&IF(Ekders!AY120=\"\",0,Ekders!AY120)","v":"0                    0                    0                    0                    0                    0"},{"$f":"Ekders!AY115+Ekders!AY116+Ekders!AY117+Ekders!AY118+Ekders!AY119+Ekders!AY120","v":0},0]
[{"$f":"Ekders!B121&\"                                                       \"&Ekders!B122&\"                                                       \"&Ekders!B123&\"                                                       \"&Ekders!B125&\"                                                       \"&Ekders!B126&\"                                                       \"&Ekders!B124","v":"                                                                                                                                                                                                                                                                                   "},null,{"$f":"Ekders!L121&\"                    \"&Ekders!L122&\"                    \"&Ekders!L123&\"                    \"&Ekders!L124&\"                    \"&Ekders!L125&\"                    \"&Ekders!L126","v":"Gündüz (Lisans)                    Gündüz (Y. Lisans)                    Gündüz (Doktora)                    Gece (Lisans)                    Gece (Y. Lisans)                    Gece (Doktora)"},null,null,null,null,{"$f":"IF(Ekders!P121=\"\",0,Ekders!P121)&\"                    \"&IF(Ekders!P122=\"\",0,Ekders!P122)&\"                    \"&IF(Ekders!P123=\"\",0,Ekders!P123)&\"                    \"&IF(Ekders!P124=\"\",0,Ekders!P124)&\"                    \"&IF(Ekders!P125=\"\",0,Ekders!P125)&\"                    \"&IF(Ekders!P126=\"\",0,Ekders!P126)","v":"0                    0                    0                    0                    0                    0"},{"$f":"IF(Ekders!Q121=\"\",0,Ekders!Q121)&\"                    \"&IF(Ekders!Q122=\"\",0,Ekders!Q122)&\"                    \"&IF(Ekders!Q123=\"\",0,Ekders!Q123)&\"                    \"&IF(Ekders!Q124=\"\",0,Ekders!Q124)&\"                    \"&IF(Ekders!Q125=\"\",0,Ekders!Q125)&\"                    \"&IF(Ekders!Q126=\"\",0,Ekders!Q126)","v":"0                    0                    0                    0                    0                    0"},{"$f":"IF(Ekders!R121=\"\",0,Ekders!R121)&\"                    \"&IF(Ekders!R122=\"\",0,Ekders!R122)&\"                    \"&IF(Ekders!R123=\"\",0,Ekders!R123)&\"                    \"&IF(Ekders!R124=\"\",0,Ekders!R124)&\"                    \"&IF(Ekders!R125=\"\",0,Ekders!R125)&\"                    \"&IF(Ekders!R126=\"\",0,Ekders!R126)","v":"0                    0                    0                    0                    0                    0"},{"$f":"IF(Ekders!S121=\"\",0,Ekders!S121)&\"                    \"&IF(Ekders!S122=\"\",0,Ekders!S122)&\"                    \"&IF(Ekders!S123=\"\",0,Ekders!S123)&\"                    \"&IF(Ekders!S124=\"\",0,Ekders!S124)&\"                    \"&IF(Ekders!S125=\"\",0,Ekders!S125)&\"                    \"&IF(Ekders!S126=\"\",0,Ekders!S126)","v":"0                    0                    0                    0                    0                    0"},{"$f":"IF(Ekders!T121=\"\",0,Ekders!T121)&\"                    \"&IF(Ekders!T122=\"\",0,Ekders!T122)&\"                    \"&IF(Ekders!T123=\"\",0,Ekders!T123)&\"                    \"&IF(Ekders!T124=\"\",0,Ekders!T124)&\"                    \"&IF(Ekders!T125=\"\",0,Ekders!T125)&\"                    \"&IF(Ekders!T126=\"\",0,Ekders!T126)","v":"0                    0                    0                    0                    0                    0"},{"$f":"IF(Ekders!U121=\"\",0,Ekders!U121)&\"                    \"&IF(Ekders!U122=\"\",0,Ekders!U122)&\"                    \"&IF(Ekders!U123=\"\",0,Ekders!U123)&\"                    \"&IF(Ekders!U124=\"\",0,Ekders!U124)&\"                    \"&IF(Ekders!U125=\"\",0,Ekders!U125)&\"                    \"&IF(Ekders!U126=\"\",0,Ekders!U126)","v":"0                    0                    0                    0                    0                    0"},{"$f":"IF(Ekders!V121=\"\",0,Ekders!V121)&\"                    \"&IF(Ekders!V122=\"\",0,Ekders!V122)&\"                    \"&IF(Ekders!V123=\"\",0,Ekders!V123)&\"                    \"&IF(Ekders!V124=\"\",0,Ekders!V124)&\"                    \"&IF(Ekders!V125=\"\",0,Ekders!V125)&\"                    \"&IF(Ekders!V126=\"\",0,Ekders!V126)","v":"0                    0                    0                    0                    0                    0"},{"$f":"IF(Ekders!W121=\"\",0,Ekders!W121)&\"                    \"&IF(Ekders!W122=\"\",0,Ekders!W122)&\"                    \"&IF(Ekders!W123=\"\",0,Ekders!W123)&\"                    \"&IF(Ekders!W124=\"\",0,Ekders!W124)&\"                    \"&IF(Ekders!W125=\"\",0,Ekders!W125)&\"                    \"&IF(Ekders!W126=\"\",0,Ekders!W126)","v":"0                    0                    0                    0                    0                    0"},{"$f":"IF(Ekders!X121=\"\",0,Ekders!X121)&\"                    \"&IF(Ekders!X122=\"\",0,Ekders!X122)&\"                    \"&IF(Ekders!X123=\"\",0,Ekders!X123)&\"                    \"&IF(Ekders!X124=\"\",0,Ekders!X124)&\"                    \"&IF(Ekders!X125=\"\",0,Ekders!X125)&\"                    \"&IF(Ekders!X126=\"\",0,Ekders!X126)","v":"0                    0                    0                    0                    0                    0"},{"$f":"IF(Ekders!Y121=\"\",0,Ekders!Y121)&\"                    \"&IF(Ekders!Y122=\"\",0,Ekders!Y122)&\"                    \"&IF(Ekders!Y123=\"\",0,Ekders!Y123)&\"                    \"&IF(Ekders!Y124=\"\",0,Ekders!Y124)&\"                    \"&IF(Ekders!Y125=\"\",0,Ekders!Y125)&\"                    \"&IF(Ekders!Y126=\"\",0,Ekders!Y126)","v":"0                    0                    0                    0                    0                    0"},{"$f":"IF(Ekders!Z121=\"\",0,Ekders!Z121)&\"                    \"&IF(Ekders!Z122=\"\",0,Ekders!Z122)&\"                    \"&IF(Ekders!Z123=\"\",0,Ekders!Z123)&\"                    \"&IF(Ekders!Z124=\"\",0,Ekders!Z124)&\"                    \"&IF(Ekders!Z125=\"\",0,Ekders!Z125)&\"                    \"&IF(Ekders!Z126=\"\",0,Ekders!Z126)","v":"0                    0                    0                    0                    0                    0"},{"$f":"IF(Ekders!AA121=\"\",0,Ekders!AA121)&\"                    \"&IF(Ekders!AA122=\"\",0,Ekders!AA122)&\"                    \"&IF(Ekders!AA123=\"\",0,Ekders!AA123)&\"                    \"&IF(Ekders!AA124=\"\",0,Ekders!AA124)&\"                    \"&IF(Ekders!AA125=\"\",0,Ekders!AA125)&\"                    \"&IF(Ekders!AA126=\"\",0,Ekders!AA126)","v":"0                    0                    0                    0                    0                    0"},{"$f":"IF(Ekders!AB121=\"\",0,Ekders!AB121)&\"                    \"&IF(Ekders!AB122=\"\",0,Ekders!AB122)&\"                    \"&IF(Ekders!AB123=\"\",0,Ekders!AB123)&\"                    \"&IF(Ekders!AB124=\"\",0,Ekders!AB124)&\"                    \"&IF(Ekders!AB125=\"\",0,Ekders!AB125)&\"                    \"&IF(Ekders!AB126=\"\",0,Ekders!AB126)","v":"0                    0                    0                    0                    0                    0"},{"$f":"IF(Ekders!AC121=\"\",0,Ekders!AC121)&\"                    \"&IF(Ekders!AC122=\"\",0,Ekders!AC122)&\"                    \"&IF(Ekders!AC123=\"\",0,Ekders!AC123)&\"                    \"&IF(Ekders!AC124=\"\",0,Ekders!AC124)&\"                    \"&IF(Ekders!AC125=\"\",0,Ekders!AC125)&\"                    \"&IF(Ekders!AC126=\"\",0,Ekders!AC126)","v":"0                    0                    0                    0                    0                    0"},{"$f":"IF(Ekders!AD121=\"\",0,Ekders!AD121)&\"                    \"&IF(Ekders!AD122=\"\",0,Ekders!AD122)&\"                    \"&IF(Ekders!AD123=\"\",0,Ekders!AD123)&\"                    \"&IF(Ekders!AD124=\"\",0,Ekders!AD124)&\"                    \"&IF(Ekders!AD125=\"\",0,Ekders!AD125)&\"                    \"&IF(Ekders!AD126=\"\",0,Ekders!AD126)","v":"0                    0                    0                    0                    0                    0"},{"$f":"IF(Ekders!AE121=\"\",0,Ekders!AE121)&\"                    \"&IF(Ekders!AE122=\"\",0,Ekders!AE122)&\"                    \"&IF(Ekders!AE123=\"\",0,Ekders!AE123)&\"                    \"&IF(Ekders!AE124=\"\",0,Ekders!AE124)&\"                    \"&IF(Ekders!AE125=\"\",0,Ekders!AE125)&\"                    \"&IF(Ekders!AE126=\"\",0,Ekders!AE126)","v":"0                    0                    0                    0                    0                    0"},{"$f":"IF(Ekders!AF121=\"\",0,Ekders!AF121)&\"                    \"&IF(Ekders!AF122=\"\",0,Ekders!AF122)&\"                    \"&IF(Ekders!AF123=\"\",0,Ekders!AF123)&\"                    \"&IF(Ekders!AF124=\"\",0,Ekders!AF124)&\"                    \"&IF(Ekders!AF125=\"\",0,Ekders!AF125)&\"                    \"&IF(Ekders!AF126=\"\",0,Ekders!AF126)","v":"0                    0                    0                    0                    0                    0"},{"$f":"IF(Ekders!AG121=\"\",0,Ekders!AG121)&\"                    \"&IF(Ekders!AG122=\"\",0,Ekders!AG122)&\"                    \"&IF(Ekders!AG123=\"\",0,Ekders!AG123)&\"                    \"&IF(Ekders!AG124=\"\",0,Ekders!AG124)&\"                    \"&IF(Ekders!AG125=\"\",0,Ekders!AG125)&\"                    \"&IF(Ekders!AG126=\"\",0,Ekders!AG126)","v":"0                    0                    0                    0                    0                    0"},{"$f":"IF(Ekders!AH121=\"\",0,Ekders!AH121)&\"                    \"&IF(Ekders!AH122=\"\",0,Ekders!AH122)&\"                    \"&IF(Ekders!AH123=\"\",0,Ekders!AH123)&\"                    \"&IF(Ekders!AH124=\"\",0,Ekders!AH124)&\"                    \"&IF(Ekders!AH125=\"\",0,Ekders!AH125)&\"                    \"&IF(Ekders!AH126=\"\",0,Ekders!AH126)","v":"0                    0                    0                    0                    0                    0"},{"$f":"IF(Ekders!AI121=\"\",0,Ekders!AI121)&\"                    \"&IF(Ekders!AI122=\"\",0,Ekders!AI122)&\"                    \"&IF(Ekders!AI123=\"\",0,Ekders!AI123)&\"                    \"&IF(Ekders!AI124=\"\",0,Ekders!AI124)&\"                    \"&IF(Ekders!AI125=\"\",0,Ekders!AI125)&\"                    \"&IF(Ekders!AI126=\"\",0,Ekders!AI126)","v":"0                    0                    0                    0                    0                    0"},{"$f":"IF(Ekders!AJ121=\"\",0,Ekders!AJ121)&\"                    \"&IF(Ekders!AJ122=\"\",0,Ekders!AJ122)&\"                    \"&IF(Ekders!AJ123=\"\",0,Ekders!AJ123)&\"                    \"&IF(Ekders!AJ124=\"\",0,Ekders!AJ124)&\"                    \"&IF(Ekders!AJ125=\"\",0,Ekders!AJ125)&\"                    \"&IF(Ekders!AJ126=\"\",0,Ekders!AJ126)","v":"0                    0                    0                    0                    0                    0"},{"$f":"IF(Ekders!AK121=\"\",0,Ekders!AK121)&\"                    \"&IF(Ekders!AK122=\"\",0,Ekders!AK122)&\"                    \"&IF(Ekders!AK123=\"\",0,Ekders!AK123)&\"                    \"&IF(Ekders!AK124=\"\",0,Ekders!AK124)&\"                    \"&IF(Ekders!AK125=\"\",0,Ekders!AK125)&\"                    \"&IF(Ekders!AK126=\"\",0,Ekders!AK126)","v":"0                    0                    0                    0                    0                    0"},{"$f":"IF(Ekders!AL121=\"\",0,Ekders!AL121)&\"                    \"&IF(Ekders!AL122=\"\",0,Ekders!AL122)&\"                    \"&IF(Ekders!AL123=\"\",0,Ekders!AL123)&\"                    \"&IF(Ekders!AL124=\"\",0,Ekders!AL124)&\"                    \"&IF(Ekders!AL125=\"\",0,Ekders!AL125)&\"                    \"&IF(Ekders!AL126=\"\",0,Ekders!AL126)","v":"0                    0                    0                    0                    0                    0"},{"$f":"IF(Ekders!AM121=\"\",0,Ekders!AM121)&\"                    \"&IF(Ekders!AM122=\"\",0,Ekders!AM122)&\"                    \"&IF(Ekders!AM123=\"\",0,Ekders!AM123)&\"                    \"&IF(Ekders!AM124=\"\",0,Ekders!AM124)&\"                    \"&IF(Ekders!AM125=\"\",0,Ekders!AM125)&\"                    \"&IF(Ekders!AM126=\"\",0,Ekders!AM126)","v":"0                    0                    0                    0                    0                    0"},{"$f":"IF(Ekders!AN121=\"\",0,Ekders!AN121)&\"                    \"&IF(Ekders!AN122=\"\",0,Ekders!AN122)&\"                    \"&IF(Ekders!AN123=\"\",0,Ekders!AN123)&\"                    \"&IF(Ekders!AN124=\"\",0,Ekders!AN124)&\"                    \"&IF(Ekders!AN125=\"\",0,Ekders!AN125)&\"                    \"&IF(Ekders!AN126=\"\",0,Ekders!AN126)","v":"0                    0                    0                    0                    0                    0"},{"$f":"IF(Ekders!AO121=\"\",0,Ekders!AO121)&\"                    \"&IF(Ekders!AO122=\"\",0,Ekders!AO122)&\"                    \"&IF(Ekders!AO123=\"\",0,Ekders!AO123)&\"                    \"&IF(Ekders!AO124=\"\",0,Ekders!AO124)&\"                    \"&IF(Ekders!AO125=\"\",0,Ekders!AO125)&\"                    \"&IF(Ekders!AO126=\"\",0,Ekders!AO126)","v":"0                    0                    0                    0                    0                    0"},{"$f":"IF(Ekders!AP121=\"\",0,Ekders!AP121)&\"                    \"&IF(Ekders!AP122=\"\",0,Ekders!AP122)&\"                    \"&IF(Ekders!AP123=\"\",0,Ekders!AP123)&\"                    \"&IF(Ekders!AP124=\"\",0,Ekders!AP124)&\"                    \"&IF(Ekders!AP125=\"\",0,Ekders!AP125)&\"                    \"&IF(Ekders!AP126=\"\",0,Ekders!AP126)","v":"0                    0                    0                    0                    0                    0"},{"$f":"IF(Ekders!AQ121=\"\",0,Ekders!AQ121)&\"                    \"&IF(Ekders!AQ122=\"\",0,Ekders!AQ122)&\"                    \"&IF(Ekders!AQ123=\"\",0,Ekders!AQ123)&\"                    \"&IF(Ekders!AQ124=\"\",0,Ekders!AQ124)&\"                    \"&IF(Ekders!AQ125=\"\",0,Ekders!AQ125)&\"                    \"&IF(Ekders!AQ126=\"\",0,Ekders!AQ126)","v":"0                    0                    0                    0                    0                    0"},{"$f":"IF(Ekders!AR121=\"\",0,Ekders!AR121)&\"                    \"&IF(Ekders!AR122=\"\",0,Ekders!AR122)&\"                    \"&IF(Ekders!AR123=\"\",0,Ekders!AR123)&\"                    \"&IF(Ekders!AR124=\"\",0,Ekders!AR124)&\"                    \"&IF(Ekders!AR125=\"\",0,Ekders!AR125)&\"                    \"&IF(Ekders!AR126=\"\",0,Ekders!AR126)","v":"0                    0                    0                    0                    0                    0"},{"$f":"IF(Ekders!AS121=\"\",0,Ekders!AS121)&\"                    \"&IF(Ekders!AS122=\"\",0,Ekders!AS122)&\"                    \"&IF(Ekders!AS123=\"\",0,Ekders!AS123)&\"                    \"&IF(Ekders!AS124=\"\",0,Ekders!AS124)&\"                    \"&IF(Ekders!AS125=\"\",0,Ekders!AS125)&\"                    \"&IF(Ekders!AS126=\"\",0,Ekders!AS126)","v":"0                    0                    0                    0                    0                    0"},{"$f":"IF(Ekders!AT121=\"\",0,Ekders!AT121)&\"                    \"&IF(Ekders!AT122=\"\",0,Ekders!AT122)&\"                    \"&IF(Ekders!AT123=\"\",0,Ekders!AT123)&\"                    \"&IF(Ekders!AT124=\"\",0,Ekders!AT124)&\"                    \"&IF(Ekders!AT125=\"\",0,Ekders!AT125)&\"                    \"&IF(Ekders!AT126=\"\",0,Ekders!AT126)","v":"0                    0                    0                    0                    0                    0"},{"$f":"IF(Ekders!AU121=\"\",0,Ekders!AU121)&\"                    \"&IF(Ekders!AU122=\"\",0,Ekders!AU122)&\"                    \"&IF(Ekders!AU123=\"\",0,Ekders!AU123)&\"                    \"&IF(Ekders!AU124=\"\",0,Ekders!AU124)&\"                    \"&IF(Ekders!AU125=\"\",0,Ekders!AU125)&\"                    \"&IF(Ekders!AU126=\"\",0,Ekders!AU126)","v":"0                    0                    0                    0                    0                    0"},{"$f":"IF(Ekders!AV121=\"\",0,Ekders!AV121)&\"                    \"&IF(Ekders!AV122=\"\",0,Ekders!AV122)&\"                    \"&IF(Ekders!AV123=\"\",0,Ekders!AV123)&\"                    \"&IF(Ekders!AV124=\"\",0,Ekders!AV124)&\"                    \"&IF(Ekders!AV125=\"\",0,Ekders!AV125)&\"                    \"&IF(Ekders!AV126=\"\",0,Ekders!AV126)","v":"0                    0                    0                    0                    0                    0"},{"$f":"IF(Ekders!AW121=\"\",0,Ekders!AW121)&\"                    \"&IF(Ekders!AW122=\"\",0,Ekders!AW122)&\"                    \"&IF(Ekders!AW123=\"\",0,Ekders!AW123)&\"                    \"&IF(Ekders!AW124=\"\",0,Ekders!AW124)&\"                    \"&IF(Ekders!AW125=\"\",0,Ekders!AW125)&\"                    \"&IF(Ekders!AW126=\"\",0,Ekders!AW126)","v":"0                    0                    0                    0                    0                    0"},{"$f":"IF(Ekders!AX121=\"\",0,Ekders!AX121)&\"                    \"&IF(Ekders!AX122=\"\",0,Ekders!AX122)&\"                    \"&IF(Ekders!AX123=\"\",0,Ekders!AX123)&\"                    \"&IF(Ekders!AX124=\"\",0,Ekders!AX124)&\"                    \"&IF(Ekders!AX125=\"\",0,Ekders!AX125)&\"                    \"&IF(Ekders!AX126=\"\",0,Ekders!AX126)","v":"0                    0                    0                    0                    0                    0"},{"$f":"IF(Ekders!AY121=\"\",0,Ekders!AY121)&\"                    \"&IF(Ekders!AY122=\"\",0,Ekders!AY122)&\"                    \"&IF(Ekders!AY123=\"\",0,Ekders!AY123)&\"                    \"&IF(Ekders!AY124=\"\",0,Ekders!AY124)&\"                    \"&IF(Ekders!AY125=\"\",0,Ekders!AY125)&\"                    \"&IF(Ekders!AY126=\"\",0,Ekders!AY126)","v":"0                    0                    0                    0                    0                    0"},{"$f":"Ekders!AY121+Ekders!AY122+Ekders!AY123+Ekders!AY124+Ekders!AY125+Ekders!AY126","v":0},0]
[{"$f":"Ekders!B127&\"                                                       \"&Ekders!B128&\"                                                       \"&Ekders!B129&\"                                                       \"&Ekders!B131&\"                                                       \"&Ekders!B132&\"                                                       \"&Ekders!B130","v":"                                                                                                                                                                                                                                                                                   "},null,{"$f":"Ekders!L127&\"                    \"&Ekders!L128&\"                    \"&Ekders!L129&\"                    \"&Ekders!L130&\"                    \"&Ekders!L131&\"                    \"&Ekders!L132","v":"Gündüz (Lisans)                    Gündüz (Y. Lisans)                    Gündüz (Doktora)                    Gece (Lisans)                    Gece (Y. Lisans)                    Gece (Doktora)"},null,null,null,null,{"$f":"IF(Ekders!P127=\"\",0,Ekders!P127)&\"                    \"&IF(Ekders!P128=\"\",0,Ekders!P128)&\"                    \"&IF(Ekders!P129=\"\",0,Ekders!P129)&\"                    \"&IF(Ekders!P130=\"\",0,Ekders!P130)&\"                    \"&IF(Ekders!P131=\"\",0,Ekders!P131)&\"                    \"&IF(Ekders!P132=\"\",0,Ekders!P132)","v":"0                    0                    0                    0                    0                    0"},{"$f":"IF(Ekders!Q127=\"\",0,Ekders!Q127)&\"                    \"&IF(Ekders!Q128=\"\",0,Ekders!Q128)&\"                    \"&IF(Ekders!Q129=\"\",0,Ekders!Q129)&\"                    \"&IF(Ekders!Q130=\"\",0,Ekders!Q130)&\"                    \"&IF(Ekders!Q131=\"\",0,Ekders!Q131)&\"                    \"&IF(Ekders!Q132=\"\",0,Ekders!Q132)","v":"0                    0                    0                    0                    0                    0"},{"$f":"IF(Ekders!R127=\"\",0,Ekders!R127)&\"                    \"&IF(Ekders!R128=\"\",0,Ekders!R128)&\"                    \"&IF(Ekders!R129=\"\",0,Ekders!R129)&\"                    \"&IF(Ekders!R130=\"\",0,Ekders!R130)&\"                    \"&IF(Ekders!R131=\"\",0,Ekders!R131)&\"                    \"&IF(Ekders!R132=\"\",0,Ekders!R132)","v":"0                    0                    0                    0                    0                    0"},{"$f":"IF(Ekders!S127=\"\",0,Ekders!S127)&\"                    \"&IF(Ekders!S128=\"\",0,Ekders!S128)&\"                    \"&IF(Ekders!S129=\"\",0,Ekders!S129)&\"                    \"&IF(Ekders!S130=\"\",0,Ekders!S130)&\"                    \"&IF(Ekders!S131=\"\",0,Ekders!S131)&\"                    \"&IF(Ekders!S132=\"\",0,Ekders!S132)","v":"0                    0                    0                    0                    0                    0"},{"$f":"IF(Ekders!T127=\"\",0,Ekders!T127)&\"                    \"&IF(Ekders!T128=\"\",0,Ekders!T128)&\"                    \"&IF(Ekders!T129=\"\",0,Ekders!T129)&\"                    \"&IF(Ekders!T130=\"\",0,Ekders!T130)&\"                    \"&IF(Ekders!T131=\"\",0,Ekders!T131)&\"                    \"&IF(Ekders!T132=\"\",0,Ekders!T132)","v":"0                    0                    0                    0                    0                    0"},{"$f":"IF(Ekders!U127=\"\",0,Ekders!U127)&\"                    \"&IF(Ekders!U128=\"\",0,Ekders!U128)&\"                    \"&IF(Ekders!U129=\"\",0,Ekders!U129)&\"                    \"&IF(Ekders!U130=\"\",0,Ekders!U130)&\"                    \"&IF(Ekders!U131=\"\",0,Ekders!U131)&\"                    \"&IF(Ekders!U132=\"\",0,Ekders!U132)","v":"0                    0                    0                    0                    0                    0"},{"$f":"IF(Ekders!V127=\"\",0,Ekders!V127)&\"                    \"&IF(Ekders!V128=\"\",0,Ekders!V128)&\"                    \"&IF(Ekders!V129=\"\",0,Ekders!V129)&\"                    \"&IF(Ekders!V130=\"\",0,Ekders!V130)&\"                    \"&IF(Ekders!V131=\"\",0,Ekders!V131)&\"                    \"&IF(Ekders!V132=\"\",0,Ekders!V132)","v":"0                    0                    0                    0                    0                    0"},{"$f":"IF(Ekders!W127=\"\",0,Ekders!W127)&\"                    \"&IF(Ekders!W128=\"\",0,Ekders!W128)&\"                    \"&IF(Ekders!W129=\"\",0,Ekders!W129)&\"                    \"&IF(Ekders!W130=\"\",0,Ekders!W130)&\"                    \"&IF(Ekders!W131=\"\",0,Ekders!W131)&\"                    \"&IF(Ekders!W132=\"\",0,Ekders!W132)","v":"0                    0                    0                    0                    0                    0"},{"$f":"IF(Ekders!X127=\"\",0,Ekders!X127)&\"                    \"&IF(Ekders!X128=\"\",0,Ekders!X128)&\"                    \"&IF(Ekders!X129=\"\",0,Ekders!X129)&\"                    \"&IF(Ekders!X130=\"\",0,Ekders!X130)&\"                    \"&IF(Ekders!X131=\"\",0,Ekders!X131)&\"                    \"&IF(Ekders!X132=\"\",0,Ekders!X132)","v":"0                    0                    0                    0                    0                    0"},{"$f":"IF(Ekders!Y127=\"\",0,Ekders!Y127)&\"                    \"&IF(Ekders!Y128=\"\",0,Ekders!Y128)&\"                    \"&IF(Ekders!Y129=\"\",0,Ekders!Y129)&\"                    \"&IF(Ekders!Y130=\"\",0,Ekders!Y130)&\"                    \"&IF(Ekders!Y131=\"\",0,Ekders!Y131)&\"                    \"&IF(Ekders!Y132=\"\",0,Ekders!Y132)","v":"0                    0                    0                    0                    0                    0"},{"$f":"IF(Ekders!Z127=\"\",0,Ekders!Z127)&\"                    \"&IF(Ekders!Z128=\"\",0,Ekders!Z128)&\"                    \"&IF(Ekders!Z129=\"\",0,Ekders!Z129)&\"                    \"&IF(Ekders!Z130=\"\",0,Ekders!Z130)&\"                    \"&IF(Ekders!Z131=\"\",0,Ekders!Z131)&\"                    \"&IF(Ekders!Z132=\"\",0,Ekders!Z132)","v":"0                    0                    0                    0                    0                    0"},{"$f":"IF(Ekders!AA127=\"\",0,Ekders!AA127)&\"                    \"&IF(Ekders!AA128=\"\",0,Ekders!AA128)&\"                    \"&IF(Ekders!AA129=\"\",0,Ekders!AA129)&\"                    \"&IF(Ekders!AA130=\"\",0,Ekders!AA130)&\"                    \"&IF(Ekders!AA131=\"\",0,Ekders!AA131)&\"                    \"&IF(Ekders!AA132=\"\",0,Ekders!AA132)","v":"0                    0                    0                    0                    0                    0"},{"$f":"IF(Ekders!AB127=\"\",0,Ekders!AB127)&\"                    \"&IF(Ekders!AB128=\"\",0,Ekders!AB128)&\"                    \"&IF(Ekders!AB129=\"\",0,Ekders!AB129)&\"                    \"&IF(Ekders!AB130=\"\",0,Ekders!AB130)&\"                    \"&IF(Ekders!AB131=\"\",0,Ekders!AB131)&\"                    \"&IF(Ekders!AB132=\"\",0,Ekders!AB132)","v":"0                    0                    0                    0                    0                    0"},{"$f":"IF(Ekders!AC127=\"\",0,Ekders!AC127)&\"                    \"&IF(Ekders!AC128=\"\",0,Ekders!AC128)&\"                    \"&IF(Ekders!AC129=\"\",0,Ekders!AC129)&\"                    \"&IF(Ekders!AC130=\"\",0,Ekders!AC130)&\"                    \"&IF(Ekders!AC131=\"\",0,Ekders!AC131)&\"                    \"&IF(Ekders!AC132=\"\",0,Ekders!AC132)","v":"0                    0                    0                    0                    0                    0"},{"$f":"IF(Ekders!AD127=\"\",0,Ekders!AD127)&\"                    \"&IF(Ekders!AD128=\"\",0,Ekders!AD128)&\"                    \"&IF(Ekders!AD129=\"\",0,Ekders!AD129)&\"                    \"&IF(Ekders!AD130=\"\",0,Ekders!AD130)&\"                    \"&IF(Ekders!AD131=\"\",0,Ekders!AD131)&\"                    \"&IF(Ekders!AD132=\"\",0,Ekders!AD132)","v":"0                    0                    0                    0                    0                    0"},{"$f":"IF(Ekders!AE127=\"\",0,Ekders!AE127)&\"                    \"&IF(Ekders!AE128=\"\",0,Ekders!AE128)&\"                    \"&IF(Ekders!AE129=\"\",0,Ekders!AE129)&\"                    \"&IF(Ekders!AE130=\"\",0,Ekders!AE130)&\"                    \"&IF(Ekders!AE131=\"\",0,Ekders!AE131)&\"                    \"&IF(Ekders!AE132=\"\",0,Ekders!AE132)","v":"0                    0                    0                    0                    0                    0"},{"$f":"IF(Ekders!AF127=\"\",0,Ekders!AF127)&\"                    \"&IF(Ekders!AF128=\"\",0,Ekders!AF128)&\"                    \"&IF(Ekders!AF129=\"\",0,Ekders!AF129)&\"                    \"&IF(Ekders!AF130=\"\",0,Ekders!AF130)&\"                    \"&IF(Ekders!AF131=\"\",0,Ekders!AF131)&\"                    \"&IF(Ekders!AF132=\"\",0,Ekders!AF132)","v":"0                    0                    0                    0                    0                    0"},{"$f":"IF(Ekders!AG127=\"\",0,Ekders!AG127)&\"                    \"&IF(Ekders!AG128=\"\",0,Ekders!AG128)&\"                    \"&IF(Ekders!AG129=\"\",0,Ekders!AG129)&\"                    \"&IF(Ekders!AG130=\"\",0,Ekders!AG130)&\"                    \"&IF(Ekders!AG131=\"\",0,Ekders!AG131)&\"                    \"&IF(Ekders!AG132=\"\",0,Ekders!AG132)","v":"0                    0                    0                    0                    0                    0"},{"$f":"IF(Ekders!AH127=\"\",0,Ekders!AH127)&\"                    \"&IF(Ekders!AH128=\"\",0,Ekders!AH128)&\"                    \"&IF(Ekders!AH129=\"\",0,Ekders!AH129)&\"                    \"&IF(Ekders!AH130=\"\",0,Ekders!AH130)&\"                    \"&IF(Ekders!AH131=\"\",0,Ekders!AH131)&\"                    \"&IF(Ekders!AH132=\"\",0,Ekders!AH132)","v":"0                    0                    0                    0                    0                    0"},{"$f":"IF(Ekders!AI127=\"\",0,Ekders!AI127)&\"                    \"&IF(Ekders!AI128=\"\",0,Ekders!AI128)&\"                    \"&IF(Ekders!AI129=\"\",0,Ekders!AI129)&\"                    \"&IF(Ekders!AI130=\"\",0,Ekders!AI130)&\"                    \"&IF(Ekders!AI131=\"\",0,Ekders!AI131)&\"                    \"&IF(Ekders!AI132=\"\",0,Ekders!AI132)","v":"0                    0                    0                    0                    0                    0"},{"$f":"IF(Ekders!AJ127=\"\",0,Ekders!AJ127)&\"                    \"&IF(Ekders!AJ128=\"\",0,Ekders!AJ128)&\"                    \"&IF(Ekders!AJ129=\"\",0,Ekders!AJ129)&\"                    \"&IF(Ekders!AJ130=\"\",0,Ekders!AJ130)&\"                    \"&IF(Ekders!AJ131=\"\",0,Ekders!AJ131)&\"                    \"&IF(Ekders!AJ132=\"\",0,Ekders!AJ132)","v":"0                    0                    0                    0                    0                    0"},{"$f":"IF(Ekders!AK127=\"\",0,Ekders!AK127)&\"                    \"&IF(Ekders!AK128=\"\",0,Ekders!AK128)&\"                    \"&IF(Ekders!AK129=\"\",0,Ekders!AK129)&\"                    \"&IF(Ekders!AK130=\"\",0,Ekders!AK130)&\"                    \"&IF(Ekders!AK131=\"\",0,Ekders!AK131)&\"                    \"&IF(Ekders!AK132=\"\",0,Ekders!AK132)","v":"0                    0                    0                    0                    0                    0"},{"$f":"IF(Ekders!AL127=\"\",0,Ekders!AL127)&\"                    \"&IF(Ekders!AL128=\"\",0,Ekders!AL128)&\"                    \"&IF(Ekders!AL129=\"\",0,Ekders!AL129)&\"                    \"&IF(Ekders!AL130=\"\",0,Ekders!AL130)&\"                    \"&IF(Ekders!AL131=\"\",0,Ekders!AL131)&\"                    \"&IF(Ekders!AL132=\"\",0,Ekders!AL132)","v":"0                    0                    0                    0                    0                    0"},{"$f":"IF(Ekders!AM127=\"\",0,Ekders!AM127)&\"                    \"&IF(Ekders!AM128=\"\",0,Ekders!AM128)&\"                    \"&IF(Ekders!AM129=\"\",0,Ekders!AM129)&\"                    \"&IF(Ekders!AM130=\"\",0,Ekders!AM130)&\"                    \"&IF(Ekders!AM131=\"\",0,Ekders!AM131)&\"                    \"&IF(Ekders!AM132=\"\",0,Ekders!AM132)","v":"0                    0                    0                    0                    0                    0"},{"$f":"IF(Ekders!AN127=\"\",0,Ekders!AN127)&\"                    \"&IF(Ekders!AN128=\"\",0,Ekders!AN128)&\"                    \"&IF(Ekders!AN129=\"\",0,Ekders!AN129)&\"                    \"&IF(Ekders!AN130=\"\",0,Ekders!AN130)&\"                    \"&IF(Ekders!AN131=\"\",0,Ekders!AN131)&\"                    \"&IF(Ekders!AN132=\"\",0,Ekders!AN132)","v":"0                    0                    0                    0                    0                    0"},{"$f":"IF(Ekders!AO127=\"\",0,Ekders!AO127)&\"                    \"&IF(Ekders!AO128=\"\",0,Ekders!AO128)&\"                    \"&IF(Ekders!AO129=\"\",0,Ekders!AO129)&\"                    \"&IF(Ekders!AO130=\"\",0,Ekders!AO130)&\"                    \"&IF(Ekders!AO131=\"\",0,Ekders!AO131)&\"                    \"&IF(Ekders!AO132=\"\",0,Ekders!AO132)","v":"0                    0                    0                    0                    0                    0"},{"$f":"IF(Ekders!AP127=\"\",0,Ekders!AP127)&\"                    \"&IF(Ekders!AP128=\"\",0,Ekders!AP128)&\"                    \"&IF(Ekders!AP129=\"\",0,Ekders!AP129)&\"                    \"&IF(Ekders!AP130=\"\",0,Ekders!AP130)&\"                    \"&IF(Ekders!AP131=\"\",0,Ekders!AP131)&\"                    \"&IF(Ekders!AP132=\"\",0,Ekders!AP132)","v":"0                    0                    0                    0                    0                    0"},{"$f":"IF(Ekders!AQ127=\"\",0,Ekders!AQ127)&\"                    \"&IF(Ekders!AQ128=\"\",0,Ekders!AQ128)&\"                    \"&IF(Ekders!AQ129=\"\",0,Ekders!AQ129)&\"                    \"&IF(Ekders!AQ130=\"\",0,Ekders!AQ130)&\"                    \"&IF(Ekders!AQ131=\"\",0,Ekders!AQ131)&\"                    \"&IF(Ekders!AQ132=\"\",0,Ekders!AQ132)","v":"0                    0                    0                    0                    0                    0"},{"$f":"IF(Ekders!AR127=\"\",0,Ekders!AR127)&\"                    \"&IF(Ekders!AR128=\"\",0,Ekders!AR128)&\"                    \"&IF(Ekders!AR129=\"\",0,Ekders!AR129)&\"                    \"&IF(Ekders!AR130=\"\",0,Ekders!AR130)&\"                    \"&IF(Ekders!AR131=\"\",0,Ekders!AR131)&\"                    \"&IF(Ekders!AR132=\"\",0,Ekders!AR132)","v":"0                    0                    0                    0                    0                    0"},{"$f":"IF(Ekders!AS127=\"\",0,Ekders!AS127)&\"                    \"&IF(Ekders!AS128=\"\",0,Ekders!AS128)&\"                    \"&IF(Ekders!AS129=\"\",0,Ekders!AS129)&\"                    \"&IF(Ekders!AS130=\"\",0,Ekders!AS130)&\"                    \"&IF(Ekders!AS131=\"\",0,Ekders!AS131)&\"                    \"&IF(Ekders!AS132=\"\",0,Ekders!AS132)","v":"0                    0                    0                    0                    0                    0"},{"$f":"IF(Ekders!AT127=\"\",0,Ekders!AT127)&\"                    \"&IF(Ekders!AT128=\"\",0,Ekders!AT128)&\"                    \"&IF(Ekders!AT129=\"\",0,Ekders!AT129)&\"                    \"&IF(Ekders!AT130=\"\",0,Ekders!AT130)&\"                    \"&IF(Ekders!AT131=\"\",0,Ekders!AT131)&\"                    \"&IF(Ekders!AT132=\"\",0,Ekders!AT132)","v":"0                    0                    0                    0                    0                    0"},{"$f":"IF(Ekders!AU127=\"\",0,Ekders!AU127)&\"                    \"&IF(Ekders!AU128=\"\",0,Ekders!AU128)&\"                    \"&IF(Ekders!AU129=\"\",0,Ekders!AU129)&\"                    \"&IF(Ekders!AU130=\"\",0,Ekders!AU130)&\"                    \"&IF(Ekders!AU131=\"\",0,Ekders!AU131)&\"                    \"&IF(Ekders!AU132=\"\",0,Ekders!AU132)","v":"0                    0                    0                    0                    0                    0"},{"$f":"IF(Ekders!AV127=\"\",0,Ekders!AV127)&\"                    \"&IF(Ekders!AV128=\"\",0,Ekders!AV128)&\"                    \"&IF(Ekders!AV129=\"\",0,Ekders!AV129)&\"                    \"&IF(Ekders!AV130=\"\",0,Ekders!AV130)&\"                    \"&IF(Ekders!AV131=\"\",0,Ekders!AV131)&\"                    \"&IF(Ekders!AV132=\"\",0,Ekders!AV132)","v":"0                    0                    0                    0                    0                    0"},{"$f":"IF(Ekders!AW127=\"\",0,Ekders!AW127)&\"                    \"&IF(Ekders!AW128=\"\",0,Ekders!AW128)&\"                    \"&IF(Ekders!AW129=\"\",0,Ekders!AW129)&\"                    \"&IF(Ekders!AW130=\"\",0,Ekders!AW130)&\"                    \"&IF(Ekders!AW131=\"\",0,Ekders!AW131)&\"                    \"&IF(Ekders!AW132=\"\",0,Ekders!AW132)","v":"0                    0                    0                    0                    0                    0"},{"$f":"IF(Ekders!AX127=\"\",0,Ekders!AX127)&\"                    \"&IF(Ekders!AX128=\"\",0,Ekders!AX128)&\"                    \"&IF(Ekders!AX129=\"\",0,Ekders!AX129)&\"                    \"&IF(Ekders!AX130=\"\",0,Ekders!AX130)&\"                    \"&IF(Ekders!AX131=\"\",0,Ekders!AX131)&\"                    \"&IF(Ekders!AX132=\"\",0,Ekders!AX132)","v":"0                    0                    0                    0                    0                    0"},{"$f":"IF(Ekders!AY127=\"\",0,Ekders!AY127)&\"                    \"&IF(Ekders!AY128=\"\",0,Ekders!AY128)&\"                    \"&IF(Ekders!AY129=\"\",0,Ekders!AY129)&\"                    \"&IF(Ekders!AY130=\"\",0,Ekders!AY130)&\"                    \"&IF(Ekders!AY131=\"\",0,Ekders!AY131)&\"                    \"&IF(Ekders!AY132=\"\",0,Ekders!AY132)","v":"0                    0                    0                    0                    0                    0"},{"$f":"Ekders!AY127+Ekders!AY128+Ekders!AY129+Ekders!AY130+Ekders!AY131+Ekders!AY132","v":0},0]
[{"$f":"Ekders!B133&\"                                                       \"&Ekders!B134&\"                                                       \"&Ekders!B135&\"                                                       \"&Ekders!B137&\"                                                       \"&Ekders!B138&\"                                                       \"&Ekders!B136","v":"                                                                                                                                                                                                                                                                                   "},null,{"$f":"Ekders!L133&\"                    \"&Ekders!L134&\"                    \"&Ekders!L135&\"                    \"&Ekders!L136&\"                    \"&Ekders!L137&\"                    \"&Ekders!L138","v":"Gündüz (Lisans)                    Gündüz (Y. Lisans)                    Gündüz (Doktora)                    Gece (Lisans)                    Gece (Y. Lisans)                    Gece (Doktora)"},null,null,null,null,{"$f":"IF(Ekders!P133=\"\",0,Ekders!P133)&\"                    \"&IF(Ekders!P134=\"\",0,Ekders!P134)&\"                    \"&IF(Ekders!P135=\"\",0,Ekders!P135)&\"                    \"&IF(Ekders!P136=\"\",0,Ekders!P136)&\"                    \"&IF(Ekders!P137=\"\",0,Ekders!P137)&\"                    \"&IF(Ekders!P138=\"\",0,Ekders!P138)","v":"0                    0                    0                    0                    0                    0"},{"$f":"IF(Ekders!Q133=\"\",0,Ekders!Q133)&\"                    \"&IF(Ekders!Q134=\"\",0,Ekders!Q134)&\"                    \"&IF(Ekders!Q135=\"\",0,Ekders!Q135)&\"                    \"&IF(Ekders!Q136=\"\",0,Ekders!Q136)&\"                    \"&IF(Ekders!Q137=\"\",0,Ekders!Q137)&\"                    \"&IF(Ekders!Q138=\"\",0,Ekders!Q138)","v":"0                    0                    0                    0                    0                    0"},{"$f":"IF(Ekders!R133=\"\",0,Ekders!R133)&\"                    \"&IF(Ekders!R134=\"\",0,Ekders!R134)&\"                    \"&IF(Ekders!R135=\"\",0,Ekders!R135)&\"                    \"&IF(Ekders!R136=\"\",0,Ekders!R136)&\"                    \"&IF(Ekders!R137=\"\",0,Ekders!R137)&\"                    \"&IF(Ekders!R138=\"\",0,Ekders!R138)","v":"0                    0                    0                    0                    0                    0"},{"$f":"IF(Ekders!S133=\"\",0,Ekders!S133)&\"                    \"&IF(Ekders!S134=\"\",0,Ekders!S134)&\"                    \"&IF(Ekders!S135=\"\",0,Ekders!S135)&\"                    \"&IF(Ekders!S136=\"\",0,Ekders!S136)&\"                    \"&IF(Ekders!S137=\"\",0,Ekders!S137)&\"                    \"&IF(Ekders!S138=\"\",0,Ekders!S138)","v":"0                    0                    0                    0                    0                    0"},{"$f":"IF(Ekders!T133=\"\",0,Ekders!T133)&\"                    \"&IF(Ekders!T134=\"\",0,Ekders!T134)&\"                    \"&IF(Ekders!T135=\"\",0,Ekders!T135)&\"                    \"&IF(Ekders!T136=\"\",0,Ekders!T136)&\"                    \"&IF(Ekders!T137=\"\",0,Ekders!T137)&\"                    \"&IF(Ekders!T138=\"\",0,Ekders!T138)","v":"0                    0                    0                    0                    0                    0"},{"$f":"IF(Ekders!U133=\"\",0,Ekders!U133)&\"                    \"&IF(Ekders!U134=\"\",0,Ekders!U134)&\"                    \"&IF(Ekders!U135=\"\",0,Ekders!U135)&\"                    \"&IF(Ekders!U136=\"\",0,Ekders!U136)&\"                    \"&IF(Ekders!U137=\"\",0,Ekders!U137)&\"                    \"&IF(Ekders!U138=\"\",0,Ekders!U138)","v":"0                    0                    0                    0                    0                    0"},{"$f":"IF(Ekders!V133=\"\",0,Ekders!V133)&\"                    \"&IF(Ekders!V134=\"\",0,Ekders!V134)&\"                    \"&IF(Ekders!V135=\"\",0,Ekders!V135)&\"                    \"&IF(Ekders!V136=\"\",0,Ekders!V136)&\"                    \"&IF(Ekders!V137=\"\",0,Ekders!V137)&\"                    \"&IF(Ekders!V138=\"\",0,Ekders!V138)","v":"0                    0                    0                    0                    0                    0"},{"$f":"IF(Ekders!W133=\"\",0,Ekders!W133)&\"                    \"&IF(Ekders!W134=\"\",0,Ekders!W134)&\"                    \"&IF(Ekders!W135=\"\",0,Ekders!W135)&\"                    \"&IF(Ekders!W136=\"\",0,Ekders!W136)&\"                    \"&IF(Ekders!W137=\"\",0,Ekders!W137)&\"                    \"&IF(Ekders!W138=\"\",0,Ekders!W138)","v":"0                    0                    0                    0                    0                    0"},{"$f":"IF(Ekders!X133=\"\",0,Ekders!X133)&\"                    \"&IF(Ekders!X134=\"\",0,Ekders!X134)&\"                    \"&IF(Ekders!X135=\"\",0,Ekders!X135)&\"                    \"&IF(Ekders!X136=\"\",0,Ekders!X136)&\"                    \"&IF(Ekders!X137=\"\",0,Ekders!X137)&\"                    \"&IF(Ekders!X138=\"\",0,Ekders!X138)","v":"0                    0                    0                    0                    0                    0"},{"$f":"IF(Ekders!Y133=\"\",0,Ekders!Y133)&\"                    \"&IF(Ekders!Y134=\"\",0,Ekders!Y134)&\"                    \"&IF(Ekders!Y135=\"\",0,Ekders!Y135)&\"                    \"&IF(Ekders!Y136=\"\",0,Ekders!Y136)&\"                    \"&IF(Ekders!Y137=\"\",0,Ekders!Y137)&\"                    \"&IF(Ekders!Y138=\"\",0,Ekders!Y138)","v":"0                    0                    0                    0                    0                    0"},{"$f":"IF(Ekders!Z133=\"\",0,Ekders!Z133)&\"                    \"&IF(Ekders!Z134=\"\",0,Ekders!Z134)&\"                    \"&IF(Ekders!Z135=\"\",0,Ekders!Z135)&\"                    \"&IF(Ekders!Z136=\"\",0,Ekders!Z136)&\"                    \"&IF(Ekders!Z137=\"\",0,Ekders!Z137)&\"                    \"&IF(Ekders!Z138=\"\",0,Ekders!Z138)","v":"0                    0                    0                    0                    0                    0"},{"$f":"IF(Ekders!AA133=\"\",0,Ekders!AA133)&\"                    \"&IF(Ekders!AA134=\"\",0,Ekders!AA134)&\"                    \"&IF(Ekders!AA135=\"\",0,Ekders!AA135)&\"                    \"&IF(Ekders!AA136=\"\",0,Ekders!AA136)&\"                    \"&IF(Ekders!AA137=\"\",0,Ekders!AA137)&\"                    \"&IF(Ekders!AA138=\"\",0,Ekders!AA138)","v":"0                    0                    0                    0                    0                    0"},{"$f":"IF(Ekders!AB133=\"\",0,Ekders!AB133)&\"                    \"&IF(Ekders!AB134=\"\",0,Ekders!AB134)&\"                    \"&IF(Ekders!AB135=\"\",0,Ekders!AB135)&\"                    \"&IF(Ekders!AB136=\"\",0,Ekders!AB136)&\"                    \"&IF(Ekders!AB137=\"\",0,Ekders!AB137)&\"                    \"&IF(Ekders!AB138=\"\",0,Ekders!AB138)","v":"0                    0                    0                    0                    0                    0"},{"$f":"IF(Ekders!AC133=\"\",0,Ekders!AC133)&\"                    \"&IF(Ekders!AC134=\"\",0,Ekders!AC134)&\"                    \"&IF(Ekders!AC135=\"\",0,Ekders!AC135)&\"                    \"&IF(Ekders!AC136=\"\",0,Ekders!AC136)&\"                    \"&IF(Ekders!AC137=\"\",0,Ekders!AC137)&\"                    \"&IF(Ekders!AC138=\"\",0,Ekders!AC138)","v":"0                    0                    0                    0                    0                    0"},{"$f":"IF(Ekders!AD133=\"\",0,Ekders!AD133)&\"                    \"&IF(Ekders!AD134=\"\",0,Ekders!AD134)&\"                    \"&IF(Ekders!AD135=\"\",0,Ekders!AD135)&\"                    \"&IF(Ekders!AD136=\"\",0,Ekders!AD136)&\"                    \"&IF(Ekders!AD137=\"\",0,Ekders!AD137)&\"                    \"&IF(Ekders!AD138=\"\",0,Ekders!AD138)","v":"0                    0                    0                    0                    0                    0"},{"$f":"IF(Ekders!AE133=\"\",0,Ekders!AE133)&\"                    \"&IF(Ekders!AE134=\"\",0,Ekders!AE134)&\"                    \"&IF(Ekders!AE135=\"\",0,Ekders!AE135)&\"                    \"&IF(Ekders!AE136=\"\",0,Ekders!AE136)&\"                    \"&IF(Ekders!AE137=\"\",0,Ekders!AE137)&\"                    \"&IF(Ekders!AE138=\"\",0,Ekders!AE138)","v":"0                    0                    0                    0                    0                    0"},{"$f":"IF(Ekders!AF133=\"\",0,Ekders!AF133)&\"                    \"&IF(Ekders!AF134=\"\",0,Ekders!AF134)&\"                    \"&IF(Ekders!AF135=\"\",0,Ekders!AF135)&\"                    \"&IF(Ekders!AF136=\"\",0,Ekders!AF136)&\"                    \"&IF(Ekders!AF137=\"\",0,Ekders!AF137)&\"                    \"&IF(Ekders!AF138=\"\",0,Ekders!AF138)","v":"0                    0                    0                    0                    0                    0"},{"$f":"IF(Ekders!AG133=\"\",0,Ekders!AG133)&\"                    \"&IF(Ekders!AG134=\"\",0,Ekders!AG134)&\"                    \"&IF(Ekders!AG135=\"\",0,Ekders!AG135)&\"                    \"&IF(Ekders!AG136=\"\",0,Ekders!AG136)&\"                    \"&IF(Ekders!AG137=\"\",0,Ekders!AG137)&\"                    \"&IF(Ekders!AG138=\"\",0,Ekders!AG138)","v":"0                    0                    0                    0                    0                    0"},{"$f":"IF(Ekders!AH133=\"\",0,Ekders!AH133)&\"                    \"&IF(Ekders!AH134=\"\",0,Ekders!AH134)&\"                    \"&IF(Ekders!AH135=\"\",0,Ekders!AH135)&\"                    \"&IF(Ekders!AH136=\"\",0,Ekders!AH136)&\"                    \"&IF(Ekders!AH137=\"\",0,Ekders!AH137)&\"                    \"&IF(Ekders!AH138=\"\",0,Ekders!AH138)","v":"0                    0                    0                    0                    0                    0"},{"$f":"IF(Ekders!AI133=\"\",0,Ekders!AI133)&\"                    \"&IF(Ekders!AI134=\"\",0,Ekders!AI134)&\"                    \"&IF(Ekders!AI135=\"\",0,Ekders!AI135)&\"                    \"&IF(Ekders!AI136=\"\",0,Ekders!AI136)&\"                    \"&IF(Ekders!AI137=\"\",0,Ekders!AI137)&\"                    \"&IF(Ekders!AI138=\"\",0,Ekders!AI138)","v":"0                    0                    0                    0                    0                    0"},{"$f":"IF(Ekders!AJ133=\"\",0,Ekders!AJ133)&\"                    \"&IF(Ekders!AJ134=\"\",0,Ekders!AJ134)&\"                    \"&IF(Ekders!AJ135=\"\",0,Ekders!AJ135)&\"                    \"&IF(Ekders!AJ136=\"\",0,Ekders!AJ136)&\"                    \"&IF(Ekders!AJ137=\"\",0,Ekders!AJ137)&\"                    \"&IF(Ekders!AJ138=\"\",0,Ekders!AJ138)","v":"0                    0                    0                    0                    0                    0"},{"$f":"IF(Ekders!AK133=\"\",0,Ekders!AK133)&\"                    \"&IF(Ekders!AK134=\"\",0,Ekders!AK134)&\"                    \"&IF(Ekders!AK135=\"\",0,Ekders!AK135)&\"                    \"&IF(Ekders!AK136=\"\",0,Ekders!AK136)&\"                    \"&IF(Ekders!AK137=\"\",0,Ekders!AK137)&\"                    \"&IF(Ekders!AK138=\"\",0,Ekders!AK138)","v":"0                    0                    0                    0                    0                    0"},{"$f":"IF(Ekders!AL133=\"\",0,Ekders!AL133)&\"                    \"&IF(Ekders!AL134=\"\",0,Ekders!AL134)&\"                    \"&IF(Ekders!AL135=\"\",0,Ekders!AL135)&\"                    \"&IF(Ekders!AL136=\"\",0,Ekders!AL136)&\"                    \"&IF(Ekders!AL137=\"\",0,Ekders!AL137)&\"                    \"&IF(Ekders!AL138=\"\",0,Ekders!AL138)","v":"0                    0                    0                    0                    0                    0"},{"$f":"IF(Ekders!AM133=\"\",0,Ekders!AM133)&\"                    \"&IF(Ekders!AM134=\"\",0,Ekders!AM134)&\"                    \"&IF(Ekders!AM135=\"\",0,Ekders!AM135)&\"                    \"&IF(Ekders!AM136=\"\",0,Ekders!AM136)&\"                    \"&IF(Ekders!AM137=\"\",0,Ekders!AM137)&\"                    \"&IF(Ekders!AM138=\"\",0,Ekders!AM138)","v":"0                    0                    0                    0                    0                    0"},{"$f":"IF(Ekders!AN133=\"\",0,Ekders!AN133)&\"                    \"&IF(Ekders!AN134=\"\",0,Ekders!AN134)&\"                    \"&IF(Ekders!AN135=\"\",0,Ekders!AN135)&\"                    \"&IF(Ekders!AN136=\"\",0,Ekders!AN136)&\"                    \"&IF(Ekders!AN137=\"\",0,Ekders!AN137)&\"                    \"&IF(Ekders!AN138=\"\",0,Ekders!AN138)","v":"0                    0                    0                    0                    0                    0"},{"$f":"IF(Ekders!AO133=\"\",0,Ekders!AO133)&\"                    \"&IF(Ekders!AO134=\"\",0,Ekders!AO134)&\"                    \"&IF(Ekders!AO135=\"\",0,Ekders!AO135)&\"                    \"&IF(Ekders!AO136=\"\",0,Ekders!AO136)&\"                    \"&IF(Ekders!AO137=\"\",0,Ekders!AO137)&\"                    \"&IF(Ekders!AO138=\"\",0,Ekders!AO138)","v":"0                    0                    0                    0                    0                    0"},{"$f":"IF(Ekders!AP133=\"\",0,Ekders!AP133)&\"                    \"&IF(Ekders!AP134=\"\",0,Ekders!AP134)&\"                    \"&IF(Ekders!AP135=\"\",0,Ekders!AP135)&\"                    \"&IF(Ekders!AP136=\"\",0,Ekders!AP136)&\"                    \"&IF(Ekders!AP137=\"\",0,Ekders!AP137)&\"                    \"&IF(Ekders!AP138=\"\",0,Ekders!AP138)","v":"0                    0                    0                    0                    0                    0"},{"$f":"IF(Ekders!AQ133=\"\",0,Ekders!AQ133)&\"                    \"&IF(Ekders!AQ134=\"\",0,Ekders!AQ134)&\"                    \"&IF(Ekders!AQ135=\"\",0,Ekders!AQ135)&\"                    \"&IF(Ekders!AQ136=\"\",0,Ekders!AQ136)&\"                    \"&IF(Ekders!AQ137=\"\",0,Ekders!AQ137)&\"                    \"&IF(Ekders!AQ138=\"\",0,Ekders!AQ138)","v":"0                    0                    0                    0                    0                    0"},{"$f":"IF(Ekders!AR133=\"\",0,Ekders!AR133)&\"                    \"&IF(Ekders!AR134=\"\",0,Ekders!AR134)&\"                    \"&IF(Ekders!AR135=\"\",0,Ekders!AR135)&\"                    \"&IF(Ekders!AR136=\"\",0,Ekders!AR136)&\"                    \"&IF(Ekders!AR137=\"\",0,Ekders!AR137)&\"                    \"&IF(Ekders!AR138=\"\",0,Ekders!AR138)","v":"0                    0                    0                    0                    0                    0"},{"$f":"IF(Ekders!AS133=\"\",0,Ekders!AS133)&\"                    \"&IF(Ekders!AS134=\"\",0,Ekders!AS134)&\"                    \"&IF(Ekders!AS135=\"\",0,Ekders!AS135)&\"                    \"&IF(Ekders!AS136=\"\",0,Ekders!AS136)&\"                    \"&IF(Ekders!AS137=\"\",0,Ekders!AS137)&\"                    \"&IF(Ekders!AS138=\"\",0,Ekders!AS138)","v":"0                    0                    0                    0                    0                    0"},{"$f":"IF(Ekders!AT133=\"\",0,Ekders!AT133)&\"                    \"&IF(Ekders!AT134=\"\",0,Ekders!AT134)&\"                    \"&IF(Ekders!AT135=\"\",0,Ekders!AT135)&\"                    \"&IF(Ekders!AT136=\"\",0,Ekders!AT136)&\"                    \"&IF(Ekders!AT137=\"\",0,Ekders!AT137)&\"                    \"&IF(Ekders!AT138=\"\",0,Ekders!AT138)","v":"0                    0                    0                    0                    0                    0"},{"$f":"IF(Ekders!AU133=\"\",0,Ekders!AU133)&\"                    \"&IF(Ekders!AU134=\"\",0,Ekders!AU134)&\"                    \"&IF(Ekders!AU135=\"\",0,Ekders!AU135)&\"                    \"&IF(Ekders!AU136=\"\",0,Ekders!AU136)&\"                    \"&IF(Ekders!AU137=\"\",0,Ekders!AU137)&\"                    \"&IF(Ekders!AU138=\"\",0,Ekders!AU138)","v":"0                    0                    0                    0                    0                    0"},{"$f":"IF(Ekders!AV133=\"\",0,Ekders!AV133)&\"                    \"&IF(Ekders!AV134=\"\",0,Ekders!AV134)&\"                    \"&IF(Ekders!AV135=\"\",0,Ekders!AV135)&\"                    \"&IF(Ekders!AV136=\"\",0,Ekders!AV136)&\"                    \"&IF(Ekders!AV137=\"\",0,Ekders!AV137)&\"                    \"&IF(Ekders!AV138=\"\",0,Ekders!AV138)","v":"0                    0                    0                    0                    0                    0"},{"$f":"IF(Ekders!AW133=\"\",0,Ekders!AW133)&\"                    \"&IF(Ekders!AW134=\"\",0,Ekders!AW134)&\"                    \"&IF(Ekders!AW135=\"\",0,Ekders!AW135)&\"                    \"&IF(Ekders!AW136=\"\",0,Ekders!AW136)&\"                    \"&IF(Ekders!AW137=\"\",0,Ekders!AW137)&\"                    \"&IF(Ekders!AW138=\"\",0,Ekders!AW138)","v":"0                    0                    0                    0                    0                    0"},{"$f":"IF(Ekders!AX133=\"\",0,Ekders!AX133)&\"                    \"&IF(Ekders!AX134=\"\",0,Ekders!AX134)&\"                    \"&IF(Ekders!AX135=\"\",0,Ekders!AX135)&\"                    \"&IF(Ekders!AX136=\"\",0,Ekders!AX136)&\"                    \"&IF(Ekders!AX137=\"\",0,Ekders!AX137)&\"                    \"&IF(Ekders!AX138=\"\",0,Ekders!AX138)","v":"0                    0                    0                    0                    0                    0"},{"$f":"IF(Ekders!AY133=\"\",0,Ekders!AY133)&\"                    \"&IF(Ekders!AY134=\"\",0,Ekders!AY134)&\"                    \"&IF(Ekders!AY135=\"\",0,Ekders!AY135)&\"                    \"&IF(Ekders!AY136=\"\",0,Ekders!AY136)&\"                    \"&IF(Ekders!AY137=\"\",0,Ekders!AY137)&\"                    \"&IF(Ekders!AY138=\"\",0,Ekders!AY138)","v":"0                    0                    0                    0                    0                    0"},{"$f":"Ekders!AY133+Ekders!AY134+Ekders!AY135+Ekders!AY136+Ekders!AY137+Ekders!AY138","v":0},0]
[{"$f":"Ekders!B139&\"                                                       \"&Ekders!B140&\"                                                       \"&Ekders!B141&\"                                                       \"&Ekders!B143&\"                                                       \"&Ekders!B144&\"                                                       \"&Ekders!B142","v":"                                                                                                                                                                                                                                                                                   "},null,{"$f":"Ekders!L139&\"                    \"&Ekders!L140&\"                    \"&Ekders!L141&\"                    \"&Ekders!L142&\"                    \"&Ekders!L143&\"                    \"&Ekders!L144","v":"Gündüz (Lisans)                    Gündüz (Y. Lisans)                    Gündüz (Doktora)                    Gece (Lisans)                    Gece (Y. Lisans)                    Gece (Doktora)"},null,null,null,null,{"$f":"IF(Ekders!P139=\"\",0,Ekders!P139)&\"                    \"&IF(Ekders!P140=\"\",0,Ekders!P140)&\"                    \"&IF(Ekders!P141=\"\",0,Ekders!P141)&\"                    \"&IF(Ekders!P142=\"\",0,Ekders!P142)&\"                    \"&IF(Ekders!P143=\"\",0,Ekders!P143)&\"                    \"&IF(Ekders!P144=\"\",0,Ekders!P144)","v":"0                    0                    0                    0                    0                    0"},{"$f":"IF(Ekders!Q139=\"\",0,Ekders!Q139)&\"                    \"&IF(Ekders!Q140=\"\",0,Ekders!Q140)&\"                    \"&IF(Ekders!Q141=\"\",0,Ekders!Q141)&\"                    \"&IF(Ekders!Q142=\"\",0,Ekders!Q142)&\"                    \"&IF(Ekders!Q143=\"\",0,Ekders!Q143)&\"                    \"&IF(Ekders!Q144=\"\",0,Ekders!Q144)","v":"0                    0                    0                    0                    0                    0"},{"$f":"IF(Ekders!R139=\"\",0,Ekders!R139)&\"                    \"&IF(Ekders!R140=\"\",0,Ekders!R140)&\"                    \"&IF(Ekders!R141=\"\",0,Ekders!R141)&\"                    \"&IF(Ekders!R142=\"\",0,Ekders!R142)&\"                    \"&IF(Ekders!R143=\"\",0,Ekders!R143)&\"                    \"&IF(Ekders!R144=\"\",0,Ekders!R144)","v":"0                    0                    0                    0                    0                    0"},{"$f":"IF(Ekders!S139=\"\",0,Ekders!S139)&\"                    \"&IF(Ekders!S140=\"\",0,Ekders!S140)&\"                    \"&IF(Ekders!S141=\"\",0,Ekders!S141)&\"                    \"&IF(Ekders!S142=\"\",0,Ekders!S142)&\"                    \"&IF(Ekders!S143=\"\",0,Ekders!S143)&\"                    \"&IF(Ekders!S144=\"\",0,Ekders!S144)","v":"0                    0                    0                    0                    0                    0"},{"$f":"IF(Ekders!T139=\"\",0,Ekders!T139)&\"                    \"&IF(Ekders!T140=\"\",0,Ekders!T140)&\"                    \"&IF(Ekders!T141=\"\",0,Ekders!T141)&\"                    \"&IF(Ekders!T142=\"\",0,Ekders!T142)&\"                    \"&IF(Ekders!T143=\"\",0,Ekders!T143)&\"                    \"&IF(Ekders!T144=\"\",0,Ekders!T144)","v":"0                    0                    0                    0                    0                    0"},{"$f":"IF(Ekders!U139=\"\",0,Ekders!U139)&\"                    \"&IF(Ekders!U140=\"\",0,Ekders!U140)&\"                    \"&IF(Ekders!U141=\"\",0,Ekders!U141)&\"                    \"&IF(Ekders!U142=\"\",0,Ekders!U142)&\"                    \"&IF(Ekders!U143=\"\",0,Ekders!U143)&\"                    \"&IF(Ekders!U144=\"\",0,Ekders!U144)","v":"0                    0                    0                    0                    0                    0"},{"$f":"IF(Ekders!V139=\"\",0,Ekders!V139)&\"                    \"&IF(Ekders!V140=\"\",0,Ekders!V140)&\"                    \"&IF(Ekders!V141=\"\",0,Ekders!V141)&\"                    \"&IF(Ekders!V142=\"\",0,Ekders!V142)&\"                    \"&IF(Ekders!V143=\"\",0,Ekders!V143)&\"                    \"&IF(Ekders!V144=\"\",0,Ekders!V144)","v":"0                    0                    0                    0                    0                    0"},{"$f":"IF(Ekders!W139=\"\",0,Ekders!W139)&\"                    \"&IF(Ekders!W140=\"\",0,Ekders!W140)&\"                    \"&IF(Ekders!W141=\"\",0,Ekders!W141)&\"                    \"&IF(Ekders!W142=\"\",0,Ekders!W142)&\"                    \"&IF(Ekders!W143=\"\",0,Ekders!W143)&\"                    \"&IF(Ekders!W144=\"\",0,Ekders!W144)","v":"0                    0                    0                    0                    0                    0"},{"$f":"IF(Ekders!X139=\"\",0,Ekders!X139)&\"                    \"&IF(Ekders!X140=\"\",0,Ekders!X140)&\"                    \"&IF(Ekders!X141=\"\",0,Ekders!X141)&\"                    \"&IF(Ekders!X142=\"\",0,Ekders!X142)&\"                    \"&IF(Ekders!X143=\"\",0,Ekders!X143)&\"                    \"&IF(Ekders!X144=\"\",0,Ekders!X144)","v":"0                    0                    0                    0                    0                    0"},{"$f":"IF(Ekders!Y139=\"\",0,Ekders!Y139)&\"                    \"&IF(Ekders!Y140=\"\",0,Ekders!Y140)&\"                    \"&IF(Ekders!Y141=\"\",0,Ekders!Y141)&\"                    \"&IF(Ekders!Y142=\"\",0,Ekders!Y142)&\"                    \"&IF(Ekders!Y143=\"\",0,Ekders!Y143)&\"                    \"&IF(Ekders!Y144=\"\",0,Ekders!Y144)","v":"0                    0                    0                    0                    0                    0"},{"$f":"IF(Ekders!Z139=\"\",0,Ekders!Z139)&\"                    \"&IF(Ekders!Z140=\"\",0,Ekders!Z140)&\"                    \"&IF(Ekders!Z141=\"\",0,Ekders!Z141)&\"                    \"&IF(Ekders!Z142=\"\",0,Ekders!Z142)&\"                    \"&IF(Ekders!Z143=\"\",0,Ekders!Z143)&\"                    \"&IF(Ekders!Z144=\"\",0,Ekders!Z144)","v":"0                    0                    0                    0                    0                    0"},{"$f":"IF(Ekders!AA139=\"\",0,Ekders!AA139)&\"                    \"&IF(Ekders!AA140=\"\",0,Ekders!AA140)&\"                    \"&IF(Ekders!AA141=\"\",0,Ekders!AA141)&\"                    \"&IF(Ekders!AA142=\"\",0,Ekders!AA142)&\"                    \"&IF(Ekders!AA143=\"\",0,Ekders!AA143)&\"                    \"&IF(Ekders!AA144=\"\",0,Ekders!AA144)","v":"0                    0                    0                    0                    0                    0"},{"$f":"IF(Ekders!AB139=\"\",0,Ekders!AB139)&\"                    \"&IF(Ekders!AB140=\"\",0,Ekders!AB140)&\"                    \"&IF(Ekders!AB141=\"\",0,Ekders!AB141)&\"                    \"&IF(Ekders!AB142=\"\",0,Ekders!AB142)&\"                    \"&IF(Ekders!AB143=\"\",0,Ekders!AB143)&\"                    \"&IF(Ekders!AB144=\"\",0,Ekders!AB144)","v":"0                    0                    0                    0                    0                    0"},{"$f":"IF(Ekders!AC139=\"\",0,Ekders!AC139)&\"                    \"&IF(Ekders!AC140=\"\",0,Ekders!AC140)&\"                    \"&IF(Ekders!AC141=\"\",0,Ekders!AC141)&\"                    \"&IF(Ekders!AC142=\"\",0,Ekders!AC142)&\"                    \"&IF(Ekders!AC143=\"\",0,Ekders!AC143)&\"                    \"&IF(Ekders!AC144=\"\",0,Ekders!AC144)","v":"0                    0                    0                    0                    0                    0"},{"$f":"IF(Ekders!AD139=\"\",0,Ekders!AD139)&\"                    \"&IF(Ekders!AD140=\"\",0,Ekders!AD140)&\"                    \"&IF(Ekders!AD141=\"\",0,Ekders!AD141)&\"                    \"&IF(Ekders!AD142=\"\",0,Ekders!AD142)&\"                    \"&IF(Ekders!AD143=\"\",0,Ekders!AD143)&\"                    \"&IF(Ekders!AD144=\"\",0,Ekders!AD144)","v":"0                    0                    0                    0                    0                    0"},{"$f":"IF(Ekders!AE139=\"\",0,Ekders!AE139)&\"                    \"&IF(Ekders!AE140=\"\",0,Ekders!AE140)&\"                    \"&IF(Ekders!AE141=\"\",0,Ekders!AE141)&\"                    \"&IF(Ekders!AE142=\"\",0,Ekders!AE142)&\"                    \"&IF(Ekders!AE143=\"\",0,Ekders!AE143)&\"                    \"&IF(Ekders!AE144=\"\",0,Ekders!AE144)","v":"0                    0                    0                    0                    0                    0"},{"$f":"IF(Ekders!AF139=\"\",0,Ekders!AF139)&\"                    \"&IF(Ekders!AF140=\"\",0,Ekders!AF140)&\"                    \"&IF(Ekders!AF141=\"\",0,Ekders!AF141)&\"                    \"&IF(Ekders!AF142=\"\",0,Ekders!AF142)&\"                    \"&IF(Ekders!AF143=\"\",0,Ekders!AF143)&\"                    \"&IF(Ekders!AF144=\"\",0,Ekders!AF144)","v":"0                    0                    0                    0                    0                    0"},{"$f":"IF(Ekders!AG139=\"\",0,Ekders!AG139)&\"                    \"&IF(Ekders!AG140=\"\",0,Ekders!AG140)&\"                    \"&IF(Ekders!AG141=\"\",0,Ekders!AG141)&\"                    \"&IF(Ekders!AG142=\"\",0,Ekders!AG142)&\"                    \"&IF(Ekders!AG143=\"\",0,Ekders!AG143)&\"                    \"&IF(Ekders!AG144=\"\",0,Ekders!AG144)","v":"0                    0                    0                    0                    0                    0"},{"$f":"IF(Ekders!AH139=\"\",0,Ekders!AH139)&\"                    \"&IF(Ekders!AH140=\"\",0,Ekders!AH140)&\"                    \"&IF(Ekders!AH141=\"\",0,Ekders!AH141)&\"                    \"&IF(Ekders!AH142=\"\",0,Ekders!AH142)&\"                    \"&IF(Ekders!AH143=\"\",0,Ekders!AH143)&\"                    \"&IF(Ekders!AH144=\"\",0,Ekders!AH144)","v":"0                    0                    0                    0                    0                    0"},{"$f":"IF(Ekders!AI139=\"\",0,Ekders!AI139)&\"                    \"&IF(Ekders!AI140=\"\",0,Ekders!AI140)&\"                    \"&IF(Ekders!AI141=\"\",0,Ekders!AI141)&\"                    \"&IF(Ekders!AI142=\"\",0,Ekders!AI142)&\"                    \"&IF(Ekders!AI143=\"\",0,Ekders!AI143)&\"                    \"&IF(Ekders!AI144=\"\",0,Ekders!AI144)","v":"0                    0                    0                    0                    0                    0"},{"$f":"IF(Ekders!AJ139=\"\",0,Ekders!AJ139)&\"                    \"&IF(Ekders!AJ140=\"\",0,Ekders!AJ140)&\"                    \"&IF(Ekders!AJ141=\"\",0,Ekders!AJ141)&\"                    \"&IF(Ekders!AJ142=\"\",0,Ekders!AJ142)&\"                    \"&IF(Ekders!AJ143=\"\",0,Ekders!AJ143)&\"                    \"&IF(Ekders!AJ144=\"\",0,Ekders!AJ144)","v":"0                    0                    0                    0                    0                    0"},{"$f":"IF(Ekders!AK139=\"\",0,Ekders!AK139)&\"                    \"&IF(Ekders!AK140=\"\",0,Ekders!AK140)&\"                    \"&IF(Ekders!AK141=\"\",0,Ekders!AK141)&\"                    \"&IF(Ekders!AK142=\"\",0,Ekders!AK142)&\"                    \"&IF(Ekders!AK143=\"\",0,Ekders!AK143)&\"                    \"&IF(Ekders!AK144=\"\",0,Ekders!AK144)","v":"0                    0                    0                    0                    0                    0"},{"$f":"IF(Ekders!AL139=\"\",0,Ekders!AL139)&\"                    \"&IF(Ekders!AL140=\"\",0,Ekders!AL140)&\"                    \"&IF(Ekders!AL141=\"\",0,Ekders!AL141)&\"                    \"&IF(Ekders!AL142=\"\",0,Ekders!AL142)&\"                    \"&IF(Ekders!AL143=\"\",0,Ekders!AL143)&\"                    \"&IF(Ekders!AL144=\"\",0,Ekders!AL144)","v":"0                    0                    0                    0                    0                    0"},{"$f":"IF(Ekders!AM139=\"\",0,Ekders!AM139)&\"                    \"&IF(Ekders!AM140=\"\",0,Ekders!AM140)&\"                    \"&IF(Ekders!AM141=\"\",0,Ekders!AM141)&\"                    \"&IF(Ekders!AM142=\"\",0,Ekders!AM142)&\"                    \"&IF(Ekders!AM143=\"\",0,Ekders!AM143)&\"                    \"&IF(Ekders!AM144=\"\",0,Ekders!AM144)","v":"0                    0                    0                    0                    0                    0"},{"$f":"IF(Ekders!AN139=\"\",0,Ekders!AN139)&\"                    \"&IF(Ekders!AN140=\"\",0,Ekders!AN140)&\"                    \"&IF(Ekders!AN141=\"\",0,Ekders!AN141)&\"                    \"&IF(Ekders!AN142=\"\",0,Ekders!AN142)&\"                    \"&IF(Ekders!AN143=\"\",0,Ekders!AN143)&\"                    \"&IF(Ekders!AN144=\"\",0,Ekders!AN144)","v":"0                    0                    0                    0                    0                    0"},{"$f":"IF(Ekders!AO139=\"\",0,Ekders!AO139)&\"                    \"&IF(Ekders!AO140=\"\",0,Ekders!AO140)&\"                    \"&IF(Ekders!AO141=\"\",0,Ekders!AO141)&\"                    \"&IF(Ekders!AO142=\"\",0,Ekders!AO142)&\"                    \"&IF(Ekders!AO143=\"\",0,Ekders!AO143)&\"                    \"&IF(Ekders!AO144=\"\",0,Ekders!AO144)","v":"0                    0                    0                    0                    0                    0"},{"$f":"IF(Ekders!AP139=\"\",0,Ekders!AP139)&\"                    \"&IF(Ekders!AP140=\"\",0,Ekders!AP140)&\"                    \"&IF(Ekders!AP141=\"\",0,Ekders!AP141)&\"                    \"&IF(Ekders!AP142=\"\",0,Ekders!AP142)&\"                    \"&IF(Ekders!AP143=\"\",0,Ekders!AP143)&\"                    \"&IF(Ekders!AP144=\"\",0,Ekders!AP144)","v":"0                    0                    0                    0                    0                    0"},{"$f":"IF(Ekders!AQ139=\"\",0,Ekders!AQ139)&\"                    \"&IF(Ekders!AQ140=\"\",0,Ekders!AQ140)&\"                    \"&IF(Ekders!AQ141=\"\",0,Ekders!AQ141)&\"                    \"&IF(Ekders!AQ142=\"\",0,Ekders!AQ142)&\"                    \"&IF(Ekders!AQ143=\"\",0,Ekders!AQ143)&\"                    \"&IF(Ekders!AQ144=\"\",0,Ekders!AQ144)","v":"0                    0                    0                    0                    0                    0"},{"$f":"IF(Ekders!AR139=\"\",0,Ekders!AR139)&\"                    \"&IF(Ekders!AR140=\"\",0,Ekders!AR140)&\"                    \"&IF(Ekders!AR141=\"\",0,Ekders!AR141)&\"                    \"&IF(Ekders!AR142=\"\",0,Ekders!AR142)&\"                    \"&IF(Ekders!AR143=\"\",0,Ekders!AR143)&\"                    \"&IF(Ekders!AR144=\"\",0,Ekders!AR144)","v":"0                    0                    0                    0                    0                    0"},{"$f":"IF(Ekders!AS139=\"\",0,Ekders!AS139)&\"                    \"&IF(Ekders!AS140=\"\",0,Ekders!AS140)&\"                    \"&IF(Ekders!AS141=\"\",0,Ekders!AS141)&\"                    \"&IF(Ekders!AS142=\"\",0,Ekders!AS142)&\"                    \"&IF(Ekders!AS143=\"\",0,Ekders!AS143)&\"                    \"&IF(Ekders!AS144=\"\",0,Ekders!AS144)","v":"0                    0                    0                    0                    0                    0"},{"$f":"IF(Ekders!AT139=\"\",0,Ekders!AT139)&\"                    \"&IF(Ekders!AT140=\"\",0,Ekders!AT140)&\"                    \"&IF(Ekders!AT141=\"\",0,Ekders!AT141)&\"                    \"&IF(Ekders!AT142=\"\",0,Ekders!AT142)&\"                    \"&IF(Ekders!AT143=\"\",0,Ekders!AT143)&\"                    \"&IF(Ekders!AT144=\"\",0,Ekders!AT144)","v":"0                    0                    0                    0                    0                    0"},{"$f":"IF(Ekders!AU139=\"\",0,Ekders!AU139)&\"                    \"&IF(Ekders!AU140=\"\",0,Ekders!AU140)&\"                    \"&IF(Ekders!AU141=\"\",0,Ekders!AU141)&\"                    \"&IF(Ekders!AU142=\"\",0,Ekders!AU142)&\"                    \"&IF(Ekders!AU143=\"\",0,Ekders!AU143)&\"                    \"&IF(Ekders!AU144=\"\",0,Ekders!AU144)","v":"0                    0                    0                    0                    0                    0"},{"$f":"IF(Ekders!AV139=\"\",0,Ekders!AV139)&\"                    \"&IF(Ekders!AV140=\"\",0,Ekders!AV140)&\"                    \"&IF(Ekders!AV141=\"\",0,Ekders!AV141)&\"                    \"&IF(Ekders!AV142=\"\",0,Ekders!AV142)&\"                    \"&IF(Ekders!AV143=\"\",0,Ekders!AV143)&\"                    \"&IF(Ekders!AV144=\"\",0,Ekders!AV144)","v":"0                    0                    0                    0                    0                    0"},{"$f":"IF(Ekders!AW139=\"\",0,Ekders!AW139)&\"                    \"&IF(Ekders!AW140=\"\",0,Ekders!AW140)&\"                    \"&IF(Ekders!AW141=\"\",0,Ekders!AW141)&\"                    \"&IF(Ekders!AW142=\"\",0,Ekders!AW142)&\"                    \"&IF(Ekders!AW143=\"\",0,Ekders!AW143)&\"                    \"&IF(Ekders!AW144=\"\",0,Ekders!AW144)","v":"0                    0                    0                    0                    0                    0"},{"$f":"IF(Ekders!AX139=\"\",0,Ekders!AX139)&\"                    \"&IF(Ekders!AX140=\"\",0,Ekders!AX140)&\"                    \"&IF(Ekders!AX141=\"\",0,Ekders!AX141)&\"                    \"&IF(Ekders!AX142=\"\",0,Ekders!AX142)&\"                    \"&IF(Ekders!AX143=\"\",0,Ekders!AX143)&\"                    \"&IF(Ekders!AX144=\"\",0,Ekders!AX144)","v":"0                    0                    0                    0                    0                    0"},{"$f":"IF(Ekders!AY139=\"\",0,Ekders!AY139)&\"                    \"&IF(Ekders!AY140=\"\",0,Ekders!AY140)&\"                    \"&IF(Ekders!AY141=\"\",0,Ekders!AY141)&\"                    \"&IF(Ekders!AY142=\"\",0,Ekders!AY142)&\"                    \"&IF(Ekders!AY143=\"\",0,Ekders!AY143)&\"                    \"&IF(Ekders!AY144=\"\",0,Ekders!AY144)","v":"0                    0                    0                    0                    0                    0"},{"$f":"Ekders!AY139+Ekders!AY140+Ekders!AY141+Ekders!AY142+Ekders!AY143+Ekders!AY144","v":0},0]
[{"$f":"Ekders!B145&\"                                                       \"&Ekders!B146&\"                                                       \"&Ekders!B147&\"                                                       \"&Ekders!B149&\"                                                       \"&Ekders!B150&\"                                                       \"&Ekders!B148","v":"                                                                                                                                                                                                                                                                                   "},null,{"$f":"Ekders!L145&\"                    \"&Ekders!L146&\"                    \"&Ekders!L147&\"                    \"&Ekders!L148&\"                    \"&Ekders!L149&\"                    \"&Ekders!L150","v":"Gündüz (Lisans)                    Gündüz (Y. Lisans)                    Gündüz (Doktora)                    Gece (Lisans)                    Gece (Y. Lisans)                    Gece (Doktora)"},null,null,null,null,{"$f":"IF(Ekders!P145=\"\",0,Ekders!P145)&\"                    \"&IF(Ekders!P146=\"\",0,Ekders!P146)&\"                    \"&IF(Ekders!P147=\"\",0,Ekders!P147)&\"                    \"&IF(Ekders!P148=\"\",0,Ekders!P148)&\"                    \"&IF(Ekders!P149=\"\",0,Ekders!P149)&\"                    \"&IF(Ekders!P150=\"\",0,Ekders!P150)","v":"0                    0                    0                    0                    0                    0"},{"$f":"IF(Ekders!Q145=\"\",0,Ekders!Q145)&\"                    \"&IF(Ekders!Q146=\"\",0,Ekders!Q146)&\"                    \"&IF(Ekders!Q147=\"\",0,Ekders!Q147)&\"                    \"&IF(Ekders!Q148=\"\",0,Ekders!Q148)&\"                    \"&IF(Ekders!Q149=\"\",0,Ekders!Q149)&\"                    \"&IF(Ekders!Q150=\"\",0,Ekders!Q150)","v":"0                    0                    0                    0                    0                    0"},{"$f":"IF(Ekders!R145=\"\",0,Ekders!R145)&\"                    \"&IF(Ekders!R146=\"\",0,Ekders!R146)&\"                    \"&IF(Ekders!R147=\"\",0,Ekders!R147)&\"                    \"&IF(Ekders!R148=\"\",0,Ekders!R148)&\"                    \"&IF(Ekders!R149=\"\",0,Ekders!R149)&\"                    \"&IF(Ekders!R150=\"\",0,Ekders!R150)","v":"0                    0                    0                    0                    0                    0"},{"$f":"IF(Ekders!S145=\"\",0,Ekders!S145)&\"                    \"&IF(Ekders!S146=\"\",0,Ekders!S146)&\"                    \"&IF(Ekders!S147=\"\",0,Ekders!S147)&\"                    \"&IF(Ekders!S148=\"\",0,Ekders!S148)&\"                    \"&IF(Ekders!S149=\"\",0,Ekders!S149)&\"                    \"&IF(Ekders!S150=\"\",0,Ekders!S150)","v":"0                    0                    0                    0                    0                    0"},{"$f":"IF(Ekders!T145=\"\",0,Ekders!T145)&\"                    \"&IF(Ekders!T146=\"\",0,Ekders!T146)&\"                    \"&IF(Ekders!T147=\"\",0,Ekders!T147)&\"                    \"&IF(Ekders!T148=\"\",0,Ekders!T148)&\"                    \"&IF(Ekders!T149=\"\",0,Ekders!T149)&\"                    \"&IF(Ekders!T150=\"\",0,Ekders!T150)","v":"0                    0                    0                    0                    0                    0"},{"$f":"IF(Ekders!U145=\"\",0,Ekders!U145)&\"                    \"&IF(Ekders!U146=\"\",0,Ekders!U146)&\"                    \"&IF(Ekders!U147=\"\",0,Ekders!U147)&\"                    \"&IF(Ekders!U148=\"\",0,Ekders!U148)&\"                    \"&IF(Ekders!U149=\"\",0,Ekders!U149)&\"                    \"&IF(Ekders!U150=\"\",0,Ekders!U150)","v":"0                    0                    0                    0                    0                    0"},{"$f":"IF(Ekders!V145=\"\",0,Ekders!V145)&\"                    \"&IF(Ekders!V146=\"\",0,Ekders!V146)&\"                    \"&IF(Ekders!V147=\"\",0,Ekders!V147)&\"                    \"&IF(Ekders!V148=\"\",0,Ekders!V148)&\"                    \"&IF(Ekders!V149=\"\",0,Ekders!V149)&\"                    \"&IF(Ekders!V150=\"\",0,Ekders!V150)","v":"0                    0                    0                    0                    0                    0"},{"$f":"IF(Ekders!W145=\"\",0,Ekders!W145)&\"                    \"&IF(Ekders!W146=\"\",0,Ekders!W146)&\"                    \"&IF(Ekders!W147=\"\",0,Ekders!W147)&\"                    \"&IF(Ekders!W148=\"\",0,Ekders!W148)&\"                    \"&IF(Ekders!W149=\"\",0,Ekders!W149)&\"                    \"&IF(Ekders!W150=\"\",0,Ekders!W150)","v":"0                    0                    0                    0                    0                    0"},{"$f":"IF(Ekders!X145=\"\",0,Ekders!X145)&\"                    \"&IF(Ekders!X146=\"\",0,Ekders!X146)&\"                    \"&IF(Ekders!X147=\"\",0,Ekders!X147)&\"                    \"&IF(Ekders!X148=\"\",0,Ekders!X148)&\"                    \"&IF(Ekders!X149=\"\",0,Ekders!X149)&\"                    \"&IF(Ekders!X150=\"\",0,Ekders!X150)","v":"0                    0                    0                    0                    0                    0"},{"$f":"IF(Ekders!Y145=\"\",0,Ekders!Y145)&\"                    \"&IF(Ekders!Y146=\"\",0,Ekders!Y146)&\"                    \"&IF(Ekders!Y147=\"\",0,Ekders!Y147)&\"                    \"&IF(Ekders!Y148=\"\",0,Ekders!Y148)&\"                    \"&IF(Ekders!Y149=\"\",0,Ekders!Y149)&\"                    \"&IF(Ekders!Y150=\"\",0,Ekders!Y150)","v":"0                    0                    0                    0                    0                    0"},{"$f":"IF(Ekders!Z145=\"\",0,Ekders!Z145)&\"                    \"&IF(Ekders!Z146=\"\",0,Ekders!Z146)&\"                    \"&IF(Ekders!Z147=\"\",0,Ekders!Z147)&\"                    \"&IF(Ekders!Z148=\"\",0,Ekders!Z148)&\"                    \"&IF(Ekders!Z149=\"\",0,Ekders!Z149)&\"                    \"&IF(Ekders!Z150=\"\",0,Ekders!Z150)","v":"0                    0                    0                    0                    0                    0"},{"$f":"IF(Ekders!AA145=\"\",0,Ekders!AA145)&\"                    \"&IF(Ekders!AA146=\"\",0,Ekders!AA146)&\"                    \"&IF(Ekders!AA147=\"\",0,Ekders!AA147)&\"                    \"&IF(Ekders!AA148=\"\",0,Ekders!AA148)&\"                    \"&IF(Ekders!AA149=\"\",0,Ekders!AA149)&\"                    \"&IF(Ekders!AA150=\"\",0,Ekders!AA150)","v":"0                    0                    0                    0                    0                    0"},{"$f":"IF(Ekders!AB145=\"\",0,Ekders!AB145)&\"                    \"&IF(Ekders!AB146=\"\",0,Ekders!AB146)&\"                    \"&IF(Ekders!AB147=\"\",0,Ekders!AB147)&\"                    \"&IF(Ekders!AB148=\"\",0,Ekders!AB148)&\"                    \"&IF(Ekders!AB149=\"\",0,Ekders!AB149)&\"                    \"&IF(Ekders!AB150=\"\",0,Ekders!AB150)","v":"0                    0                    0                    0                    0                    0"},{"$f":"IF(Ekders!AC145=\"\",0,Ekders!AC145)&\"                    \"&IF(Ekders!AC146=\"\",0,Ekders!AC146)&\"                    \"&IF(Ekders!AC147=\"\",0,Ekders!AC147)&\"                    \"&IF(Ekders!AC148=\"\",0,Ekders!AC148)&\"                    \"&IF(Ekders!AC149=\"\",0,Ekders!AC149)&\"                    \"&IF(Ekders!AC150=\"\",0,Ekders!AC150)","v":"0                    0                    0                    0                    0                    0"},{"$f":"IF(Ekders!AD145=\"\",0,Ekders!AD145)&\"                    \"&IF(Ekders!AD146=\"\",0,Ekders!AD146)&\"                    \"&IF(Ekders!AD147=\"\",0,Ekders!AD147)&\"                    \"&IF(Ekders!AD148=\"\",0,Ekders!AD148)&\"                    \"&IF(Ekders!AD149=\"\",0,Ekders!AD149)&\"                    \"&IF(Ekders!AD150=\"\",0,Ekders!AD150)","v":"0                    0                    0                    0                    0                    0"},{"$f":"IF(Ekders!AE145=\"\",0,Ekders!AE145)&\"                    \"&IF(Ekders!AE146=\"\",0,Ekders!AE146)&\"                    \"&IF(Ekders!AE147=\"\",0,Ekders!AE147)&\"                    \"&IF(Ekders!AE148=\"\",0,Ekders!AE148)&\"                    \"&IF(Ekders!AE149=\"\",0,Ekders!AE149)&\"                    \"&IF(Ekders!AE150=\"\",0,Ekders!AE150)","v":"0                    0                    0                    0                    0                    0"},{"$f":"IF(Ekders!AF145=\"\",0,Ekders!AF145)&\"                    \"&IF(Ekders!AF146=\"\",0,Ekders!AF146)&\"                    \"&IF(Ekders!AF147=\"\",0,Ekders!AF147)&\"                    \"&IF(Ekders!AF148=\"\",0,Ekders!AF148)&\"                    \"&IF(Ekders!AF149=\"\",0,Ekders!AF149)&\"                    \"&IF(Ekders!AF150=\"\",0,Ekders!AF150)","v":"0                    0                    0                    0                    0                    0"},{"$f":"IF(Ekders!AG145=\"\",0,Ekders!AG145)&\"                    \"&IF(Ekders!AG146=\"\",0,Ekders!AG146)&\"                    \"&IF(Ekders!AG147=\"\",0,Ekders!AG147)&\"                    \"&IF(Ekders!AG148=\"\",0,Ekders!AG148)&\"                    \"&IF(Ekders!AG149=\"\",0,Ekders!AG149)&\"                    \"&IF(Ekders!AG150=\"\",0,Ekders!AG150)","v":"0                    0                    0                    0                    0                    0"},{"$f":"IF(Ekders!AH145=\"\",0,Ekders!AH145)&\"                    \"&IF(Ekders!AH146=\"\",0,Ekders!AH146)&\"                    \"&IF(Ekders!AH147=\"\",0,Ekders!AH147)&\"                    \"&IF(Ekders!AH148=\"\",0,Ekders!AH148)&\"                    \"&IF(Ekders!AH149=\"\",0,Ekders!AH149)&\"                    \"&IF(Ekders!AH150=\"\",0,Ekders!AH150)","v":"0                    0                    0                    0                    0                    0"},{"$f":"IF(Ekders!AI145=\"\",0,Ekders!AI145)&\"                    \"&IF(Ekders!AI146=\"\",0,Ekders!AI146)&\"                    \"&IF(Ekders!AI147=\"\",0,Ekders!AI147)&\"                    \"&IF(Ekders!AI148=\"\",0,Ekders!AI148)&\"                    \"&IF(Ekders!AI149=\"\",0,Ekders!AI149)&\"                    \"&IF(Ekders!AI150=\"\",0,Ekders!AI150)","v":"0                    0                    0                    0                    0                    0"},{"$f":"IF(Ekders!AJ145=\"\",0,Ekders!AJ145)&\"                    \"&IF(Ekders!AJ146=\"\",0,Ekders!AJ146)&\"                    \"&IF(Ekders!AJ147=\"\",0,Ekders!AJ147)&\"                    \"&IF(Ekders!AJ148=\"\",0,Ekders!AJ148)&\"                    \"&IF(Ekders!AJ149=\"\",0,Ekders!AJ149)&\"                    \"&IF(Ekders!AJ150=\"\",0,Ekders!AJ150)","v":"0                    0                    0                    0                    0                    0"},{"$f":"IF(Ekders!AK145=\"\",0,Ekders!AK145)&\"                    \"&IF(Ekders!AK146=\"\",0,Ekders!AK146)&\"                    \"&IF(Ekders!AK147=\"\",0,Ekders!AK147)&\"                    \"&IF(Ekders!AK148=\"\",0,Ekders!AK148)&\"                    \"&IF(Ekders!AK149=\"\",0,Ekders!AK149)&\"                    \"&IF(Ekders!AK150=\"\",0,Ekders!AK150)","v":"0                    0                    0                    0                    0                    0"},{"$f":"IF(Ekders!AL145=\"\",0,Ekders!AL145)&\"                    \"&IF(Ekders!AL146=\"\",0,Ekders!AL146)&\"                    \"&IF(Ekders!AL147=\"\",0,Ekders!AL147)&\"                    \"&IF(Ekders!AL148=\"\",0,Ekders!AL148)&\"                    \"&IF(Ekders!AL149=\"\",0,Ekders!AL149)&\"                    \"&IF(Ekders!AL150=\"\",0,Ekders!AL150)","v":"0                    0                    0                    0                    0                    0"},{"$f":"IF(Ekders!AM145=\"\",0,Ekders!AM145)&\"                    \"&IF(Ekders!AM146=\"\",0,Ekders!AM146)&\"                    \"&IF(Ekders!AM147=\"\",0,Ekders!AM147)&\"                    \"&IF(Ekders!AM148=\"\",0,Ekders!AM148)&\"                    \"&IF(Ekders!AM149=\"\",0,Ekders!AM149)&\"                    \"&IF(Ekders!AM150=\"\",0,Ekders!AM150)","v":"0                    0                    0                    0                    0                    0"},{"$f":"IF(Ekders!AN145=\"\",0,Ekders!AN145)&\"                    \"&IF(Ekders!AN146=\"\",0,Ekders!AN146)&\"                    \"&IF(Ekders!AN147=\"\",0,Ekders!AN147)&\"                    \"&IF(Ekders!AN148=\"\",0,Ekders!AN148)&\"                    \"&IF(Ekders!AN149=\"\",0,Ekders!AN149)&\"                    \"&IF(Ekders!AN150=\"\",0,Ekders!AN150)","v":"0                    0                    0                    0                    0                    0"},{"$f":"IF(Ekders!AO145=\"\",0,Ekders!AO145)&\"                    \"&IF(Ekders!AO146=\"\",0,Ekders!AO146)&\"                    \"&IF(Ekders!AO147=\"\",0,Ekders!AO147)&\"                    \"&IF(Ekders!AO148=\"\",0,Ekders!AO148)&\"                    \"&IF(Ekders!AO149=\"\",0,Ekders!AO149)&\"                    \"&IF(Ekders!AO150=\"\",0,Ekders!AO150)","v":"0                    0                    0                    0                    0                    0"},{"$f":"IF(Ekders!AP145=\"\",0,Ekders!AP145)&\"                    \"&IF(Ekders!AP146=\"\",0,Ekders!AP146)&\"                    \"&IF(Ekders!AP147=\"\",0,Ekders!AP147)&\"                    \"&IF(Ekders!AP148=\"\",0,Ekders!AP148)&\"                    \"&IF(Ekders!AP149=\"\",0,Ekders!AP149)&\"                    \"&IF(Ekders!AP150=\"\",0,Ekders!AP150)","v":"0                    0                    0                    0                    0                    0"},{"$f":"IF(Ekders!AQ145=\"\",0,Ekders!AQ145)&\"                    \"&IF(Ekders!AQ146=\"\",0,Ekders!AQ146)&\"                    \"&IF(Ekders!AQ147=\"\",0,Ekders!AQ147)&\"                    \"&IF(Ekders!AQ148=\"\",0,Ekders!AQ148)&\"                    \"&IF(Ekders!AQ149=\"\",0,Ekders!AQ149)&\"                    \"&IF(Ekders!AQ150=\"\",0,Ekders!AQ150)","v":"0                    0                    0                    0                    0                    0"},{"$f":"IF(Ekders!AR145=\"\",0,Ekders!AR145)&\"                    \"&IF(Ekders!AR146=\"\",0,Ekders!AR146)&\"                    \"&IF(Ekders!AR147=\"\",0,Ekders!AR147)&\"                    \"&IF(Ekders!AR148=\"\",0,Ekders!AR148)&\"                    \"&IF(Ekders!AR149=\"\",0,Ekders!AR149)&\"                    \"&IF(Ekders!AR150=\"\",0,Ekders!AR150)","v":"0                    0                    0                    0                    0                    0"},{"$f":"IF(Ekders!AS145=\"\",0,Ekders!AS145)&\"                    \"&IF(Ekders!AS146=\"\",0,Ekders!AS146)&\"                    \"&IF(Ekders!AS147=\"\",0,Ekders!AS147)&\"                    \"&IF(Ekders!AS148=\"\",0,Ekders!AS148)&\"                    \"&IF(Ekders!AS149=\"\",0,Ekders!AS149)&\"                    \"&IF(Ekders!AS150=\"\",0,Ekders!AS150)","v":"0                    0                    0                    0                    0                    0"},{"$f":"IF(Ekders!AT145=\"\",0,Ekders!AT145)&\"                    \"&IF(Ekders!AT146=\"\",0,Ekders!AT146)&\"                    \"&IF(Ekders!AT147=\"\",0,Ekders!AT147)&\"                    \"&IF(Ekders!AT148=\"\",0,Ekders!AT148)&\"                    \"&IF(Ekders!AT149=\"\",0,Ekders!AT149)&\"                    \"&IF(Ekders!AT150=\"\",0,Ekders!AT150)","v":"0                    0                    0                    0                    0                    0"},{"$f":"IF(Ekders!AU145=\"\",0,Ekders!AU145)&\"                    \"&IF(Ekders!AU146=\"\",0,Ekders!AU146)&\"                    \"&IF(Ekders!AU147=\"\",0,Ekders!AU147)&\"                    \"&IF(Ekders!AU148=\"\",0,Ekders!AU148)&\"                    \"&IF(Ekders!AU149=\"\",0,Ekders!AU149)&\"                    \"&IF(Ekders!AU150=\"\",0,Ekders!AU150)","v":"0                    0                    0                    0                    0                    0"},{"$f":"IF(Ekders!AV145=\"\",0,Ekders!AV145)&\"                    \"&IF(Ekders!AV146=\"\",0,Ekders!AV146)&\"                    \"&IF(Ekders!AV147=\"\",0,Ekders!AV147)&\"                    \"&IF(Ekders!AV148=\"\",0,Ekders!AV148)&\"                    \"&IF(Ekders!AV149=\"\",0,Ekders!AV149)&\"                    \"&IF(Ekders!AV150=\"\",0,Ekders!AV150)","v":"0                    0                    0                    0                    0                    0"},{"$f":"IF(Ekders!AW145=\"\",0,Ekders!AW145)&\"                    \"&IF(Ekders!AW146=\"\",0,Ekders!AW146)&\"                    \"&IF(Ekders!AW147=\"\",0,Ekders!AW147)&\"                    \"&IF(Ekders!AW148=\"\",0,Ekders!AW148)&\"                    \"&IF(Ekders!AW149=\"\",0,Ekders!AW149)&\"                    \"&IF(Ekders!AW150=\"\",0,Ekders!AW150)","v":"0                    0                    0                    0                    0                    0"},{"$f":"IF(Ekders!AX145=\"\",0,Ekders!AX145)&\"                    \"&IF(Ekders!AX146=\"\",0,Ekders!AX146)&\"                    \"&IF(Ekders!AX147=\"\",0,Ekders!AX147)&\"                    \"&IF(Ekders!AX148=\"\",0,Ekders!AX148)&\"                    \"&IF(Ekders!AX149=\"\",0,Ekders!AX149)&\"                    \"&IF(Ekders!AX150=\"\",0,Ekders!AX150)","v":"0                    0                    0                    0                    0                    0"},{"$f":"IF(Ekders!AY145=\"\",0,Ekders!AY145)&\"                    \"&IF(Ekders!AY146=\"\",0,Ekders!AY146)&\"                    \"&IF(Ekders!AY147=\"\",0,Ekders!AY147)&\"                    \"&IF(Ekders!AY148=\"\",0,Ekders!AY148)&\"                    \"&IF(Ekders!AY149=\"\",0,Ekders!AY149)&\"                    \"&IF(Ekders!AY150=\"\",0,Ekders!AY150)","v":"0                    0                    0                    0                    0                    0"},{"$f":"Ekders!AY145+Ekders!AY146+Ekders!AY147+Ekders!AY148+Ekders!AY149+Ekders!AY150","v":0},0]
[{"$f":"Ekders!B151&\"                                                       \"&Ekders!B152&\"                                                       \"&Ekders!B153&\"                                                       \"&Ekders!B155&\"                                                       \"&Ekders!B156&\"                                                       \"&Ekders!B154","v":"                                                                                                                                                                                                                                                                                   "},null,{"$f":"Ekders!L151&\"                    \"&Ekders!L152&\"                    \"&Ekders!L153&\"                    \"&Ekders!L154&\"                    \"&Ekders!L155&\"                    \"&Ekders!L156","v":"Gündüz (Lisans)                    Gündüz (Y. Lisans)                    Gündüz (Doktora)                    Gece (Lisans)                    Gece (Y. Lisans)                    Gece (Doktora)"},null,null,null,null,{"$f":"IF(Ekders!P151=\"\",0,Ekders!P151)&\"                    \"&IF(Ekders!P152=\"\",0,Ekders!P152)&\"                    \"&IF(Ekders!P153=\"\",0,Ekders!P153)&\"                    \"&IF(Ekders!P154=\"\",0,Ekders!P154)&\"                    \"&IF(Ekders!P155=\"\",0,Ekders!P155)&\"                    \"&IF(Ekders!P156=\"\",0,Ekders!P156)","v":"0                    0                    0                    0                    0                    0"},{"$f":"IF(Ekders!Q151=\"\",0,Ekders!Q151)&\"                    \"&IF(Ekders!Q152=\"\",0,Ekders!Q152)&\"                    \"&IF(Ekders!Q153=\"\",0,Ekders!Q153)&\"                    \"&IF(Ekders!Q154=\"\",0,Ekders!Q154)&\"                    \"&IF(Ekders!Q155=\"\",0,Ekders!Q155)&\"                    \"&IF(Ekders!Q156=\"\",0,Ekders!Q156)","v":"0                    0                    0                    0                    0                    0"},{"$f":"IF(Ekders!R151=\"\",0,Ekders!R151)&\"                    \"&IF(Ekders!R152=\"\",0,Ekders!R152)&\"                    \"&IF(Ekders!R153=\"\",0,Ekders!R153)&\"                    \"&IF(Ekders!R154=\"\",0,Ekders!R154)&\"                    \"&IF(Ekders!R155=\"\",0,Ekders!R155)&\"                    \"&IF(Ekders!R156=\"\",0,Ekders!R156)","v":"0                    0                    0                    0                    0                    0"},{"$f":"IF(Ekders!S151=\"\",0,Ekders!S151)&\"                    \"&IF(Ekders!S152=\"\",0,Ekders!S152)&\"                    \"&IF(Ekders!S153=\"\",0,Ekders!S153)&\"                    \"&IF(Ekders!S154=\"\",0,Ekders!S154)&\"                    \"&IF(Ekders!S155=\"\",0,Ekders!S155)&\"                    \"&IF(Ekders!S156=\"\",0,Ekders!S156)","v":"0                    0                    0                    0                    0                    0"},{"$f":"IF(Ekders!T151=\"\",0,Ekders!T151)&\"                    \"&IF(Ekders!T152=\"\",0,Ekders!T152)&\"                    \"&IF(Ekders!T153=\"\",0,Ekders!T153)&\"                    \"&IF(Ekders!T154=\"\",0,Ekders!T154)&\"                    \"&IF(Ekders!T155=\"\",0,Ekders!T155)&\"                    \"&IF(Ekders!T156=\"\",0,Ekders!T156)","v":"0                    0                    0                    0                    0                    0"},{"$f":"IF(Ekders!U151=\"\",0,Ekders!U151)&\"                    \"&IF(Ekders!U152=\"\",0,Ekders!U152)&\"                    \"&IF(Ekders!U153=\"\",0,Ekders!U153)&\"                    \"&IF(Ekders!U154=\"\",0,Ekders!U154)&\"                    \"&IF(Ekders!U155=\"\",0,Ekders!U155)&\"                    \"&IF(Ekders!U156=\"\",0,Ekders!U156)","v":"0                    0                    0                    0                    0                    0"},{"$f":"IF(Ekders!V151=\"\",0,Ekders!V151)&\"                    \"&IF(Ekders!V152=\"\",0,Ekders!V152)&\"                    \"&IF(Ekders!V153=\"\",0,Ekders!V153)&\"                    \"&IF(Ekders!V154=\"\",0,Ekders!V154)&\"                    \"&IF(Ekders!V155=\"\",0,Ekders!V155)&\"                    \"&IF(Ekders!V156=\"\",0,Ekders!V156)","v":"0                    0                    0                    0                    0                    0"},{"$f":"IF(Ekders!W151=\"\",0,Ekders!W151)&\"                    \"&IF(Ekders!W152=\"\",0,Ekders!W152)&\"                    \"&IF(Ekders!W153=\"\",0,Ekders!W153)&\"                    \"&IF(Ekders!W154=\"\",0,Ekders!W154)&\"                    \"&IF(Ekders!W155=\"\",0,Ekders!W155)&\"                    \"&IF(Ekders!W156=\"\",0,Ekders!W156)","v":"0                    0                    0                    0                    0                    0"},{"$f":"IF(Ekders!X151=\"\",0,Ekders!X151)&\"                    \"&IF(Ekders!X152=\"\",0,Ekders!X152)&\"                    \"&IF(Ekders!X153=\"\",0,Ekders!X153)&\"                    \"&IF(Ekders!X154=\"\",0,Ekders!X154)&\"                    \"&IF(Ekders!X155=\"\",0,Ekders!X155)&\"                    \"&IF(Ekders!X156=\"\",0,Ekders!X156)","v":"0                    0                    0                    0                    0                    0"},{"$f":"IF(Ekders!Y151=\"\",0,Ekders!Y151)&\"                    \"&IF(Ekders!Y152=\"\",0,Ekders!Y152)&\"                    \"&IF(Ekders!Y153=\"\",0,Ekders!Y153)&\"                    \"&IF(Ekders!Y154=\"\",0,Ekders!Y154)&\"                    \"&IF(Ekders!Y155=\"\",0,Ekders!Y155)&\"                    \"&IF(Ekders!Y156=\"\",0,Ekders!Y156)","v":"0                    0                    0                    0                    0                    0"},{"$f":"IF(Ekders!Z151=\"\",0,Ekders!Z151)&\"                    \"&IF(Ekders!Z152=\"\",0,Ekders!Z152)&\"                    \"&IF(Ekders!Z153=\"\",0,Ekders!Z153)&\"                    \"&IF(Ekders!Z154=\"\",0,Ekders!Z154)&\"                    \"&IF(Ekders!Z155=\"\",0,Ekders!Z155)&\"                    \"&IF(Ekders!Z156=\"\",0,Ekders!Z156)","v":"0                    0                    0                    0                    0                    0"},{"$f":"IF(Ekders!AA151=\"\",0,Ekders!AA151)&\"                    \"&IF(Ekders!AA152=\"\",0,Ekders!AA152)&\"                    \"&IF(Ekders!AA153=\"\",0,Ekders!AA153)&\"                    \"&IF(Ekders!AA154=\"\",0,Ekders!AA154)&\"                    \"&IF(Ekders!AA155=\"\",0,Ekders!AA155)&\"                    \"&IF(Ekders!AA156=\"\",0,Ekders!AA156)","v":"0                    0                    0                    0                    0                    0"},{"$f":"IF(Ekders!AB151=\"\",0,Ekders!AB151)&\"                    \"&IF(Ekders!AB152=\"\",0,Ekders!AB152)&\"                    \"&IF(Ekders!AB153=\"\",0,Ekders!AB153)&\"                    \"&IF(Ekders!AB154=\"\",0,Ekders!AB154)&\"                    \"&IF(Ekders!AB155=\"\",0,Ekders!AB155)&\"                    \"&IF(Ekders!AB156=\"\",0,Ekders!AB156)","v":"0                    0                    0                    0                    0                    0"},{"$f":"IF(Ekders!AC151=\"\",0,Ekders!AC151)&\"                    \"&IF(Ekders!AC152=\"\",0,Ekders!AC152)&\"                    \"&IF(Ekders!AC153=\"\",0,Ekders!AC153)&\"                    \"&IF(Ekders!AC154=\"\",0,Ekders!AC154)&\"                    \"&IF(Ekders!AC155=\"\",0,Ekders!AC155)&\"                    \"&IF(Ekders!AC156=\"\",0,Ekders!AC156)","v":"0                    0                    0                    0                    0                    0"},{"$f":"IF(Ekders!AD151=\"\",0,Ekders!AD151)&\"                    \"&IF(Ekders!AD152=\"\",0,Ekders!AD152)&\"                    \"&IF(Ekders!AD153=\"\",0,Ekders!AD153)&\"                    \"&IF(Ekders!AD154=\"\",0,Ekders!AD154)&\"                    \"&IF(Ekders!AD155=\"\",0,Ekders!AD155)&\"                    \"&IF(Ekders!AD156=\"\",0,Ekders!AD156)","v":"0                    0                    0                    0                    0                    0"},{"$f":"IF(Ekders!AE151=\"\",0,Ekders!AE151)&\"                    \"&IF(Ekders!AE152=\"\",0,Ekders!AE152)&\"                    \"&IF(Ekders!AE153=\"\",0,Ekders!AE153)&\"                    \"&IF(Ekders!AE154=\"\",0,Ekders!AE154)&\"                    \"&IF(Ekders!AE155=\"\",0,Ekders!AE155)&\"                    \"&IF(Ekders!AE156=\"\",0,Ekders!AE156)","v":"0                    0                    0                    0                    0                    0"},{"$f":"IF(Ekders!AF151=\"\",0,Ekders!AF151)&\"                    \"&IF(Ekders!AF152=\"\",0,Ekders!AF152)&\"                    \"&IF(Ekders!AF153=\"\",0,Ekders!AF153)&\"                    \"&IF(Ekders!AF154=\"\",0,Ekders!AF154)&\"                    \"&IF(Ekders!AF155=\"\",0,Ekders!AF155)&\"                    \"&IF(Ekders!AF156=\"\",0,Ekders!AF156)","v":"0                    0                    0                    0                    0                    0"},{"$f":"IF(Ekders!AG151=\"\",0,Ekders!AG151)&\"                    \"&IF(Ekders!AG152=\"\",0,Ekders!AG152)&\"                    \"&IF(Ekders!AG153=\"\",0,Ekders!AG153)&\"                    \"&IF(Ekders!AG154=\"\",0,Ekders!AG154)&\"                    \"&IF(Ekders!AG155=\"\",0,Ekders!AG155)&\"                    \"&IF(Ekders!AG156=\"\",0,Ekders!AG156)","v":"0                    0                    0                    0                    0                    0"},{"$f":"IF(Ekders!AH151=\"\",0,Ekders!AH151)&\"                    \"&IF(Ekders!AH152=\"\",0,Ekders!AH152)&\"                    \"&IF(Ekders!AH153=\"\",0,Ekders!AH153)&\"                    \"&IF(Ekders!AH154=\"\",0,Ekders!AH154)&\"                    \"&IF(Ekders!AH155=\"\",0,Ekders!AH155)&\"                    \"&IF(Ekders!AH156=\"\",0,Ekders!AH156)","v":"0                    0                    0                    0                    0                    0"},{"$f":"IF(Ekders!AI151=\"\",0,Ekders!AI151)&\"                    \"&IF(Ekders!AI152=\"\",0,Ekders!AI152)&\"                    \"&IF(Ekders!AI153=\"\",0,Ekders!AI153)&\"                    \"&IF(Ekders!AI154=\"\",0,Ekders!AI154)&\"                    \"&IF(Ekders!AI155=\"\",0,Ekders!AI155)&\"                    \"&IF(Ekders!AI156=\"\",0,Ekders!AI156)","v":"0                    0                    0                    0                    0                    0"},{"$f":"IF(Ekders!AJ151=\"\",0,Ekders!AJ151)&\"                    \"&IF(Ekders!AJ152=\"\",0,Ekders!AJ152)&\"                    \"&IF(Ekders!AJ153=\"\",0,Ekders!AJ153)&\"                    \"&IF(Ekders!AJ154=\"\",0,Ekders!AJ154)&\"                    \"&IF(Ekders!AJ155=\"\",0,Ekders!AJ155)&\"                    \"&IF(Ekders!AJ156=\"\",0,Ekders!AJ156)","v":"0                    0                    0                    0                    0                    0"},{"$f":"IF(Ekders!AK151=\"\",0,Ekders!AK151)&\"                    \"&IF(Ekders!AK152=\"\",0,Ekders!AK152)&\"                    \"&IF(Ekders!AK153=\"\",0,Ekders!AK153)&\"                    \"&IF(Ekders!AK154=\"\",0,Ekders!AK154)&\"                    \"&IF(Ekders!AK155=\"\",0,Ekders!AK155)&\"                    \"&IF(Ekders!AK156=\"\",0,Ekders!AK156)","v":"0                    0                    0                    0                    0                    0"},{"$f":"IF(Ekders!AL151=\"\",0,Ekders!AL151)&\"                    \"&IF(Ekders!AL152=\"\",0,Ekders!AL152)&\"                    \"&IF(Ekders!AL153=\"\",0,Ekders!AL153)&\"                    \"&IF(Ekders!AL154=\"\",0,Ekders!AL154)&\"                    \"&IF(Ekders!AL155=\"\",0,Ekders!AL155)&\"                    \"&IF(Ekders!AL156=\"\",0,Ekders!AL156)","v":"0                    0                    0                    0                    0                    0"},{"$f":"IF(Ekders!AM151=\"\",0,Ekders!AM151)&\"                    \"&IF(Ekders!AM152=\"\",0,Ekders!AM152)&\"                    \"&IF(Ekders!AM153=\"\",0,Ekders!AM153)&\"                    \"&IF(Ekders!AM154=\"\",0,Ekders!AM154)&\"                    \"&IF(Ekders!AM155=\"\",0,Ekders!AM155)&\"                    \"&IF(Ekders!AM156=\"\",0,Ekders!AM156)","v":"0                    0                    0                    0                    0                    0"},{"$f":"IF(Ekders!AN151=\"\",0,Ekders!AN151)&\"                    \"&IF(Ekders!AN152=\"\",0,Ekders!AN152)&\"                    \"&IF(Ekders!AN153=\"\",0,Ekders!AN153)&\"                    \"&IF(Ekders!AN154=\"\",0,Ekders!AN154)&\"                    \"&IF(Ekders!AN155=\"\",0,Ekders!AN155)&\"                    \"&IF(Ekders!AN156=\"\",0,Ekders!AN156)","v":"0                    0                    0                    0                    0                    0"},{"$f":"IF(Ekders!AO151=\"\",0,Ekders!AO151)&\"                    \"&IF(Ekders!AO152=\"\",0,Ekders!AO152)&\"                    \"&IF(Ekders!AO153=\"\",0,Ekders!AO153)&\"                    \"&IF(Ekders!AO154=\"\",0,Ekders!AO154)&\"                    \"&IF(Ekders!AO155=\"\",0,Ekders!AO155)&\"                    \"&IF(Ekders!AO156=\"\",0,Ekders!AO156)","v":"0                    0                    0                    0                    0                    0"},{"$f":"IF(Ekders!AP151=\"\",0,Ekders!AP151)&\"                    \"&IF(Ekders!AP152=\"\",0,Ekders!AP152)&\"                    \"&IF(Ekders!AP153=\"\",0,Ekders!AP153)&\"                    \"&IF(Ekders!AP154=\"\",0,Ekders!AP154)&\"                    \"&IF(Ekders!AP155=\"\",0,Ekders!AP155)&\"                    \"&IF(Ekders!AP156=\"\",0,Ekders!AP156)","v":"0                    0                    0                    0                    0                    0"},{"$f":"IF(Ekders!AQ151=\"\",0,Ekders!AQ151)&\"                    \"&IF(Ekders!AQ152=\"\",0,Ekders!AQ152)&\"                    \"&IF(Ekders!AQ153=\"\",0,Ekders!AQ153)&\"                    \"&IF(Ekders!AQ154=\"\",0,Ekders!AQ154)&\"                    \"&IF(Ekders!AQ155=\"\",0,Ekders!AQ155)&\"                    \"&IF(Ekders!AQ156=\"\",0,Ekders!AQ156)","v":"0                    0                    0                    0                    0                    0"},{"$f":"IF(Ekders!AR151=\"\",0,Ekders!AR151)&\"                    \"&IF(Ekders!AR152=\"\",0,Ekders!AR152)&\"                    \"&IF(Ekders!AR153=\"\",0,Ekders!AR153)&\"                    \"&IF(Ekders!AR154=\"\",0,Ekders!AR154)&\"                    \"&IF(Ekders!AR155=\"\",0,Ekders!AR155)&\"                    \"&IF(Ekders!AR156=\"\",0,Ekders!AR156)","v":"0                    0                    0                    0                    0                    0"},{"$f":"IF(Ekders!AS151=\"\",0,Ekders!AS151)&\"                    \"&IF(Ekders!AS152=\"\",0,Ekders!AS152)&\"                    \"&IF(Ekders!AS153=\"\",0,Ekders!AS153)&\"                    \"&IF(Ekders!AS154=\"\",0,Ekders!AS154)&\"                    \"&IF(Ekders!AS155=\"\",0,Ekders!AS155)&\"                    \"&IF(Ekders!AS156=\"\",0,Ekders!AS156)","v":"0                    0                    0                    0                    0                    0"},{"$f":"IF(Ekders!AT151=\"\",0,Ekders!AT151)&\"                    \"&IF(Ekders!AT152=\"\",0,Ekders!AT152)&\"                    \"&IF(Ekders!AT153=\"\",0,Ekders!AT153)&\"                    \"&IF(Ekders!AT154=\"\",0,Ekders!AT154)&\"                    \"&IF(Ekders!AT155=\"\",0,Ekders!AT155)&\"                    \"&IF(Ekders!AT156=\"\",0,Ekders!AT156)","v":"0                    0                    0                    0                    0                    0"},{"$f":"IF(Ekders!AU151=\"\",0,Ekders!AU151)&\"                    \"&IF(Ekders!AU152=\"\",0,Ekders!AU152)&\"                    \"&IF(Ekders!AU153=\"\",0,Ekders!AU153)&\"                    \"&IF(Ekders!AU154=\"\",0,Ekders!AU154)&\"                    \"&IF(Ekders!AU155=\"\",0,Ekders!AU155)&\"                    \"&IF(Ekders!AU156=\"\",0,Ekders!AU156)","v":"0                    0                    0                    0                    0                    0"},{"$f":"IF(Ekders!AV151=\"\",0,Ekders!AV151)&\"                    \"&IF(Ekders!AV152=\"\",0,Ekders!AV152)&\"                    \"&IF(Ekders!AV153=\"\",0,Ekders!AV153)&\"                    \"&IF(Ekders!AV154=\"\",0,Ekders!AV154)&\"                    \"&IF(Ekders!AV155=\"\",0,Ekders!AV155)&\"                    \"&IF(Ekders!AV156=\"\",0,Ekders!AV156)","v":"0                    0                    0                    0                    0                    0"},{"$f":"IF(Ekders!AW151=\"\",0,Ekders!AW151)&\"                    \"&IF(Ekders!AW152=\"\",0,Ekders!AW152)&\"                    \"&IF(Ekders!AW153=\"\",0,Ekders!AW153)&\"                    \"&IF(Ekders!AW154=\"\",0,Ekders!AW154)&\"                    \"&IF(Ekders!AW155=\"\",0,Ekders!AW155)&\"                    \"&IF(Ekders!AW156=\"\",0,Ekders!AW156)","v":"0                    0                    0                    0                    0                    0"},{"$f":"IF(Ekders!AX151=\"\",0,Ekders!AX151)&\"                    \"&IF(Ekders!AX152=\"\",0,Ekders!AX152)&\"                    \"&IF(Ekders!AX153=\"\",0,Ekders!AX153)&\"                    \"&IF(Ekders!AX154=\"\",0,Ekders!AX154)&\"                    \"&IF(Ekders!AX155=\"\",0,Ekders!AX155)&\"                    \"&IF(Ekders!AX156=\"\",0,Ekders!AX156)","v":"0                    0                    0                    0                    0                    0"},{"$f":"IF(Ekders!AY151=\"\",0,Ekders!AY151)&\"                    \"&IF(Ekders!AY152=\"\",0,Ekders!AY152)&\"                    \"&IF(Ekders!AY153=\"\",0,Ekders!AY153)&\"                    \"&IF(Ekders!AY154=\"\",0,Ekders!AY154)&\"                    \"&IF(Ekders!AY155=\"\",0,Ekders!AY155)&\"                    \"&IF(Ekders!AY156=\"\",0,Ekders!AY156)","v":"0                    0                    0                    0                    0                    0"},{"$f":"Ekders!AY151+Ekders!AY152+Ekders!AY153+Ekders!AY154+Ekders!AY155+Ekders!AY156","v":0},0]
[{"$f":"Ekders!B157&\"                                                       \"&Ekders!B158&\"                                                       \"&Ekders!B159&\"                                                       \"&Ekders!B161&\"                                                       \"&Ekders!B162&\"                                                       \"&Ekders!B160","v":"                                                                                                                                                                                                                                                                                   "},null,{"$f":"Ekders!L157&\"                    \"&Ekders!L158&\"                    \"&Ekders!L159&\"                    \"&Ekders!L160&\"                    \"&Ekders!L161&\"                    \"&Ekders!L162","v":"Gündüz (Lisans)                    Gündüz (Y. Lisans)                    Gündüz (Doktora)                    Gece (Lisans)                    Gece (Y. Lisans)                    Gece (Doktora)"},null,null,null,null,{"$f":"IF(Ekders!P157=\"\",0,Ekders!P157)&\"                    \"&IF(Ekders!P158=\"\",0,Ekders!P158)&\"                    \"&IF(Ekders!P159=\"\",0,Ekders!P159)&\"                    \"&IF(Ekders!P160=\"\",0,Ekders!P160)&\"                    \"&IF(Ekders!P161=\"\",0,Ekders!P161)&\"                    \"&IF(Ekders!P162=\"\",0,Ekders!P162)","v":"0                    0                    0                    0                    0                    0"},{"$f":"IF(Ekders!Q157=\"\",0,Ekders!Q157)&\"                    \"&IF(Ekders!Q158=\"\",0,Ekders!Q158)&\"                    \"&IF(Ekders!Q159=\"\",0,Ekders!Q159)&\"                    \"&IF(Ekders!Q160=\"\",0,Ekders!Q160)&\"                    \"&IF(Ekders!Q161=\"\",0,Ekders!Q161)&\"                    \"&IF(Ekders!Q162=\"\",0,Ekders!Q162)","v":"0                    0                    0                    0                    0                    0"},{"$f":"IF(Ekders!R157=\"\",0,Ekders!R157)&\"                    \"&IF(Ekders!R158=\"\",0,Ekders!R158)&\"                    \"&IF(Ekders!R159=\"\",0,Ekders!R159)&\"                    \"&IF(Ekders!R160=\"\",0,Ekders!R160)&\"                    \"&IF(Ekders!R161=\"\",0,Ekders!R161)&\"                    \"&IF(Ekders!R162=\"\",0,Ekders!R162)","v":"0                    0                    0                    0                    0                    0"},{"$f":"IF(Ekders!S157=\"\",0,Ekders!S157)&\"                    \"&IF(Ekders!S158=\"\",0,Ekders!S158)&\"                    \"&IF(Ekders!S159=\"\",0,Ekders!S159)&\"                    \"&IF(Ekders!S160=\"\",0,Ekders!S160)&\"                    \"&IF(Ekders!S161=\"\",0,Ekders!S161)&\"                    \"&IF(Ekders!S162=\"\",0,Ekders!S162)","v":"0                    0                    0                    0                    0                    0"},{"$f":"IF(Ekders!T157=\"\",0,Ekders!T157)&\"                    \"&IF(Ekders!T158=\"\",0,Ekders!T158)&\"                    \"&IF(Ekders!T159=\"\",0,Ekders!T159)&\"                    \"&IF(Ekders!T160=\"\",0,Ekders!T160)&\"                    \"&IF(Ekders!T161=\"\",0,Ekders!T161)&\"                    \"&IF(Ekders!T162=\"\",0,Ekders!T162)","v":"0                    0                    0                    0                    0                    0"},{"$f":"IF(Ekders!U157=\"\",0,Ekders!U157)&\"                    \"&IF(Ekders!U158=\"\",0,Ekders!U158)&\"                    \"&IF(Ekders!U159=\"\",0,Ekders!U159)&\"                    \"&IF(Ekders!U160=\"\",0,Ekders!U160)&\"                    \"&IF(Ekders!U161=\"\",0,Ekders!U161)&\"                    \"&IF(Ekders!U162=\"\",0,Ekders!U162)","v":"0                    0                    0                    0                    0                    0"},{"$f":"IF(Ekders!V157=\"\",0,Ekders!V157)&\"                    \"&IF(Ekders!V158=\"\",0,Ekders!V158)&\"                    \"&IF(Ekders!V159=\"\",0,Ekders!V159)&\"                    \"&IF(Ekders!V160=\"\",0,Ekders!V160)&\"                    \"&IF(Ekders!V161=\"\",0,Ekders!V161)&\"                    \"&IF(Ekders!V162=\"\",0,Ekders!V162)","v":"0                    0                    0                    0                    0                    0"},{"$f":"IF(Ekders!W157=\"\",0,Ekders!W157)&\"                    \"&IF(Ekders!W158=\"\",0,Ekders!W158)&\"                    \"&IF(Ekders!W159=\"\",0,Ekders!W159)&\"                    \"&IF(Ekders!W160=\"\",0,Ekders!W160)&\"                    \"&IF(Ekders!W161=\"\",0,Ekders!W161)&\"                    \"&IF(Ekders!W162=\"\",0,Ekders!W162)","v":"0                    0                    0                    0                    0                    0"},{"$f":"IF(Ekders!X157=\"\",0,Ekders!X157)&\"                    \"&IF(Ekders!X158=\"\",0,Ekders!X158)&\"                    \"&IF(Ekders!X159=\"\",0,Ekders!X159)&\"                    \"&IF(Ekders!X160=\"\",0,Ekders!X160)&\"                    \"&IF(Ekders!X161=\"\",0,Ekders!X161)&\"                    \"&IF(Ekders!X162=\"\",0,Ekders!X162)","v":"0                    0                    0                    0                    0                    0"},{"$f":"IF(Ekders!Y157=\"\",0,Ekders!Y157)&\"                    \"&IF(Ekders!Y158=\"\",0,Ekders!Y158)&\"                    \"&IF(Ekders!Y159=\"\",0,Ekders!Y159)&\"                    \"&IF(Ekders!Y160=\"\",0,Ekders!Y160)&\"                    \"&IF(Ekders!Y161=\"\",0,Ekders!Y161)&\"                    \"&IF(Ekders!Y162=\"\",0,Ekders!Y162)","v":"0                    0                    0                    0                    0                    0"},{"$f":"IF(Ekders!Z157=\"\",0,Ekders!Z157)&\"                    \"&IF(Ekders!Z158=\"\",0,Ekders!Z158)&\"                    \"&IF(Ekders!Z159=\"\",0,Ekders!Z159)&\"                    \"&IF(Ekders!Z160=\"\",0,Ekders!Z160)&\"                    \"&IF(Ekders!Z161=\"\",0,Ekders!Z161)&\"                    \"&IF(Ekders!Z162=\"\",0,Ekders!Z162)","v":"0                    0                    0                    0                    0                    0"},{"$f":"IF(Ekders!AA157=\"\",0,Ekders!AA157)&\"                    \"&IF(Ekders!AA158=\"\",0,Ekders!AA158)&\"                    \"&IF(Ekders!AA159=\"\",0,Ekders!AA159)&\"                    \"&IF(Ekders!AA160=\"\",0,Ekders!AA160)&\"                    \"&IF(Ekders!AA161=\"\",0,Ekders!AA161)&\"                    \"&IF(Ekders!AA162=\"\",0,Ekders!AA162)","v":"0                    0                    0                    0                    0                    0"},{"$f":"IF(Ekders!AB157=\"\",0,Ekders!AB157)&\"                    \"&IF(Ekders!AB158=\"\",0,Ekders!AB158)&\"                    \"&IF(Ekders!AB159=\"\",0,Ekders!AB159)&\"                    \"&IF(Ekders!AB160=\"\",0,Ekders!AB160)&\"                    \"&IF(Ekders!AB161=\"\",0,Ekders!AB161)&\"                    \"&IF(Ekders!AB162=\"\",0,Ekders!AB162)","v":"0                    0                    0                    0                    0                    0"},{"$f":"IF(Ekders!AC157=\"\",0,Ekders!AC157)&\"                    \"&IF(Ekders!AC158=\"\",0,Ekders!AC158)&\"                    \"&IF(Ekders!AC159=\"\",0,Ekders!AC159)&\"                    \"&IF(Ekders!AC160=\"\",0,Ekders!AC160)&\"                    \"&IF(Ekders!AC161=\"\",0,Ekders!AC161)&\"                    \"&IF(Ekders!AC162=\"\",0,Ekders!AC162)","v":"0                    0                    0                    0                    0                    0"},{"$f":"IF(Ekders!AD157=\"\",0,Ekders!AD157)&\"                    \"&IF(Ekders!AD158=\"\",0,Ekders!AD158)&\"                    \"&IF(Ekders!AD159=\"\",0,Ekders!AD159)&\"                    \"&IF(Ekders!AD160=\"\",0,Ekders!AD160)&\"                    \"&IF(Ekders!AD161=\"\",0,Ekders!AD161)&\"                    \"&IF(Ekders!AD162=\"\",0,Ekders!AD162)","v":"0                    0                    0                    0                    0                    0"},{"$f":"IF(Ekders!AE157=\"\",0,Ekders!AE157)&\"                    \"&IF(Ekders!AE158=\"\",0,Ekders!AE158)&\"                    \"&IF(Ekders!AE159=\"\",0,Ekders!AE159)&\"                    \"&IF(Ekders!AE160=\"\",0,Ekders!AE160)&\"                    \"&IF(Ekders!AE161=\"\",0,Ekders!AE161)&\"                    \"&IF(Ekders!AE162=\"\",0,Ekders!AE162)","v":"0                    0                    0                    0                    0                    0"},{"$f":"IF(Ekders!AF157=\"\",0,Ekders!AF157)&\"                    \"&IF(Ekders!AF158=\"\",0,Ekders!AF158)&\"                    \"&IF(Ekders!AF159=\"\",0,Ekders!AF159)&\"                    \"&IF(Ekders!AF160=\"\",0,Ekders!AF160)&\"                    \"&IF(Ekders!AF161=\"\",0,Ekders!AF161)&\"                    \"&IF(Ekders!AF162=\"\",0,Ekders!AF162)","v":"0                    0                    0                    0                    0                    0"},{"$f":"IF(Ekders!AG157=\"\",0,Ekders!AG157)&\"                    \"&IF(Ekders!AG158=\"\",0,Ekders!AG158)&\"                    \"&IF(Ekders!AG159=\"\",0,Ekders!AG159)&\"                    \"&IF(Ekders!AG160=\"\",0,Ekders!AG160)&\"                    \"&IF(Ekders!AG161=\"\",0,Ekders!AG161)&\"                    \"&IF(Ekders!AG162=\"\",0,Ekders!AG162)","v":"0                    0                    0                    0                    0                    0"},{"$f":"IF(Ekders!AH157=\"\",0,Ekders!AH157)&\"                    \"&IF(Ekders!AH158=\"\",0,Ekders!AH158)&\"                    \"&IF(Ekders!AH159=\"\",0,Ekders!AH159)&\"                    \"&IF(Ekders!AH160=\"\",0,Ekders!AH160)&\"                    \"&IF(Ekders!AH161=\"\",0,Ekders!AH161)&\"                    \"&IF(Ekders!AH162=\"\",0,Ekders!AH162)","v":"0                    0                    0                    0                    0                    0"},{"$f":"IF(Ekders!AI157=\"\",0,Ekders!AI157)&\"                    \"&IF(Ekders!AI158=\"\",0,Ekders!AI158)&\"                    \"&IF(Ekders!AI159=\"\",0,Ekders!AI159)&\"                    \"&IF(Ekders!AI160=\"\",0,Ekders!AI160)&\"                    \"&IF(Ekders!AI161=\"\",0,Ekders!AI161)&\"                    \"&IF(Ekders!AI162=\"\",0,Ekders!AI162)","v":"0                    0                    0                    0                    0                    0"},{"$f":"IF(Ekders!AJ157=\"\",0,Ekders!AJ157)&\"                    \"&IF(Ekders!AJ158=\"\",0,Ekders!AJ158)&\"                    \"&IF(Ekders!AJ159=\"\",0,Ekders!AJ159)&\"                    \"&IF(Ekders!AJ160=\"\",0,Ekders!AJ160)&\"                    \"&IF(Ekders!AJ161=\"\",0,Ekders!AJ161)&\"                    \"&IF(Ekders!AJ162=\"\",0,Ekders!AJ162)","v":"0                    0                    0                    0                    0                    0"},{"$f":"IF(Ekders!AK157=\"\",0,Ekders!AK157)&\"                    \"&IF(Ekders!AK158=\"\",0,Ekders!AK158)&\"                    \"&IF(Ekders!AK159=\"\",0,Ekders!AK159)&\"                    \"&IF(Ekders!AK160=\"\",0,Ekders!AK160)&\"                    \"&IF(Ekders!AK161=\"\",0,Ekders!AK161)&\"                    \"&IF(Ekders!AK162=\"\",0,Ekders!AK162)","v":"0                    0                    0                    0                    0                    0"},{"$f":"IF(Ekders!AL157=\"\",0,Ekders!AL157)&\"                    \"&IF(Ekders!AL158=\"\",0,Ekders!AL158)&\"                    \"&IF(Ekders!AL159=\"\",0,Ekders!AL159)&\"                    \"&IF(Ekders!AL160=\"\",0,Ekders!AL160)&\"                    \"&IF(Ekders!AL161=\"\",0,Ekders!AL161)&\"                    \"&IF(Ekders!AL162=\"\",0,Ekders!AL162)","v":"0                    0                    0                    0                    0                    0"},{"$f":"IF(Ekders!AM157=\"\",0,Ekders!AM157)&\"                    \"&IF(Ekders!AM158=\"\",0,Ekders!AM158)&\"                    \"&IF(Ekders!AM159=\"\",0,Ekders!AM159)&\"                    \"&IF(Ekders!AM160=\"\",0,Ekders!AM160)&\"                    \"&IF(Ekders!AM161=\"\",0,Ekders!AM161)&\"                    \"&IF(Ekders!AM162=\"\",0,Ekders!AM162)","v":"0                    0                    0                    0                    0                    0"},{"$f":"IF(Ekders!AN157=\"\",0,Ekders!AN157)&\"                    \"&IF(Ekders!AN158=\"\",0,Ekders!AN158)&\"                    \"&IF(Ekders!AN159=\"\",0,Ekders!AN159)&\"                    \"&IF(Ekders!AN160=\"\",0,Ekders!AN160)&\"                    \"&IF(Ekders!AN161=\"\",0,Ekders!AN161)&\"                    \"&IF(Ekders!AN162=\"\",0,Ekders!AN162)","v":"0                    0                    0                    0                    0                    0"},{"$f":"IF(Ekders!AO157=\"\",0,Ekders!AO157)&\"                    \"&IF(Ekders!AO158=\"\",0,Ekders!AO158)&\"                    \"&IF(Ekders!AO159=\"\",0,Ekders!AO159)&\"                    \"&IF(Ekders!AO160=\"\",0,Ekders!AO160)&\"                    \"&IF(Ekders!AO161=\"\",0,Ekders!AO161)&\"                    \"&IF(Ekders!AO162=\"\",0,Ekders!AO162)","v":"0                    0                    0                    0                    0                    0"},{"$f":"IF(Ekders!AP157=\"\",0,Ekders!AP157)&\"                    \"&IF(Ekders!AP158=\"\",0,Ekders!AP158)&\"                    \"&IF(Ekders!AP159=\"\",0,Ekders!AP159)&\"                    \"&IF(Ekders!AP160=\"\",0,Ekders!AP160)&\"                    \"&IF(Ekders!AP161=\"\",0,Ekders!AP161)&\"                    \"&IF(Ekders!AP162=\"\",0,Ekders!AP162)","v":"0                    0                    0                    0                    0                    0"},{"$f":"IF(Ekders!AQ157=\"\",0,Ekders!AQ157)&\"                    \"&IF(Ekders!AQ158=\"\",0,Ekders!AQ158)&\"                    \"&IF(Ekders!AQ159=\"\",0,Ekders!AQ159)&\"                    \"&IF(Ekders!AQ160=\"\",0,Ekders!AQ160)&\"                    \"&IF(Ekders!AQ161=\"\",0,Ekders!AQ161)&\"                    \"&IF(Ekders!AQ162=\"\",0,Ekders!AQ162)","v":"0                    0                    0                    0                    0                    0"},{"$f":"IF(Ekders!AR157=\"\",0,Ekders!AR157)&\"                    \"&IF(Ekders!AR158=\"\",0,Ekders!AR158)&\"                    \"&IF(Ekders!AR159=\"\",0,Ekders!AR159)&\"                    \"&IF(Ekders!AR160=\"\",0,Ekders!AR160)&\"                    \"&IF(Ekders!AR161=\"\",0,Ekders!AR161)&\"                    \"&IF(Ekders!AR162=\"\",0,Ekders!AR162)","v":"0                    0                    0                    0                    0                    0"},{"$f":"IF(Ekders!AS157=\"\",0,Ekders!AS157)&\"                    \"&IF(Ekders!AS158=\"\",0,Ekders!AS158)&\"                    \"&IF(Ekders!AS159=\"\",0,Ekders!AS159)&\"                    \"&IF(Ekders!AS160=\"\",0,Ekders!AS160)&\"                    \"&IF(Ekders!AS161=\"\",0,Ekders!AS161)&\"                    \"&IF(Ekders!AS162=\"\",0,Ekders!AS162)","v":"0                    0                    0                    0                    0                    0"},{"$f":"IF(Ekders!AT157=\"\",0,Ekders!AT157)&\"                    \"&IF(Ekders!AT158=\"\",0,Ekders!AT158)&\"                    \"&IF(Ekders!AT159=\"\",0,Ekders!AT159)&\"                    \"&IF(Ekders!AT160=\"\",0,Ekders!AT160)&\"                    \"&IF(Ekders!AT161=\"\",0,Ekders!AT161)&\"                    \"&IF(Ekders!AT162=\"\",0,Ekders!AT162)","v":"0                    0                    0                    0                    0                    0"},{"$f":"IF(Ekders!AU157=\"\",0,Ekders!AU157)&\"                    \"&IF(Ekders!AU158=\"\",0,Ekders!AU158)&\"                    \"&IF(Ekders!AU159=\"\",0,Ekders!AU159)&\"                    \"&IF(Ekders!AU160=\"\",0,Ekders!AU160)&\"                    \"&IF(Ekders!AU161=\"\",0,Ekders!AU161)&\"                    \"&IF(Ekders!AU162=\"\",0,Ekders!AU162)","v":"0                    0                    0                    0                    0                    0"},{"$f":"IF(Ekders!AV157=\"\",0,Ekders!AV157)&\"                    \"&IF(Ekders!AV158=\"\",0,Ekders!AV158)&\"                    \"&IF(Ekders!AV159=\"\",0,Ekders!AV159)&\"                    \"&IF(Ekders!AV160=\"\",0,Ekders!AV160)&\"                    \"&IF(Ekders!AV161=\"\",0,Ekders!AV161)&\"                    \"&IF(Ekders!AV162=\"\",0,Ekders!AV162)","v":"0                    0                    0                    0                    0                    0"},{"$f":"IF(Ekders!AW157=\"\",0,Ekders!AW157)&\"                    \"&IF(Ekders!AW158=\"\",0,Ekders!AW158)&\"                    \"&IF(Ekders!AW159=\"\",0,Ekders!AW159)&\"                    \"&IF(Ekders!AW160=\"\",0,Ekders!AW160)&\"                    \"&IF(Ekders!AW161=\"\",0,Ekders!AW161)&\"                    \"&IF(Ekders!AW162=\"\",0,Ekders!AW162)","v":"0                    0                    0                    0                    0                    0"},{"$f":"IF(Ekders!AX157=\"\",0,Ekders!AX157)&\"                    \"&IF(Ekders!AX158=\"\",0,Ekders!AX158)&\"                    \"&IF(Ekders!AX159=\"\",0,Ekders!AX159)&\"                    \"&IF(Ekders!AX160=\"\",0,Ekders!AX160)&\"                    \"&IF(Ekders!AX161=\"\",0,Ekders!AX161)&\"                    \"&IF(Ekders!AX162=\"\",0,Ekders!AX162)","v":"0                    0                    0                    0                    0                    0"},{"$f":"IF(Ekders!AY157=\"\",0,Ekders!AY157)&\"                    \"&IF(Ekders!AY158=\"\",0,Ekders!AY158)&\"                    \"&IF(Ekders!AY159=\"\",0,Ekders!AY159)&\"                    \"&IF(Ekders!AY160=\"\",0,Ekders!AY160)&\"                    \"&IF(Ekders!AY161=\"\",0,Ekders!AY161)&\"                    \"&IF(Ekders!AY162=\"\",0,Ekders!AY162)","v":"0                    0                    0                    0                    0                    0"},{"$f":"Ekders!AY157+Ekders!AY158+Ekders!AY159+Ekders!AY160+Ekders!AY161+Ekders!AY162","v":0},0]
[{"$f":"\"Müdürlüğümüzde ası geçen personeller \"&TEXT(SUM(AR5:AR29),\"#.##0.00\")&\" saat ek ders okutmuşlardır.\"","v":"Müdürlüğümüzde ası geçen personeller 000 saat ek ders okutmuşlardır."},null,null,null,null,null,null,null,null,null,null,null,null,null,null,null,null,null,null,null,null,null,null,null,null,null,null,null,null,null,null,null,null,null,null,null,null,null,null,null,null,null,null,null,1]
[null,null,null,null,null,null,null,null,null,null,null,null,null,null,null,null,null,null,null,null,null,null,null,null,null,null,null,null,null,null,null,null,null,null,null,null,null,null,null,null,null,null,null,null,1]
["Düzenleyen",null,"Onaylayan",null,null,null,null,null,null,null,null,null,null,null,null,null,null,null,null,null,null,null,null,null,null,null,null,null,null,null,null,null,null,null,null,null,null,null,null,null,null,null,null,null,1]
[null,null,null,null,null,null,null,null,null,null,null,null,null,null,null,null,null,null,null,null,null,null,null,null,null,null,null,null,null,null,null,null,null,null,null,null,null,null,null,null,null,null,null,null,1]
[{"$f":"Ekders!AG5","v":0},null,{"$f":"Ekders!AG6","v":0},null,null,null,null,null,null,null,null,null,null,null,null,null,null,null,null,null,null,null,null,null,null,null,null,null,null,null,null,null,null,null,null,null,null,null,null,null,null,null,null,null,1]
[{"$f":"Ekders!AL5","v":0},null,{"$f":"Ekders!AL6","v":0},null,null,null,null,null,null,null,null,null,null,null,null,null,null,null,null,null,null,null,null,null,null,null,null,null,null,null,null,null,null,null,null,null,null,null,null,null,null,null,null,null,1]

{"sheet":"Bordro","index":2,"n_rows":36,"n_cols":21,"rows_kept":36,"cut":false,"hidden":true,"merged":[[0,0,0,18],[2,1,2,6],[1,16,1,17],[2,16,2,17],[3,2,3,3],[3,4,3,5],[3,6,3,7],[35,2,35,6],[33,0,33,1],[34,0,34,1],[35,0,35,1],[3,8,3,9],[29,0,29,1],[30,0,30,18],[32,0,32,1],[32,2,32,6],[33,2,33,6],[34,2,34,6],[3,10,3,11],[3,12,3,13]]}
["EK DERS ÜCRET BORDROSU",null,null,null,null,null,null,null,null,null,null,null,null,null,null,null,null,null,null,null,{"$f":"\"01/\"&S3&\"/\"&S2","v":"01/Mayıs/2025"}]
[null,null,null,null,null,null,null,null,null,null,null,null,null,null,null,null,"Ait Old. Yıl",null,{"$f":"Ekders!AQ6","v":2025},null,{"$f":"TEXT(U1,\"gg/aa/yyyy\")","v":"01/05/2025"}]
["Kurum Adı",{"$f":"Ekders!AG3","v":0},null,null,null,null,null,null,null,null,null,null,null,null,null,null,"Ait Old. Ay",null,{"$f":"Ekders!AS6","v":"Mayıs"},null,{"$f":"EDATE(U2,1)","v":"2025-06-01"}]
["Kimlik No","Adı Soyadı","Gündüz\n(Lisans)",null,"Gündüz\n(Y. Lisans)",null,"Gündüz\n(Doktora)",null,"Gece\n(Lisans)",null,"Gece\n(Y. Lisans)",null,"Gece\n(Doktora)",null,"Toplam\nTutar","Gelir\nvergisi","Damga\nVergisi","Kesinti\nToplamı","Öd. Net\nTutar",1]
[{"$f":"Ekders!B13","v":0},{"$f":"Ekders!B14","v":0},{"$f":"Ekders!AY13","v":0},{"$f":"Ekders!BA13","v":0},{"$f":"Ekders!AY14","v":0},{"$f":"Ekders!BA14","v":0},{"$f":"Ekders!AY15","v":0},{"$f":"Ekders!BA15","v":0},{"$f":"Ekders!AY16","v":0},{"$f":"Ekders!BA16","v":0},{"$f":"Ekders!AY17","v":0},{"$f":"Ekders!BA17","v":0},{"$f":"Ekders!AY18","v":0},{"$f":"Ekders!BA18","v":0},{"$f":"D5+F5+H5+J5+L5+N5","v":0},{"$f":"ROUND(O5/100*Ekders!BE13,2)","v":0},{"$f":"ROUND(O5/1000*7.59,2)","v":0},{"$f":"P5+Q5","v":0},{"$f":"O5-R5","v":0},{"$f":"IF(S5=0,0,1)","v":0}]
[{"$f":"Ekders!B19","v":0},{"$f":"Ekders!B20","v":0},{"$f":"Ekders!AY19","v":0},{"$f":"Ekders!BA19","v":0},{"$f":"Ekders!AY20","v":0},{"$f":"Ekders!BA20","v":0},{"$f":"Ekders!AY21","v":0},{"$f":"Ekders!BA21","v":0},{"$f":"Ekders!AY22","v":0},{"$f":"Ekders!BA22","v":0},{"$f":"Ekders!AY23","v":0},{"$f":"Ekders!BA23","v":0},{"$f":"Ekders!AY24","v":0},{"$f":"Ekders!BA24","v":0},0,{"$f":"ROUND(O6/100*Ekders!BE19,2)","v":0},0,0,0,{"$f":"IF(S6=0,0,1)","v":0}]
[{"$f":"Ekders!B25","v":0},{"$f":"Ekders!B26","v":0},{"$f":"Ekders!AY25","v":0},{"$f":"Ekders!BA25","v":0},{"$f":"Ekders!AY26","v":0},{"$f":"Ekders!BA26","v":0},{"$f":"Ekders!AY27","v":0},{"$f":"Ekders!BA27","v":0},{"$f":"Ekders!AY28","v":0},{"$f":"Ekders!BA28","v":0},{"$f":"Ekders!AY29","v":0},{"$f":"Ekders!BA29","v":0},{"$f":"Ekders!AY30","v":0},{"$f":"Ekders!BA30","v":0},0,{"$f":"ROUND(O7/100*Ekders!BE25,2)","v":0},0,0,0,0]
[{"$f":"Ekders!B31","v":0},{"$f":"Ekders!B32","v":0},{"$f":"Ekders!AY31","v":0},{"$f":"Ekders!BA31","v":0},{"$f":"Ekders!AY32","v":0},{"$f":"Ekders!BA32","v":0},{"$f":"Ekders!AY33","v":0},{"$f":"Ekders!BA33","v":0},{"$f":"Ekders!AY34","v":0},{"$f":"Ekders!BA34","v":0},{"$f":"Ekders!AY35","v":0},{"$f":"Ekders!BA35","v":0},{"$f":"Ekders!AY36","v":0},{"$f":"Ekders!BA36","v":0},0,{"$f":"ROUND(O8/100*Ekders!BE31,2)","v":0},0,0,0,0]
[{"$f":"Ekders!B37","v":0},{"$f":"Ekders!B38","v":0},{"$f":"Ekders!AY37","v":0},{"$f":"Ekders!BA37","v":0},{"$f":"Ekders!AY38","v":0},{"$f":"Ekders!BA38","v":0},{"$f":"Ekders!AY39","v":0},{"$f":"Ekders!BA39","v":0},{"$f":"Ekders!AY40","v":0},{"$f":"Ekders!BA40","v":0},{"$f":"Ekders!AY41","v":0},{"$f":"Ekders!BA41","v":0},{"$f":"Ekders!AY42","v":0},{"$f":"Ekders!BA42","v":0},0,{"$f":"ROUND(O9/100*Ekders!BE37,2)","v":0},0,0,0,0]
[{"$f":"Ekders!B43","v":0},{"$f":"Ekders!B44","v":0},{"$f":"Ekders!AY43","v":0},{"$f":"Ekders!BA43","v":0},{"$f":"Ekders!AY44","v":0},{"$f":"Ekders!BA44","v":0},{"$f":"Ekders!AY45","v":0},{"$f":"Ekders!BA45","v":0},{"$f":"Ekders!AY46","v":0},{"$f":"Ekders!BA46","v":0},{"$f":"Ekders!AY47","v":0},{"$f":"Ekders!BA47","v":0},{"$f":"Ekders!AY48","v":0},{"$f":"Ekders!BA48","v":0},0,{"$f":"ROUND(O10/100*Ekders!BE43,2)","v":0},0,0,0,0]
[{"$f":"Ekders!B49","v":0},{"$f":"Ekders!B50","v":0},{"$f":"Ekders!AY49","v":0},{"$f":"Ekders!BA49","v":0},{"$f":"Ekders!AY50","v":0},{"$f":"Ekders!BA50","v":0},{"$f":"Ekders!AY51","v":0},{"$f":"Ekders!BA51","v":0},{"$f":"Ekders!AY52","v":0},{"$f":"Ekders!BA52","v":0},{"$f":"Ekders!AY53","v":0},{"$f":"Ekders!BA53","v":0},{"$f":"Ekders!AY54","v":0},{"$f":"Ekders!BA54","v":0},0,{"$f":"ROUND(O11/100*Ekders!BE49,2)","v":0},0,0,0,0]
[{"$f":"Ekders!B55","v":0},{"$f":"Ekders!B56","v":0},{"$f":"Ekders!AY55","v":0},{"$f":"Ekders!BA55","v":0},{"$f":"Ekders!AY56","v":0},{"$f":"Ekders!BA56","v":0},{"$f":"Ekders!AY57","v":0},{"$f":"Ekders!BA57","v":0},{"$f":"Ekders!AY58","v":0},{"$f":"Ekders!BA58","v":0},{"$f":"Ekders!AY59","v":0},{"$f":"Ekders!BA59","v":0},{"$f":"Ekders!AY60","v":0},{"$f":"Ekders!BA60","v":0},0,{"$f":"ROUND(O12/100*Ekders!BE55,2)","v":0},0,0,0,0]
[{"$f":"Ekders!B61","v":0},{"$f":"Ekders!B62","v":0},{"$f":"Ekders!AY61","v":0},{"$f":"Ekders!BA61","v":0},{"$f":"Ekders!AY62","v":0},{"$f":"Ekders!BA62","v":0},{"$f":"Ekders!AY63","v":0},{"$f":"Ekders!BA63","v":0},{"$f":"Ekders!AY64","v":0},{"$f":"Ekders!BA64","v":0},{"$f":"Ekders!AY65","v":0},{"$f":"Ekders!BA65","v":0},{"$f":"Ekders!AY66","v":0},{"$f":"Ekders!BA66","v":0},0,{"$f":"ROUND(O13/100*Ekders!BE61,2)","v":0},0,0,0,0]
[{"$f":"Ekders!B67","v":0},{"$f":"Ekders!B68","v":0},{"$f":"Ekders!AY67","v":0},{"$f":"Ekders!BA67","v":0},{"$f":"Ekders!AY68","v":0},{"$f":"Ekders!BA68","v":0},{"$f":"Ekders!AY69","v":0},{"$f":"Ekders!BA69","v":0},{"$f":"Ekders!AY70","v":0},{"$f":"Ekders!BA70","v":0},{"$f":"Ekders!AY71","v":0},{"$f":"Ekders!BA71","v":0},{"$f":"Ekders!AY72","v":0},{"$f":"Ekders!BA72","v":0},0,{"$f":"ROUND(O14/100*Ekders!BE67,2)","v":0},0,0,0,0]
[{"$f":"Ekders!B73","v":0},{"$f":"Ekders!B74","v":0},{"$f":"Ekders!AY73","v":0},{"$f":"Ekders!BA73","v":0},{"$f":"Ekders!AY74","v":0},{"$f":"Ekders!BA74","v":0},{"$f":"Ekders!AY75","v":0},{"$f":"Ekders!BA75","v":0},{"$f":"Ekders!AY76","v":0},{"$f":"Ekders!BA76","v":0},{"$f":"Ekders!AY77","v":0},{"$f":"Ekders!BA77","v":0},{"$f":"Ekders!AY78","v":0},{"$f":"Ekders!BA78","v":0},0,{"$f":"ROUND(O15/100*Ekders!BE73,2)","v":0},0,0,0,0]
[{"$f":"Ekders!B79","v":0},{"$f":"Ekders!B80","v":0},{"$f":"Ekders!AY79","v":0},{"$f":"Ekders!BA79","v":0},{"$f":"Ekders!AY80","v":0},{"$f":"Ekders!BA80","v":0},{"$f":"Ekders!AY81","v":0},{"$f":"Ekders!BA81","v":0},{"$f":"Ekders!AY82","v":0},{"$f":"Ekders!BA82","v":0},{"$f":"Ekders!AY83","v":0},{"$f":"Ekders!BA83","v":0},{"$f":"Ekders!AY84","v":0},{"$f":"Ekders!BA84","v":0},0,{"$f":"ROUND(O16/100*Ekders!BE79,2)","v":0},0,0,0,0]
[{"$f":"Ekders!B85","v":0},{"$f":"Ekders!B86","v":0},{"$f":"Ekders!AY85","v":0},{"$f":"Ekders!BA85","v":0},{"$f":"Ekders!AY86","v":0},{"$f":"Ekders!BA86","v":0},{"$f":"Ekders!AY87","v":0},{"$f":"Ekders!BA87","v":0},{"$f":"Ekders!AY88","v":0},{"$f":"Ekders!BA88","v":0},{"$f":"Ekders!AY89","v":0},{"$f":"Ekders!BA89","v":0},{"$f":"Ekders!AY90","v":0},{"$f":"Ekders!BA90","v":0},0,{"$f":"ROUND(O17/100*Ekders!BE85,2)","v":0},0,0,0,0]
[{"$f":"Ekders!B91","v":0},{"$f":"Ekders!B92","v":0},{"$f":"Ekders!AY91","v":0},{"$f":"Ekders!BA91","v":0},{"$f":"Ekders!AY92","v":0},{"$f":"Ekders!BA92","v":0},{"$f":"Ekders!AY93","v":0},{"$f":"Ekders!BA93","v":0},{"$f":"Ekders!AY94","v":0},{"$f":"Ekders!BA94","v":0},{"$f":"Ekders!AY95","v":0},{"$f":"Ekders!BA95","v":0},{"$f":"Ekders!AY96","v":0},{"$f":"Ekders!BA96","v":0},0,{"$f":"ROUND(O18/100*Ekders!BE91,2)","v":0},0,0,0,0]
[{"$f":"Ekders!B97","v":0},{"$f":"Ekders!B98","v":0},{"$f":"Ekders!AY97","v":0},{"$f":"Ekders!BA97","v":0},{"$f":"Ekders!AY98","v":0},{"$f":"Ekders!BA98","v":0},{"$f":"Ekders!AY99","v":0},{"$f":"Ekders!BA99","v":0},{"$f":"Ekders!AY100","v":0},{"$f":"Ekders!BA100","v":0},{"$f":"Ekders!AY101","v":0},{"$f":"Ekders!BA101","v":0},{"$f":"Ekders!AY102","v":0},{"$f":"Ekders!BA102","v":0},0,{"$f":"ROUND(O19/100*Ekders!BE97,2)","v":0},0,0,0,0]
[{"$f":"Ekders!B103","v":0},{"$f":"Ekders!B104","v":0},{"$f":"Ekders!AY103","v":0},{"$f":"Ekders!BA103","v":0},{"$f":"Ekders!AY104","v":0},{"$f":"Ekders!BA104","v":0},{"$f":"Ekders!AY105","v":0},{"$f":"Ekders!BA105","v":0},{"$f":"Ekders!AY106","v":0},{"$f":"Ekders!BA106","v":0},{"$f":"Ekders!AY107","v":0},{"$f":"Ekders!BA107","v":0},{"$f":"Ekders!AY108","v":0},{"$f":"Ekders!BA108","v":0},0,{"$f":"ROUND(O20/100*Ekders!BE103,2)","v":0},0,0,0,0]
[{"$f":"Ekders!B109","v":0},{"$f":"Ekders!B110","v":0},{"$f":"Ekders!AY109","v":0},{"$f":"Ekders!BA109","v":0},{"$f":"Ekders!AY110","v":0},{"$f":"Ekders!BA110","v":0},{"$f":"Ekders!AY111","v":0},{"$f":"Ekders!BA111","v":0},{"$f":"Ekders!AY112","v":0},{"$f":"Ekders!BA112","v":0},{"$f":"Ekders!AY113","v":0},{"$f":"Ekders!BA113","v":0},{"$f":"Ekders!AY114","v":0},{"$f":"Ekders!BA114","v":0},0,{"$f":"ROUND(O21/100*Ekders!BE109,2)","v":0},0,0,0,0]
[{"$f":"Ekders!B115","v":0},{"$f":"Ekders!B116","v":0},{"$f":"Ekders!AY115","v":0},{"$f":"Ekders!BA115","v":0},{"$f":"Ekders!AY116","v":0},{"$f":"Ekders!BA116","v":0},{"$f":"Ekders!AY117","v":0},{"$f":"Ekders!BA117","v":0},{"$f":"Ekders!AY118","v":0},{"$f":"Ekders!BA118","v":0},{"$f":"Ekders!AY119","v":0},{"$f":"Ekders!BA119","v":0},{"$f":"Ekders!AY120","v":0},{"$f":"Ekders!BA120","v":0},0,{"$f":"ROUND(O22/100*Ekders!BE115,2)","v":0},0,0,0,0]
[{"$f":"Ekders!B121","v":0},{"$f":"Ekders!B122","v":0},{"$f":"Ekders!AY121","v":0},{"$f":"Ekders!BA121","v":0},{"$f":"Ekders!AY122","v":0},{"$f":"Ekders!BA122","v":0},{"$f":"Ekders!AY123","v":0},{"$f":"Ekders!BA123","v":0},{"$f":"Ekders!AY124","v":0},{"$f":"Ekders!BA124","v":0},{"$f":"Ekders!AY125","v":0},{"$f":"Ekders!BA125","v":0},{"$f":"Ekders!AY126","v":0},{"$f":"Ekders!BA126","v":0},0,{"$f":"ROUND(O23/100*Ekders!BE121,2)","v":0},0,0,0,0]
[{"$f":"Ekders!B127","v":0},{"$f":"Ekders!B128","v":0},{"$f":"Ekders!AY127","v":0},{"$f":"Ekders!BA127","v":0},{"$f":"Ekders!AY128","v":0},{"$f":"Ekders!BA128","v":0},{"$f":"Ekders!AY129","v":0},{"$f":"Ekders!BA129","v":0},{"$f":"Ekders!AY130","v":0},{"$f":"Ekders!BA130","v":0},{"$f":"Ekders!AY131","v":0},{"$f":"Ekders!BA131","v":0},{"$f":"Ekders!AY132","v":0},{"$f":"Ekders!BA132","v":0},0,{"$f":"ROUND(O24/100*Ekders!BE127,2)","v":0},0,0,0,0]
[{"$f":"Ekders!B133","v":0},{"$f":"Ekders!B134","v":0},{"$f":"Ekders!AY133","v":0},{"$f":"Ekders!BA133","v":0},{"$f":"Ekders!AY134","v":0},{"$f":"Ekders!BA134","v":0},{"$f":"Ekders!AY135","v":0},{"$f":"Ekders!BA135","v":0},{"$f":"Ekders!AY136","v":0},{"$f":"Ekders!BA136","v":0},{"$f":"Ekders!AY137","v":0},{"$f":"Ekders!BA137","v":0},{"$f":"Ekders!AY138","v":0},{"$f":"Ekders!BA138","v":0},0,{"$f":"ROUND(O25/100*Ekders!BE133,2)","v":0},0,0,0,0]
[{"$f":"Ekders!B139","v":0},{"$f":"Ekders!B140","v":0},{"$f":"Ekders!AY139","v":0},{"$f":"Ekders!BA139","v":0},{"$f":"Ekders!AY140","v":0},{"$f":"Ekders!BA140","v":0},{"$f":"Ekders!AY141","v":0},{"$f":"Ekders!BA141","v":0},{"$f":"Ekders!AY142","v":0},{"$f":"Ekders!BA142","v":0},{"$f":"Ekders!AY143","v":0},{"$f":"Ekders!BA143","v":0},{"$f":"Ekders!AY144","v":0},{"$f":"Ekders!BA144","v":0},0,{"$f":"ROUND(O26/100*Ekders!BE139,2)","v":0},0,0,0,0]
[{"$f":"Ekders!B145","v":0},{"$f":"Ekders!B146","v":0},{"$f":"Ekders!AY145","v":0},{"$f":"Ekders!BA145","v":0},{"$f":"Ekders!AY146","v":0},{"$f":"Ekders!BA146","v":0},{"$f":"Ekders!AY147","v":0},{"$f":"Ekders!BA147","v":0},{"$f":"Ekders!AY148","v":0},{"$f":"Ekders!BA148","v":0},{"$f":"Ekders!AY149","v":0},{"$f":"Ekders!BA149","v":0},{"$f":"Ekders!AY150","v":0},{"$f":"Ekders!BA150","v":0},0,{"$f":"ROUND(O27/100*Ekders!BE145,2)","v":0},0,0,0,0]
[{"$f":"Ekders!B151","v":0},{"$f":"Ekders!B152","v":0},{"$f":"Ekders!AY151","v":0},{"$f":"Ekders!BA151","v":0},{"$f":"Ekders!AY152","v":0},{"$f":"Ekders!BA152","v":0},{"$f":"Ekders!AY153","v":0},{"$f":"Ekders!BA153","v":0},{"$f":"Ekders!AY154","v":0},{"$f":"Ekders!BA154","v":0},{"$f":"Ekders!AY155","v":0},{"$f":"Ekders!BA155","v":0},{"$f":"Ekders!AY156","v":0},{"$f":"Ekders!BA156","v":0},0,{"$f":"ROUND(O28/100*Ekders!BE151,2)","v":0},0,0,0,0]
[{"$f":"Ekders!B157","v":0},{"$f":"Ekders!B158","v":0},{"$f":"Ekders!AY157","v":0},{"$f":"Ekders!BA157","v":0},{"$f":"Ekders!AY158","v":0},{"$f":"Ekders!BA158","v":0},{"$f":"Ekders!AY159","v":0},{"$f":"Ekders!BA159","v":0},{"$f":"Ekders!AY160","v":0},{"$f":"Ekders!BA160","v":0},{"$f":"Ekders!AY161","v":0},{"$f":"Ekders!BA161","v":0},{"$f":"Ekders!AY162","v":0},{"$f":"Ekders!BA162","v":0},0,{"$f":"ROUND(O29/100*Ekders!BE157,2)","v":0},0,0,0,0]
["BORDRO TOPLAMLARI",null,{"$f":"SUM(C5:C29)","v":0},0,0,0,0,0,0,0,0,0,0,0,{"$f":"SUM(O5:O29)","v":0},0,0,0,0,1]
[{"$f":"\"Müdürlüğümüz personellerine \"&S3&\"/\"&S2&\" döneminde \"&TEXT(O30,\"#.##0,00\")&\" TL. ek ders tahakkuk ettirilmiştir.\"&\" \"&TEXT(U3,\"gg/aa/yyyy\")","v":"Müdürlüğümüz personellerine Mayıs/2025 döneminde 0,00 TL. ek ders tahakkuk ettirilmiştir. 01/06/2025"},null,null,null,null,null,null,null,null,null,null,null,null,null,null,null,null,null,null,1]
[null,null,null,null,null,null,null,null,null,null,null,null,null,null,null,null,null,null,null,1]
["Düzenleyen",null,"Onaylayan",null,null,null,null,null,null,null,null,null,null,null,null,null,null,null,null,1]
[null,null,null,null,null,null,null,null,null,null,null,null,null,null,null,null,null,null,null,1]
[{"$f":"Ekders!AG5","v":0},null,{"$f":"Ekders!AG6","v":0},null,null,null,null,null,null,null,null,null,null,null,null,null,null,null,null,1]
[{"$f":"Ekders!AL5","v":0},null,{"$f":"Ekders!AL6","v":0},null,null,null,null,null,null,null,null,null,null,null,null,null,null,null,null,1]

{"sheet":"Banka","index":3,"n_rows":35,"n_cols":8,"rows_kept":35,"cut":false,"hidden":true,"merged":[[33,0,33,1],[33,2,33,3],[34,0,34,1],[34,2,34,3],[28,2,28,3],[28,4,28,5],[29,0,29,5],[31,0,31,1],[31,2,31,3],[32,0,32,1],[32,2,32,3],[25,2,25,3],[25,4,25,5],[26,2,26,3],[26,4,26,5],[27,2,27,3],[27,4,27,5],[23,2,23,3],[23,4,23,5],[24,2,24,3],[24,4,24,5],[21,2,21,3],[22,2,22,3],[21,4,21,5],[22,4,22,5],[15,2,15,3],[15,4,15,5],[16,2,16,3],[16,4,16,5],[17,2,17,3],[17,4,17,5],[12,2,12,3],[12,4,12,5],[13,2,13,3],[13,4,13,5],[14,2,14,3],[14,4,14,5],[9,2,9,3],[9,4,9,5],[10,2,10,3],[10,4,10,5],[11,2,11,3],[11,4,11,5],[0,0,0,6],[2,0,2,1],[2,2,2,6],[3,2,3,3],[3,4,3,5],[4,2,4,3],[4,4,4,5],[18,2,18,3],[19,2,19,3],[20,2,20,3],[18,4,18,5],[19,4,19,5],[20,4,20,5],[5,2,5,3],[5,4,5,5],[6,2,6,3],[6,4,6,5],[7,2,7,3],[7,4,7,5],[8,2,8,3],[8,4,8,5]]}
["BANKA ÖDEME NÜSHASI"]
[]
["Birim Adı",null,{"$f":"Ekders!AG3","v":0}]
["S. No","Kimlik No","Adı Soyadı",null,"IBAN No",null,"Tutar",1]
[{"$f":"IF(H5=1,1,0)","v":0},{"$f":"Bordro!A5","v":0},{"$f":"Bordro!B5","v":0},null,{"$f":"Ekders!B16","v":0},null,{"$f":"Bordro!S5","v":0},{"$f":"IF(G5=0,0,1)","v":0}]
[{"$f":"IF(H6=1,A5+1,A5)","v":0},{"$f":"Bordro!A6","v":0},{"$f":"Bordro!B6","v":0},null,{"$f":"Ekders!B22","v":0},null,{"$f":"Bordro!S6","v":0},{"$f":"IF(G6=0,0,1)","v":0}]
[{"$f":"IF(H7=1,A6+1,A6)","v":0},{"$f":"Bordro!A7","v":0},{"$f":"Bordro!B7","v":0},null,{"$f":"Ekders!B28","v":0},null,{"$f":"Bordro!S7","v":0},0]
[0,{"$f":"Bordro!A8","v":0},{"$f":"Bordro!B8","v":0},null,{"$f":"Ekders!B34","v":0},null,{"$f":"Bordro!S8","v":0},0]
[0,{"$f":"Bordro!A9","v":0},{"$f":"Bordro!B9","v":0},null,{"$f":"Ekders!B40","v":0},null,{"$f":"Bordro!S9","v":0},0]
[0,{"$f":"Bordro!A10","v":0},{"$f":"Bordro!B10","v":0},null,{"$f":"Ekders!B46","v":0},null,{"$f":"Bordro!S10","v":0},0]
[0,{"$f":"Bordro!A11","v":0},{"$f":"Bordro!B11","v":0},null,{"$f":"Ekders!B52","v":0},null,{"$f":"Bordro!S11","v":0},0]
[0,{"$f":"Bordro!A12","v":0},{"$f":"Bordro!B12","v":0},null,{"$f":"Ekders!B58","v":0},null,{"$f":"Bordro!S12","v":0},0]
[0,{"$f":"Bordro!A13","v":0},{"$f":"Bordro!B13","v":0},null,{"$f":"Ekders!B64","v":0},null,{"$f":"Bordro!S13","v":0},0]
[0,{"$f":"Bordro!A14","v":0},{"$f":"Bordro!B14","v":0},null,{"$f":"Ekders!B70","v":0},null,{"$f":"Bordro!S14","v":0},0]
[0,{"$f":"Bordro!A15","v":0},{"$f":"Bordro!B15","v":0},null,{"$f":"Ekders!B76","v":0},null,{"$f":"Bordro!S15","v":0},0]
[0,{"$f":"Bordro!A16","v":0},{"$f":"Bordro!B16","v":0},null,{"$f":"Ekders!B82","v":0},null,{"$f":"Bordro!S16","v":0},0]
[0,{"$f":"Bordro!A17","v":0},{"$f":"Bordro!B17","v":0},null,{"$f":"Ekders!B88","v":0},null,{"$f":"Bordro!S17","v":0},0]
[0,{"$f":"Bordro!A18","v":0},{"$f":"Bordro!B18","v":0},null,{"$f":"Ekders!B94","v":0},null,{"$f":"Bordro!S18","v":0},0]
[0,{"$f":"Bordro!A19","v":0},{"$f":"Bordro!B19","v":0},null,{"$f":"Ekders!B100","v":0},null,{"$f":"Bordro!S19","v":0},0]
[0,{"$f":"Bordro!A20","v":0},{"$f":"Bordro!B20","v":0},null,{"$f":"Ekders!B106","v":0},null,{"$f":"Bordro!S20","v":0},0]
[0,{"$f":"Bordro!A21","v":0},{"$f":"Bordro!B21","v":0},null,{"$f":"Ekders!B112","v":0},null,{"$f":"Bordro!S21","v":0},0]
[0,{"$f":"Bordro!A22","v":0},{"$f":"Bordro!B22","v":0},null,{"$f":"Ekders!B118","v":0},null,{"$f":"Bordro!S22","v":0},0]
[0,{"$f":"Bordro!A23","v":0},{"$f":"Bordro!B23","v":0},null,{"$f":"Ekders!B124","v":0},null,{"$f":"Bordro!S23","v":0},0]
[0,{"$f":"Bordro!A24","v":0},{"$f":"Bordro!B24","v":0},null,{"$f":"Ekders!B130","v":0},null,{"$f":"Bordro!S24","v":0},0]
[0,{"$f":"Bordro!A25","v":0},{"$f":"Bordro!B25","v":0},null,{"$f":"Ekders!B136","v":0},null,{"$f":"Bordro!S25","v":0},0]
[0,{"$f":"Bordro!A26","v":0},{"$f":"Bordro!B26","v":0},null,{"$f":"Ekders!B142","v":0},null,{"$f":"Bordro!S26","v":0},0]
[0,{"$f":"Bordro!A27","v":0},{"$f":"Bordro!B27","v":0},null,{"$f":"Ekders!B148","v":0},null,{"$f":"Bordro!S27","v":0},0]
[0,{"$f":"Bordro!A28","v":0},{"$f":"Bordro!B28","v":0},null,{"$f":"Ekders!B154","v":0},null,{"$f":"Bordro!S28","v":0},0]
[0,{"$f":"Bordro!A29","v":0},{"$f":"Bordro!B29","v":0},null,{"$f":"Ekders!B160","v":0},null,{"$f":"Bordro!S29","v":0},0]
["TOPLAM",null,null,null,null,null,{"$f":"SUM(G5:G29)","v":0},1]
[null,null,null,null,null,null,null,1]
["Düzenleyen",null,"Onaylayan",null,null,null,null,1]
[null,null,null,null,null,null,null,1]
[{"$f":"Ekders!AG5","v":0},null,{"$f":"Ekders!AG6","v":0},null,null,null,null,1]
[{"$f":"Ekders!AL5","v":0},null,{"$f":"Ekders!AL6","v":0},null,null,null,null,1]