{"text_format":"1","workbook":"xlsx","n_sheets":2,"sheets":["Maaş","yaz"],"not_rendered":{"charts":0,"images":5,"macros":1,"external_links":0,"defined_names":2,"comments":0,"pivot_tables":0},"unopened":[],"bounds":{"document_bytes":16777216,"sheet_cells":100000,"rows_first":2000,"rows_last":500,"rows_between":2000,"halvings":0,"cell_chars":16384,"cell_head_chars":4096},"cells_cut":0,"cells_raw":0,"read":"whole","date_system":"1900"}

{"sheet":"Maaş","index":0,"n_rows":207,"n_cols":37,"rows_kept":207,"cut":false,"hidden":false,"merged":[[128,35,128,38],[128,1,128,4],[128,5,128,13],[132,35,132,38],[132,1,132,4],[132,5,132,13],[131,1,131,4],[131,5,131,13],[131,35,131,38],[133,1,133,4],[133,5,133,13],[129,35,129,38],[137,35,137,38],[133,35,133,38],[134,35,134,38],[137,1,137,4],[137,5,137,13],[136,35,136,38],[136,1,136,4],[136,5,136,13],[135,1,135,4],[135,5,135,13],[135,35,135,38],[134,1,134,4],[134,5,134,13],[130,35,130,38],[136,24,136,34],[137,24,137,34],[130,14,130,23],[131,14,131,23],[132,14,132,23],[133,14,133,23],[121,1,121,4],[121,5,121,13],[120,35,120,38],[120,1,120,4],[120,5,120,13],[123,1,123,4],[123,5,123,13],[123,35,123,38],[122,1,122,4],[122,5,122,13],[121,35,121,38],[122,35,122,38],[125,14,125,23],[125,1,125,4],[125,5,125,13],[124,35,124,38],[124,1,124,4],[124,5,124,13],[127,1,127,4],[127,5,127,13],[127,35,127,38],[126,1,126,4],[126,5,126,13],[126,14,126,23],[127,14,127,23],[130,1,130,4],[130,5,130,13],[129,1,129,4],[129,5,129,13],[115,1,115,4],[115,5,115,13],[115,35,115,38],[114,1,114,4],[114,5,114,13],[113,35,113,38],[114,35,114,38],[117,1,117,4],[117,5,117,13],[116,35,116,38],[116,1,116,4],[116,5,116,13],[119,1,119,4],[119,5,119,13],[119,35,119,38],[118,1,118,4],[118,5,118,13],[117,35,117,38],[118,35,118,38],[125,35,125,38],[126,35,126,38],[108,35,108,38],[106,1,107,4],[106,5,107,13],[108,1,108,4],[108,5,108,13],[111,1,111,4],[111,5,111,13],[110,1,110,4],[110,5,110,13],[109,1,109,4],[109,5,109,13],[106,35,107,38],[109,35,109,38],[110,35,110,38],[111,35,111,38],[113,1,113,4],[113,5,113,13],[112,35,112,38],[112,1,112,4],[112,5,112,13],[101,34,101,38],[102,21,102,22],[102,23,102,24],[102,25,102,26],[102,27,102,28],[102,29,102,33],[102,34,102,38],[101,21,101,22],[101,23,101,24],[101,25,101,26],[101,27,101,28],[101,29,101,33],[103,34,103,38],[104,21,104,22],[104,23,104,24],[104,25,104,26],[104,27,104,28],[104,29,104,33],[104,34,104,38],[103,21,103,22],[103,23,103,24],[103,25,103,26],[103,27,103,28],[103,29,103,33],[97,34,97,38],[98,21,98,22],[98,23,98,24],[98,25,98,26],[98,27,98,28],[98,29,98,33],[98,34,98,38],[97,21,97,22],[97,23,97,24],[97,25,97,26],[97,27,97,28],[97,29,97,33],[99,34,99,38],[100,21,100,22],[100,23,100,24],[100,25,100,26],[100,27,100,28],[100,29,100,33],[100,34,100,38],[99,21,99,22],[99,23,99,24],[99,25,99,26],[99,27,99,28],[99,29,99,33],[93,34,93,38],[94,21,94,22],[94,23,94,24],[94,25,94,26],[94,27,94,28],[94,29,94,33],[94,34,94,38],[93,21,93,22],[93,23,93,24],[93,25,93,26],[93,27,93,28],[93,29,93,33],[95,34,95,38],[96,21,96,22],[96,23,96,24],[96,25,96,26],[96,27,96,28],[96,29,96,33],[96,34,96,38],[95,21,95,22],[95,23,95,24],[95,25,95,26],[95,27,95,28],[95,29,95,33],[89,34,89,38],[90,21,90,22],[90,23,90,24],[90,25,90,26],[90,27,90,28],[90,29,90,33],[90,34,90,38],[89,21,89,22],[89,23,89,24],[89,25,89,26],[89,27,89,28],[89,29,89,33],[91,34,91,38],[92,21,92,22],[92,23,92,24],[92,25,92,26],[92,27,92,28],[92,29,92,33],[92,34,92,38],[91,21,91,22],[91,23,91,24],[91,25,91,26],[91,27,91,28],[91,29,91,33],[85,34,85,38],[86,21,86,22],[86,23,86,24],[86,25,86,26],[86,27,86,28],[86,29,86,33],[86,34,86,38],[85,21,85,22],[85,23,85,24],[85,25,85,26],[85,27,85,28],[85,29,85,33],[87,34,87,38],[88,21,88,22],[88,23,88,24],[88,25,88,26],[88,27,88,28],[88,29,88,33],[88,34,88,38],[87,21,87,22],[87,23,87,24],[87,25,87,26],[87,27,87,28],[87,29,87,33],[81,34,81,38],[82,21,82,22],[82,23,82,24],[82,25,82,26],[82,27,82,28],[82,29,82,33],[82,34,82,38],[81,21,81,22],[81,23,81,24],[81,25,81,26],[81,27,81,28],[81,29,81,33],[83,34,83,38],[84,21,84,22],[84,23,84,24],[84,25,84,26],[84,27,84,28],[84,29,84,33],[84,34,84,38],[83,21,83,22],[83,23,83,24],[83,25,83,26],[83,27,83,28],[83,29,83,33],[78,21,78,22],[78,23,78,24],[78,25,78,26],[78,27,78,28],[78,29,78,33],[78,34,78,38],[77,21,77,22],[77,23,77,24],[77,25,77,26],[77,27,77,28],[77,29,77,33],[79,34,79,38],[80,21,80,22],[80,23,80,24],[80,25,80,26],[80,27,80,28],[80,29,80,33],[80,34,80,38],[79,21,79,22],[79,23,79,24],[79,25,79,26],[79,27,79,28],[79,29,79,33],[104,1,104,4],[104,5,104,13],[104,14,104,20],[103,1,103,4],[103,5,103,13],[103,14,103,20],[102,1,102,4],[102,5,102,13],[102,14,102,20],[74,23,74,24],[74,21,74,22],[74,25,74,26],[74,27,74,28],[73,29,74,33],[87,1,87,4],[87,5,87,13],[87,14,87,20],[73,1,74,4],[73,5,74,13],[73,14,74,20],[85,1,85,4],[85,5,85,13],[85,14,85,20],[84,1,84,4],[84,5,84,13],[84,14,84,20],[83,1,83,4],[83,5,83,13],[83,14,83,20],[82,1,82,4],[82,5,82,13],[82,14,82,20],[98,1,98,4],[98,5,98,13],[98,14,98,20],[97,1,97,4],[97,5,97,13],[97,14,97,20],[96,1,96,4],[96,5,96,13],[96,14,96,20],[101,1,101,4],[101,5,101,13],[101,14,101,20],[100,1,100,4],[100,5,100,13],[100,14,100,20],[99,1,99,4],[99,5,99,13],[99,14,99,20],[92,1,92,4],[92,5,92,13],[92,14,92,20],[91,1,91,4],[91,5,91,13],[91,14,91,20],[90,1,90,4],[90,5,90,13],[90,14,90,20],[95,1,95,4],[95,5,95,13],[95,14,95,20],[94,1,94,4],[94,5,94,13],[94,14,94,20],[93,1,93,4],[93,5,93,13],[93,14,93,20],[81,5,81,13],[81,14,81,20],[80,1,80,4],[80,5,80,13],[80,14,80,20],[79,1,79,4],[79,5,79,13],[79,14,79,20],[78,1,78,4],[78,5,78,13],[78,14,78,20],[89,1,89,4],[89,5,89,13],[89,14,89,20],[88,1,88,4],[88,5,88,13],[88,14,88,20],[86,1,86,4],[86,5,86,13],[86,14,86,20],[81,1,81,4],[73,21,73,24],[73,25,73,28],[73,34,74,38],[71,1,71,4],[71,5,71,13],[71,14,71,20],[71,21,71,24],[71,25,71,38],[75,1,75,4],[75,5,75,13],[75,14,75,20],[76,1,76,4],[76,5,76,13],[76,14,76,20],[77,1,77,4],[77,5,77,13],[77,14,77,20],[75,34,75,38],[76,21,76,22],[76,23,76,24],[76,25,76,26],[76,27,76,28],[76,29,76,33],[76,34,76,38],[75,21,75,22],[75,23,75,24],[75,25,75,26],[75,27,75,28],[75,29,75,33],[77,34,77,38],[68,1,68,4],[68,5,68,13],[68,14,68,20],[68,21,68,24],[68,25,68,38],[67,1,67,4],[67,5,67,13],[67,14,67,20],[67,21,67,24],[67,25,67,38],[70,1,70,4],[70,5,70,13],[70,14,70,20],[70,21,70,24],[70,25,70,38],[69,1,69,4],[69,5,69,13],[69,14,69,20],[69,21,69,24],[69,25,69,38],[64,1,64,4],[64,5,64,13],[64,14,64,20],[64,21,64,24],[64,25,64,38],[63,1,63,4],[63,5,63,13],[63,14,63,20],[63,21,63,24],[63,25,63,38],[66,1,66,4],[66,5,66,13],[66,14,66,20],[66,21,66,24],[66,25,66,38],[65,1,65,4],[65,5,65,13],[65,14,65,20],[65,21,65,24],[65,25,65,38],[60,1,60,4],[60,5,60,13],[60,14,60,20],[60,21,60,24],[60,25,60,38],[59,1,59,4],[59,5,59,13],[59,14,59,20],[59,21,59,24],[59,25,59,38],[62,1,62,4],[62,5,62,13],[62,14,62,20],[62,21,62,24],[62,25,62,38],[61,1,61,4],[61,5,61,13],[61,14,61,20],[61,21,61,24],[61,25,61,38],[56,1,56,4],[56,5,56,13],[56,14,56,20],[56,21,56,24],[56,25,56,38],[55,1,55,4],[55,5,55,13],[55,14,55,20],[55,21,55,24],[55,25,55,38],[58,1,58,4],[58,5,58,13],[58,14,58,20],[58,21,58,24],[58,25,58,38],[57,1,57,4],[57,5,57,13],[57,14,57,20],[57,21,57,24],[57,25,57,38],[53,14,53,20],[53,21,53,24],[53,25,53,38],[54,1,54,4],[54,5,54,13],[54,14,54,20],[54,21,54,24],[54,25,54,38],[51,1,51,4],[51,5,51,13],[51,14,51,20],[51,21,51,24],[51,25,51,38],[52,1,52,4],[52,5,52,13],[52,14,52,20],[52,21,52,24],[52,25,52,38],[53,1,53,4],[53,5,53,13],[24,25,24,38],[25,25,25,38],[36,25,36,38],[37,25,37,38],[38,25,38,38],[39,25,39,38],[31,25,31,38],[32,25,32,38],[33,25,33,38],[34,25,34,38],[35,25,35,38],[46,25,46,38],[47,25,47,38],[48,25,48,38],[49,25,49,38],[50,25,50,38],[41,25,41,38],[42,25,42,38],[43,25,43,38],[44,25,44,38],[45,25,45,38],[16,25,16,38],[17,25,17,38],[18,25,18,38],[19,25,19,38],[20,25,20,38],[50,1,50,4],[50,5,50,13],[50,14,50,20],[50,21,50,24],[49,1,49,4],[49,5,49,13],[49,14,49,20],[49,21,49,24],[48,1,48,4],[48,5,48,13],[48,14,48,20],[48,21,48,24],[47,1,47,4],[47,5,47,13],[47,14,47,20],[47,21,47,24],[46,1,46,4],[46,5,46,13],[46,14,46,20],[26,25,26,38],[27,25,27,38],[28,25,28,38],[29,25,29,38],[30,25,30,38],[21,25,21,38],[22,25,22,38],[23,25,23,38],[43,1,43,4],[43,5,43,13],[43,14,43,20],[43,21,43,24],[42,1,42,4],[42,5,42,13],[42,14,42,20],[42,21,42,24],[41,1,41,4],[41,5,41,13],[41,14,41,20],[41,21,41,24],[46,21,46,24],[45,1,45,4],[45,5,45,13],[45,14,45,20],[45,21,45,24],[44,1,44,4],[44,5,44,13],[44,14,44,20],[44,21,44,24],[36,1,36,4],[36,5,36,13],[36,14,36,20],[36,21,36,24],[35,1,35,4],[35,5,35,13],[35,14,35,20],[35,21,35,24],[34,1,34,4],[34,5,34,13],[34,14,34,20],[34,21,34,24],[39,1,39,4],[39,5,39,13],[39,14,39,20],[39,21,39,24],[38,1,38,4],[38,5,38,13],[38,14,38,20],[38,21,38,24],[37,1,37,4],[37,5,37,13],[37,14,37,20],[37,21,37,24],[30,1,30,4],[30,5,30,13],[30,14,30,20],[30,21,30,24],[29,1,29,4],[29,5,29,13],[29,14,29,20],[29,21,29,24],[28,1,28,4],[28,5,28,13],[28,14,28,20],[28,21,28,24],[33,1,33,4],[33,5,33,13],[33,14,33,20],[33,21,33,24],[32,1,32,4],[32,5,32,13],[32,14,32,20],[32,21,32,24],[31,1,31,4],[31,5,31,13],[31,14,31,20],[31,21,31,24],[24,1,24,4],[24,5,24,13],[24,14,24,20],[24,21,24,24],[23,1,23,4],[23,5,23,13],[23,14,23,20],[23,21,23,24],[22,1,22,4],[22,5,22,13],[22,14,22,20],[22,21,22,24],[27,1,27,4],[27,5,27,13],[27,14,27,20],[27,21,27,24],[26,1,26,4],[26,5,26,13],[26,14,26,20],[26,21,26,24],[25,1,25,4],[25,5,25,13],[25,14,25,20],[25,21,25,24],[18,1,18,4],[18,5,18,13],[18,14,18,20],[18,21,18,24],[17,1,17,4],[17,5,17,13],[17,14,17,20],[17,21,17,24],[16,1,16,4],[16,5,16,13],[16,14,16,20],[16,21,16,24],[21,1,21,4],[21,5,21,13],[21,14,21,20],[21,21,21,24],[20,1,20,4],[20,5,20,13],[20,14,20,20],[20,21,20,24],[19,1,19,4],[19,5,19,13],[19,14,19,20],[19,21,19,24],[11,25,11,38],[12,25,12,38],[13,25,13,38],[14,25,14,38],[15,25,15,38],[12,1,12,4],[12,5,12,13],[12,14,12,20],[12,21,12,24],[11,1,11,4],[11,5,11,13],[11,14,11,20],[11,21,11,24],[9,5,9,13],[9,14,9,20],[15,1,15,4],[15,5,15,13],[15,14,15,20],[15,21,15,24],[14,1,14,4],[14,5,14,13],[14,14,14,20],[14,21,14,24],[13,1,13,4],[13,5,13,13],[13,14,13,20],[13,21,13,24],[7,25,7,28],[9,21,9,24],[9,25,9,38],[9,1,9,4],[7,22,7,24],[7,20,7,21],[6,11,7,12],[7,13,7,15],[2,1,4,38],[6,20,6,24],[5,25,6,28],[7,4,7,6],[10,1,10,4],[10,5,10,13],[10,14,10,20],[10,21,10,24],[10,25,10,38],[6,16,6,19],[7,16,7,19],[6,1,7,3],[6,7,6,10],[7,7,7,10],[8,1,8,21],[8,22,8,38],[144,1,144,4],[144,5,144,13],[144,35,144,38],[144,14,144,18],[144,19,144,28],[144,29,144,34],[139,1,140,4],[139,5,140,13],[141,1,141,4],[141,5,141,13],[141,35,141,38],[142,1,142,4],[142,5,142,13],[142,35,142,38],[143,1,143,4],[143,5,143,13],[139,14,139,38],[140,14,140,18],[140,35,140,38],[140,29,140,34],[140,19,140,28],[141,14,141,18],[141,19,141,28],[143,35,143,38],[153,1,153,4],[153,5,153,13],[154,1,154,4],[154,5,154,13],[151,1,151,4],[151,5,151,13],[152,1,152,4],[152,5,152,13],[149,1,149,4],[149,5,149,13],[150,1,150,4],[150,5,150,13],[147,1,147,4],[147,5,147,13],[148,1,148,4],[148,5,148,13],[145,1,145,4],[145,5,145,13],[146,1,146,4],[146,5,146,13],[154,19,154,28],[154,29,154,34],[154,35,154,38],[155,14,155,18],[155,19,155,28],[155,29,155,34],[155,35,155,38],[165,1,165,4],[165,5,165,13],[166,1,166,4],[166,5,166,13],[163,1,163,4],[163,5,163,13],[164,1,164,4],[164,5,164,13],[161,1,161,4],[161,5,161,13],[162,1,162,4],[162,5,162,13],[158,5,158,13],[155,1,155,4],[155,5,155,13],[156,1,156,4],[156,5,156,13],[159,1,159,4],[159,5,159,13],[160,1,160,4],[160,5,160,13],[157,1,157,4],[157,5,157,13],[158,1,158,4],[157,35,157,38],[149,35,149,38],[145,14,145,18],[145,19,145,28],[145,29,145,34],[145,35,145,38],[146,14,146,18],[146,19,146,28],[146,29,146,34],[146,35,146,38],[147,14,147,18],[147,19,147,28],[147,29,147,34],[147,35,147,38],[150,14,150,18],[150,19,150,28],[150,29,150,34],[150,35,150,38],[159,14,159,18],[159,19,159,28],[159,29,159,34],[159,35,159,38],[154,14,154,18],[141,29,141,34],[142,14,142,18],[142,19,142,28],[142,29,142,34],[143,14,143,18],[143,19,143,28],[143,29,143,34],[151,14,151,18],[151,19,151,28],[151,29,151,34],[151,35,151,38],[152,14,152,18],[152,19,152,28],[152,29,152,34],[152,35,152,38],[153,14,153,18],[153,19,153,28],[153,29,153,34],[153,35,153,38],[148,14,148,18],[148,19,148,28],[148,29,148,34],[148,35,148,38],[149,14,149,18],[149,19,149,28],[156,14,156,18],[149,29,149,34],[158,35,158,38],[156,19,156,28],[156,29,156,34],[156,35,156,38],[163,14,163,18],[163,19,163,28],[163,29,163,34],[163,35,163,38],[164,14,164,18],[164,19,164,28],[164,29,164,34],[164,35,164,38],[165,14,165,18],[165,19,165,28],[165,29,165,34],[165,35,165,38],[160,14,160,18],[160,19,160,28],[160,29,160,34],[160,35,160,38],[161,14,161,18],[161,19,161,28],[161,29,161,34],[161,35,161,38],[162,14,162,18],[162,19,162,28],[162,29,162,34],[162,35,162,38],[158,29,158,34],[158,19,158,28],[158,14,158,18],[157,29,157,34],[170,35,170,38],[171,1,171,25],[171,26,171,38],[174,36,174,38],[166,14,166,18],[166,19,166,28],[166,29,166,34],[166,35,166,38],[167,14,167,18],[167,19,167,28],[167,29,167,34],[167,35,167,38],[168,14,168,18],[168,19,168,28],[168,29,168,34],[168,35,168,38],[169,1,169,4],[169,5,169,13],[170,1,170,4],[170,5,170,13],[167,1,167,4],[167,5,167,13],[168,1,168,4],[168,5,168,13],[184,1,184,4],[184,5,184,13],[185,1,185,4],[185,5,185,13],[182,1,182,4],[182,5,182,13],[183,1,183,4],[183,5,183,13],[180,1,180,4],[180,5,180,13],[181,1,181,4],[181,5,181,13],[178,1,178,4],[178,5,178,13],[179,1,179,4],[179,5,179,13],[177,1,177,4],[177,5,177,13],[195,5,195,13],[192,1,192,4],[192,5,192,13],[193,1,193,4],[193,5,193,13],[190,1,190,4],[190,5,190,13],[191,1,191,4],[191,5,191,13],[188,1,188,4],[188,5,188,13],[189,1,189,4],[189,5,189,13],[186,1,186,4],[186,5,186,13],[187,1,187,4],[187,5,187,13],[205,1,206,4],[205,5,206,13],[172,14,172,21],[173,14,173,17],[173,18,173,21],[207,1,207,4],[207,5,207,13],[208,1,208,4],[208,5,208,13],[209,1,209,4],[209,5,209,13],[210,1,210,4],[210,5,210,13],[211,1,211,4],[189,18,189,21],[202,14,202,17],[202,18,202,21],[200,1,200,4],[200,5,200,13],[201,1,201,4],[201,5,201,13],[198,1,198,4],[198,5,198,13],[199,1,199,4],[199,5,199,13],[196,1,196,4],[196,5,196,13],[197,1,197,4],[197,5,197,13],[194,1,194,4],[194,5,194,13],[195,1,195,4],[223,1,223,4],[223,5,223,13],[224,1,224,4],[224,5,224,13],[225,1,225,4],[225,5,225,13],[216,1,216,4],[216,5,216,13],[217,1,217,4],[217,5,217,13],[218,1,218,4],[218,5,218,13],[219,1,219,4],[219,5,219,13],[220,1,220,4],[220,5,220,13],[211,5,211,13],[212,1,212,4],[212,5,212,13],[213,1,213,4],[213,5,213,13],[214,1,214,4],[214,5,214,13],[215,1,215,4],[215,5,215,13],[221,1,221,4],[221,5,221,13],[222,1,222,4],[222,5,222,13],[236,1,236,4],[236,5,236,13],[231,1,231,4],[231,5,231,13],[232,1,232,4],[232,5,232,13],[233,1,233,4],[233,5,233,13],[234,1,234,4],[234,5,234,13],[235,1,235,4],[235,5,235,13],[226,1,226,4],[226,5,226,13]],"merged_total":1370,"flags":["merged_cut"]}
[]
[]
[null,"MAAŞ DEĞİŞİKLİK BİLDİRİM FORMU"]
[]
[]
[null,"Okul/Kurum Adı",null,null,null,null,null,null,null,null,null,null,null,null,null,null,null,null,null,null,null,null,null,null,null,"Maaş Değişikliği\nBölümü Seç"]
[null,"Hazırlayan",null,null,"Adı Soyadı",null,null,null,null,null,null,"Okul\nMüdürü",null,"Adı Soyadı",null,null,null,null,null,null,"Ait Old. Yıl/Ay"]
[null,null,null,null,"Unvanı",null,null,null,null,null,null,null,null,"Unvanı",null,null,null,null,null,null,null,null,null,null,null,"Sendika Bilgileri"]
[null,"A) GÖREVE BAŞLAYAN PERSONELİN\n(Bu ay ilk defa maaş bordrosuna girecek yeni gelen veya aylıksız izinden dönen personel)",null,null,null,null,null,null,null,null,null,null,null,null,null,null,null,null,null,null,null,null,"Göreve Başlama Nedeni \n(Kararname, Maaş Nakil, Göreve Başlama yazısı, Askerlik terhis)\n(İliçi Nakil-İldışı Nakil-Ücretsiz İzin dönüşü-Açığa Alınma sonrası göreve başlama)"]
[null,"Kimlik No",null,null,null,"Adı Soyadı    ",null,null,null,null,null,null,null,null,"Unvanı",null,null,null,null,null,null,"Göreve\nBaşladığı Tarih            ",null,null,null,"Göreve\nBaşlama Nedeni"]
[]
[]
[]
[]
[]
[]
[]
[]
[]
[]
[]
[]
[]
[]
[]
[]
[]
[]
[]
[]
[]
[]
[]
[]
[]
[]
[]
[]
[]
[]
[null,"B) GÖREVDEN AYRILAN PERSONELİN\n(Geçen ay bordroda olup bu ay maaş bordrosuna girmeyecek ayrılan veya aylıksız izinli personel)",null,null,null,null,null,null,null,null,null,null,null,null,null,null,null,null,null,null,null,null,null,"Ayrılma Nedeni\n(Kararname, Ayrılma yazısı, Maaş nakil, Askere Çağrı, aylıksız İzin Onayı vb.)\n(İliçi Nakil-İldışı Nakil-Ücretsiz İzin-Emekli-Açığa Alınma)"]
[null,"Kimlik No",null,null,null,"Adı Soyadı    ",null,null,null,null,null,null,null,null,"Unvanı",null,null,null,null,null,null,"Görevden\nAyrıldığı Tarih           ",null,null,null,"Görevden\nAyrılma Nedeni"]
[]
[]
[]
[]
[]
[]
[]
[]
[]
[]
[]
[]
[]
[]
[]
[]
[]
[]
[]
[]
[]
[]
[]
[]
[]
[]
[]
[]
[]
[]
[null,"C)  TERFİ EDECEK PERSONELİN\n(Bu ay içinde İntibak, Derece ve Kademe Terfi işlemi yapılacak personel) ",null,null,null,null,null,null,null,null,null,null,null,null,null,null,null,null,null,null,null,null,null,null,null,"Terfi Bilgileri\n(Derece/Kademe Terfi Onayı ve Listesi)"]
[null,"Kimlik No",null,null,null,"Adı Soyadı    ",null,null,null,null,null,null,null,null,"Unvanı",null,null,null,null,null,null,"ESKİ",null,null,null,"YENİ",null,null,null,"Terfi\nTarihi",null,null,null,null,"Ek\nGösterge"]
[null,null,null,null,null,null,null,null,null,null,null,null,null,null,null,null,null,null,null,null,null,"Der",null,"Kad",null,"Der",null,"Kad"]
[]
[]
[]
[]
[]
[]
[]
[]
[]
[]
[]
[]
[]
[]
[]
[]
[]
[]
[]
[]
[]
[]
[]
[]
[]
[]
[]
[]
[]
[]
[null,"D) MAAŞ DEĞİŞİKLİĞİ YAPILACAK PERSONELİN\n(Bu ay içinde Aile/Çocuk Yardımı, Unvan/Kariyer Basamağı/Aylıklar/Sosyal Yardımlar/Tazminatlar vb.)",null,null,null,null,null,null,null,null,null,null,null,null,null,null,null,null,null,null,null,null,null,null,"Maaş Değişikliği\n(Aile/Çocuk Yardımı, Unvan/Kariyer Basamağı/Aylıklar/Sosyal Yardımlar/Tazminatlar vb.)"]
[null,"Kimlik No",null,null,null,"Adı Soyadı    ",null,null,null,null,null,null,null,null,"Maaş Bilgileri Değişikliği",null,null,null,null,null,null,null,null,null,null,null,null,null,null,null,null,null,null,null,null,"Değişiklik\nTarihi"]
[null,null,null,null,null,null,null,null,null,null,null,null,null,null,"Önceki Durumu",null,null,null,null,null,null,null,null,null,"Yeni Durumu"]
[]
[]
[]
[]
[]
[]
[]
[]
[]
[]
[]
[]
[]
[]
[]
[]
[]
[]
[]
[]
[]
[]
[]
[]
[]
[]
[]
[]
[]
[]
[null,"E) KESİNTİLER BİLGİLERİ\n(Bu ay içinde İcra, Nafaka,Ceza, Özel Sigarta kesintisi  gibi diğer yasal kesintiler vb.)",null,null,null,null,null,null,null,null,null,null,null,null,null,null,null,null,null,null,null,"Kesintiler\n(İcra yada mahkeme kararı, özel sigorta kesinti yazısı vb)\n(Özel kesintileri ise aynı ayda olacak,dönemi yazılı olacak) "]
[null,"Kimlik No",null,null,null,"Adı Soyadı    ",null,null,null,null,null,null,null,null,"Kesintinin"]
[null,null,null,null,null,null,null,null,null,null,null,null,null,null,"Çeşidi",null,null,null,null,"İcra/Sigorta Acentesi vb. Adı",null,null,null,null,null,null,null,null,null,"Dosya No",null,null,null,null,null,"Miktarı"]
[]
[]
[]
[]
[]
[]
[]
[]
[]
[]
[]
[]
[]
[]
[]
[]
[]
[]
[]
[]
[]
[]
[]
[]
[]
[]
[]
[]
[]
[]
[null,"F) RAPORLU BİLGİLERİ\n(Bu yıl içinde 7 günü geçen ve daha önce kesintisi yapılmamış olan istirahat raporlu gün sayısı toplamı)",null,null,null,null,null,null,null,null,null,null,null,null,null,null,null,null,null,null,null,null,null,null,null,null,"Rapor Bilgileri\n(Rapor örneği)\n(Yataklı ve heyet raporları hariç)"]
[null,"Kimlik No",null,null,null,"Adı Soyadı    ",null,null,null,null,null,null,null,null,"Maaştan Kesinti Yapılacak Raporun",null,null,null,null,null,null,null,"Raporu Düzenleyen\nSağlık Kurumu",null,null,null,null,null,null,null,null,null,null,null,null,null,"Kesilecek\nGün Sayısı"]
[null,null,null,null,null,null,null,null,null,null,null,null,null,null,"Başlama Tarihi",null,null,null,"Bitiş Tarihi"]
[]
[]
[]
[]
[]
[]
[]
[]
[]
[]
[]
[]
[]
[]
[]
[]
[]
[]
[]
[]
[]
[]
[]
[]
[]
[]
[]
[]
[]
[]
[null,"G) SENDİKA BİLGİLERİ\n(Bu ay içinde Sendikaya Giriş ve Çıkışlar vb.)",null,null,null,null,null,null,null,null,null,null,null,null,null,null,null,null,null,null,null,null,null,null,null,null,"Sendika Bilgileri\n(Sendika Giriş ve Çıkış Formları vb)\n(Ayrılan 30 gün sonra yeni sendikaya girebilir)"]
[null,"Kimlik No",null,null,null,"Adı Soyadı    ",null,null,null,null,null,null,null,null,"Ayrıldığı Sendikanın",null,null,null,null,null,null,null,null,null,null,"Girdiği Sendikanın"]
[null,null,null,null,null,null,null,null,null,null,null,null,null,null,"Adı",null,null,null,null,null,null,"Çıkış Tarihi",null,null,null,"Adı",null,null,null,null,null,null,"Giriş Tarihi",null,null,null,"Üye No"]

{"sheet":"yaz","index":1,"n_rows":249,"n_cols":14,"rows_kept":249,"cut":false,"hidden":true,"merged":[[162,5,162,6],[162,7,162,9],[162,10,162,11],[166,2,166,4],[166,5,166,6],[166,7,166,9],[166,10,166,11],[163,2,163,4],[163,5,163,6],[163,7,163,9],[163,10,163,11],[164,2,164,4],[164,5,164,6],[164,7,164,9],[164,10,164,11],[165,2,165,4],[165,5,165,6],[165,7,165,9],[165,10,165,11],[159,5,159,6],[159,7,159,9],[159,10,159,11],[160,2,160,4],[160,5,160,6],[160,7,160,9],[160,10,160,11],[161,2,161,4],[161,5,161,6],[161,7,161,9],[161,10,161,11],[156,5,156,6],[156,7,156,9],[156,10,156,11],[157,2,157,4],[157,5,157,6],[157,7,157,9],[157,10,157,11],[158,2,158,4],[158,5,158,6],[158,7,158,9],[158,10,158,11],[153,10,153,11],[154,2,154,4],[154,5,154,6],[154,7,154,9],[154,10,154,11],[155,2,155,4],[155,5,155,6],[155,7,155,9],[155,10,155,11],[63,2,63,4],[63,5,63,6],[63,7,63,8],[63,9,63,12],[148,10,148,11],[149,5,149,6],[149,7,149,9],[149,10,149,11],[150,5,150,6],[150,7,150,9],[150,10,150,11],[67,2,67,4],[67,5,67,6],[67,7,67,8],[67,9,67,12],[68,2,68,4],[68,5,68,6],[68,7,68,8],[68,9,68,12],[65,2,65,4],[65,5,65,6],[65,7,65,8],[65,9,65,12],[66,2,66,4],[60,2,60,4],[60,5,60,6],[60,7,60,8],[60,9,60,12],[61,2,61,4],[61,5,61,6],[61,7,61,8],[61,9,61,12],[62,2,62,4],[62,5,62,6],[62,7,62,8],[62,9,62,12],[57,2,57,4],[57,5,57,6],[57,7,57,8],[57,9,57,12],[58,2,58,4],[58,5,58,6],[58,7,58,8],[58,9,58,12],[59,2,59,4],[59,5,59,6],[59,7,59,8],[59,9,59,12],[54,2,54,4],[54,5,54,6],[54,7,54,8],[54,9,54,12],[55,2,55,4],[55,5,55,6],[55,7,55,8],[55,9,55,12],[56,2,56,4],[56,5,56,6],[56,7,56,8],[56,9,56,12],[29,9,29,12],[245,1,245,3],[246,1,246,3],[247,1,247,3],[248,1,248,3],[5,7,5,8],[5,9,5,12],[5,5,6,6],[5,2,6,4],[5,1,6,1],[39,7,39,8],[39,9,39,12],[39,5,40,6],[39,2,40,4],[39,1,40,1],[23,2,23,4],[24,2,24,4],[25,2,25,4],[26,2,26,4],[27,2,27,4],[23,5,23,6],[24,5,24,6],[25,5,25,6],[26,5,26,6],[0,1,0,12],[1,1,1,12],[2,1,2,12],[3,9,3,10],[6,7,6,8],[6,9,6,12],[7,2,7,4],[7,5,7,6],[7,7,7,8],[7,9,7,12],[3,0,3,8],[4,0,4,12],[5,0,6,0],[10,2,10,4],[10,5,10,6],[10,7,10,8],[10,9,10,12],[11,2,11,4],[11,5,11,6],[11,7,11,8],[11,9,11,12],[8,2,8,4],[8,5,8,6],[8,7,8,8],[8,9,8,12],[9,2,9,4],[9,5,9,6],[9,7,9,8],[9,9,9,12],[14,2,14,4],[14,5,14,6],[14,7,14,8],[14,9,14,12],[15,2,15,4],[15,5,15,6],[15,7,15,8],[15,9,15,12],[12,2,12,4],[12,5,12,6],[12,7,12,8],[12,9,12,12],[13,2,13,4],[13,5,13,6],[13,7,13,8],[13,9,13,12],[18,2,18,4],[18,5,18,6],[18,7,18,8],[18,9,18,12],[19,2,19,4],[19,5,19,6],[19,7,19,8],[19,9,19,12],[16,2,16,4],[16,5,16,6],[16,7,16,8],[16,9,16,12],[17,2,17,4],[17,5,17,6],[17,7,17,8],[17,9,17,12],[22,9,22,12],[28,2,28,4],[28,5,28,6],[28,7,28,8],[28,9,28,12],[20,2,20,4],[20,5,20,6],[20,7,20,8],[20,9,20,12],[21,2,21,4],[21,5,21,6],[21,7,21,8],[21,9,21,12],[27,5,27,6],[23,7,23,8],[24,7,24,8],[25,7,25,8],[26,7,26,8],[27,7,27,8],[23,9,23,12],[24,9,24,12],[25,9,25,12],[26,9,26,12],[27,9,27,12],[29,2,29,4],[29,5,29,6],[29,7,29,8],[30,2,30,4],[30,5,30,6],[30,7,30,8],[22,2,22,4],[22,5,22,6],[22,7,22,8],[33,2,33,4],[33,5,33,6],[33,7,33,8],[33,9,33,12],[34,2,34,4],[34,5,34,6],[34,7,34,8],[34,9,34,12],[30,9,30,12],[31,2,31,4],[31,5,31,6],[31,7,31,8],[31,9,31,12],[32,2,32,4],[32,5,32,6],[32,7,32,8],[32,9,32,12],[40,7,40,8],[40,9,40,12],[35,2,35,4],[35,5,35,6],[35,7,35,8],[35,9,35,12],[36,2,36,4],[36,5,36,6],[36,7,36,8],[36,9,36,12],[37,0,37,12],[39,0,40,0],[43,5,43,6],[43,7,43,8],[43,9,43,12],[44,2,44,4],[44,5,44,6],[44,7,44,8],[44,9,44,12],[41,2,41,4],[41,5,41,6],[41,7,41,8],[41,9,41,12],[42,2,42,4],[42,5,42,6],[42,7,42,8],[42,9,42,12],[43,2,43,4],[47,2,47,4],[47,5,47,6],[47,7,47,8],[47,9,47,12],[48,2,48,4],[48,5,48,6],[48,7,48,8],[48,9,48,12],[45,2,45,4],[45,5,45,6],[45,7,45,8],[45,9,45,12],[46,2,46,4],[46,5,46,6],[46,7,46,8],[46,9,46,12],[49,2,49,4],[49,5,49,6],[49,7,49,8],[49,9,49,12],[64,2,64,4],[64,5,64,6],[64,7,64,8],[64,9,64,12],[50,2,50,4],[50,5,50,6],[50,7,50,8],[50,9,50,12],[51,2,51,4],[51,5,51,6],[51,7,51,8],[51,9,51,12],[52,2,52,4],[52,5,52,6],[52,7,52,8],[52,9,52,12],[53,2,53,4],[53,5,53,6],[53,7,53,8],[53,9,53,12],[66,5,66,6],[66,7,66,8],[66,9,66,12],[73,1,74,1],[73,2,74,4],[73,5,74,6],[73,7,73,8],[73,9,73,10],[77,5,77,6],[69,2,69,4],[69,5,69,6],[69,7,69,8],[69,9,69,12],[70,2,70,4],[70,5,70,6],[70,7,70,8],[70,9,70,12],[71,0,71,12],[73,0,74,0],[78,2,78,4],[78,5,78,6],[79,2,79,4],[79,5,79,6],[80,2,80,4],[80,5,80,6],[73,11,74,11],[73,12,74,12],[84,2,84,4],[84,5,84,6],[75,2,75,4],[75,5,75,6],[76,2,76,4],[76,5,76,6],[77,2,77,4],[81,2,81,4],[81,5,81,6],[82,2,82,4],[82,5,82,6],[83,2,83,4],[83,5,83,6],[86,2,86,4],[86,5,86,6],[87,2,87,4],[87,5,87,6],[99,2,99,4],[99,5,99,6],[100,2,100,4],[100,5,100,6],[101,2,101,4],[101,5,101,6],[85,2,85,4],[85,5,85,6],[98,2,98,4],[98,5,98,6],[88,2,88,4],[88,5,88,6],[89,2,89,4],[89,5,89,6],[90,2,90,4],[90,5,90,6],[91,2,91,4],[91,5,91,6],[92,2,92,4],[92,5,92,6],[93,2,93,4],[93,5,93,6],[94,2,94,4],[94,5,94,6],[95,2,95,4],[95,5,95,6],[96,2,96,4],[96,5,96,6],[97,2,97,4],[97,5,97,6],[116,2,116,4],[117,2,117,4],[118,2,118,4],[113,2,113,4],[114,2,114,4],[115,2,115,4],[110,2,110,4],[111,2,111,4],[112,2,112,4],[107,1,108,1],[107,2,108,4],[107,5,107,11],[107,12,108,12],[109,2,109,4],[105,0,105,12],[102,2,102,4],[102,5,102,6],[103,2,103,4],[103,5,103,6],[104,2,104,4],[104,5,104,6],[107,0,108,0],[141,1,142,1],[141,2,142,4],[141,5,141,12],[142,5,142,6],[142,7,142,9],[142,10,142,11],[143,2,143,4],[143,5,143,6],[143,7,143,9],[143,10,143,11],[148,5,148,6],[148,7,148,9],[144,2,144,4],[144,5,144,6],[144,7,144,9],[144,10,144,11],[145,2,145,4],[167,2,167,4],[167,5,167,6],[167,7,167,9],[167,10,167,11],[151,2,151,4],[152,2,152,4],[149,2,149,4],[150,2,150,4],[151,5,151,6],[151,7,151,9],[151,10,151,11],[152,5,152,6],[152,7,152,9],[152,10,152,11],[153,2,153,4],[153,5,153,6],[153,7,153,9],[145,5,145,6],[145,7,145,9],[145,10,145,11],[146,2,146,4],[146,5,146,6],[146,7,146,9],[146,10,146,11],[147,2,147,4],[147,5,147,6],[147,7,147,9],[147,10,147,11],[169,5,169,6],[169,7,169,9],[169,10,169,11],[170,2,170,4],[170,5,170,6],[170,7,170,9],[170,10,170,11],[168,2,168,4],[168,5,168,6],[168,7,168,9],[168,10,168,11],[175,1,176,1],[175,2,176,4],[175,5,175,8],[175,9,176,11],[175,12,176,12],[171,2,171,4],[171,5,171,6],[171,7,171,9],[171,10,171,11],[172,2,172,4],[172,5,172,6],[172,7,172,9],[172,10,172,11],[176,5,176,6],[176,7,176,8],[177,5,177,6],[177,7,177,8],[177,9,177,11],[191,2,191,4],[181,9,181,11],[182,2,182,4],[182,5,182,6],[182,7,182,8],[182,9,182,11],[183,2,183,4],[183,5,183,6],[183,7,183,8],[183,9,183,11],[184,2,184,4],[178,2,178,4],[178,5,178,6],[178,7,178,8],[178,9,178,11],[179,5,179,6],[179,7,179,8],[179,9,179,11],[180,5,180,6],[180,7,180,8],[184,5,184,6],[198,5,198,6],[198,7,198,8],[198,9,198,11],[195,2,195,4],[195,5,195,6],[195,7,195,8],[195,9,195,11],[196,2,196,4],[196,5,196,6],[196,7,196,8],[196,9,196,11],[197,5,197,6],[203,9,203,11],[204,2,204,4],[204,5,204,6],[204,7,204,8],[204,9,204,11],[199,2,199,4],[199,5,199,6],[199,7,199,8],[199,9,199,11],[202,2,202,4],[202,5,202,6],[202,7,202,8],[202,9,202,11],[200,5,200,6],[200,7,200,8],[200,9,200,11],[201,2,201,4],[201,5,201,6],[201,7,201,8],[201,9,201,11],[209,1,210,1],[209,2,210,4],[209,5,209,8],[209,9,209,12],[210,5,210,7],[210,9,210,10],[232,2,232,4],[232,5,232,7],[232,9,232,10],[218,2,218,4],[218,5,218,7],[218,9,218,10],[219,2,219,4],[219,5,219,7],[219,9,219,10],[220,2,220,4],[220,5,220,7],[220,9,220,10],[221,2,221,4],[221,5,221,7],[221,9,221,10],[222,2,222,4],[222,5,222,7],[230,2,230,4],[230,5,230,7],[230,9,230,10],[231,2,231,4],[231,5,231,7],[231,9,231,10],[214,2,214,4],[214,5,214,7],[214,9,214,10],[215,2,215,4],[215,5,215,7],[215,9,215,10],[216,2,216,4],[216,5,216,7],[216,9,216,10],[217,2,217,4],[217,5,217,7],[217,9,217,10],[222,9,222,10],[223,2,223,4],[223,5,223,7],[223,9,223,10],[224,2,224,4],[224,5,224,7],[224,9,224,10],[234,2,234,4],[234,5,234,7],[234,9,234,10],[235,2,235,4],[235,5,235,7],[235,9,235,10],[233,2,233,4],[233,5,233,7],[233,9,233,10],[246,10,246,12],[247,10,247,12],[248,10,248,12],[242,0,243,12],[239,5,239,7],[239,9,239,10],[236,2,236,4],[236,5,236,7],[236,9,236,10],[237,2,237,4],[237,5,237,7],[237,9,237,10],[244,10,244,12],[240,2,240,4],[240,5,240,7],[240,9,240,10],[238,2,238,4],[238,5,238,7],[238,9,238,10],[239,2,239,4],[245,10,245,12],[127,2,127,4],[122,2,122,4],[123,2,123,4],[124,2,124,4],[119,2,119,4],[120,2,120,4],[121,2,121,4],[134,2,134,4],[135,2,135,4],[125,2,125,4],[126,2,126,4],[136,2,136,4],[131,2,131,4],[132,2,132,4],[133,2,133,4],[128,2,128,4],[129,2,129,4],[130,2,130,4],[137,2,137,4],[200,2,200,4],[179,2,179,4],[180,2,180,4],[198,2,198,4],[193,2,193,4],[177,2,177,4],[169,2,169,4],[148,2,148,4],[138,2,138,4],[156,2,156,4],[159,2,159,4],[162,2,162,4],[197,2,197,4],[187,2,187,4],[194,2,194,4],[192,2,192,4],[184,7,184,8],[184,9,184,11],[185,2,185,4],[185,5,185,6],[185,7,185,8],[185,9,185,11],[186,2,186,4],[186,5,186,6],[186,7,186,8],[186,9,186,11],[187,9,187,11],[188,2,188,4],[188,5,188,6],[188,7,188,8],[197,7,197,8],[197,9,197,11],[193,5,193,6],[193,7,193,8],[189,7,189,8],[189,9,189,11],[190,2,190,4],[190,5,190,6],[190,7,190,8],[190,9,190,11],[193,9,193,11],[194,5,194,6],[194,7,194,8],[194,9,194,11],[191,5,191,6],[191,7,191,8],[191,9,191,11],[192,5,192,6],[192,7,192,8],[192,9,192,11],[180,9,180,11],[181,2,181,4],[181,5,181,6],[181,7,181,8],[227,9,227,10],[205,2,205,4],[205,5,205,6],[205,7,205,8],[205,9,205,11],[206,2,206,4],[206,5,206,6],[206,7,206,8],[206,9,206,11],[212,2,212,4],[212,5,212,7],[212,9,212,10],[213,2,213,4],[213,5,213,7],[213,9,213,10],[211,2,211,4],[211,5,211,7],[211,9,211,10],[187,5,187,6],[187,7,187,8],[141,0,142,0],[175,0,176,0],[209,0,210,0],[38,0,38,12],[72,0,72,12],[106,0,106,12],[140,0,140,12],[174,0,174,12],[208,0,208,12],[108,5,108,7],[108,8,108,11],[109,5,109,7],[203,2,203,4],[203,5,203,6],[203,7,203,8],[188,9,188,11],[189,2,189,4],[189,5,189,6],[109,8,109,11],[110,5,110,7],[110,8,110,11],[111,5,111,7],[111,8,111,11],[112,5,112,7],[112,8,112,11],[113,5,113,7],[113,8,113,11],[114,5,114,7],[114,8,114,11],[115,5,115,7],[115,8,115,11],[116,5,116,7],[116,8,116,11],[117,5,117,7],[117,8,117,11],[118,5,118,7],[118,8,118,11],[119,5,119,7],[119,8,119,11],[120,5,120,7],[120,8,120,11],[127,5,127,7],[127,8,127,11],[128,5,128,7],[128,8,128,11],[129,5,129,7],[129,8,129,11],[130,5,130,7],[130,8,130,11],[121,5,121,7],[121,8,121,11],[122,5,122,7],[122,8,122,11],[123,5,123,7],[123,8,123,11],[124,5,124,7],[124,8,124,11],[125,5,125,7],[125,8,125,11],[126,5,126,7],[126,8,126,11],[136,5,136,7],[136,8,136,11],[137,5,137,7],[137,8,137,11],[138,5,138,7],[138,8,138,11],[241,0,241,12],[207,0,207,12],[173,0,173,12],[139,0,139,12],[228,2,228,4],[228,5,228,7],[228,9,228,10],[229,2,229,4],[229,5,229,7],[229,9,229,10],[225,2,225,4],[225,5,225,7],[225,9,225,10],[226,2,226,4],[226,5,226,7],[226,9,226,10],[227,2,227,4],[227,5,227,7],[131,5,131,7],[131,8,131,11],[132,5,132,7],[132,8,132,11],[133,5,133,7],[133,8,133,11],[134,5,134,7],[134,8,134,11],[135,5,135,7],[135,8,135,11]]}
[null,"T.C.",null,null,null,null,null,null,null,null,null,null,null,1]
[null,"TEPEBAŞI KAYMAKAMLIĞI",null,null,null,null,null,null,null,null,null,null,null,1]
[null,{"$f":"PROPER(Maaş!H6)","v":""},null,null,null,null,null,null,null,null,null,null,null,1]
["MAAŞ DEĞİŞİKLİĞİ BİLDİRİM FORMU",null,null,null,null,null,null,null,null,"İLGİLİ AY/YIL",null,{"$f":"Maaş!U8","v":0},{"$f":"Maaş!W8","v":0},1]
["A) BAŞLAYAN PERSONELİN",null,null,null,null,null,null,null,null,null,null,null,null,1]
["S. No","Kimlik No","Adı Soyadı    ",null,null,"Ünvanı",null,"Göreve",null,"Göreve",null,null,null,{"$f":"IF(N38=0,1,0)","v":0}]
[null,null,null,null,null,null,null,"Başladığı Tarih            ",null,"Başlama Nedeni",null,null,null,{"$f":"IF(N38=0,1,0)","v":0}]
[1,{"$f":"IF(Maaş!B11=\"\",\"\",Maaş!B11)","v":""},{"$f":"IF(Maaş!F11=\"\",\"\",Maaş!F11)","v":""},null,null,{"$f":"IF(Maaş!O11=\"\",\"\",Maaş!O11)","v":""},null,{"$f":"IF(Maaş!V11=\"\",\"\",Maaş!V11)","v":""},null,{"$f":"IF(Maaş!Z11=\"\",\"\",Maaş!Z11)","v":""},null,null,null,{"$f":"IF(Maaş!B11=\"\",0,1)","v":0}]
[2,{"$f":"IF(Maaş!B12=\"\",\"\",Maaş!B12)","v":""},{"$f":"IF(Maaş!F12=\"\",\"\",Maaş!F12)","v":""},null,null,{"$f":"IF(Maaş!O12=\"\",\"\",Maaş!O12)","v":""},null,{"$f":"IF(Maaş!V12=\"\",\"\",Maaş!V12)","v":""},null,{"$f":"IF(Maaş!Z12=\"\",\"\",Maaş!Z12)","v":""},null,null,null,{"$f":"IF(Maaş!B12=\"\",0,1)","v":0}]
[3,{"$f":"IF(Maaş!B13=\"\",\"\",Maaş!B13)","v":""},{"$f":"IF(Maaş!F13=\"\",\"\",Maaş!F13)","v":""},null,null,{"$f":"IF(Maaş!O13=\"\",\"\",Maaş!O13)","v":""},null,{"$f":"IF(Maaş!V13=\"\",\"\",Maaş!V13)","v":""},null,{"$f":"IF(Maaş!Z13=\"\",\"\",Maaş!Z13)","v":""},null,null,null,{"$f":"IF(Maaş!B13=\"\",0,1)","v":0}]
[4,{"$f":"IF(Maaş!B14=\"\",\"\",Maaş!B14)","v":""},{"$f":"IF(Maaş!F14=\"\",\"\",Maaş!F14)","v":""},null,null,{"$f":"IF(Maaş!O14=\"\",\"\",Maaş!O14)","v":""},null,{"$f":"IF(Maaş!V14=\"\",\"\",Maaş!V14)","v":""},null,{"$f":"IF(Maaş!Z14=\"\",\"\",Maaş!Z14)","v":""},null,null,null,{"$f":"IF(Maaş!B14=\"\",0,1)","v":0}]
[5,{"$f":"IF(Maaş!B15=\"\",\"\",Maaş!B15)","v":""},{"$f":"IF(Maaş!F15=\"\",\"\",Maaş!F15)","v":""},null,null,{"$f":"IF(Maaş!O15=\"\",\"\",Maaş!O15)","v":""},null,{"$f":"IF(Maaş!V15=\"\",\"\",Maaş!V15)","v":""},null,{"$f":"IF(Maaş!Z15=\"\",\"\",Maaş!Z15)","v":""},null,null,null,{"$f":"IF(Maaş!B15=\"\",0,1)","v":0}]
[6,{"$f":"IF(Maaş!B16=\"\",\"\",Maaş!B16)","v":""},{"$f":"IF(Maaş!F16=\"\",\"\",Maaş!F16)","v":""},null,null,{"$f":"IF(Maaş!O16=\"\",\"\",Maaş!O16)","v":""},null,{"$f":"IF(Maaş!V16=\"\",\"\",Maaş!V16)","v":""},null,{"$f":"IF(Maaş!Z16=\"\",\"\",Maaş!Z16)","v":""},null,null,null,{"$f":"IF(Maaş!B16=\"\",0,1)","v":0}]
[7,{"$f":"IF(Maaş!B17=\"\",\"\",Maaş!B17)","v":""},{"$f":"IF(Maaş!F17=\"\",\"\",Maaş!F17)","v":""},null,null,{"$f":"IF(Maaş!O17=\"\",\"\",Maaş!O17)","v":""},null,{"$f":"IF(Maaş!V17=\"\",\"\",Maaş!V17)","v":""},null,{"$f":"IF(Maaş!Z17=\"\",\"\",Maaş!Z17)","v":""},null,null,null,{"$f":"IF(Maaş!B17=\"\",0,1)","v":0}]
[8,{"$f":"IF(Maaş!B18=\"\",\"\",Maaş!B18)","v":""},{"$f":"IF(Maaş!F18=\"\",\"\",Maaş!F18)","v":""},null,null,{"$f":"IF(Maaş!O18=\"\",\"\",Maaş!O18)","v":""},null,{"$f":"IF(Maaş!V18=\"\",\"\",Maaş!V18)","v":""},null,{"$f":"IF(Maaş!Z18=\"\",\"\",Maaş!Z18)","v":""},null,null,null,{"$f":"IF(Maaş!B18=\"\",0,1)","v":0}]
[9,{"$f":"IF(Maaş!B19=\"\",\"\",Maaş!B19)","v":""},{"$f":"IF(Maaş!F19=\"\",\"\",Maaş!F19)","v":""},null,null,{"$f":"IF(Maaş!O19=\"\",\"\",Maaş!O19)","v":""},null,{"$f":"IF(Maaş!V19=\"\",\"\",Maaş!V19)","v":""},null,{"$f":"IF(Maaş!Z19=\"\",\"\",Maaş!Z19)","v":""},null,null,null,{"$f":"IF(Maaş!B19=\"\",0,1)","v":0}]
[10,{"$f":"IF(Maaş!B20=\"\",\"\",Maaş!B20)","v":""},{"$f":"IF(Maaş!F20=\"\",\"\",Maaş!F20)","v":""},null,null,{"$f":"IF(Maaş!O20=\"\",\"\",Maaş!O20)","v":""},null,{"$f":"IF(Maaş!V20=\"\",\"\",Maaş!V20)","v":""},null,{"$f":"IF(Maaş!Z20=\"\",\"\",Maaş!Z20)","v":""},null,null,null,{"$f":"IF(Maaş!B20=\"\",0,1)","v":0}]
[11,{"$f":"IF(Maaş!B21=\"\",\"\",Maaş!B21)","v":""},{"$f":"IF(Maaş!F21=\"\",\"\",Maaş!F21)","v":""},null,null,{"$f":"IF(Maaş!O21=\"\",\"\",Maaş!O21)","v":""},null,{"$f":"IF(Maaş!V21=\"\",\"\",Maaş!V21)","v":""},null,{"$f":"IF(Maaş!Z21=\"\",\"\",Maaş!Z21)","v":""},null,null,null,{"$f":"IF(Maaş!B21=\"\",0,1)","v":0}]
[12,{"$f":"IF(Maaş!B22=\"\",\"\",Maaş!B22)","v":""},{"$f":"IF(Maaş!F22=\"\",\"\",Maaş!F22)","v":""},null,null,{"$f":"IF(Maaş!O22=\"\",\"\",Maaş!O22)","v":""},null,{"$f":"IF(Maaş!V22=\"\",\"\",Maaş!V22)","v":""},null,{"$f":"IF(Maaş!Z22=\"\",\"\",Maaş!Z22)","v":""},null,null,null,{"$f":"IF(Maaş!B22=\"\",0,1)","v":0}]
[13,{"$f":"IF(Maaş!B23=\"\",\"\",Maaş!B23)","v":""},{"$f":"IF(Maaş!F23=\"\",\"\",Maaş!F23)","v":""},null,null,{"$f":"IF(Maaş!O23=\"\",\"\",Maaş!O23)","v":""},null,{"$f":"IF(Maaş!V23=\"\",\"\",Maaş!V23)","v":""},null,{"$f":"IF(Maaş!Z23=\"\",\"\",Maaş!Z23)","v":""},null,null,null,{"$f":"IF(Maaş!B23=\"\",0,1)","v":0}]
[14,{"$f":"IF(Maaş!B24=\"\",\"\",Maaş!B24)","v":""},{"$f":"IF(Maaş!F24=\"\",\"\",Maaş!F24)","v":""},null,null,{"$f":"IF(Maaş!O24=\"\",\"\",Maaş!O24)","v":""},null,{"$f":"IF(Maaş!V24=\"\",\"\",Maaş!V24)","v":""},null,{"$f":"IF(Maaş!Z24=\"\",\"\",Maaş!Z24)","v":""},null,null,null,{"$f":"IF(Maaş!B24=\"\",0,1)","v":0}]
[15,{"$f":"IF(Maaş!B25=\"\",\"\",Maaş!B25)","v":""},{"$f":"IF(Maaş!F25=\"\",\"\",Maaş!F25)","v":""},null,null,{"$f":"IF(Maaş!O25=\"\",\"\",Maaş!O25)","v":""},null,{"$f":"IF(Maaş!V25=\"\",\"\",Maaş!V25)","v":""},null,{"$f":"IF(Maaş!Z25=\"\",\"\",Maaş!Z25)","v":""},null,null,null,{"$f":"IF(Maaş!B25=\"\",0,1)","v":0}]
[16,{"$f":"IF(Maaş!B26=\"\",\"\",Maaş!B26)","v":""},{"$f":"IF(Maaş!F26=\"\",\"\",Maaş!F26)","v":""},null,null,{"$f":"IF(Maaş!O26=\"\",\"\",Maaş!O26)","v":""},null,{"$f":"IF(Maaş!V26=\"\",\"\",Maaş!V26)","v":""},null,{"$f":"IF(Maaş!Z26=\"\",\"\",Maaş!Z26)","v":""},null,null,null,{"$f":"IF(Maaş!B26=\"\",0,1)","v":0}]
[17,{"$f":"IF(Maaş!B27=\"\",\"\",Maaş!B27)","v":""},{"$f":"IF(Maaş!F27=\"\",\"\",Maaş!F27)","v":""},null,null,{"$f":"IF(Maaş!O27=\"\",\"\",Maaş!O27)","v":""},null,{"$f":"IF(Maaş!V27=\"\",\"\",Maaş!V27)","v":""},null,{"$f":"IF(Maaş!Z27=\"\",\"\",Maaş!Z27)","v":""},null,null,null,{"$f":"IF(Maaş!B27=\"\",0,1)","v":0}]
[18,{"$f":"IF(Maaş!B28=\"\",\"\",Maaş!B28)","v":""},{"$f":"IF(Maaş!F28=\"\",\"\",Maaş!F28)","v":""},null,null,{"$f":"IF(Maaş!O28=\"\",\"\",Maaş!O28)","v":""},null,{"$f":"IF(Maaş!V28=\"\",\"\",Maaş!V28)","v":""},null,{"$f":"IF(Maaş!Z28=\"\",\"\",Maaş!Z28)","v":""},null,null,null,{"$f":"IF(Maaş!B28=\"\",0,1)","v":0}]
[19,{"$f":"IF(Maaş!B29=\"\",\"\",Maaş!B29)","v":""},{"$f":"IF(Maaş!F29=\"\",\"\",Maaş!F29)","v":""},null,null,{"$f":"IF(Maaş!O29=\"\",\"\",Maaş!O29)","v":""},null,{"$f":"IF(Maaş!V29=\"\",\"\",Maaş!V29)","v":""},null,{"$f":"IF(Maaş!Z29=\"\",\"\",Maaş!Z29)","v":""},null,null,null,{"$f":"IF(Maaş!B29=\"\",0,1)","v":0}]
[20,{"$f":"IF(Maaş!B30=\"\",\"\",Maaş!B30)","v":""},{"$f":"IF(Maaş!F30=\"\",\"\",Maaş!F30)","v":""},null,null,{"$f":"IF(Maaş!O30=\"\",\"\",Maaş!O30)","v":""},null,{"$f":"IF(Maaş!V30=\"\",\"\",Maaş!V30)","v":""},null,{"$f":"IF(Maaş!Z30=\"\",\"\",Maaş!Z30)","v":""},null,null,null,{"$f":"IF(Maaş!B30=\"\",0,1)","v":0}]
[21,{"$f":"IF(Maaş!B31=\"\",\"\",Maaş!B31)","v":""},{"$f":"IF(Maaş!F31=\"\",\"\",Maaş!F31)","v":""},null,null,{"$f":"IF(Maaş!O31=\"\",\"\",Maaş!O31)","v":""},null,{"$f":"IF(Maaş!V31=\"\",\"\",Maaş!V31)","v":""},null,{"$f":"IF(Maaş!Z31=\"\",\"\",Maaş!Z31)","v":""},null,null,null,{"$f":"IF(Maaş!B31=\"\",0,1)","v":0}]
[22,{"$f":"IF(Maaş!B32=\"\",\"\",Maaş!B32)","v":""},{"$f":"IF(Maaş!F32=\"\",\"\",Maaş!F32)","v":""},null,null,{"$f":"IF(Maaş!O32=\"\",\"\",Maaş!O32)","v":""},null,{"$f":"IF(Maaş!V32=\"\",\"\",Maaş!V32)","v":""},null,{"$f":"IF(Maaş!Z32=\"\",\"\",Maaş!Z32)","v":""},null,null,null,{"$f":"IF(Maaş!B32=\"\",0,1)","v":0}]
[23,{"$f":"IF(Maaş!B33=\"\",\"\",Maaş!B33)","v":""},{"$f":"IF(Maaş!F33=\"\",\"\",Maaş!F33)","v":""},null,null,{"$f":"IF(Maaş!O33=\"\",\"\",Maaş!O33)","v":""},null,{"$f":"IF(Maaş!V33=\"\",\"\",Maaş!V33)","v":""},null,{"$f":"IF(Maaş!Z33=\"\",\"\",Maaş!Z33)","v":""},null,null,null,{"$f":"IF(Maaş!B33=\"\",0,1)","v":0}]
[24,{"$f":"IF(Maaş!B34=\"\",\"\",Maaş!B34)","v":""},{"$f":"IF(Maaş!F34=\"\",\"\",Maaş!F34)","v":""},null,null,{"$f":"IF(Maaş!O34=\"\",\"\",Maaş!O34)","v":""},null,{"$f":"IF(Maaş!V34=\"\",\"\",Maaş!V34)","v":""},null,{"$f":"IF(Maaş!Z34=\"\",\"\",Maaş!Z34)","v":""},null,null,null,{"$f":"IF(Maaş!B34=\"\",0,1)","v":0}]
[25,{"$f":"IF(Maaş!B35=\"\",\"\",Maaş!B35)","v":""},{"$f":"IF(Maaş!F35=\"\",\"\",Maaş!F35)","v":""},null,null,{"$f":"IF(Maaş!O35=\"\",\"\",Maaş!O35)","v":""},null,{"$f":"IF(Maaş!V35=\"\",\"\",Maaş!V35)","v":""},null,{"$f":"IF(Maaş!Z35=\"\",\"\",Maaş!Z35)","v":""},null,null,null,{"$f":"IF(Maaş!B35=\"\",0,1)","v":0}]
[26,{"$f":"IF(Maaş!B36=\"\",\"\",Maaş!B36)","v":""},{"$f":"IF(Maaş!F36=\"\",\"\",Maaş!F36)","v":""},null,null,{"$f":"IF(Maaş!O36=\"\",\"\",Maaş!O36)","v":""},null,{"$f":"IF(Maaş!V36=\"\",\"\",Maaş!V36)","v":""},null,{"$f":"IF(Maaş!Z36=\"\",\"\",Maaş!Z36)","v":""},null,null,null,{"$f":"IF(Maaş!B36=\"\",0,1)","v":0}]
[27,{"$f":"IF(Maaş!B37=\"\",\"\",Maaş!B37)","v":""},{"$f":"IF(Maaş!F37=\"\",\"\",Maaş!F37)","v":""},null,null,{"$f":"IF(Maaş!O37=\"\",\"\",Maaş!O37)","v":""},null,{"$f":"IF(Maaş!V37=\"\",\"\",Maaş!V37)","v":""},null,{"$f":"IF(Maaş!Z37=\"\",\"\",Maaş!Z37)","v":""},null,null,null,{"$f":"IF(Maaş!B37=\"\",0,1)","v":0}]
[28,{"$f":"IF(Maaş!B38=\"\",\"\",Maaş!B38)","v":""},{"$f":"IF(Maaş!F38=\"\",\"\",Maaş!F38)","v":""},null,null,{"$f":"IF(Maaş!O38=\"\",\"\",Maaş!O38)","v":""},null,{"$f":"IF(Maaş!V38=\"\",\"\",Maaş!V38)","v":""},null,{"$f":"IF(Maaş!Z38=\"\",\"\",Maaş!Z38)","v":""},null,null,null,{"$f":"IF(Maaş!B38=\"\",0,1)","v":0}]
[29,{"$f":"IF(Maaş!B39=\"\",\"\",Maaş!B39)","v":""},{"$f":"IF(Maaş!F39=\"\",\"\",Maaş!F39)","v":""},null,null,{"$f":"IF(Maaş!O39=\"\",\"\",Maaş!O39)","v":""},null,{"$f":"IF(Maaş!V39=\"\",\"\",Maaş!V39)","v":""},null,{"$f":"IF(Maaş!Z39=\"\",\"\",Maaş!Z39)","v":""},null,null,null,{"$f":"IF(Maaş!B39=\"\",0,1)","v":0}]
[30,{"$f":"IF(Maaş!B40=\"\",\"\",Maaş!B40)","v":""},{"$f":"IF(Maaş!F40=\"\",\"\",Maaş!F40)","v":""},null,null,{"$f":"IF(Maaş!O40=\"\",\"\",Maaş!O40)","v":""},null,{"$f":"IF(Maaş!V40=\"\",\"\",Maaş!V40)","v":""},null,{"$f":"IF(Maaş!Z40=\"\",\"\",Maaş!Z40)","v":""},null,null,null,{"$f":"IF(Maaş!B40=\"\",0,1)","v":0}]
["BU BÖLÜMDE MAAŞ DEĞİŞİKLİĞİ YOKTUR",null,null,null,null,null,null,null,null,null,null,null,null,{"$f":"IF(SUM(N8:N37)=0,1,0)","v":1}]
["B) AYRILAN PERSONELİN",null,null,null,null,null,null,null,null,null,null,null,null,1]
["S. No","Kimlik No","Adı Soyadı    ",null,null,"Ünvanı",null,"Görevden",null,"Görevden",null,null,null,{"$f":"IF(N72=0,1,0)","v":0}]
[null,null,null,null,null,null,null,"Ayrıldığı Tarih",null,"Ayrılma Nedeni",null,null,null,{"$f":"IF(N72=0,1,0)","v":0}]
[1,{"$f":"IF(Maaş!B43=\"\",\"\",Maaş!B43)","v":""},{"$f":"IF(Maaş!F43=\"\",\"\",Maaş!F43)","v":""},null,null,{"$f":"IF(Maaş!O43=\"\",\"\",Maaş!O43)","v":""},null,{"$f":"IF(Maaş!V43=\"\",\"\",Maaş!V43)","v":""},null,{"$f":"IF(Maaş!Z43=\"\",\"\",Maaş!Z43)","v":""},null,null,null,{"$f":"IF(Maaş!B43=\"\",0,1)","v":0}]
[2,{"$f":"IF(Maaş!B44=\"\",\"\",Maaş!B44)","v":""},{"$f":"IF(Maaş!F44=\"\",\"\",Maaş!F44)","v":""},null,null,{"$f":"IF(Maaş!O44=\"\",\"\",Maaş!O44)","v":""},null,{"$f":"IF(Maaş!V44=\"\",\"\",Maaş!V44)","v":""},null,{"$f":"IF(Maaş!Z44=\"\",\"\",Maaş!Z44)","v":""},null,null,null,{"$f":"IF(Maaş!B44=\"\",0,1)","v":0}]
[3,{"$f":"IF(Maaş!B45=\"\",\"\",Maaş!B45)","v":""},{"$f":"IF(Maaş!F45=\"\",\"\",Maaş!F45)","v":""},null,null,{"$f":"IF(Maaş!O45=\"\",\"\",Maaş!O45)","v":""},null,{"$f":"IF(Maaş!V45=\"\",\"\",Maaş!V45)","v":""},null,{"$f":"IF(Maaş!Z45=\"\",\"\",Maaş!Z45)","v":""},null,null,null,{"$f":"IF(Maaş!B45=\"\",0,1)","v":0}]
[4,{"$f":"IF(Maaş!B46=\"\",\"\",Maaş!B46)","v":""},{"$f":"IF(Maaş!F46=\"\",\"\",Maaş!F46)","v":""},null,null,{"$f":"IF(Maaş!O46=\"\",\"\",Maaş!O46)","v":""},null,{"$f":"IF(Maaş!V46=\"\",\"\",Maaş!V46)","v":""},null,{"$f":"IF(Maaş!Z46=\"\",\"\",Maaş!Z46)","v":""},null,null,null,{"$f":"IF(Maaş!B46=\"\",0,1)","v":0}]
[5,{"$f":"IF(Maaş!B47=\"\",\"\",Maaş!B47)","v":""},{"$f":"IF(Maaş!F47=\"\",\"\",Maaş!F47)","v":""},null,null,{"$f":"IF(Maaş!O47=\"\",\"\",Maaş!O47)","v":""},null,{"$f":"IF(Maaş!V47=\"\",\"\",Maaş!V47)","v":""},null,{"$f":"IF(Maaş!Z47=\"\",\"\",Maaş!Z47)","v":""},null,null,null,{"$f":"IF(Maaş!B47=\"\",0,1)","v":0}]
[6,{"$f":"IF(Maaş!B48=\"\",\"\",Maaş!B48)","v":""},{"$f":"IF(Maaş!F48=\"\",\"\",Maaş!F48)","v":""},null,null,{"$f":"IF(Maaş!O48=\"\",\"\",Maaş!O48)","v":""},null,{"$f":"IF(Maaş!V48=\"\",\"\",Maaş!V48)","v":""},null,{"$f":"IF(Maaş!Z48=\"\",\"\",Maaş!Z48)","v":""},null,null,null,{"$f":"IF(Maaş!B48=\"\",0,1)","v":0}]
[7,{"$f":"IF(Maaş!B49=\"\",\"\",Maaş!B49)","v":""},{"$f":"IF(Maaş!F49=\"\",\"\",Maaş!F49)","v":""},null,null,{"$f":"IF(Maaş!O49=\"\",\"\",Maaş!O49)","v":""},null,{"$f":"IF(Maaş!V49=\"\",\"\",Maaş!V49)","v":""},null,{"$f":"IF(Maaş!Z49=\"\",\"\",Maaş!Z49)","v":""},null,null,null,{"$f":"IF(Maaş!B49=\"\",0,1)","v":0}]
[8,{"$f":"IF(Maaş!B50=\"\",\"\",Maaş!B50)","v":""},{"$f":"IF(Maaş!F50=\"\",\"\",Maaş!F50)","v":""},null,null,{"$f":"IF(Maaş!O50=\"\",\"\",Maaş!O50)","v":""},null,{"$f":"IF(Maaş!V50=\"\",\"\",Maaş!V50)","v":""},null,{"$f":"IF(Maaş!Z50=\"\",\"\",Maaş!Z50)","v":""},null,null,null,{"$f":"IF(Maaş!B50=\"\",0,1)","v":0}]
[9,{"$f":"IF(Maaş!B51=\"\",\"\",Maaş!B51)","v":""},{"$f":"IF(Maaş!F51=\"\",\"\",Maaş!F51)","v":""},null,null,{"$f":"IF(Maaş!O51=\"\",\"\",Maaş!O51)","v":""},null,{"$f":"IF(Maaş!V51=\"\",\"\",Maaş!V51)","v":""},null,{"$f":"IF(Maaş!Z51=\"\",\"\",Maaş!Z51)","v":""},null,null,null,{"$f":"IF(Maaş!B51=\"\",0,1)","v":0}]
[10,{"$f":"IF(Maaş!B52=\"\",\"\",Maaş!B52)","v":""},{"$f":"IF(Maaş!F52=\"\",\"\",Maaş!F52)","v":""},null,null,{"$f":"IF(Maaş!O52=\"\",\"\",Maaş!O52)","v":""},null,{"$f":"IF(Maaş!V52=\"\",\"\",Maaş!V52)","v":""},null,{"$f":"IF(Maaş!Z52=\"\",\"\",Maaş!Z52)","v":""},null,null,null,{"$f":"IF(Maaş!B52=\"\",0,1)","v":0}]
[11,{"$f":"IF(Maaş!B53=\"\",\"\",Maaş!B53)","v":""},{"$f":"IF(Maaş!F53=\"\",\"\",Maaş!F53)","v":""},null,null,{"$f":"IF(Maaş!O53=\"\",\"\",Maaş!O53)","v":""},null,{"$f":"IF(Maaş!V53=\"\",\"\",Maaş!V53)","v":""},null,{"$f":"IF(Maaş!Z53=\"\",\"\",Maaş!Z53)","v":""},null,null,null,{"$f":"IF(Maaş!B53=\"\",0,1)","v":0}]
[12,{"$f":"IF(Maaş!B54=\"\",\"\",Maaş!B54)","v":""},{"$f":"IF(Maaş!F54=\"\",\"\",Maaş!F54)","v":""},null,null,{"$f":"IF(Maaş!O54=\"\",\"\",Maaş!O54)","v":""},null,{"$f":"IF(Maaş!V54=\"\",\"\",Maaş!V54)","v":""},null,{"$f":"IF(Maaş!Z54=\"\",\"\",Maaş!Z54)","v":""},null,null,null,{"$f":"IF(Maaş!B54=\"\",0,1)","v":0}]
[13,{"$f":"IF(Maaş!B55=\"\",\"\",Maaş!B55)","v":""},{"$f":"IF(Maaş!F55=\"\",\"\",Maaş!F55)","v":""},null,null,{"$f":"IF(Maaş!O55=\"\",\"\",Maaş!O55)","v":""},null,{"$f":"IF(Maaş!V55=\"\",\"\",Maaş!V55)","v":""},null,{"$f":"IF(Maaş!Z55=\"\",\"\",Maaş!Z55)","v":""},null,null,null,{"$f":"IF(Maaş!B55=\"\",0,1)","v":0}]
[14,{"$f":"IF(Maaş!B56=\"\",\"\",Maaş!B56)","v":""},{"$f":"IF(Maaş!F56=\"\",\"\",Maaş!F56)","v":""},null,null,{"$f":"IF(Maaş!O56=\"\",\"\",Maaş!O56)","v":""},null,{"$f":"IF(Maaş!V56=\"\",\"\",Maaş!V56)","v":""},null,{"$f":"IF(Maaş!Z56=\"\",\"\",Maaş!Z56)","v":""},null,null,null,{"$f":"IF(Maaş!B56=\"\",0,1)","v":0}]
[15,{"$f":"IF(Maaş!B57=\"\",\"\",Maaş!B57)","v":""},{"$f":"IF(Maaş!F57=\"\",\"\",Maaş!F57)","v":""},null,null,{"$f":"IF(Maaş!O57=\"\",\"\",Maaş!O57)","v":""},null,{"$f":"IF(Maaş!V57=\"\",\"\",Maaş!V57)","v":""},null,{"$f":"IF(Maaş!Z57=\"\",\"\",Maaş!Z57)","v":""},null,null,null,{"$f":"IF(Maaş!B57=\"\",0,1)","v":0}]
[16,{"$f":"IF(Maaş!B58=\"\",\"\",Maaş!B58)","v":""},{"$f":"IF(Maaş!F58=\"\",\"\",Maaş!F58)","v":""},null,null,{"$f":"IF(Maaş!O58=\"\",\"\",Maaş!O58)","v":""},null,{"$f":"IF(Maaş!V58=\"\",\"\",Maaş!V58)","v":""},null,{"$f":"IF(Maaş!Z58=\"\",\"\",Maaş!Z58)","v":""},null,null,null,{"$f":"IF(Maaş!B58=\"\",0,1)","v":0}]
[17,{"$f":"IF(Maaş!B59=\"\",\"\",Maaş!B59)","v":""},{"$f":"IF(Maaş!F59=\"\",\"\",Maaş!F59)","v":""},null,null,{"$f":"IF(Maaş!O59=\"\",\"\",Maaş!O59)","v":""},null,{"$f":"IF(Maaş!V59=\"\",\"\",Maaş!V59)","v":""},null,{"$f":"IF(Maaş!Z59=\"\",\"\",Maaş!Z59)","v":""},null,null,null,{"$f":"IF(Maaş!B59=\"\",0,1)","v":0}]
[18,{"$f":"IF(Maaş!B60=\"\",\"\",Maaş!B60)","v":""},{"$f":"IF(Maaş!F60=\"\",\"\",Maaş!F60)","v":""},null,null,{"$f":"IF(Maaş!O60=\"\",\"\",Maaş!O60)","v":""},null,{"$f":"IF(Maaş!V60=\"\",\"\",Maaş!V60)","v":""},null,{"$f":"IF(Maaş!Z60=\"\",\"\",Maaş!Z60)","v":""},null,null,null,{"$f":"IF(Maaş!B60=\"\",0,1)","v":0}]
[19,{"$f":"IF(Maaş!B61=\"\",\"\",Maaş!B61)","v":""},{"$f":"IF(Maaş!F61=\"\",\"\",Maaş!F61)","v":""},null,null,{"$f":"IF(Maaş!O61=\"\",\"\",Maaş!O61)","v":""},null,{"$f":"IF(Maaş!V61=\"\",\"\",Maaş!V61)","v":""},null,{"$f":"IF(Maaş!Z61=\"\",\"\",Maaş!Z61)","v":""},null,null,null,{"$f":"IF(Maaş!B61=\"\",0,1)","v":0}]
[20,{"$f":"IF(Maaş!B62=\"\",\"\",Maaş!B62)","v":""},{"$f":"IF(Maaş!F62=\"\",\"\",Maaş!F62)","v":""},null,null,{"$f":"IF(Maaş!O62=\"\",\"\",Maaş!O62)","v":""},null,{"$f":"IF(Maaş!V62=\"\",\"\",Maaş!V62)","v":""},null,{"$f":"IF(Maaş!Z62=\"\",\"\",Maaş!Z62)","v":""},null,null,null,{"$f":"IF(Maaş!B62=\"\",0,1)","v":0}]
[21,{"$f":"IF(Maaş!B63=\"\",\"\",Maaş!B63)","v":""},{"$f":"IF(Maaş!F63=\"\",\"\",Maaş!F63)","v":""},null,null,{"$f":"IF(Maaş!O63=\"\",\"\",Maaş!O63)","v":""},null,{"$f":"IF(Maaş!V63=\"\",\"\",Maaş!V63)","v":""},null,{"$f":"IF(Maaş!Z63=\"\",\"\",Maaş!Z63)","v":""},null,null,null,{"$f":"IF(Maaş!B63=\"\",0,1)","v":0}]
[22,{"$f":"IF(Maaş!B64=\"\",\"\",Maaş!B64)","v":""},{"$f":"IF(Maaş!F64=\"\",\"\",Maaş!F64)","v":""},null,null,{"$f":"IF(Maaş!O64=\"\",\"\",Maaş!O64)","v":""},null,{"$f":"IF(Maaş!V64=\"\",\"\",Maaş!V64)","v":""},null,{"$f":"IF(Maaş!Z64=\"\",\"\",Maaş!Z64)","v":""},null,null,null,{"$f":"IF(Maaş!B64=\"\",0,1)","v":0}]
[23,{"$f":"IF(Maaş!B65=\"\",\"\",Maaş!B65)","v":""},{"$f":"IF(Maaş!F65=\"\",\"\",Maaş!F65)","v":""},null,null,{"$f":"IF(Maaş!O65=\"\",\"\",Maaş!O65)","v":""},null,{"$f":"IF(Maaş!V65=\"\",\"\",Maaş!V65)","v":""},null,{"$f":"IF(Maaş!Z65=\"\",\"\",Maaş!Z65)","v":""},null,null,null,{"$f":"IF(Maaş!B65=\"\",0,1)","v":0}]
[24,{"$f":"IF(Maaş!B66=\"\",\"\",Maaş!B66)","v":""},{"$f":"IF(Maaş!F66=\"\",\"\",Maaş!F66)","v":""},null,null,{"$f":"IF(Maaş!O66=\"\",\"\",Maaş!O66)","v":""},null,{"$f":"IF(Maaş!V66=\"\",\"\",Maaş!V66)","v":""},null,{"$f":"IF(Maaş!Z66=\"\",\"\",Maaş!Z66)","v":""},null,null,null,{"$f":"IF(Maaş!B66=\"\",0,1)","v":0}]
[25,{"$f":"IF(Maaş!B67=\"\",\"\",Maaş!B67)","v":""},{"$f":"IF(Maaş!F67=\"\",\"\",Maaş!F67)","v":""},null,null,{"$f":"IF(Maaş!O67=\"\",\"\",Maaş!O67)","v":""},null,{"$f":"IF(Maaş!V67=\"\",\"\",Maaş!V67)","v":""},null,{"$f":"IF(Maaş!Z67=\"\",\"\",Maaş!Z67)","v":""},null,null,null,{"$f":"IF(Maaş!B67=\"\",0,1)","v":0}]
[26,{"$f":"IF(Maaş!B68=\"\",\"\",Maaş!B68)","v":""},{"$f":"IF(Maaş!F68=\"\",\"\",Maaş!F68)","v":""},null,null,{"$f":"IF(Maaş!O68=\"\",\"\",Maaş!O68)","v":""},null,{"$f":"IF(Maaş!V68=\"\",\"\",Maaş!V68)","v":""},null,{"$f":"IF(Maaş!Z68=\"\",\"\",Maaş!Z68)","v":""},null,null,null,{"$f":"IF(Maaş!B68=\"\",0,1)","v":0}]
[27,{"$f":"IF(Maaş!B69=\"\",\"\",Maaş!B69)","v":""},{"$f":"IF(Maaş!F69=\"\",\"\",Maaş!F69)","v":""},null,null,{"$f":"IF(Maaş!O69=\"\",\"\",Maaş!O69)","v":""},null,{"$f":"IF(Maaş!V69=\"\",\"\",Maaş!V69)","v":""},null,{"$f":"IF(Maaş!Z69=\"\",\"\",Maaş!Z69)","v":""},null,null,null,{"$f":"IF(Maaş!B69=\"\",0,1)","v":0}]
[28,{"$f":"IF(Maaş!B70=\"\",\"\",Maaş!B70)","v":""},{"$f":"IF(Maaş!F70=\"\",\"\",Maaş!F70)","v":""},null,null,{"$f":"IF(Maaş!O70=\"\",\"\",Maaş!O70)","v":""},null,{"$f":"IF(Maaş!V70=\"\",\"\",Maaş!V70)","v":""},null,{"$f":"IF(Maaş!Z70=\"\",\"\",Maaş!Z70)","v":""},null,null,null,{"$f":"IF(Maaş!B70=\"\",0,1)","v":0}]
[29,{"$f":"IF(Maaş!B71=\"\",\"\",Maaş!B71)","v":""},{"$f":"IF(Maaş!F71=\"\",\"\",Maaş!F71)","v":""},null,null,{"$f":"IF(Maaş!O71=\"\",\"\",Maaş!O71)","v":""},null,{"$f":"IF(Maaş!V71=\"\",\"\",Maaş!V71)","v":""},null,{"$f":"IF(Maaş!Z71=\"\",\"\",Maaş!Z71)","v":""},null,null,null,{"$f":"IF(Maaş!B71=\"\",0,1)","v":0}]
[30,{"$f":"IF(Maaş!B72=\"\",\"\",Maaş!B72)","v":""},{"$f":"IF(Maaş!F72=\"\",\"\",Maaş!F72)","v":""},null,null,{"$f":"IF(Maaş!O72=\"\",\"\",Maaş!O72)","v":""},null,{"$f":"IF(Maaş!V72=\"\",\"\",Maaş!V72)","v":""},null,{"$f":"IF(Maaş!Z72=\"\",\"\",Maaş!Z72)","v":""},null,null,null,{"$f":"IF(Maaş!B72=\"\",0,1)","v":0}]
["BU BÖLÜMDE MAAŞ DEĞİŞİKLİĞİ YOKTUR",null,null,null,null,null,null,null,null,null,null,null,null,{"$f":"IF(SUM(N42:N71)=0,1,0)","v":1}]
["C) TERFİ EDECEK PERSONELİN",null,null,null,null,null,null,null,null,null,null,null,null,1]
["S. No","Kimlik No","Adı Soyadı    ",null,null,"Ünvanı",null,"Eski",null,"Yeni",null,"Terfi\nTarihi","Ek\nGösterge",{"$f":"IF(N106=0,1,0)","v":0}]
[null,null,null,null,null,null,null,"Der","Kad","Der","Kad",null,null,{"$f":"IF(N106=0,1,0)","v":0}]
[1,{"$f":"IF(Maaş!B76=\"\",\"\",Maaş!B76)","v":""},{"$f":"IF(Maaş!F76=\"\",\"\",Maaş!F76)","v":""},null,null,{"$f":"IF(Maaş!O76=\"\",\"\",Maaş!O76)","v":""},null,{"$f":"IF(Maaş!V76=\"\",\"\",Maaş!V76)","v":""},{"$f":"IF(Maaş!X76=\"\",\"\",Maaş!X76)","v":""},{"$f":"IF(Maaş!Z76=\"\",\"\",Maaş!Z76)","v":""},{"$f":"IF(Maaş!AB76=\"\",\"\",Maaş!AB76)","v":""},{"$f":"IF(Maaş!AD76=\"\",\"\",Maaş!AD76)","v":""},{"$f":"IF(Maaş!AI76=\"\",\"\",Maaş!AI76)","v":""},{"$f":"IF(Maaş!B76=\"\",0,1)","v":0}]
[2,{"$f":"IF(Maaş!B77=\"\",\"\",Maaş!B77)","v":""},{"$f":"IF(Maaş!F77=\"\",\"\",Maaş!F77)","v":""},null,null,{"$f":"IF(Maaş!O77=\"\",\"\",Maaş!O77)","v":""},null,{"$f":"IF(Maaş!V77=\"\",\"\",Maaş!V77)","v":""},{"$f":"IF(Maaş!X77=\"\",\"\",Maaş!X77)","v":""},{"$f":"IF(Maaş!Z77=\"\",\"\",Maaş!Z77)","v":""},{"$f":"IF(Maaş!AB77=\"\",\"\",Maaş!AB77)","v":""},{"$f":"IF(Maaş!AD77=\"\",\"\",Maaş!AD77)","v":""},{"$f":"IF(Maaş!AI77=\"\",\"\",Maaş!AI77)","v":""},{"$f":"IF(Maaş!B77=\"\",0,1)","v":0}]
[3,{"$f":"IF(Maaş!B78=\"\",\"\",Maaş!B78)","v":""},{"$f":"IF(Maaş!F78=\"\",\"\",Maaş!F78)","v":""},null,null,{"$f":"IF(Maaş!O78=\"\",\"\",Maaş!O78)","v":""},null,{"$f":"IF(Maaş!V78=\"\",\"\",Maaş!V78)","v":""},{"$f":"IF(Maaş!X78=\"\",\"\",Maaş!X78)","v":""},{"$f":"IF(Maaş!Z78=\"\",\"\",Maaş!Z78)","v":""},{"$f":"IF(Maaş!AB78=\"\",\"\",Maaş!AB78)","v":""},{"$f":"IF(Maaş!AD78=\"\",\"\",Maaş!AD78)","v":""},{"$f":"IF(Maaş!AI78=\"\",\"\",Maaş!AI78)","v":""},{"$f":"IF(Maaş!B78=\"\",0,1)","v":0}]
[4,{"$f":"IF(Maaş!B79=\"\",\"\",Maaş!B79)","v":""},{"$f":"IF(Maaş!F79=\"\",\"\",Maaş!F79)","v":""},null,null,{"$f":"IF(Maaş!O79=\"\",\"\",Maaş!O79)","v":""},null,{"$f":"IF(Maaş!V79=\"\",\"\",Maaş!V79)","v":""},{"$f":"IF(Maaş!X79=\"\",\"\",Maaş!X79)","v":""},{"$f":"IF(Maaş!Z79=\"\",\"\",Maaş!Z79)","v":""},{"$f":"IF(Maaş!AB79=\"\",\"\",Maaş!AB79)","v":""},{"$f":"IF(Maaş!AD79=\"\",\"\",Maaş!AD79)","v":""},{"$f":"IF(Maaş!AI79=\"\",\"\",Maaş!AI79)","v":""},{"$f":"IF(Maaş!B79=\"\",0,1)","v":0}]
[5,{"$f":"IF(Maaş!B80=\"\",\"\",Maaş!B80)","v":""},{"$f":"IF(Maaş!F80=\"\",\"\",Maaş!F80)","v":""},null,null,{"$f":"IF(Maaş!O80=\"\",\"\",Maaş!O80)","v":""},null,{"$f":"IF(Maaş!V80=\"\",\"\",Maaş!V80)","v":""},{"$f":"IF(Maaş!X80=\"\",\"\",Maaş!X80)","v":""},{"$f":"IF(Maaş!Z80=\"\",\"\",Maaş!Z80)","v":""},{"$f":"IF(Maaş!AB80=\"\",\"\",Maaş!AB80)","v":""},{"$f":"IF(Maaş!AD80=\"\",\"\",Maaş!AD80)","v":""},{"$f":"IF(Maaş!AI80=\"\",\"\",Maaş!AI80)","v":""},{"$f":"IF(Maaş!B80=\"\",0,1)","v":0}]
[6,{"$f":"IF(Maaş!B81=\"\",\"\",Maaş!B81)","v":""},{"$f":"IF(Maaş!F81=\"\",\"\",Maaş!F81)","v":""},null,null,{"$f":"IF(Maaş!O81=\"\",\"\",Maaş!O81)","v":""},null,{"$f":"IF(Maaş!V81=\"\",\"\",Maaş!V81)","v":""},{"$f":"IF(Maaş!X81=\"\",\"\",Maaş!X81)","v":""},{"$f":"IF(Maaş!Z81=\"\",\"\",Maaş!Z81)","v":""},{"$f":"IF(Maaş!AB81=\"\",\"\",Maaş!AB81)","v":""},{"$f":"IF(Maaş!AD81=\"\",\"\",Maaş!AD81)","v":""},{"$f":"IF(Maaş!AI81=\"\",\"\",Maaş!AI81)","v":""},{"$f":"IF(Maaş!B81=\"\",0,1)","v":0}]
[7,{"$f":"IF(Maaş!B82=\"\",\"\",Maaş!B82)","v":""},{"$f":"IF(Maaş!F82=\"\",\"\",Maaş!F82)","v":""},null,null,{"$f":"IF(Maaş!O82=\"\",\"\",Maaş!O82)","v":""},null,{"$f":"IF(Maaş!V82=\"\",\"\",Maaş!V82)","v":""},{"$f":"IF(Maaş!X82=\"\",\"\",Maaş!X82)","v":""},{"$f":"IF(Maaş!Z82=\"\",\"\",Maaş!Z82)","v":""},{"$f":"IF(Maaş!AB82=\"\",\"\",Maaş!AB82)","v":""},{"$f":"IF(Maaş!AD82=\"\",\"\",Maaş!AD82)","v":""},{"$f":"IF(Maaş!AI82=\"\",\"\",Maaş!AI82)","v":""},{"$f":"IF(Maaş!B82=\"\",0,1)","v":0}]
[8,{"$f":"IF(Maaş!B83=\"\",\"\",Maaş!B83)","v":""},{"$f":"IF(Maaş!F83=\"\",\"\",Maaş!F83)","v":""},null,null,{"$f":"IF(Maaş!O83=\"\",\"\",Maaş!O83)","v":""},null,{"$f":"IF(Maaş!V83=\"\",\"\",Maaş!V83)","v":""},{"$f":"IF(Maaş!X83=\"\",\"\",Maaş!X83)","v":""},{"$f":"IF(Maaş!Z83=\"\",\"\",Maaş!Z83)","v":""},{"$f":"IF(Maaş!AB83=\"\",\"\",Maaş!AB83)","v":""},{"$f":"IF(Maaş!AD83=\"\",\"\",Maaş!AD83)","v":""},{"$f":"IF(Maaş!AI83=\"\",\"\",Maaş!AI83)","v":""},{"$f":"IF(Maaş!B83=\"\",0,1)","v":0}]
[9,{"$f":"IF(Maaş!B84=\"\",\"\",Maaş!B84)","v":""},{"$f":"IF(Maaş!F84=\"\",\"\",Maaş!F84)","v":""},null,null,{"$f":"IF(Maaş!O84=\"\",\"\",Maaş!O84)","v":""},null,{"$f":"IF(Maaş!V84=\"\",\"\",Maaş!V84)","v":""},{"$f":"IF(Maaş!X84=\"\",\"\",Maaş!X84)","v":""},{"$f":"IF(Maaş!Z84=\"\",\"\",Maaş!Z84)","v":""},{"$f":"IF(Maaş!AB84=\"\",\"\",Maaş!AB84)","v":""},{"$f":"IF(Maaş!AD84=\"\",\"\",Maaş!AD84)","v":""},{"$f":"IF(Maaş!AI84=\"\",\"\",Maaş!AI84)","v":""},{"$f":"IF(Maaş!B84=\"\",0,1)","v":0}]
[10,{"$f":"IF(Maaş!B85=\"\",\"\",Maaş!B85)","v":""},{"$f":"IF(Maaş!F85=\"\",\"\",Maaş!F85)","v":""},null,null,{"$f":"IF(Maaş!O85=\"\",\"\",Maaş!O85)","v":""},null,{"$f":"IF(Maaş!V85=\"\",\"\",Maaş!V85)","v":""},{"$f":"IF(Maaş!X85=\"\",\"\",Maaş!X85)","v":""},{"$f":"IF(Maaş!Z85=\"\",\"\",Maaş!Z85)","v":""},{"$f":"IF(Maaş!AB85=\"\",\"\",Maaş!AB85)","v":""},{"$f":"IF(Maaş!AD85=\"\",\"\",Maaş!AD85)","v":""},{"$f":"IF(Maaş!AI85=\"\",\"\",Maaş!AI85)","v":""},{"$f":"IF(Maaş!B85=\"\",0,1)","v":0}]
[11,{"$f":"IF(Maaş!B86=\"\",\"\",Maaş!B86)","v":""},{"$f":"IF(Maaş!F86=\"\",\"\",Maaş!F86)","v":""},null,null,{"$f":"IF(Maaş!O86=\"\",\"\",Maaş!O86)","v":""},null,{"$f":"IF(Maaş!V86=\"\",\"\",Maaş!V86)","v":""},{"$f":"IF(Maaş!X86=\"\",\"\",Maaş!X86)","v":""},{"$f":"IF(Maaş!Z86=\"\",\"\",Maaş!Z86)","v":""},{"$f":"IF(Maaş!AB86=\"\",\"\",Maaş!AB86)","v":""},{"$f":"IF(Maaş!AD86=\"\",\"\",Maaş!AD86)","v":""},{"$f":"IF(Maaş!AI86=\"\",\"\",Maaş!AI86)","v":""},{"$f":"IF(Maaş!B86=\"\",0,1)","v":0}]
[12,{"$f":"IF(Maaş!B87=\"\",\"\",Maaş!B87)","v":""},{"$f":"IF(Maaş!F87=\"\",\"\",Maaş!F87)","v":""},null,null,{"$f":"IF(Maaş!O87=\"\",\"\",Maaş!O87)","v":""},null,{"$f":"IF(Maaş!V87=\"\",\"\",Maaş!V87)","v":""},{"$f":"IF(Maaş!X87=\"\",\"\",Maaş!X87)","v":""},{"$f":"IF(Maaş!Z87=\"\",\"\",Maaş!Z87)","v":""},{"$f":"IF(Maaş!AB87=\"\",\"\",Maaş!AB87)","v":""},{"$f":"IF(Maaş!AD87=\"\",\"\",Maaş!AD87)","v":""},{"$f":"IF(Maaş!AI87=\"\",\"\",Maaş!AI87)","v":""},{"$f":"IF(Maaş!B87=\"\",0,1)","v":0}]
[13,{"$f":"IF(Maaş!B88=\"\",\"\",Maaş!B88)","v":""},{"$f":"IF(Maaş!F88=\"\",\"\",Maaş!F88)","v":""},null,null,{"$f":"IF(Maaş!O88=\"\",\"\",Maaş!O88)","v":""},null,{"$f":"IF(Maaş!V88=\"\",\"\",Maaş!V88)","v":""},{"$f":"IF(Maaş!X88=\"\",\"\",Maaş!X88)","v":""},{"$f":"IF(Maaş!Z88=\"\",\"\",Maaş!Z88)","v":""},{"$f":"IF(Maaş!AB88=\"\",\"\",Maaş!AB88)","v":""},{"$f":"IF(Maaş!AD88=\"\",\"\",Maaş!AD88)","v":""},{"$f":"IF(Maaş!AI88=\"\",\"\",Maaş!AI88)","v":""},{"$f":"IF(Maaş!B88=\"\",0,1)","v":0}]
[14,{"$f":"IF(Maaş!B89=\"\",\"\",Maaş!B89)","v":""},{"$f":"IF(Maaş!F89=\"\",\"\",Maaş!F89)","v":""},null,null,{"$f":"IF(Maaş!O89=\"\",\"\",Maaş!O89)","v":""},null,{"$f":"IF(Maaş!V89=\"\",\"\",Maaş!V89)","v":""},{"$f":"IF(Maaş!X89=\"\",\"\",Maaş!X89)","v":""},{"$f":"IF(Maaş!Z89=\"\",\"\",Maaş!Z89)","v":""},{"$f":"IF(Maaş!AB89=\"\",\"\",Maaş!AB89)","v":""},{"$f":"IF(Maaş!AD89=\"\",\"\",Maaş!AD89)","v":""},{"$f":"IF(Maaş!AI89=\"\",\"\",Maaş!AI89)","v":""},{"$f":"IF(Maaş!B89=\"\",0,1)","v":0}]
[15,{"$f":"IF(Maaş!B90=\"\",\"\",Maaş!B90)","v":""},{"$f":"IF(Maaş!F90=\"\",\"\",Maaş!F90)","v":""},null,null,{"$f":"IF(Maaş!O90=\"\",\"\",Maaş!O90)","v":""},null,{"$f":"IF(Maaş!V90=\"\",\"\",Maaş!V90)","v":""},{"$f":"IF(Maaş!X90=\"\",\"\",Maaş!X90)","v":""},{"$f":"IF(Maaş!Z90=\"\",\"\",Maaş!Z90)","v":""},{"$f":"IF(Maaş!AB90=\"\",\"\",Maaş!AB90)","v":""},{"$f":"IF(Maaş!AD90=\"\",\"\",Maaş!AD90)","v":""},{"$f":"IF(Maaş!AI90=\"\",\"\",Maaş!AI90)","v":""},{"$f":"IF(Maaş!B90=\"\",0,1)","v":0}]
[16,{"$f":"IF(Maaş!B91=\"\",\"\",Maaş!B91)","v":""},{"$f":"IF(Maaş!F91=\"\",\"\",Maaş!F91)","v":""},null,null,{"$f":"IF(Maaş!O91=\"\",\"\",Maaş!O91)","v":""},null,{"$f":"IF(Maaş!V91=\"\",\"\",Maaş!V91)","v":""},{"$f":"IF(Maaş!X91=\"\",\"\",Maaş!X91)","v":""},{"$f":"IF(Maaş!Z91=\"\",\"\",Maaş!Z91)","v":""},{"$f":"IF(Maaş!AB91=\"\",\"\",Maaş!AB91)","v":""},{"$f":"IF(Maaş!AD91=\"\",\"\",Maaş!AD91)","v":""},{"$f":"IF(Maaş!AI91=\"\",\"\",Maaş!AI91)","v":""},{"$f":"IF(Maaş!B91=\"\",0,1)","v":0}]
[17,{"$f":"IF(Maaş!B92=\"\",\"\",Maaş!B92)","v":""},{"$f":"IF(Maaş!F92=\"\",\"\",Maaş!F92)","v":""},null,null,{"$f":"IF(Maaş!O92=\"\",\"\",Maaş!O92)","v":""},null,{"$f":"IF(Maaş!V92=\"\",\"\",Maaş!V92)","v":""},{"$f":"IF(Maaş!X92=\"\",\"\",Maaş!X92)","v":""},{"$f":"IF(Maaş!Z92=\"\",\"\",Maaş!Z92)","v":""},{"$f":"IF(Maaş!AB92=\"\",\"\",Maaş!AB92)","v":""},{"$f":"IF(Maaş!AD92=\"\",\"\",Maaş!AD92)","v":""},{"$f":"IF(Maaş!AI92=\"\",\"\",Maaş!AI92)","v":""},{"$f":"IF(Maaş!B92=\"\",0,1)","v":0}]
[18,{"$f":"IF(Maaş!B93=\"\",\"\",Maaş!B93)","v":""},{"$f":"IF(Maaş!F93=\"\",\"\",Maaş!F93)","v":""},null,null,{"$f":"IF(Maaş!O93=\"\",\"\",Maaş!O93)","v":""},null,{"$f":"IF(Maaş!V93=\"\",\"\",Maaş!V93)","v":""},{"$f":"IF(Maaş!X93=\"\",\"\",Maaş!X93)","v":""},{"$f":"IF(Maaş!Z93=\"\",\"\",Maaş!Z93)","v":""},{"$f":"IF(Maaş!AB93=\"\",\"\",Maaş!AB93)","v":""},{"$f":"IF(Maaş!AD93=\"\",\"\",Maaş!AD93)","v":""},{"$f":"IF(Maaş!AI93=\"\",\"\",Maaş!AI93)","v":""},{"$f":"IF(Maaş!B93=\"\",0,1)","v":0}]
[19,{"$f":"IF(Maaş!B94=\"\",\"\",Maaş!B94)","v":""},{"$f":"IF(Maaş!F94=\"\",\"\",Maaş!F94)","v":""},null,null,{"$f":"IF(Maaş!O94=\"\",\"\",Maaş!O94)","v":""},null,{"$f":"IF(Maaş!V94=\"\",\"\",Maaş!V94)","v":""},{"$f":"IF(Maaş!X94=\"\",\"\",Maaş!X94)","v":""},{"$f":"IF(Maaş!Z94=\"\",\"\",Maaş!Z94)","v":""},{"$f":"IF(Maaş!AB94=\"\",\"\",Maaş!AB94)","v":""},{"$f":"IF(Maaş!AD94=\"\",\"\",Maaş!AD94)","v":""},{"$f":"IF(Maaş!AI94=\"\",\"\",Maaş!AI94)","v":""},{"$f":"IF(Maaş!B94=\"\",0,1)","v":0}]
[20,{"$f":"IF(Maaş!B95=\"\",\"\",Maaş!B95)","v":""},{"$f":"IF(Maaş!F95=\"\",\"\",Maaş!F95)","v":""},null,null,{"$f":"IF(Maaş!O95=\"\",\"\",Maaş!O95)","v":""},null,{"$f":"IF(Maaş!V95=\"\",\"\",Maaş!V95)","v":""},{"$f":"IF(Maaş!X95=\"\",\"\",Maaş!X95)","v":""},{"$f":"IF(Maaş!Z95=\"\",\"\",Maaş!Z95)","v":""},{"$f":"IF(Maaş!AB95=\"\",\"\",Maaş!AB95)","v":""},{"$f":"IF(Maaş!AD95=\"\",\"\",Maaş!AD95)","v":""},{"$f":"IF(Maaş!AI95=\"\",\"\",Maaş!AI95)","v":""},{"$f":"IF(Maaş!B95=\"\",0,1)","v":0}]
[21,{"$f":"IF(Maaş!B96=\"\",\"\",Maaş!B96)","v":""},{"$f":"IF(Maaş!F96=\"\",\"\",Maaş!F96)","v":""},null,null,{"$f":"IF(Maaş!O96=\"\",\"\",Maaş!O96)","v":""},null,{"$f":"IF(Maaş!V96=\"\",\"\",Maaş!V96)","v":""},{"$f":"IF(Maaş!X96=\"\",\"\",Maaş!X96)","v":""},{"$f":"IF(Maaş!Z96=\"\",\"\",Maaş!Z96)","v":""},{"$f":"IF(Maaş!AB96=\"\",\"\",Maaş!AB96)","v":""},{"$f":"IF(Maaş!AD96=\"\",\"\",Maaş!AD96)","v":""},{"$f":"IF(Maaş!AI96=\"\",\"\",Maaş!AI96)","v":""},{"$f":"IF(Maaş!B96=\"\",0,1)","v":0}]
[22,{"$f":"IF(Maaş!B97=\"\",\"\",Maaş!B97)","v":""},{"$f":"IF(Maaş!F97=\"\",\"\",Maaş!F97)","v":""},null,null,{"$f":"IF(Maaş!O97=\"\",\"\",Maaş!O97)","v":""},null,{"$f":"IF(Maaş!V97=\"\",\"\",Maaş!V97)","v":""},{"$f":"IF(Maaş!X97=\"\",\"\",Maaş!X97)","v":""},{"$f":"IF(Maaş!Z97=\"\",\"\",Maaş!Z97)","v":""},{"$f":"IF(Maaş!AB97=\"\",\"\",Maaş!AB97)","v":""},{"$f":"IF(Maaş!AD97=\"\",\"\",Maaş!AD97)","v":""},{"$f":"IF(Maaş!AI97=\"\",\"\",Maaş!AI97)","v":""},{"$f":"IF(Maaş!B97=\"\",0,1)","v":0}]
[23,{"$f":"IF(Maaş!B98=\"\",\"\",Maaş!B98)","v":""},{"$f":"IF(Maaş!F98=\"\",\"\",Maaş!F98)","v":""},null,null,{"$f":"IF(Maaş!O98=\"\",\"\",Maaş!O98)","v":""},null,{"$f":"IF(Maaş!V98=\"\",\"\",Maaş!V98)","v":""},{"$f":"IF(Maaş!X98=\"\",\"\",Maaş!X98)","v":""},{"$f":"IF(Maaş!Z98=\"\",\"\",Maaş!Z98)","v":""},{"$f":"IF(Maaş!AB98=\"\",\"\",Maaş!AB98)","v":""},{"$f":"IF(Maaş!AD98=\"\",\"\",Maaş!AD98)","v":""},{"$f":"IF(Maaş!AI98=\"\",\"\",Maaş!AI98)","v":""},{"$f":"IF(Maaş!B98=\"\",0,1)","v":0}]
[24,{"$f":"IF(Maaş!B99=\"\",\"\",Maaş!B99)","v":""},{"$f":"IF(Maaş!F99=\"\",\"\",Maaş!F99)","v":""},null,null,{"$f":"IF(Maaş!O99=\"\",\"\",Maaş!O99)","v":""},null,{"$f":"IF(Maaş!V99=\"\",\"\",Maaş!V99)","v":""},{"$f":"IF(Maaş!X99=\"\",\"\",Maaş!X99)","v":""},{"$f":"IF(Maaş!Z99=\"\",\"\",Maaş!Z99)","v":""},{"$f":"IF(Maaş!AB99=\"\",\"\",Maaş!AB99)","v":""},{"$f":"IF(Maaş!AD99=\"\",\"\",Maaş!AD99)","v":""},{"$f":"IF(Maaş!AI99=\"\",\"\",Maaş!AI99)","v":""},{"$f":"IF(Maaş!B99=\"\",0,1)","v":0}]
[25,{"$f":"IF(Maaş!B100=\"\",\"\",Maaş!B100)","v":""},{"$f":"IF(Maaş!F100=\"\",\"\",Maaş!F100)","v":""},null,null,{"$f":"IF(Maaş!O100=\"\",\"\",Maaş!O100)","v":""},null,{"$f":"IF(Maaş!V100=\"\",\"\",Maaş!V100)","v":""},{"$f":"IF(Maaş!X100=\"\",\"\",Maaş!X100)","v":""},{"$f":"IF(Maaş!Z100=\"\",\"\",Maaş!Z100)","v":""},{"$f":"IF(Maaş!AB100=\"\",\"\",Maaş!AB100)","v":""},{"$f":"IF(Maaş!AD100=\"\",\"\",Maaş!AD100)","v":""},{"$f":"IF(Maaş!AI100=\"\",\"\",Maaş!AI100)","v":""},{"$f":"IF(Maaş!B100=\"\",0,1)","v":0}]
[26,{"$f":"IF(Maaş!B101=\"\",\"\",Maaş!B101)","v":""},{"$f":"IF(Maaş!F101=\"\",\"\",Maaş!F101)","v":""},null,null,{"$f":"IF(Maaş!O101=\"\",\"\",Maaş!O101)","v":""},null,{"$f":"IF(Maaş!V101=\"\",\"\",Maaş!V101)","v":""},{"$f":"IF(Maaş!X101=\"\",\"\",Maaş!X101)","v":""},{"$f":"IF(Maaş!Z101=\"\",\"\",Maaş!Z101)","v":""},{"$f":"IF(Maaş!AB101=\"\",\"\",Maaş!AB101)","v":""},{"$f":"IF(Maaş!AD101=\"\",\"\",Maaş!AD101)","v":""},{"$f":"IF(Maaş!AI101=\"\",\"\",Maaş!AI101)","v":""},{"$f":"IF(Maaş!B101=\"\",0,1)","v":0}]
[27,{"$f":"IF(Maaş!B102=\"\",\"\",Maaş!B102)","v":""},{"$f":"IF(Maaş!F102=\"\",\"\",Maaş!F102)","v":""},null,null,{"$f":"IF(Maaş!O102=\"\",\"\",Maaş!O102)","v":""},null,{"$f":"IF(Maaş!V102=\"\",\"\",Maaş!V102)","v":""},{"$f":"IF(Maaş!X102=\"\",\"\",Maaş!X102)","v":""},{"$f":"IF(Maaş!Z102=\"\",\"\",Maaş!Z102)","v":""},{"$f":"IF(Maaş!AB102=\"\",\"\",Maaş!AB102)","v":""},{"$f":"IF(Maaş!AD102=\"\",\"\",Maaş!AD102)","v":""},{"$f":"IF(Maaş!AI102=\"\",\"\",Maaş!AI102)","v":""},{"$f":"IF(Maaş!B102=\"\",0,1)","v":0}]
[28,{"$f":"IF(Maaş!B103=\"\",\"\",Maaş!B103)","v":""},{"$f":"IF(Maaş!F103=\"\",\"\",Maaş!F103)","v":""},null,null,{"$f":"IF(Maaş!O103=\"\",\"\",Maaş!O103)","v":""},null,{"$f":"IF(Maaş!V103=\"\",\"\",Maaş!V103)","v":""},{"$f":"IF(Maaş!X103=\"\",\"\",Maaş!X103)","v":""},{"$f":"IF(Maaş!Z103=\"\",\"\",Maaş!Z103)","v":""},{"$f":"IF(Maaş!AB103=\"\",\"\",Maaş!AB103)","v":""},{"$f":"IF(Maaş!AD103=\"\",\"\",Maaş!AD103)","v":""},{"$f":"IF(Maaş!AI103=\"\",\"\",Maaş!AI103)","v":""},{"$f":"IF(Maaş!B103=\"\",0,1)","v":0}]
[29,{"$f":"IF(Maaş!B104=\"\",\"\",Maaş!B104)","v":""},{"$f":"IF(Maaş!F104=\"\",\"\",Maaş!F104)","v":""},null,null,{"$f":"IF(Maaş!O104=\"\",\"\",Maaş!O104)","v":""},null,{"$f":"IF(Maaş!V104=\"\",\"\",Maaş!V104)","v":""},{"$f":"IF(Maaş!X104=\"\",\"\",Maaş!X104)","v":""},{"$f":"IF(Maaş!Z104=\"\",\"\",Maaş!Z104)","v":""},{"$f":"IF(Maaş!AB104=\"\",\"\",Maaş!AB104)","v":""},{"$f":"IF(Maaş!AD104=\"\",\"\",Maaş!AD104)","v":""},{"$f":"IF(Maaş!AI104=\"\",\"\",Maaş!AI104)","v":""},{"$f":"IF(Maaş!B104=\"\",0,1)","v":0}]
[30,{"$f":"IF(Maaş!B105=\"\",\"\",Maaş!B105)","v":""},{"$f":"IF(Maaş!F105=\"\",\"\",Maaş!F105)","v":""},null,null,{"$f":"IF(Maaş!O105=\"\",\"\",Maaş!O105)","v":""},null,{"$f":"IF(Maaş!V105=\"\",\"\",Maaş!V105)","v":""},{"$f":"IF(Maaş!X105=\"\",\"\",Maaş!X105)","v":""},{"$f":"IF(Maaş!Z105=\"\",\"\",Maaş!Z105)","v":""},{"$f":"IF(Maaş!AB105=\"\",\"\",Maaş!AB105)","v":""},{"$f":"IF(Maaş!AD105=\"\",\"\",Maaş!AD105)","v":""},{"$f":"IF(Maaş!AI105=\"\",\"\",Maaş!AI105)","v":""},{"$f":"IF(Maaş!B105=\"\",0,1)","v":0}]
["BU BÖLÜMDE MAAŞ DEĞİŞİKLİĞİ YOKTUR",null,null,null,null,null,null,null,null,null,null,null,null,{"$f":"IF(SUM(N76:N105)=0,1,0)","v":1}]
["D) MAAŞ DEĞİŞİKLİĞİ YAPILACAK PERSONELİN",null,null,null,null,null,null,null,null,null,null,null,null,1]
["S. No","Kimlik No","Adı Soyadı    ",null,null,"Maaş Bilgileri Değişikliği",null,null,null,null,null,null,"Değişiklik\nTarihi",{"$f":"IF(N140=0,1,0)","v":0}]
[null,null,null,null,null,"Önceki Durumu",null,null,"Yeni Durumu",null,null,null,null,{"$f":"IF(N140=0,1,0)","v":0}]
[1,{"$f":"IF(Maaş!B109=\"\",\"\",Maaş!B109)","v":""},{"$f":"IF(Maaş!F109=\"\",\"\",Maaş!F109)","v":""},null,null,{"$f":"IF(Maaş!O109=\"\",\"\",Maaş!O109)","v":""},null,null,{"$f":"IF(Maaş!Y109=\"\",\"\",Maaş!Y109)","v":""},null,null,null,{"$f":"IF(Maaş!AJ109=\"\",\"\",Maaş!AJ109)","v":""},{"$f":"IF(Maaş!B109=\"\",0,1)","v":0}]
[2,{"$f":"IF(Maaş!B110=\"\",\"\",Maaş!B110)","v":""},{"$f":"IF(Maaş!F110=\"\",\"\",Maaş!F110)","v":""},null,null,{"$f":"IF(Maaş!O110=\"\",\"\",Maaş!O110)","v":""},null,null,{"$f":"IF(Maaş!Y110=\"\",\"\",Maaş!Y110)","v":""},null,null,null,{"$f":"IF(Maaş!AJ110=\"\",\"\",Maaş!AJ110)","v":""},{"$f":"IF(Maaş!B110=\"\",0,1)","v":0}]
[3,{"$f":"IF(Maaş!B111=\"\",\"\",Maaş!B111)","v":""},{"$f":"IF(Maaş!F111=\"\",\"\",Maaş!F111)","v":""},null,null,{"$f":"IF(Maaş!O111=\"\",\"\",Maaş!O111)","v":""},null,null,{"$f":"IF(Maaş!Y111=\"\",\"\",Maaş!Y111)","v":""},null,null,null,{"$f":"IF(Maaş!AJ111=\"\",\"\",Maaş!AJ111)","v":""},{"$f":"IF(Maaş!B111=\"\",0,1)","v":0}]
[4,{"$f":"IF(Maaş!B112=\"\",\"\",Maaş!B112)","v":""},{"$f":"IF(Maaş!F112=\"\",\"\",Maaş!F112)","v":""},null,null,{"$f":"IF(Maaş!O112=\"\",\"\",Maaş!O112)","v":""},null,null,{"$f":"IF(Maaş!Y112=\"\",\"\",Maaş!Y112)","v":""},null,null,null,{"$f":"IF(Maaş!AJ112=\"\",\"\",Maaş!AJ112)","v":""},{"$f":"IF(Maaş!B112=\"\",0,1)","v":0}]
[5,{"$f":"IF(Maaş!B113=\"\",\"\",Maaş!B113)","v":""},{"$f":"IF(Maaş!F113=\"\",\"\",Maaş!F113)","v":""},null,null,{"$f":"IF(Maaş!O113=\"\",\"\",Maaş!O113)","v":""},null,null,{"$f":"IF(Maaş!Y113=\"\",\"\",Maaş!Y113)","v":""},null,null,null,{"$f":"IF(Maaş!AJ113=\"\",\"\",Maaş!AJ113)","v":""},{"$f":"IF(Maaş!B113=\"\",0,1)","v":0}]
[6,{"$f":"IF(Maaş!B114=\"\",\"\",Maaş!B114)","v":""},{"$f":"IF(Maaş!F114=\"\",\"\",Maaş!F114)","v":""},null,null,{"$f":"IF(Maaş!O114=\"\",\"\",Maaş!O114)","v":""},null,null,{"$f":"IF(Maaş!Y114=\"\",\"\",Maaş!Y114)","v":""},null,null,null,{"$f":"IF(Maaş!AJ114=\"\",\"\",Maaş!AJ114)","v":""},{"$f":"IF(Maaş!B114=\"\",0,1)","v":0}]
[7,{"$f":"IF(Maaş!B115=\"\",\"\",Maaş!B115)","v":""},{"$f":"IF(Maaş!F115=\"\",\"\",Maaş!F115)","v":""},null,null,{"$f":"IF(Maaş!O115=\"\",\"\",Maaş!O115)","v":""},null,null,{"$f":"IF(Maaş!Y115=\"\",\"\",Maaş!Y115)","v":""},null,null,null,{"$f":"IF(Maaş!AJ115=\"\",\"\",Maaş!AJ115)","v":""},{"$f":"IF(Maaş!B115=\"\",0,1)","v":0}]
[8,{"$f":"IF(Maaş!B116=\"\",\"\",Maaş!B116)","v":""},{"$f":"IF(Maaş!F116=\"\",\"\",Maaş!F116)","v":""},null,null,{"$f":"IF(Maaş!O116=\"\",\"\",Maaş!O116)","v":""},null,null,{"$f":"IF(Maaş!Y116=\"\",\"\",Maaş!Y116)","v":""},null,null,null,{"$f":"IF(Maaş!AJ116=\"\",\"\",Maaş!AJ116)","v":""},{"$f":"IF(Maaş!B116=\"\",0,1)","v":0}]
[9,{"$f":"IF(Maaş!B117=\"\",\"\",Maaş!B117)","v":""},{"$f":"IF(Maaş!F117=\"\",\"\",Maaş!F117)","v":""},null,null,{"$f":"IF(Maaş!O117=\"\",\"\",Maaş!O117)","v":""},null,null,{"$f":"IF(Maaş!Y117=\"\",\"\",Maaş!Y117)","v":""},null,null,null,{"$f":"IF(Maaş!AJ117=\"\",\"\",Maaş!AJ117)","v":""},{"$f":"IF(Maaş!B117=\"\",0,1)","v":0}]
[10,{"$f":"IF(Maaş!B118=\"\",\"\",Maaş!B118)","v":""},{"$f":"IF(Maaş!F118=\"\",\"\",Maaş!F118)","v":""},null,null,{"$f":"IF(Maaş!O118=\"\",\"\",Maaş!O118)","v":""},null,null,{"$f":"IF(Maaş!Y118=\"\",\"\",Maaş!Y118)","v":""},null,null,null,{"$f":"IF(Maaş!AJ118=\"\",\"\",Maaş!AJ118)","v":""},{"$f":"IF(Maaş!B118=\"\",0,1)","v":0}]
[11,{"$f":"IF(Maaş!B119=\"\",\"\",Maaş!B119)","v":""},{"$f":"IF(Maaş!F119=\"\",\"\",Maaş!F119)","v":""},null,null,{"$f":"IF(Maaş!O119=\"\",\"\",Maaş!O119)","v":""},null,null,{"$f":"IF(Maaş!Y119=\"\",\"\",Maaş!Y119)","v":""},null,null,null,{"$f":"IF(Maaş!AJ119=\"\",\"\",Maaş!AJ119)","v":""},{"$f":"IF(Maaş!B119=\"\",0,1)","v":0}]
[12,{"$f":"IF(Maaş!B120=\"\",\"\",Maaş!B120)","v":""},{"$f":"IF(Maaş!F120=\"\",\"\",Maaş!F120)","v":""},null,null,{"$f":"IF(Maaş!O120=\"\",\"\",Maaş!O120)","v":""},null,null,{"$f":"IF(Maaş!Y120=\"\",\"\",Maaş!Y120)","v":""},null,null,null,{"$f":"IF(Maaş!AJ120=\"\",\"\",Maaş!AJ120)","v":""},{"$f":"IF(Maaş!B120=\"\",0,1)","v":0}]
[13,{"$f":"IF(Maaş!B121=\"\",\"\",Maaş!B121)","v":""},{"$f":"IF(Maaş!F121=\"\",\"\",Maaş!F121)","v":""},null,null,{"$f":"IF(Maaş!O121=\"\",\"\",Maaş!O121)","v":""},null,null,{"$f":"IF(Maaş!Y121=\"\",\"\",Maaş!Y121)","v":""},null,null,null,{"$f":"IF(Maaş!AJ121=\"\",\"\",Maaş!AJ121)","v":""},{"$f":"IF(Maaş!B121=\"\",0,1)","v":0}]
[14,{"$f":"IF(Maaş!B122=\"\",\"\",Maaş!B122)","v":""},{"$f":"IF(Maaş!F122=\"\",\"\",Maaş!F122)","v":""},null,null,{"$f":"IF(Maaş!O122=\"\",\"\",Maaş!O122)","v":""},null,null,{"$f":"IF(Maaş!Y122=\"\",\"\",Maaş!Y122)","v":""},null,null,null,{"$f":"IF(Maaş!AJ122=\"\",\"\",Maaş!AJ122)","v":""},{"$f":"IF(Maaş!B122=\"\",0,1)","v":0}]
[15,{"$f":"IF(Maaş!B123=\"\",\"\",Maaş!B123)","v":""},{"$f":"IF(Maaş!F123=\"\",\"\",Maaş!F123)","v":""},null,null,{"$f":"IF(Maaş!O123=\"\",\"\",Maaş!O123)","v":""},null,null,{"$f":"IF(Maaş!Y123=\"\",\"\",Maaş!Y123)","v":""},null,null,null,{"$f":"IF(Maaş!AJ123=\"\",\"\",Maaş!AJ123)","v":""},{"$f":"IF(Maaş!B123=\"\",0,1)","v":0}]
[16,{"$f":"IF(Maaş!B124=\"\",\"\",Maaş!B124)","v":""},{"$f":"IF(Maaş!F124=\"\",\"\",Maaş!F124)","v":""},null,null,{"$f":"IF(Maaş!O124=\"\",\"\",Maaş!O124)","v":""},null,null,{"$f":"IF(Maaş!Y124=\"\",\"\",Maaş!Y124)","v":""},null,null,null,{"$f":"IF(Maaş!AJ124=\"\",\"\",Maaş!AJ124)","v":""},{"$f":"IF(Maaş!B124=\"\",0,1)","v":0}]
[17,{"$f":"IF(Maaş!B125=\"\",\"\",Maaş!B125)","v":""},{"$f":"IF(Maaş!F125=\"\",\"\",Maaş!F125)","v":""},null,null,{"$f":"IF(Maaş!O125=\"\",\"\",Maaş!O125)","v":""},null,null,{"$f":"IF(Maaş!Y125=\"\",\"\",Maaş!Y125)","v":""},null,null,null,{"$f":"IF(Maaş!AJ125=\"\",\"\",Maaş!AJ125)","v":""},{"$f":"IF(Maaş!B125=\"\",0,1)","v":0}]
[18,{"$f":"IF(Maaş!B126=\"\",\"\",Maaş!B126)","v":""},{"$f":"IF(Maaş!F126=\"\",\"\",Maaş!F126)","v":""},null,null,{"$f":"IF(Maaş!O126=\"\",\"\",Maaş!O126)","v":""},null,null,{"$f":"IF(Maaş!Y126=\"\",\"\",Maaş!Y126)","v":""},null,null,null,{"$f":"IF(Maaş!AJ126=\"\",\"\",Maaş!AJ126)","v":""},{"$f":"IF(Maaş!B126=\"\",0,1)","v":0}]
[19,{"$f":"IF(Maaş!B127=\"\",\"\",Maaş!B127)","v":""},{"$f":"IF(Maaş!F127=\"\",\"\",Maaş!F127)","v":""},null,null,{"$f":"IF(Maaş!O127=\"\",\"\",Maaş!O127)","v":""},null,null,{"$f":"IF(Maaş!Y127=\"\",\"\",Maaş!Y127)","v":""},null,null,null,{"$f":"IF(Maaş!AJ127=\"\",\"\",Maaş!AJ127)","v":""},{"$f":"IF(Maaş!B127=\"\",0,1)","v":0}]
[20,{"$f":"IF(Maaş!B128=\"\",\"\",Maaş!B128)","v":""},{"$f":"IF(Maaş!F128=\"\",\"\",Maaş!F128)","v":""},null,null,{"$f":"IF(Maaş!O128=\"\",\"\",Maaş!O128)","v":""},null,null,{"$f":"IF(Maaş!Y128=\"\",\"\",Maaş!Y128)","v":""},null,null,null,{"$f":"IF(Maaş!AJ128=\"\",\"\",Maaş!AJ128)","v":""},{"$f":"IF(Maaş!B128=\"\",0,1)","v":0}]
[21,{"$f":"IF(Maaş!B129=\"\",\"\",Maaş!B129)","v":""},{"$f":"IF(Maaş!F129=\"\",\"\",Maaş!F129)","v":""},null,null,{"$f":"IF(Maaş!O129=\"\",\"\",Maaş!O129)","v":""},null,null,{"$f":"IF(Maaş!Y129=\"\",\"\",Maaş!Y129)","v":""},null,null,null,{"$f":"IF(Maaş!AJ129=\"\",\"\",Maaş!AJ129)","v":""},{"$f":"IF(Maaş!B129=\"\",0,1)","v":0}]
[22,{"$f":"IF(Maaş!B130=\"\",\"\",Maaş!B130)","v":""},{"$f":"IF(Maaş!F130=\"\",\"\",Maaş!F130)","v":""},null,null,{"$f":"IF(Maaş!O130=\"\",\"\",Maaş!O130)","v":""},null,null,{"$f":"IF(Maaş!Y130=\"\",\"\",Maaş!Y130)","v":""},null,null,null,{"$f":"IF(Maaş!AJ130=\"\",\"\",Maaş!AJ130)","v":""},{"$f":"IF(Maaş!B130=\"\",0,1)","v":0}]
[23,{"$f":"IF(Maaş!B131=\"\",\"\",Maaş!B131)","v":""},{"$f":"IF(Maaş!F131=\"\",\"\",Maaş!F131)","v":""},null,null,{"$f":"IF(Maaş!O131=\"\",\"\",Maaş!O131)","v":""},null,null,{"$f":"IF(Maaş!Y131=\"\",\"\",Maaş!Y131)","v":""},null,null,null,{"$f":"IF(Maaş!AJ131=\"\",\"\",Maaş!AJ131)","v":""},{"$f":"IF(Maaş!B131=\"\",0,1)","v":0}]
[24,{"$f":"IF(Maaş!B132=\"\",\"\",Maaş!B132)","v":""},{"$f":"IF(Maaş!F132=\"\",\"\",Maaş!F132)","v":""},null,null,{"$f":"IF(Maaş!O132=\"\",\"\",Maaş!O132)","v":""},null,null,{"$f":"IF(Maaş!Y132=\"\",\"\",Maaş!Y132)","v":""},null,null,null,{"$f":"IF(Maaş!AJ132=\"\",\"\",Maaş!AJ132)","v":""},{"$f":"IF(Maaş!B132=\"\",0,1)","v":0}]
[25,{"$f":"IF(Maaş!B133=\"\",\"\",Maaş!B133)","v":""},{"$f":"IF(Maaş!F133=\"\",\"\",Maaş!F133)","v":""},null,null,{"$f":"IF(Maaş!O133=\"\",\"\",Maaş!O133)","v":""},null,null,{"$f":"IF(Maaş!Y133=\"\",\"\",Maaş!Y133)","v":""},null,null,null,{"$f":"IF(Maaş!AJ133=\"\",\"\",Maaş!AJ133)","v":""},{"$f":"IF(Maaş!B133=\"\",0,1)","v":0}]
[26,{"$f":"IF(Maaş!B134=\"\",\"\",Maaş!B134)","v":""},{"$f":"IF(Maaş!F134=\"\",\"\",Maaş!F134)","v":""},null,null,{"$f":"IF(Maaş!O134=\"\",\"\",Maaş!O134)","v":""},null,null,{"$f":"IF(Maaş!Y134=\"\",\"\",Maaş!Y134)","v":""},null,null,null,{"$f":"IF(Maaş!AJ134=\"\",\"\",Maaş!AJ134)","v":""},{"$f":"IF(Maaş!B134=\"\",0,1)","v":0}]
[27,{"$f":"IF(Maaş!B135=\"\",\"\",Maaş!B135)","v":""},{"$f":"IF(Maaş!F135=\"\",\"\",Maaş!F135)","v":""},null,null,{"$f":"IF(Maaş!O135=\"\",\"\",Maaş!O135)","v":""},null,null,{"$f":"IF(Maaş!Y135=\"\",\"\",Maaş!Y135)","v":""},null,null,null,{"$f":"IF(Maaş!AJ135=\"\",\"\",Maaş!AJ135)","v":""},{"$f":"IF(Maaş!B135=\"\",0,1)","v":0}]
[28,{"$f":"IF(Maaş!B136=\"\",\"\",Maaş!B136)","v":""},{"$f":"IF(Maaş!F136=\"\",\"\",Maaş!F136)","v":""},null,null,{"$f":"IF(Maaş!O136=\"\",\"\",Maaş!O136)","v":""},null,null,{"$f":"IF(Maaş!Y136=\"\",\"\",Maaş!Y136)","v":""},null,null,null,{"$f":"IF(Maaş!AJ136=\"\",\"\",Maaş!AJ136)","v":""},{"$f":"IF(Maaş!B136=\"\",0,1)","v":0}]
[29,{"$f":"IF(Maaş!B137=\"\",\"\",Maaş!B137)","v":""},{"$f":"IF(Maaş!F137=\"\",\"\",Maaş!F137)","v":""},null,null,{"$f":"IF(Maaş!O137=\"\",\"\",Maaş!O137)","v":""},null,null,{"$f":"IF(Maaş!Y137=\"\",\"\",Maaş!Y137)","v":""},null,null,null,{"$f":"IF(Maaş!AJ137=\"\",\"\",Maaş!AJ137)","v":""},{"$f":"IF(Maaş!B137=\"\",0,1)","v":0}]
[30,{"$f":"IF(Maaş!B138=\"\",\"\",Maaş!B138)","v":""},{"$f":"IF(Maaş!F138=\"\",\"\",Maaş!F138)","v":""},null,null,{"$f":"IF(Maaş!O138=\"\",\"\",Maaş!O138)","v":""},null,null,{"$f":"IF(Maaş!Y138=\"\",\"\",Maaş!Y138)","v":""},null,null,null,{"$f":"IF(Maaş!AJ138=\"\",\"\",Maaş!AJ138)","v":""},{"$f":"IF(Maaş!B138=\"\",0,1)","v":0}]
["BU BÖLÜMDE MAAŞ DEĞİŞİKLİĞİ YOKTUR",null,null,null,null,null,null,null,null,null,null,null,null,{"$f":"IF(SUM(N110:N139)=0,1,0)","v":1}]
["E) KESİNTİLER",null,null,null,null,null,null,null,null,null,null,null,null,1]
["S. No","Kimlik No","Adı Soyadı    ",null,null,"Kesintinin ",null,null,null,null,null,null,null,{"$f":"IF(N174=0,1,0)","v":0}]
[null,null,null,null,null,"Çeşidi",null,"İcra/Sigorta Acentesi Adı",null,null,"Dosya No",null,"Miktarı",{"$f":"IF(N174=0,1,0)","v":0}]
[1,{"$f":"IF(Maaş!B142=\"\",\"\",Maaş!B142)","v":""},{"$f":"IF(Maaş!F142=\"\",\"\",Maaş!F142)","v":""},null,null,{"$f":"IF(Maaş!O142=\"\",\"\",Maaş!O142)","v":""},null,{"$f":"IF(Maaş!T142=\"\",\"\",Maaş!T142)","v":""},null,null,{"$f":"IF(Maaş!AD142=\"\",\"\",Maaş!AD142)","v":""},null,{"$f":"IF(Maaş!AJ142=\"\",\"\",Maaş!AJ142)","v":""},{"$f":"IF(Maaş!B142=\"\",0,1)","v":0}]
[2,{"$f":"IF(Maaş!B143=\"\",\"\",Maaş!B143)","v":""},{"$f":"IF(Maaş!F143=\"\",\"\",Maaş!F143)","v":""},null,null,{"$f":"IF(Maaş!O143=\"\",\"\",Maaş!O143)","v":""},null,{"$f":"IF(Maaş!T143=\"\",\"\",Maaş!T143)","v":""},null,null,{"$f":"IF(Maaş!AD143=\"\",\"\",Maaş!AD143)","v":""},null,{"$f":"IF(Maaş!AJ143=\"\",\"\",Maaş!AJ143)","v":""},{"$f":"IF(Maaş!B143=\"\",0,1)","v":0}]
[3,{"$f":"IF(Maaş!B144=\"\",\"\",Maaş!B144)","v":""},{"$f":"IF(Maaş!F144=\"\",\"\",Maaş!F144)","v":""},null,null,{"$f":"IF(Maaş!O144=\"\",\"\",Maaş!O144)","v":""},null,{"$f":"IF(Maaş!T144=\"\",\"\",Maaş!T144)","v":""},null,null,{"$f":"IF(Maaş!AD144=\"\",\"\",Maaş!AD144)","v":""},null,{"$f":"IF(Maaş!AJ144=\"\",\"\",Maaş!AJ144)","v":""},{"$f":"IF(Maaş!B144=\"\",0,1)","v":0}]
[4,{"$f":"IF(Maaş!B145=\"\",\"\",Maaş!B145)","v":""},{"$f":"IF(Maaş!F145=\"\",\"\",Maaş!F145)","v":""},null,null,{"$f":"IF(Maaş!O145=\"\",\"\",Maaş!O145)","v":""},null,{"$f":"IF(Maaş!T145=\"\",\"\",Maaş!T145)","v":""},null,null,{"$f":"IF(Maaş!AD145=\"\",\"\",Maaş!AD145)","v":""},null,{"$f":"IF(Maaş!AJ145=\"\",\"\",Maaş!AJ145)","v":""},{"$f":"IF(Maaş!B145=\"\",0,1)","v":0}]
[5,{"$f":"IF(Maaş!B146=\"\",\"\",Maaş!B146)","v":""},{"$f":"IF(Maaş!F146=\"\",\"\",Maaş!F146)","v":""},null,null,{"$f":"IF(Maaş!O146=\"\",\"\",Maaş!O146)","v":""},null,{"$f":"IF(Maaş!T146=\"\",\"\",Maaş!T146)","v":""},null,null,{"$f":"IF(Maaş!AD146=\"\",\"\",Maaş!AD146)","v":""},null,{"$f":"IF(Maaş!AJ146=\"\",\"\",Maaş!AJ146)","v":""},{"$f":"IF(Maaş!B146=\"\",0,1)","v":0}]
[6,{"$f":"IF(Maaş!B147=\"\",\"\",Maaş!B147)","v":""},{"$f":"IF(Maaş!F147=\"\",\"\",Maaş!F147)","v":""},null,null,{"$f":"IF(Maaş!O147=\"\",\"\",Maaş!O147)","v":""},null,{"$f":"IF(Maaş!T147=\"\",\"\",Maaş!T147)","v":""},null,null,{"$f":"IF(Maaş!AD147=\"\",\"\",Maaş!AD147)","v":""},null,{"$f":"IF(Maaş!AJ147=\"\",\"\",Maaş!AJ147)","v":""},{"$f":"IF(Maaş!B147=\"\",0,1)","v":0}]
[7,{"$f":"IF(Maaş!B148=\"\",\"\",Maaş!B148)","v":""},{"$f":"IF(Maaş!F148=\"\",\"\",Maaş!F148)","v":""},null,null,{"$f":"IF(Maaş!O148=\"\",\"\",Maaş!O148)","v":""},null,{"$f":"IF(Maaş!T148=\"\",\"\",Maaş!T148)","v":""},null,null,{"$f":"IF(Maaş!AD148=\"\",\"\",Maaş!AD148)","v":""},null,{"$f":"IF(Maaş!AJ148=\"\",\"\",Maaş!AJ148)","v":""},{"$f":"IF(Maaş!B148=\"\",0,1)","v":0}]
[8,{"$f":"IF(Maaş!B149=\"\",\"\",Maaş!B149)","v":""},{"$f":"IF(Maaş!F149=\"\",\"\",Maaş!F149)","v":""},null,null,{"$f":"IF(Maaş!O149=\"\",\"\",Maaş!O149)","v":""},null,{"$f":"IF(Maaş!T149=\"\",\"\",Maaş!T149)","v":""},null,null,{"$f":"IF(Maaş!AD149=\"\",\"\",Maaş!AD149)","v":""},null,{"$f":"IF(Maaş!AJ149=\"\",\"\",Maaş!AJ149)","v":""},{"$f":"IF(Maaş!B149=\"\",0,1)","v":0}]
[9,{"$f":"IF(Maaş!B150=\"\",\"\",Maaş!B150)","v":""},{"$f":"IF(Maaş!F150=\"\",\"\",Maaş!F150)","v":""},null,null,{"$f":"IF(Maaş!O150=\"\",\"\",Maaş!O150)","v":""},null,{"$f":"IF(Maaş!T150=\"\",\"\",Maaş!T150)","v":""},null,null,{"$f":"IF(Maaş!AD150=\"\",\"\",Maaş!AD150)","v":""},null,{"$f":"IF(Maaş!AJ150=\"\",\"\",Maaş!AJ150)","v":""},{"$f":"IF(Maaş!B150=\"\",0,1)","v":0}]
[10,{"$f":"IF(Maaş!B151=\"\",\"\",Maaş!B151)","v":""},{"$f":"IF(Maaş!F151=\"\",\"\",Maaş!F151)","v":""},null,null,{"$f":"IF(Maaş!O151=\"\",\"\",Maaş!O151)","v":""},null,{"$f":"IF(Maaş!T151=\"\",\"\",Maaş!T151)","v":""},null,null,{"$f":"IF(Maaş!AD151=\"\",\"\",Maaş!AD151)","v":""},null,{"$f":"IF(Maaş!AJ151=\"\",\"\",Maaş!AJ151)","v":""},{"$f":"IF(Maaş!B151=\"\",0,1)","v":0}]
[11,{"$f":"IF(Maaş!B152=\"\",\"\",Maaş!B152)","v":""},{"$f":"IF(Maaş!F152=\"\",\"\",Maaş!F152)","v":""},null,null,{"$f":"IF(Maaş!O152=\"\",\"\",Maaş!O152)","v":""},null,{"$f":"IF(Maaş!T152=\"\",\"\",Maaş!T152)","v":""},null,null,{"$f":"IF(Maaş!AD152=\"\",\"\",Maaş!AD152)","v":""},null,{"$f":"IF(Maaş!AJ152=\"\",\"\",Maaş!AJ152)","v":""},{"$f":"IF(Maaş!B152=\"\",0,1)","v":0}]
[12,{"$f":"IF(Maaş!B153=\"\",\"\",Maaş!B153)","v":""},{"$f":"IF(Maaş!F153=\"\",\"\",Maaş!F153)","v":""},null,null,{"$f":"IF(Maaş!O153=\"\",\"\",Maaş!O153)","v":""},null,{"$f":"IF(Maaş!T153=\"\",\"\",Maaş!T153)","v":""},null,null,{"$f":"IF(Maaş!AD153=\"\",\"\",Maaş!AD153)","v":""},null,{"$f":"IF(Maaş!AJ153=\"\",\"\",Maaş!AJ153)","v":""},{"$f":"IF(Maaş!B153=\"\",0,1)","v":0}]
[13,{"$f":"IF(Maaş!B154=\"\",\"\",Maaş!B154)","v":""},{"$f":"IF(Maaş!F154=\"\",\"\",Maaş!F154)","v":""},null,null,{"$f":"IF(Maaş!O154=\"\",\"\",Maaş!O154)","v":""},null,{"$f":"IF(Maaş!T154=\"\",\"\",Maaş!T154)","v":""},null,null,{"$f":"IF(Maaş!AD154=\"\",\"\",Maaş!AD154)","v":""},null,{"$f":"IF(Maaş!AJ154=\"\",\"\",Maaş!AJ154)","v":""},{"$f":"IF(Maaş!B154=\"\",0,1)","v":0}]
[14,{"$f":"IF(Maaş!B155=\"\",\"\",Maaş!B155)","v":""},{"$f":"IF(Maaş!F155=\"\",\"\",Maaş!F155)","v":""},null,null,{"$f":"IF(Maaş!O155=\"\",\"\",Maaş!O155)","v":""},null,{"$f":"IF(Maaş!T155=\"\",\"\",Maaş!T155)","v":""},null,null,{"$f":"IF(Maaş!AD155=\"\",\"\",Maaş!AD155)","v":""},null,{"$f":"IF(Maaş!AJ155=\"\",\"\",Maaş!AJ155)","v":""},{"$f":"IF(Maaş!B155=\"\",0,1)","v":0}]
[15,{"$f":"IF(Maaş!B156=\"\",\"\",Maaş!B156)","v":""},{"$f":"IF(Maaş!F156=\"\",\"\",Maaş!F156)","v":""},null,null,{"$f":"IF(Maaş!O156=\"\",\"\",Maaş!O156)","v":""},null,{"$f":"IF(Maaş!T156=\"\",\"\",Maaş!T156)","v":""},null,null,{"$f":"IF(Maaş!AD156=\"\",\"\",Maaş!AD156)","v":""},null,{"$f":"IF(Maaş!AJ156=\"\",\"\",Maaş!AJ156)","v":""},{"$f":"IF(Maaş!B156=\"\",0,1)","v":0}]
[16,{"$f":"IF(Maaş!B157=\"\",\"\",Maaş!B157)","v":""},{"$f":"IF(Maaş!F157=\"\",\"\",Maaş!F157)","v":""},null,null,{"$f":"IF(Maaş!O157=\"\",\"\",Maaş!O157)","v":""},null,{"$f":"IF(Maaş!T157=\"\",\"\",Maaş!T157)","v":""},null,null,{"$f":"IF(Maaş!AD157=\"\",\"\",Maaş!AD157)","v":""},null,{"$f":"IF(Maaş!AJ157=\"\",\"\",Maaş!AJ157)","v":""},{"$f":"IF(Maaş!B157=\"\",0,1)","v":0}]
[17,{"$f":"IF(Maaş!B158=\"\",\"\",Maaş!B158)","v":""},{"$f":"IF(Maaş!F158=\"\",\"\",Maaş!F158)","v":""},null,null,{"$f":"IF(Maaş!O158=\"\",\"\",Maaş!O158)","v":""},null,{"$f":"IF(Maaş!T158=\"\",\"\",Maaş!T158)","v":""},null,null,{"$f":"IF(Maaş!AD158=\"\",\"\",Maaş!AD158)","v":""},null,{"$f":"IF(Maaş!AJ158=\"\",\"\",Maaş!AJ158)","v":""},{"$f":"IF(Maaş!B158=\"\",0,1)","v":0}]
[18,{"$f":"IF(Maaş!B159=\"\",\"\",Maaş!B159)","v":""},{"$f":"IF(Maaş!F159=\"\",\"\",Maaş!F159)","v":""},null,null,{"$f":"IF(Maaş!O159=\"\",\"\",Maaş!O159)","v":""},null,{"$f":"IF(Maaş!T159=\"\",\"\",Maaş!T159)","v":""},null,null,{"$f":"IF(Maaş!AD159=\"\",\"\",Maaş!AD159)","v":""},null,{"$f":"IF(Maaş!AJ159=\"\",\"\",Maaş!AJ159)","v":""},{"$f":"IF(Maaş!B159=\"\",0,1)","v":0}]
[19,{"$f":"IF(Maaş!B160=\"\",\"\",Maaş!B160)","v":""},{"$f":"IF(Maaş!F160=\"\",\"\",Maaş!F160)","v":""},null,null,{"$f":"IF(Maaş!O160=\"\",\"\",Maaş!O160)","v":""},null,{"$f":"IF(Maaş!T160=\"\",\"\",Maaş!T160)","v":""},null,null,{"$f":"IF(Maaş!AD160=\"\",\"\",Maaş!AD160)","v":""},null,{"$f":"IF(Maaş!AJ160=\"\",\"\",Maaş!AJ160)","v":""},{"$f":"IF(Maaş!B160=\"\",0,1)","v":0}]
[20,{"$f":"IF(Maaş!B161=\"\",\"\",Maaş!B161)","v":""},{"$f":"IF(Maaş!F161=\"\",\"\",Maaş!F161)","v":""},null,null,{"$f":"IF(Maaş!O161=\"\",\"\",Maaş!O161)","v":""},null,{"$f":"IF(Maaş!T161=\"\",\"\",Maaş!T161)","v":""},null,null,{"$f":"IF(Maaş!AD161=\"\",\"\",Maaş!AD161)","v":""},null,{"$f":"IF(Maaş!AJ161=\"\",\"\",Maaş!AJ161)","v":""},{"$f":"IF(Maaş!B161=\"\",0,1)","v":0}]
[21,{"$f":"IF(Maaş!B162=\"\",\"\",Maaş!B162)","v":""},{"$f":"IF(Maaş!F162=\"\",\"\",Maaş!F162)","v":""},null,null,{"$f":"IF(Maaş!O162=\"\",\"\",Maaş!O162)","v":""},null,{"$f":"IF(Maaş!T162=\"\",\"\",Maaş!T162)","v":""},null,null,{"$f":"IF(Maaş!AD162=\"\",\"\",Maaş!AD162)","v":""},null,{"$f":"IF(Maaş!AJ162=\"\",\"\",Maaş!AJ162)","v":""},{"$f":"IF(Maaş!B162=\"\",0,1)","v":0}]
[22,{"$f":"IF(Maaş!B163=\"\",\"\",Maaş!B163)","v":""},{"$f":"IF(Maaş!F163=\"\",\"\",Maaş!F163)","v":""},null,null,{"$f":"IF(Maaş!O163=\"\",\"\",Maaş!O163)","v":""},null,{"$f":"IF(Maaş!T163=\"\",\"\",Maaş!T163)","v":""},null,null,{"$f":"IF(Maaş!AD163=\"\",\"\",Maaş!AD163)","v":""},null,{"$f":"IF(Maaş!AJ163=\"\",\"\",Maaş!AJ163)","v":""},{"$f":"IF(Maaş!B163=\"\",0,1)","v":0}]
[23,{"$f":"IF(Maaş!B164=\"\",\"\",Maaş!B164)","v":""},{"$f":"IF(Maaş!F164=\"\",\"\",Maaş!F164)","v":""},null,null,{"$f":"IF(Maaş!O164=\"\",\"\",Maaş!O164)","v":""},null,{"$f":"IF(Maaş!T164=\"\",\"\",Maaş!T164)","v":""},null,null,{"$f":"IF(Maaş!AD164=\"\",\"\",Maaş!AD164)","v":""},null,{"$f":"IF(Maaş!AJ164=\"\",\"\",Maaş!AJ164)","v":""},{"$f":"IF(Maaş!B164=\"\",0,1)","v":0}]
[24,{"$f":"IF(Maaş!B165=\"\",\"\",Maaş!B165)","v":""},{"$f":"IF(Maaş!F165=\"\",\"\",Maaş!F165)","v":""},null,null,{"$f":"IF(Maaş!O165=\"\",\"\",Maaş!O165)","v":""},null,{"$f":"IF(Maaş!T165=\"\",\"\",Maaş!T165)","v":""},null,null,{"$f":"IF(Maaş!AD165=\"\",\"\",Maaş!AD165)","v":""},null,{"$f":"IF(Maaş!AJ165=\"\",\"\",Maaş!AJ165)","v":""},{"$f":"IF(Maaş!B165=\"\",0,1)","v":0}]
[25,{"$f":"IF(Maaş!B166=\"\",\"\",Maaş!B166)","v":""},{"$f":"IF(Maaş!F166=\"\",\"\",Maaş!F166)","v":""},null,null,{"$f":"IF(Maaş!O166=\"\",\"\",Maaş!O166)","v":""},null,{"$f":"IF(Maaş!T166=\"\",\"\",Maaş!T166)","v":""},null,null,{"$f":"IF(Maaş!AD166=\"\",\"\",Maaş!AD166)","v":""},null,{"$f":"IF(Maaş!AJ166=\"\",\"\",Maaş!AJ166)","v":""},{"$f":"IF(Maaş!B166=\"\",0,1)","v":0}]
[26,{"$f":"IF(Maaş!B167=\"\",\"\",Maaş!B167)","v":""},{"$f":"IF(Maaş!F167=\"\",\"\",Maaş!F167)","v":""},null,null,{"$f":"IF(Maaş!O167=\"\",\"\",Maaş!O167)","v":""},null,{"$f":"IF(Maaş!T167=\"\",\"\",Maaş!T167)","v":""},null,null,{"$f":"IF(Maaş!AD167=\"\",\"\",Maaş!AD167)","v":""},null,{"$f":"IF(Maaş!AJ167=\"\",\"\",Maaş!AJ167)","v":""},{"$f":"IF(Maaş!B167=\"\",0,1)","v":0}]
[27,{"$f":"IF(Maaş!B168=\"\",\"\",Maaş!B168)","v":""},{"$f":"IF(Maaş!F168=\"\",\"\",Maaş!F168)","v":""},null,null,{"$f":"IF(Maaş!O168=\"\",\"\",Maaş!O168)","v":""},null,{"$f":"IF(Maaş!T168=\"\",\"\",Maaş!T168)","v":""},null,null,{"$f":"IF(Maaş!AD168=\"\",\"\",Maaş!AD168)","v":""},null,{"$f":"IF(Maaş!AJ168=\"\",\"\",Maaş!AJ168)","v":""},{"$f":"IF(Maaş!B168=\"\",0,1)","v":0}]
[28,{"$f":"IF(Maaş!B169=\"\",\"\",Maaş!B169)","v":""},{"$f":"IF(Maaş!F169=\"\",\"\",Maaş!F169)","v":""},null,null,{"$f":"IF(Maaş!O169=\"\",\"\",Maaş!O169)","v":""},null,{"$f":"IF(Maaş!T169=\"\",\"\",Maaş!T169)","v":""},null,null,{"$f":"IF(Maaş!AD169=\"\",\"\",Maaş!AD169)","v":""},null,{"$f":"IF(Maaş!AJ169=\"\",\"\",Maaş!AJ169)","v":""},{"$f":"IF(Maaş!B169=\"\",0,1)","v":0}]
[29,{"$f":"IF(Maaş!B170=\"\",\"\",Maaş!B170)","v":""},{"$f":"IF(Maaş!F170=\"\",\"\",Maaş!F170)","v":""},null,null,{"$f":"IF(Maaş!O170=\"\",\"\",Maaş!O170)","v":""},null,{"$f":"IF(Maaş!T170=\"\",\"\",Maaş!T170)","v":""},null,null,{"$f":"IF(Maaş!AD170=\"\",\"\",Maaş!AD170)","v":""},null,{"$f":"IF(Maaş!AJ170=\"\",\"\",Maaş!AJ170)","v":""},{"$f":"IF(Maaş!B170=\"\",0,1)","v":0}]
[30,{"$f":"IF(Maaş!B171=\"\",\"\",Maaş!B171)","v":""},{"$f":"IF(Maaş!F171=\"\",\"\",Maaş!F171)","v":""},null,null,{"$f":"IF(Maaş!O171=\"\",\"\",Maaş!O171)","v":""},null,{"$f":"IF(Maaş!T171=\"\",\"\",Maaş!T171)","v":""},null,null,{"$f":"IF(Maaş!AD171=\"\",\"\",Maaş!AD171)","v":""},null,{"$f":"IF(Maaş!AJ171=\"\",\"\",Maaş!AJ171)","v":""},{"$f":"IF(Maaş!B171=\"\",0,1)","v":0}]
["BU BÖLÜMDE MAAŞ DEĞİŞİKLİĞİ YOKTUR",null,null,null,null,null,null,null,null,null,null,null,null,{"$f":"IF(SUM(N144:N173)=0,1,0)","v":1}]
["G) RAPORLU GÜN",null,null,null,null,null,null,null,null,null,null,null,null,1]
["S. No","Kimlik No","Adı Soyadı    ",null,null,"Maaştan Kesinti Yapılacak Raporun",null,null,null,"Raporu Düzenleyen\nSağlık Kurumu",null,null,"Kesilecek\nGün Sayısı",{"$f":"IF(N208=0,1,0)","v":0}]
[null,null,null,null,null,"Başlama Tarihi",null,"Bitiş Tarihi",null,null,null,null,null,{"$f":"IF(N208=0,1,0)","v":0}]
[1,{"$f":"IF(Maaş!B175=\"\",\"\",Maaş!B175)","v":""},{"$f":"IF(Maaş!F175=\"\",\"\",Maaş!F175)","v":""},null,null,{"$f":"IF(Maaş!O175=\"\",\"\",Maaş!O175)","v":""},null,{"$f":"IF(Maaş!S175=\"\",\"\",Maaş!S175)","v":""},null,{"$f":"IF(Maaş!W175=\"\",\"\",Maaş!W175)","v":""},null,null,{"$f":"IF(Maaş!AK175=\"\",\"\",Maaş!AK175)","v":""},{"$f":"IF(Maaş!B175=\"\",0,1)","v":0}]
[2,{"$f":"IF(Maaş!B176=\"\",\"\",Maaş!B176)","v":""},{"$f":"IF(Maaş!F176=\"\",\"\",Maaş!F176)","v":""},null,null,{"$f":"IF(Maaş!O176=\"\",\"\",Maaş!O176)","v":""},null,{"$f":"IF(Maaş!S176=\"\",\"\",Maaş!S176)","v":""},null,{"$f":"IF(Maaş!W176=\"\",\"\",Maaş!W176)","v":""},null,null,{"$f":"IF(Maaş!AK176=\"\",\"\",Maaş!AK176)","v":""},{"$f":"IF(Maaş!B176=\"\",0,1)","v":0}]
[3,{"$f":"IF(Maaş!B177=\"\",\"\",Maaş!B177)","v":""},{"$f":"IF(Maaş!F177=\"\",\"\",Maaş!F177)","v":""},null,null,{"$f":"IF(Maaş!O177=\"\",\"\",Maaş!O177)","v":""},null,{"$f":"IF(Maaş!S177=\"\",\"\",Maaş!S177)","v":""},null,{"$f":"IF(Maaş!W177=\"\",\"\",Maaş!W177)","v":""},null,null,{"$f":"IF(Maaş!AK177=\"\",\"\",Maaş!AK177)","v":""},{"$f":"IF(Maaş!B177=\"\",0,1)","v":0}]
[4,{"$f":"IF(Maaş!B178=\"\",\"\",Maaş!B178)","v":""},{"$f":"IF(Maaş!F178=\"\",\"\",Maaş!F178)","v":""},null,null,{"$f":"IF(Maaş!O178=\"\",\"\",Maaş!O178)","v":""},null,{"$f":"IF(Maaş!S178=\"\",\"\",Maaş!S178)","v":""},null,{"$f":"IF(Maaş!W178=\"\",\"\",Maaş!W178)","v":""},null,null,{"$f":"IF(Maaş!AK178=\"\",\"\",Maaş!AK178)","v":""},{"$f":"IF(Maaş!B178=\"\",0,1)","v":0}]
[5,{"$f":"IF(Maaş!B179=\"\",\"\",Maaş!B179)","v":""},{"$f":"IF(Maaş!F179=\"\",\"\",Maaş!F179)","v":""},null,null,{"$f":"IF(Maaş!O179=\"\",\"\",Maaş!O179)","v":""},null,{"$f":"IF(Maaş!S179=\"\",\"\",Maaş!S179)","v":""},null,{"$f":"IF(Maaş!W179=\"\",\"\",Maaş!W179)","v":""},null,null,{"$f":"IF(Maaş!AK179=\"\",\"\",Maaş!AK179)","v":""},{"$f":"IF(Maaş!B179=\"\",0,1)","v":0}]
[6,{"$f":"IF(Maaş!B180=\"\",\"\",Maaş!B180)","v":""},{"$f":"IF(Maaş!F180=\"\",\"\",Maaş!F180)","v":""},null,null,{"$f":"IF(Maaş!O180=\"\",\"\",Maaş!O180)","v":""},null,{"$f":"IF(Maaş!S180=\"\",\"\",Maaş!S180)","v":""},null,{"$f":"IF(Maaş!W180=\"\",\"\",Maaş!W180)","v":""},null,null,{"$f":"IF(Maaş!AK180=\"\",\"\",Maaş!AK180)","v":""},{"$f":"IF(Maaş!B180=\"\",0,1)","v":0}]
[7,{"$f":"IF(Maaş!B181=\"\",\"\",Maaş!B181)","v":""},{"$f":"IF(Maaş!F181=\"\",\"\",Maaş!F181)","v":""},null,null,{"$f":"IF(Maaş!O181=\"\",\"\",Maaş!O181)","v":""},null,{"$f":"IF(Maaş!S181=\"\",\"\",Maaş!S181)","v":""},null,{"$f":"IF(Maaş!W181=\"\",\"\",Maaş!W181)","v":""},null,null,{"$f":"IF(Maaş!AK181=\"\",\"\",Maaş!AK181)","v":""},{"$f":"IF(Maaş!B181=\"\",0,1)","v":0}]
[8,{"$f":"IF(Maaş!B182=\"\",\"\",Maaş!B182)","v":""},{"$f":"IF(Maaş!F182=\"\",\"\",Maaş!F182)","v":""},null,null,{"$f":"IF(Maaş!O182=\"\",\"\",Maaş!O182)","v":""},null,{"$f":"IF(Maaş!S182=\"\",\"\",Maaş!S182)","v":""},null,{"$f":"IF(Maaş!W182=\"\",\"\",Maaş!W182)","v":""},null,null,{"$f":"IF(Maaş!AK182=\"\",\"\",Maaş!AK182)","v":""},{"$f":"IF(Maaş!B182=\"\",0,1)","v":0}]
[9,{"$f":"IF(Maaş!B183=\"\",\"\",Maaş!B183)","v":""},{"$f":"IF(Maaş!F183=\"\",\"\",Maaş!F183)","v":""},null,null,{"$f":"IF(Maaş!O183=\"\",\"\",Maaş!O183)","v":""},null,{"$f":"IF(Maaş!S183=\"\",\"\",Maaş!S183)","v":""},null,{"$f":"IF(Maaş!W183=\"\",\"\",Maaş!W183)","v":""},null,null,{"$f":"IF(Maaş!AK183=\"\",\"\",Maaş!AK183)","v":""},{"$f":"IF(Maaş!B183=\"\",0,1)","v":0}]
[10,{"$f":"IF(Maaş!B184=\"\",\"\",Maaş!B184)","v":""},{"$f":"IF(Maaş!F184=\"\",\"\",Maaş!F184)","v":""},null,null,{"$f":"IF(Maaş!O184=\"\",\"\",Maaş!O184)","v":""},null,{"$f":"IF(Maaş!S184=\"\",\"\",Maaş!S184)","v":""},null,{"$f":"IF(Maaş!W184=\"\",\"\",Maaş!W184)","v":""},null,null,{"$f":"IF(Maaş!AK184=\"\",\"\",Maaş!AK184)","v":""},{"$f":"IF(Maaş!B184=\"\",0,1)","v":0}]
[11,{"$f":"IF(Maaş!B185=\"\",\"\",Maaş!B185)","v":""},{"$f":"IF(Maaş!F185=\"\",\"\",Maaş!F185)","v":""},null,null,{"$f":"IF(Maaş!O185=\"\",\"\",Maaş!O185)","v":""},null,{"$f":"IF(Maaş!S185=\"\",\"\",Maaş!S185)","v":""},null,{"$f":"IF(Maaş!W185=\"\",\"\",Maaş!W185)","v":""},null,null,{"$f":"IF(Maaş!AK185=\"\",\"\",Maaş!AK185)","v":""},{"$f":"IF(Maaş!B185=\"\",0,1)","v":0}]
[12,{"$f":"IF(Maaş!B186=\"\",\"\",Maaş!B186)","v":""},{"$f":"IF(Maaş!F186=\"\",\"\",Maaş!F186)","v":""},null,null,{"$f":"IF(Maaş!O186=\"\",\"\",Maaş!O186)","v":""},null,{"$f":"IF(Maaş!S186=\"\",\"\",Maaş!S186)","v":""},null,{"$f":"IF(Maaş!W186=\"\",\"\",Maaş!W186)","v":""},null,null,{"$f":"IF(Maaş!AK186=\"\",\"\",Maaş!AK186)","v":""},{"$f":"IF(Maaş!B186=\"\",0,1)","v":0}]
[13,{"$f":"IF(Maaş!B187=\"\",\"\",Maaş!B187)","v":""},{"$f":"IF(Maaş!F187=\"\",\"\",Maaş!F187)","v":""},null,null,{"$f":"IF(Maaş!O187=\"\",\"\",Maaş!O187)","v":""},null,{"$f":"IF(Maaş!S187=\"\",\"\",Maaş!S187)","v":""},null,{"$f":"IF(Maaş!W187=\"\",\"\",Maaş!W187)","v":""},null,null,{"$f":"IF(Maaş!AK187=\"\",\"\",Maaş!AK187)","v":""},{"$f":"IF(Maaş!B187=\"\",0,1)","v":0}]
[14,{"$f":"IF(Maaş!B188=\"\",\"\",Maaş!B188)","v":""},{"$f":"IF(Maaş!F188=\"\",\"\",Maaş!F188)","v":""},null,null,{"$f":"IF(Maaş!O188=\"\",\"\",Maaş!O188)","v":""},null,{"$f":"IF(Maaş!S188=\"\",\"\",Maaş!S188)","v":""},null,{"$f":"IF(Maaş!W188=\"\",\"\",Maaş!W188)","v":""},null,null,{"$f":"IF(Maaş!AK188=\"\",\"\",Maaş!AK188)","v":""},{"$f":"IF(Maaş!B188=\"\",0,1)","v":0}]
[15,{"$f":"IF(Maaş!B189=\"\",\"\",Maaş!B189)","v":""},{"$f":"IF(Maaş!F189=\"\",\"\",Maaş!F189)","v":""},null,null,{"$f":"IF(Maaş!O189=\"\",\"\",Maaş!O189)","v":""},null,{"$f":"IF(Maaş!S189=\"\",\"\",Maaş!S189)","v":""},null,{"$f":"IF(Maaş!W189=\"\",\"\",Maaş!W189)","v":""},null,null,{"$f":"IF(Maaş!AK189=\"\",\"\",Maaş!AK189)","v":""},{"$f":"IF(Maaş!B189=\"\",0,1)","v":0}]
[16,{"$f":"IF(Maaş!B190=\"\",\"\",Maaş!B190)","v":""},{"$f":"IF(Maaş!F190=\"\",\"\",Maaş!F190)","v":""},null,null,{"$f":"IF(Maaş!O190=\"\",\"\",Maaş!O190)","v":""},null,{"$f":"IF(Maaş!S190=\"\",\"\",Maaş!S190)","v":""},null,{"$f":"IF(Maaş!W190=\"\",\"\",Maaş!W190)","v":""},null,null,{"$f":"IF(Maaş!AK190=\"\",\"\",Maaş!AK190)","v":""},{"$f":"IF(Maaş!B190=\"\",0,1)","v":0}]
[17,{"$f":"IF(Maaş!B191=\"\",\"\",Maaş!B191)","v":""},{"$f":"IF(Maaş!F191=\"\",\"\",Maaş!F191)","v":""},null,null,{"$f":"IF(Maaş!O191=\"\",\"\",Maaş!O191)","v":""},null,{"$f":"IF(Maaş!S191=\"\",\"\",Maaş!S191)","v":""},null,{"$f":"IF(Maaş!W191=\"\",\"\",Maaş!W191)","v":""},null,null,{"$f":"IF(Maaş!AK191=\"\",\"\",Maaş!AK191)","v":""},{"$f":"IF(Maaş!B191=\"\",0,1)","v":0}]
[18,{"$f":"IF(Maaş!B192=\"\",\"\",Maaş!B192)","v":""},{"$f":"IF(Maaş!F192=\"\",\"\",Maaş!F192)","v":""},null,null,{"$f":"IF(Maaş!O192=\"\",\"\",Maaş!O192)","v":""},null,{"$f":"IF(Maaş!S192=\"\",\"\",Maaş!S192)","v":""},null,{"$f":"IF(Maaş!W192=\"\",\"\",Maaş!W192)","v":""},null,null,{"$f":"IF(Maaş!AK192=\"\",\"\",Maaş!AK192)","v":""},{"$f":"IF(Maaş!B192=\"\",0,1)","v":0}]
[19,{"$f":"IF(Maaş!B193=\"\",\"\",Maaş!B193)","v":""},{"$f":"IF(Maaş!F193=\"\",\"\",Maaş!F193)","v":""},null,null,{"$f":"IF(Maaş!O193=\"\",\"\",Maaş!O193)","v":""},null,{"$f":"IF(Maaş!S193=\"\",\"\",Maaş!S193)","v":""},null,{"$f":"IF(Maaş!W193=\"\",\"\",Maaş!W193)","v":""},null,null,{"$f":"IF(Maaş!AK193=\"\",\"\",Maaş!AK193)","v":""},{"$f":"IF(Maaş!B193=\"\",0,1)","v":0}]
[20,{"$f":"IF(Maaş!B194=\"\",\"\",Maaş!B194)","v":""},{"$f":"IF(Maaş!F194=\"\",\"\",Maaş!F194)","v":""},null,null,{"$f":"IF(Maaş!O194=\"\",\"\",Maaş!O194)","v":""},null,{"$f":"IF(Maaş!S194=\"\",\"\",Maaş!S194)","v":""},null,{"$f":"IF(Maaş!W194=\"\",\"\",Maaş!W194)","v":""},null,null,{"$f":"IF(Maaş!AK194=\"\",\"\",Maaş!AK194)","v":""},{"$f":"IF(Maaş!B194=\"\",0,1)","v":0}]
[21,{"$f":"IF(Maaş!B195=\"\",\"\",Maaş!B195)","v":""},{"$f":"IF(Maaş!F195=\"\",\"\",Maaş!F195)","v":""},null,null,{"$f":"IF(Maaş!O195=\"\",\"\",Maaş!O195)","v":""},null,{"$f":"IF(Maaş!S195=\"\",\"\",Maaş!S195)","v":""},null,{"$f":"IF(Maaş!W195=\"\",\"\",Maaş!W195)","v":""},null,null,{"$f":"IF(Maaş!AK195=\"\",\"\",Maaş!AK195)","v":""},{"$f":"IF(Maaş!B195=\"\",0,1)","v":0}]
[22,{"$f":"IF(Maaş!B196=\"\",\"\",Maaş!B196)","v":""},{"$f":"IF(Maaş!F196=\"\",\"\",Maaş!F196)","v":""},null,null,{"$f":"IF(Maaş!O196=\"\",\"\",Maaş!O196)","v":""},null,{"$f":"IF(Maaş!S196=\"\",\"\",Maaş!S196)","v":""},null,{"$f":"IF(Maaş!W196=\"\",\"\",Maaş!W196)","v":""},null,null,{"$f":"IF(Maaş!AK196=\"\",\"\",Maaş!AK196)","v":""},{"$f":"IF(Maaş!B196=\"\",0,1)","v":0}]
[23,{"$f":"IF(Maaş!B197=\"\",\"\",Maaş!B197)","v":""},{"$f":"IF(Maaş!F197=\"\",\"\",Maaş!F197)","v":""},null,null,{"$f":"IF(Maaş!O197=\"\",\"\",Maaş!O197)","v":""},null,{"$f":"IF(Maaş!S197=\"\",\"\",Maaş!S197)","v":""},null,{"$f":"IF(Maaş!W197=\"\",\"\",Maaş!W197)","v":""},null,null,{"$f":"IF(Maaş!AK197=\"\",\"\",Maaş!AK197)","v":""},{"$f":"IF(Maaş!B197=\"\",0,1)","v":0}]
[24,{"$f":"IF(Maaş!B198=\"\",\"\",Maaş!B198)","v":""},{"$f":"IF(Maaş!F198=\"\",\"\",Maaş!F198)","v":""},null,null,{"$f":"IF(Maaş!O198=\"\",\"\",Maaş!O198)","v":""},null,{"$f":"IF(Maaş!S198=\"\",\"\",Maaş!S198)","v":""},null,{"$f":"IF(Maaş!W198=\"\",\"\",Maaş!W198)","v":""},null,null,{"$f":"IF(Maaş!AK198=\"\",\"\",Maaş!AK198)","v":""},{"$f":"IF(Maaş!B198=\"\",0,1)","v":0}]
[25,{"$f":"IF(Maaş!B199=\"\",\"\",Maaş!B199)","v":""},{"$f":"IF(Maaş!F199=\"\",\"\",Maaş!F199)","v":""},null,null,{"$f":"IF(Maaş!O199=\"\",\"\",Maaş!O199)","v":""},null,{"$f":"IF(Maaş!S199=\"\",\"\",Maaş!S199)","v":""},null,{"$f":"IF(Maaş!W199=\"\",\"\",Maaş!W199)","v":""},null,null,{"$f":"IF(Maaş!AK199=\"\",\"\",Maaş!AK199)","v":""},{"$f":"IF(Maaş!B199=\"\",0,1)","v":0}]
[26,{"$f":"IF(Maaş!B200=\"\",\"\",Maaş!B200)","v":""},{"$f":"IF(Maaş!F200=\"\",\"\",Maaş!F200)","v":""},null,null,{"$f":"IF(Maaş!O200=\"\",\"\",Maaş!O200)","v":""},null,{"$f":"IF(Maaş!S200=\"\",\"\",Maaş!S200)","v":""},null,{"$f":"IF(Maaş!W200=\"\",\"\",Maaş!W200)","v":""},null,null,{"$f":"IF(Maaş!AK200=\"\",\"\",Maaş!AK200)","v":""},{"$f":"IF(Maaş!B200=\"\",0,1)","v":0}]
[27,{"$f":"IF(Maaş!B201=\"\",\"\",Maaş!B201)","v":""},{"$f":"IF(Maaş!F201=\"\",\"\",Maaş!F201)","v":""},null,null,{"$f":"IF(Maaş!O201=\"\",\"\",Maaş!O201)","v":""},null,{"$f":"IF(Maaş!S201=\"\",\"\",Maaş!S201)","v":""},null,{"$f":"IF(Maaş!W201=\"\",\"\",Maaş!W201)","v":""},null,null,{"$f":"IF(Maaş!AK201=\"\",\"\",Maaş!AK201)","v":""},{"$f":"IF(Maaş!B201=\"\",0,1)","v":0}]
[28,{"$f":"IF(Maaş!B202=\"\",\"\",Maaş!B202)","v":""},{"$f":"IF(Maaş!F202=\"\",\"\",Maaş!F202)","v":""},null,null,{"$f":"IF(Maaş!O202=\"\",\"\",Maaş!O202)","v":""},null,{"$f":"IF(Maaş!S202=\"\",\"\",Maaş!S202)","v":""},null,{"$f":"IF(Maaş!W202=\"\",\"\",Maaş!W202)","v":""},null,null,{"$f":"IF(Maaş!AK202=\"\",\"\",Maaş!AK202)","v":""},{"$f":"IF(Maaş!B202=\"\",0,1)","v":0}]
[29,{"$f":"IF(Maaş!B203=\"\",\"\",Maaş!B203)","v":""},{"$f":"IF(Maaş!F203=\"\",\"\",Maaş!F203)","v":""},null,null,{"$f":"IF(Maaş!O203=\"\",\"\",Maaş!O203)","v":""},null,{"$f":"IF(Maaş!S203=\"\",\"\",Maaş!S203)","v":""},null,{"$f":"IF(Maaş!W203=\"\",\"\",Maaş!W203)","v":""},null,null,{"$f":"IF(Maaş!AK203=\"\",\"\",Maaş!AK203)","v":""},{"$f":"IF(Maaş!B203=\"\",0,1)","v":0}]
[30,{"$f":"IF(Maaş!B204=\"\",\"\",Maaş!B204)","v":""},{"$f":"IF(Maaş!F204=\"\",\"\",Maaş!F204)","v":""},null,null,{"$f":"IF(Maaş!O204=\"\",\"\",Maaş!O204)","v":""},null,{"$f":"IF(Maaş!S204=\"\",\"\",Maaş!S204)","v":""},null,{"$f":"IF(Maaş!W204=\"\",\"\",Maaş!W204)","v":""},null,null,{"$f":"IF(Maaş!AK204=\"\",\"\",Maaş!AK204)","v":""},{"$f":"IF(Maaş!B204=\"\",0,1)","v":0}]
["BU BÖLÜMDE MAAŞ DEĞİŞİKLİĞİ YOKTUR",null,null,null,null,null,null,null,null,null,null,null,null,{"$f":"IF(SUM(N178:N207)=0,1,0)","v":1}]
["H) SENDİKA BİLGİ DEĞİŞİKLİĞİ YAPILACAK PERSONELİN",null,null,null,null,null,null,null,null,null,null,null,null,1]
["S. No","Kimlik No","Adı Soyadı    ",null,null,"Ayrıldığı Sendikanın",null,null,null,"Girdiği Sendikanın",null,null,null,{"$f":"IF(N242=0,1,0)","v":0}]
[null,null,null,null,null," Adı",null,null,"Çıkış Tarihi"," Adı",null,"Giriş Tarihi","Üye No",{"$f":"IF(N242=0,1,0)","v":0}]
[1,{"$f":"IF(Maaş!B208=\"\",\"\",Maaş!B208)","v":""},{"$f":"IF(Maaş!F208=\"\",\"\",Maaş!F208)","v":""},null,null,{"$f":"IF(Maaş!O208=\"\",\"\",Maaş!O208)","v":""},null,null,{"$f":"IF(Maaş!V208=\"\",\"\",Maaş!V208)","v":""},{"$f":"IF(Maaş!Z208=\"\",\"\",Maaş!Z208)","v":""},null,{"$f":"IF(Maaş!AG208=\"\",\"\",Maaş!AG208)","v":""},{"$f":"IF(Maaş!AK208=\"\",\"\",Maaş!AK208)","v":""},{"$f":"IF(Maaş!B208=\"\",0,1)","v":0}]
[2,{"$f":"IF(Maaş!B209=\"\",\"\",Maaş!B209)","v":""},{"$f":"IF(Maaş!F209=\"\",\"\",Maaş!F209)","v":""},null,null,{"$f":"IF(Maaş!O209=\"\",\"\",Maaş!O209)","v":""},null,null,{"$f":"IF(Maaş!V209=\"\",\"\",Maaş!V209)","v":""},{"$f":"IF(Maaş!Z209=\"\",\"\",Maaş!Z209)","v":""},null,{"$f":"IF(Maaş!AG209=\"\",\"\",Maaş!AG209)","v":""},{"$f":"IF(Maaş!AK209=\"\",\"\",Maaş!AK209)","v":""},{"$f":"IF(Maaş!B209=\"\",0,1)","v":0}]
[3,{"$f":"IF(Maaş!B210=\"\",\"\",Maaş!B210)","v":""},{"$f":"IF(Maaş!F210=\"\",\"\",Maaş!F210)","v":""},null,null,{"$f":"IF(Maaş!O210=\"\",\"\",Maaş!O210)","v":""},null,null,{"$f":"IF(Maaş!V210=\"\",\"\",Maaş!V210)","v":""},{"$f":"IF(Maaş!Z210=\"\",\"\",Maaş!Z210)","v":""},null,{"$f":"IF(Maaş!AG210=\"\",\"\",Maaş!AG210)","v":""},{"$f":"IF(Maaş!AK210=\"\",\"\",Maaş!AK210)","v":""},{"$f":"IF(Maaş!B210=\"\",0,1)","v":0}]
[4,{"$f":"IF(Maaş!B211=\"\",\"\",Maaş!B211)","v":""},{"$f":"IF(Maaş!F211=\"\",\"\",Maaş!F211)","v":""},null,null,{"$f":"IF(Maaş!O211=\"\",\"\",Maaş!O211)","v":""},null,null,{"$f":"IF(Maaş!V211=\"\",\"\",Maaş!V211)","v":""},{"$f":"IF(Maaş!Z211=\"\",\"\",Maaş!Z211)","v":""},null,{"$f":"IF(Maaş!AG211=\"\",\"\",Maaş!AG211)","v":""},{"$f":"IF(Maaş!AK211=\"\",\"\",Maaş!AK211)","v":""},{"$f":"IF(Maaş!B211=\"\",0,1)","v":0}]
[5,{"$f":"IF(Maaş!B212=\"\",\"\",Maaş!B212)","v":""},{"$f":"IF(Maaş!F212=\"\",\"\",Maaş!F212)","v":""},null,null,{"$f":"IF(Maaş!O212=\"\",\"\",Maaş!O212)","v":""},null,null,{"$f":"IF(Maaş!V212=\"\",\"\",Maaş!V212)","v":""},{"$f":"IF(Maaş!Z212=\"\",\"\",Maaş!Z212)","v":""},null,{"$f":"IF(Maaş!AG212=\"\",\"\",Maaş!AG212)","v":""},{"$f":"IF(Maaş!AK212=\"\",\"\",Maaş!AK212)","v":""},{"$f":"IF(Maaş!B212=\"\",0,1)","v":0}]
[6,{"$f":"IF(Maaş!B213=\"\",\"\",Maaş!B213)","v":""},{"$f":"IF(Maaş!F213=\"\",\"\",Maaş!F213)","v":""},null,null,{"$f":"IF(Maaş!O213=\"\",\"\",Maaş!O213)","v":""},null,null,{"$f":"IF(Maaş!V213=\"\",\"\",Maaş!V213)","v":""},{"$f":"IF(Maaş!Z213=\"\",\"\",Maaş!Z213)","v":""},null,{"$f":"IF(Maaş!AG213=\"\",\"\",Maaş!AG213)","v":""},{"$f":"IF(Maaş!AK213=\"\",\"\",Maaş!AK213)","v":""},{"$f":"IF(Maaş!B213=\"\",0,1)","v":0}]
[7,{"$f":"IF(Maaş!B214=\"\",\"\",Maaş!B214)","v":""},{"$f":"IF(Maaş!F214=\"\",\"\",Maaş!F214)","v":""},null,null,{"$f":"IF(Maaş!O214=\"\",\"\",Maaş!O214)","v":""},null,null,{"$f":"IF(Maaş!V214=\"\",\"\",Maaş!V214)","v":""},{"$f":"IF(Maaş!Z214=\"\",\"\",Maaş!Z214)","v":""},null,{"$f":"IF(Maaş!AG214=\"\",\"\",Maaş!AG214)","v":""},{"$f":"IF(Maaş!AK214=\"\",\"\",Maaş!AK214)","v":""},{"$f":"IF(Maaş!B214=\"\",0,1)","v":0}]
[8,{"$f":"IF(Maaş!B215=\"\",\"\",Maaş!B215)","v":""},{"$f":"IF(Maaş!F215=\"\",\"\",Maaş!F215)","v":""},null,null,{"$f":"IF(Maaş!O215=\"\",\"\",Maaş!O215)","v":""},null,null,{"$f":"IF(Maaş!V215=\"\",\"\",Maaş!V215)","v":""},{"$f":"IF(Maaş!Z215=\"\",\"\",Maaş!Z215)","v":""},null,{"$f":"IF(Maaş!AG215=\"\",\"\",Maaş!AG215)","v":""},{"$f":"IF(Maaş!AK215=\"\",\"\",Maaş!AK215)","v":""},{"$f":"IF(Maaş!B215=\"\",0,1)","v":0}]
[9,{"$f":"IF(Maaş!B216=\"\",\"\",Maaş!B216)","v":""},{"$f":"IF(Maaş!F216=\"\",\"\",Maaş!F216)","v":""},null,null,{"$f":"IF(Maaş!O216=\"\",\"\",Maaş!O216)","v":""},null,null,{"$f":"IF(Maaş!V216=\"\",\"\",Maaş!V216)","v":""},{"$f":"IF(Maaş!Z216=\"\",\"\",Maaş!Z216)","v":""},null,{"$f":"IF(Maaş!AG216=\"\",\"\",Maaş!AG216)","v":""},{"$f":"IF(Maaş!AK216=\"\",\"\",Maaş!AK216)","v":""},{"$f":"IF(Maaş!B216=\"\",0,1)","v":0}]
[10,{"$f":"IF(Maaş!B217=\"\",\"\",Maaş!B217)","v":""},{"$f":"IF(Maaş!F217=\"\",\"\",Maaş!F217)","v":""},null,null,{"$f":"IF(Maaş!O217=\"\",\"\",Maaş!O217)","v":""},null,null,{"$f":"IF(Maaş!V217=\"\",\"\",Maaş!V217)","v":""},{"$f":"IF(Maaş!Z217=\"\",\"\",Maaş!Z217)","v":""},null,{"$f":"IF(Maaş!AG217=\"\",\"\",Maaş!AG217)","v":""},{"$f":"IF(Maaş!AK217=\"\",\"\",Maaş!AK217)","v":""},{"$f":"IF(Maaş!B217=\"\",0,1)","v":0}]
[11,{"$f":"IF(Maaş!B218=\"\",\"\",Maaş!B218)","v":""},{"$f":"IF(Maaş!F218=\"\",\"\",Maaş!F218)","v":""},null,null,{"$f":"IF(Maaş!O218=\"\",\"\",Maaş!O218)","v":""},null,null,{"$f":"IF(Maaş!V218=\"\",\"\",Maaş!V218)","v":""},{"$f":"IF(Maaş!Z218=\"\",\"\",Maaş!Z218)","v":""},null,{"$f":"IF(Maaş!AG218=\"\",\"\",Maaş!AG218)","v":""},{"$f":"IF(Maaş!AK218=\"\",\"\",Maaş!AK218)","v":""},{"$f":"IF(Maaş!B218=\"\",0,1)","v":0}]
[12,{"$f":"IF(Maaş!B219=\"\",\"\",Maaş!B219)","v":""},{"$f":"IF(Maaş!F219=\"\",\"\",Maaş!F219)","v":""},null,null,{"$f":"IF(Maaş!O219=\"\",\"\",Maaş!O219)","v":""},null,null,{"$f":"IF(Maaş!V219=\"\",\"\",Maaş!V219)","v":""},{"$f":"IF(Maaş!Z219=\"\",\"\",Maaş!Z219)","v":""},null,{"$f":"IF(Maaş!AG219=\"\",\"\",Maaş!AG219)","v":""},{"$f":"IF(Maaş!AK219=\"\",\"\",Maaş!AK219)","v":""},{"$f":"IF(Maaş!B219=\"\",0,1)","v":0}]
[13,{"$f":"IF(Maaş!B220=\"\",\"\",Maaş!B220)","v":""},{"$f":"IF(Maaş!F220=\"\",\"\",Maaş!F220)","v":""},null,null,{"$f":"IF(Maaş!O220=\"\",\"\",Maaş!O220)","v":""},null,null,{"$f":"IF(Maaş!V220=\"\",\"\",Maaş!V220)","v":""},{"$f":"IF(Maaş!Z220=\"\",\"\",Maaş!Z220)","v":""},null,{"$f":"IF(Maaş!AG220=\"\",\"\",Maaş!AG220)","v":""},{"$f":"IF(Maaş!AK220=\"\",\"\",Maaş!AK220)","v":""},{"$f":"IF(Maaş!B220=\"\",0,1)","v":0}]
[14,{"$f":"IF(Maaş!B221=\"\",\"\",Maaş!B221)","v":""},{"$f":"IF(Maaş!F221=\"\",\"\",Maaş!F221)","v":""},null,null,{"$f":"IF(Maaş!O221=\"\",\"\",Maaş!O221)","v":""},null,null,{"$f":"IF(Maaş!V221=\"\",\"\",Maaş!V221)","v":""},{"$f":"IF(Maaş!Z221=\"\",\"\",Maaş!Z221)","v":""},null,{"$f":"IF(Maaş!AG221=\"\",\"\",Maaş!AG221)","v":""},{"$f":"IF(Maaş!AK221=\"\",\"\",Maaş!AK221)","v":""},{"$f":"IF(Maaş!B221=\"\",0,1)","v":0}]
[15,{"$f":"IF(Maaş!B222=\"\",\"\",Maaş!B222)","v":""},{"$f":"IF(Maaş!F222=\"\",\"\",Maaş!F222)","v":""},null,null,{"$f":"IF(Maaş!O222=\"\",\"\",Maaş!O222)","v":""},null,null,{"$f":"IF(Maaş!V222=\"\",\"\",Maaş!V222)","v":""},{"$f":"IF(Maaş!Z222=\"\",\"\",Maaş!Z222)","v":""},null,{"$f":"IF(Maaş!AG222=\"\",\"\",Maaş!AG222)","v":""},{"$f":"IF(Maaş!AK222=\"\",\"\",Maaş!AK222)","v":""},{"$f":"IF(Maaş!B222=\"\",0,1)","v":0}]
[16,{"$f":"IF(Maaş!B223=\"\",\"\",Maaş!B223)","v":""},{"$f":"IF(Maaş!F223=\"\",\"\",Maaş!F223)","v":""},null,null,{"$f":"IF(Maaş!O223=\"\",\"\",Maaş!O223)","v":""},null,null,{"$f":"IF(Maaş!V223=\"\",\"\",Maaş!V223)","v":""},{"$f":"IF(Maaş!Z223=\"\",\"\",Maaş!Z223)","v":""},null,{"$f":"IF(Maaş!AG223=\"\",\"\",Maaş!AG223)","v":""},{"$f":"IF(Maaş!AK223=\"\",\"\",Maaş!AK223)","v":""},{"$f":"IF(Maaş!B223=\"\",0,1)","v":0}]
[17,{"$f":"IF(Maaş!B224=\"\",\"\",Maaş!B224)","v":""},{"$f":"IF(Maaş!F224=\"\",\"\",Maaş!F224)","v":""},null,null,{"$f":"IF(Maaş!O224=\"\",\"\",Maaş!O224)","v":""},null,null,{"$f":"IF(Maaş!V224=\"\",\"\",Maaş!V224)","v":""},{"$f":"IF(Maaş!Z224=\"\",\"\",Maaş!Z224)","v":""},null,{"$f":"IF(Maaş!AG224=\"\",\"\",Maaş!AG224)","v":""},{"$f":"IF(Maaş!AK224=\"\",\"\",Maaş!AK224)","v":""},{"$f":"IF(Maaş!B224=\"\",0,1)","v":0}]
[18,{"$f":"IF(Maaş!B225=\"\",\"\",Maaş!B225)","v":""},{"$f":"IF(Maaş!F225=\"\",\"\",Maaş!F225)","v":""},null,null,{"$f":"IF(Maaş!O225=\"\",\"\",Maaş!O225)","v":""},null,null,{"$f":"IF(Maaş!V225=\"\",\"\",Maaş!V225)","v":""},{"$f":"IF(Maaş!Z225=\"\",\"\",Maaş!Z225)","v":""},null,{"$f":"IF(Maaş!AG225=\"\",\"\",Maaş!AG225)","v":""},{"$f":"IF(Maaş!AK225=\"\",\"\",Maaş!AK225)","v":""},{"$f":"IF(Maaş!B225=\"\",0,1)","v":0}]
[19,{"$f":"IF(Maaş!B226=\"\",\"\",Maaş!B226)","v":""},{"$f":"IF(Maaş!F226=\"\",\"\",Maaş!F226)","v":""},null,null,{"$f":"IF(Maaş!O226=\"\",\"\",Maaş!O226)","v":""},null,null,{"$f":"IF(Maaş!V226=\"\",\"\",Maaş!V226)","v":""},{"$f":"IF(Maaş!Z226=\"\",\"\",Maaş!Z226)","v":""},null,{"$f":"IF(Maaş!AG226=\"\",\"\",Maaş!AG226)","v":""},{"$f":"IF(Maaş!AK226=\"\",\"\",Maaş!AK226)","v":""},{"$f":"IF(Maaş!B226=\"\",0,1)","v":0}]
[20,{"$f":"IF(Maaş!B227=\"\",\"\",Maaş!B227)","v":""},{"$f":"IF(Maaş!F227=\"\",\"\",Maaş!F227)","v":""},null,null,{"$f":"IF(Maaş!O227=\"\",\"\",Maaş!O227)","v":""},null,null,{"$f":"IF(Maaş!V227=\"\",\"\",Maaş!V227)","v":""},{"$f":"IF(Maaş!Z227=\"\",\"\",Maaş!Z227)","v":""},null,{"$f":"IF(Maaş!AG227=\"\",\"\",Maaş!AG227)","v":""},{"$f":"IF(Maaş!AK227=\"\",\"\",Maaş!AK227)","v":""},{"$f":"IF(Maaş!B227=\"\",0,1)","v":0}]
[21,{"$f":"IF(Maaş!B228=\"\",\"\",Maaş!B228)","v":""},{"$f":"IF(Maaş!F228=\"\",\"\",Maaş!F228)","v":""},null,null,{"$f":"IF(Maaş!O228=\"\",\"\",Maaş!O228)","v":""},null,null,{"$f":"IF(Maaş!V228=\"\",\"\",Maaş!V228)","v":""},{"$f":"IF(Maaş!Z228=\"\",\"\",Maaş!Z228)","v":""},null,{"$f":"IF(Maaş!AG228=\"\",\"\",Maaş!AG228)","v":""},{"$f":"IF(Maaş!AK228=\"\",\"\",Maaş!AK228)","v":""},{"$f":"IF(Maaş!B228=\"\",0,1)","v":0}]
[22,{"$f":"IF(Maaş!B229=\"\",\"\",Maaş!B229)","v":""},{"$f":"IF(Maaş!F229=\"\",\"\",Maaş!F229)","v":""},null,null,{"$f":"IF(Maaş!O229=\"\",\"\",Maaş!O229)","v":""},null,null,{"$f":"IF(Maaş!V229=\"\",\"\",Maaş!V229)","v":""},{"$f":"IF(Maaş!Z229=\"\",\"\",Maaş!Z229)","v":""},null,{"$f":"IF(Maaş!AG229=\"\",\"\",Maaş!AG229)","v":""},{"$f":"IF(Maaş!AK229=\"\",\"\",Maaş!AK229)","v":""},{"$f":"IF(Maaş!B229=\"\",0,1)","v":0}]
[23,{"$f":"IF(Maaş!B230=\"\",\"\",Maaş!B230)","v":""},{"$f":"IF(Maaş!F230=\"\",\"\",Maaş!F230)","v":""},null,null,{"$f":"IF(Maaş!O230=\"\",\"\",Maaş!O230)","v":""},null,null,{"$f":"IF(Maaş!V230=\"\",\"\",Maaş!V230)","v":""},{"$f":"IF(Maaş!Z230=\"\",\"\",Maaş!Z230)","v":""},null,{"$f":"IF(Maaş!AG230=\"\",\"\",Maaş!AG230)","v":""},{"$f":"IF(Maaş!AK230=\"\",\"\",Maaş!AK230)","v":""},{"$f":"IF(Maaş!B230=\"\",0,1)","v":0}]
[24,{"$f":"IF(Maaş!B231=\"\",\"\",Maaş!B231)","v":""},{"$f":"IF(Maaş!F231=\"\",\"\",Maaş!F231)","v":""},null,null,{"$f":"IF(Maaş!O231=\"\",\"\",Maaş!O231)","v":""},null,null,{"$f":"IF(Maaş!V231=\"\",\"\",Maaş!V231)","v":""},{"$f":"IF(Maaş!Z231=\"\",\"\",Maaş!Z231)","v":""},null,{"$f":"IF(Maaş!AG231=\"\",\"\",Maaş!AG231)","v":""},{"$f":"IF(Maaş!AK231=\"\",\"\",Maaş!AK231)","v":""},{"$f":"IF(Maaş!B231=\"\",0,1)","v":0}]
[25,{"$f":"IF(Maaş!B232=\"\",\"\",Maaş!B232)","v":""},{"$f":"IF(Maaş!F232=\"\",\"\",Maaş!F232)","v":""},null,null,{"$f":"IF(Maaş!O232=\"\",\"\",Maaş!O232)","v":""},null,null,{"$f":"IF(Maaş!V232=\"\",\"\",Maaş!V232)","v":""},{"$f":"IF(Maaş!Z232=\"\",\"\",Maaş!Z232)","v":""},null,{"$f":"IF(Maaş!AG232=\"\",\"\",Maaş!AG232)","v":""},{"$f":"IF(Maaş!AK232=\"\",\"\",Maaş!AK232)","v":""},{"$f":"IF(Maaş!B232=\"\",0,1)","v":0}]
[26,{"$f":"IF(Maaş!B233=\"\",\"\",Maaş!B233)","v":""},{"$f":"IF(Maaş!F233=\"\",\"\",Maaş!F233)","v":""},null,null,{"$f":"IF(Maaş!O233=\"\",\"\",Maaş!O233)","v":""},null,null,{"$f":"IF(Maaş!V233=\"\",\"\",Maaş!V233)","v":""},{"$f":"IF(Maaş!Z233=\"\",\"\",Maaş!Z233)","v":""},null,{"$f":"IF(Maaş!AG233=\"\",\"\",Maaş!AG233)","v":""},{"$f":"IF(Maaş!AK233=\"\",\"\",Maaş!AK233)","v":""},{"$f":"IF(Maaş!B233=\"\",0,1)","v":0}]
[27,{"$f":"IF(Maaş!B234=\"\",\"\",Maaş!B234)","v":""},{"$f":"IF(Maaş!F234=\"\",\"\",Maaş!F234)","v":""},null,null,{"$f":"IF(Maaş!O234=\"\",\"\",Maaş!O234)","v":""},null,null,{"$f":"IF(Maaş!V234=\"\",\"\",Maaş!V234)","v":""},{"$f":"IF(Maaş!Z234=\"\",\"\",Maaş!Z234)","v":""},null,{"$f":"IF(Maaş!AG234=\"\",\"\",Maaş!AG234)","v":""},{"$f":"IF(Maaş!AK234=\"\",\"\",Maaş!AK234)","v":""},{"$f":"IF(Maaş!B234=\"\",0,1)","v":0}]
[28,{"$f":"IF(Maaş!B235=\"\",\"\",Maaş!B235)","v":""},{"$f":"IF(Maaş!F235=\"\",\"\",Maaş!F235)","v":""},null,null,{"$f":"IF(Maaş!O235=\"\",\"\",Maaş!O235)","v":""},null,null,{"$f":"IF(Maaş!V235=\"\",\"\",Maaş!V235)","v":""},{"$f":"IF(Maaş!Z235=\"\",\"\",Maaş!Z235)","v":""},null,{"$f":"IF(Maaş!AG235=\"\",\"\",Maaş!AG235)","v":""},{"$f":"IF(Maaş!AK235=\"\",\"\",Maaş!AK235)","v":""},{"$f":"IF(Maaş!B235=\"\",0,1)","v":0}]
[29,{"$f":"IF(Maaş!B236=\"\",\"\",Maaş!B236)","v":""},{"$f":"IF(Maaş!F236=\"\",\"\",Maaş!F236)","v":""},null,null,{"$f":"IF(Maaş!O236=\"\",\"\",Maaş!O236)","v":""},null,null,{"$f":"IF(Maaş!V236=\"\",\"\",Maaş!V236)","v":""},{"$f":"IF(Maaş!Z236=\"\",\"\",Maaş!Z236)","v":""},null,{"$f":"IF(Maaş!AG236=\"\",\"\",Maaş!AG236)","v":""},{"$f":"IF(Maaş!AK236=\"\",\"\",Maaş!AK236)","v":""},{"$f":"IF(Maaş!B236=\"\",0,1)","v":0}]
[30,{"$f":"IF(Maaş!B237=\"\",\"\",Maaş!B237)","v":""},{"$f":"IF(Maaş!F237=\"\",\"\",Maaş!F237)","v":""},null,null,{"$f":"IF(Maaş!O237=\"\",\"\",Maaş!O237)","v":""},null,null,{"$f":"IF(Maaş!V237=\"\",\"\",Maaş!V237)","v":""},{"$f":"IF(Maaş!Z237=\"\",\"\",Maaş!Z237)","v":""},null,{"$f":"IF(Maaş!AG237=\"\",\"\",Maaş!AG237)","v":""},{"$f":"IF(Maaş!AK237=\"\",\"\",Maaş!AK237)","v":""},{"$f":"IF(Maaş!B237=\"\",0,1)","v":0}]
["BU BÖLÜMDE MAAŞ DEĞİŞİKLİĞİ YOKTUR",null,null,null,null,null,null,null,null,null,null,null,null,{"$f":"IF(SUM(N212:N241)=0,1,0)","v":1}]
["NOT: Bu form her ay Tepebaşı İlçe Milli Eğitim Müdürlüğünün belirlediği günde istenen belgelerle birlikte POŞET DOSYA İÇERİSİNDE TEL ZIMBA KULLANILMADAN  İlçe Milli Eğitim Müdürlüğüne teslim edilir.",null,null,null,null,null,null,null,null,null,null,null,null,1]
[null,null,null,null,null,null,null,null,null,null,null,null,null,1]
[null,null,null,null,null,null,null,null,null,null,"Yukarıdaki bilgilerin doğruluğu onaylanır.",null,null,1]
[null,"Düzenleyen",null,null,null,null,null,null,null,null,{"$f":"TODAY()","v":"2025-03-24"},null,null,1]
[null,null,null,null,null,null,null,null,null,null,null,null,null,1]
[null,{"$f":"Maaş!H7","v":0},null,null,null,null,null,null,null,null,{"$f":"Maaş!Q7","v":0},null,null,1]
[null,{"$f":"Maaş!H8","v":0},null,null,null,null,null,null,null,null,{"$f":"Maaş!Q8","v":0},null,null,1]