{"text_format":"1","workbook":"xlsx","n_sheets":2,"sheets":["Puantaj","yaz"],"not_rendered":{"charts":0,"images":4,"macros":1,"external_links":0,"defined_names":5,"comments":0,"pivot_tables":0},"unopened":[],"bounds":{"document_bytes":16777216,"sheet_cells":100000,"rows_first":2000,"rows_last":500,"rows_between":2000,"halvings":0,"cell_chars":16384,"cell_head_chars":4096},"cells_cut":0,"cells_raw":0,"read":"whole","date_system":"1900"}

{"sheet":"Puantaj","index":0,"n_rows":114,"n_cols":180,"rows_kept":114,"cut":false,"hidden":false,"merged":[[10,43,10,48],[10,49,10,54],[12,2,12,29],[14,2,14,9],[12,30,12,64],[13,14,13,18],[14,14,14,18],[13,19,13,29],[14,19,14,29],[11,25,11,30],[3,30,3,35],[4,30,4,35],[10,61,10,66],[7,49,7,54],[7,55,7,60],[8,7,8,12],[8,13,8,18],[8,31,8,36],[8,37,8,42],[8,43,8,48],[8,49,8,54],[8,55,8,60],[7,19,7,24],[7,25,7,30],[8,19,8,24],[8,25,8,30],[9,19,9,24],[9,25,9,30],[10,19,10,24],[10,25,10,30],[7,37,7,42],[7,43,7,48],[10,31,10,36],[10,37,10,42],[6,2,6,6],[7,2,7,6],[8,2,8,6],[9,2,9,6],[10,2,10,6],[11,2,11,6],[4,18,4,21],[4,14,4,17],[6,19,6,24],[6,25,6,30],[10,7,10,12],[10,13,10,18],[12,1,13,1],[3,22,3,25],[4,22,4,25],[18,65,18,66],[9,7,9,12],[9,13,9,18],[9,31,9,36],[9,37,9,42],[9,43,9,48],[9,49,9,54],[9,55,9,60],[9,61,9,66],[3,1,3,4],[6,61,6,66],[7,61,7,66],[8,61,8,66],[6,7,6,12],[6,13,6,18],[6,31,6,36],[6,37,6,42],[6,43,6,48],[6,49,6,54],[6,55,6,60],[11,19,11,24],[28,65,28,66],[29,65,29,66],[30,65,30,66],[31,65,31,66],[32,65,32,66],[14,65,14,66],[15,65,15,66],[16,65,16,66],[17,65,17,66],[19,65,19,66],[20,65,20,66],[21,65,21,66],[22,65,22,66],[23,65,23,66],[24,65,24,66],[25,65,25,66],[26,65,26,66],[27,65,27,66],[15,19,15,29],[16,19,16,29],[17,19,17,29],[38,65,38,66],[39,65,39,66],[40,65,40,66],[41,65,41,66],[42,65,42,66],[33,65,33,66],[34,65,34,66],[35,65,35,66],[36,65,36,66],[37,65,37,66],[48,65,48,66],[49,65,49,66],[50,65,50,66],[51,65,51,66],[52,65,52,66],[43,65,43,66],[44,65,44,66],[45,65,45,66],[46,65,46,66],[47,65,47,66],[58,65,58,66],[59,65,59,66],[60,65,60,66],[61,65,61,66],[62,65,62,66],[53,65,53,66],[54,65,54,66],[55,65,55,66],[56,65,56,66],[57,65,57,66],[68,65,68,66],[69,65,69,66],[70,65,70,66],[71,65,71,66],[72,65,72,66],[63,65,63,66],[64,65,64,66],[65,65,65,66],[66,65,66,66],[67,65,67,66],[78,65,78,66],[79,65,79,66],[80,65,80,66],[81,65,81,66],[82,65,82,66],[73,65,73,66],[74,65,74,66],[75,65,75,66],[76,65,76,66],[77,65,77,66],[88,65,88,66],[89,65,89,66],[90,65,90,66],[91,65,91,66],[92,65,92,66],[83,65,83,66],[84,65,84,66],[85,65,85,66],[86,65,86,66],[87,65,87,66],[113,65,113,66],[108,65,108,66],[109,65,109,66],[110,65,110,66],[111,65,111,66],[112,65,112,66],[103,65,103,66],[104,65,104,66],[105,65,105,66],[106,65,106,66],[107,65,107,66],[98,65,98,66],[99,65,99,66],[100,65,100,66],[101,65,101,66],[102,65,102,66],[93,65,93,66],[94,65,94,66],[95,65,95,66],[96,65,96,66],[97,65,97,66],[16,2,16,9],[17,2,17,9],[18,2,18,9],[3,36,3,43],[4,36,4,43],[15,2,15,9],[5,1,5,66],[6,1,11,1],[13,2,13,9],[11,7,11,12],[11,13,11,18],[11,31,11,36],[11,37,11,42],[11,43,11,48],[11,49,11,54],[11,55,11,60],[11,61,11,66],[7,7,7,12],[7,13,7,18],[7,31,7,36],[13,10,13,13],[14,10,14,13],[12,65,13,66],[10,55,10,60],[25,2,25,9],[26,2,26,9],[27,2,27,9],[22,2,22,9],[23,2,23,9],[24,2,24,9],[19,2,19,9],[20,2,20,9],[21,2,21,9],[34,2,34,9],[35,2,35,9],[36,2,36,9],[31,2,31,9],[32,2,32,9],[33,2,33,9],[28,2,28,9],[29,2,29,9],[30,2,30,9],[43,2,43,9],[44,2,44,9],[45,2,45,9],[40,2,40,9],[41,2,41,9],[42,2,42,9],[37,2,37,9],[38,2,38,9],[39,2,39,9],[52,2,52,9],[53,2,53,9],[54,2,54,9],[49,2,49,9],[50,2,50,9],[51,2,51,9],[46,2,46,9],[47,2,47,9],[48,2,48,9],[61,2,61,9],[62,2,62,9],[63,2,63,9],[58,2,58,9],[59,2,59,9],[60,2,60,9],[55,2,55,9],[56,2,56,9],[57,2,57,9],[70,2,70,9],[71,2,71,9],[72,2,72,9],[67,2,67,9],[68,2,68,9],[69,2,69,9],[64,2,64,9],[65,2,65,9],[66,2,66,9],[79,2,79,9],[80,2,80,9],[81,2,81,9],[76,2,76,9],[77,2,77,9],[78,2,78,9],[73,2,73,9],[74,2,74,9],[75,2,75,9],[88,2,88,9],[89,2,89,9],[90,2,90,9],[85,2,85,9],[86,2,86,9],[87,2,87,9],[82,2,82,9],[83,2,83,9],[84,2,84,9],[112,2,112,9],[113,2,113,9],[2,1,2,66],[109,2,109,9],[110,2,110,9],[111,2,111,9],[106,2,106,9],[107,2,107,9],[108,2,108,9],[103,2,103,9],[104,2,104,9],[105,2,105,9],[100,2,100,9],[101,2,101,9],[102,2,102,9],[97,2,97,9],[98,2,98,9],[99,2,99,9],[94,2,94,9],[95,2,95,9],[96,2,96,9],[91,2,91,9],[92,2,92,9],[93,2,93,9],[15,10,15,13],[16,10,16,13],[17,10,17,13],[18,10,18,13],[19,10,19,13],[20,10,20,13],[21,10,21,13],[22,10,22,13],[23,10,23,13],[24,10,24,13],[25,10,25,13],[26,10,26,13],[27,10,27,13],[28,10,28,13],[29,10,29,13],[30,10,30,13],[31,10,31,13],[32,10,32,13],[33,10,33,13],[34,10,34,13],[35,10,35,13],[36,10,36,13],[37,10,37,13],[38,10,38,13],[39,10,39,13],[40,10,40,13],[41,10,41,13],[42,10,42,13],[43,10,43,13],[44,10,44,13],[45,10,45,13],[46,10,46,13],[47,10,47,13],[48,10,48,13],[49,10,49,13],[50,10,50,13],[51,10,51,13],[52,10,52,13],[53,10,53,13],[54,10,54,13],[55,10,55,13],[56,10,56,13],[57,10,57,13],[58,10,58,13],[59,10,59,13],[60,10,60,13],[61,10,61,13],[62,10,62,13],[63,10,63,13],[64,10,64,13],[65,10,65,13],[66,10,66,13],[67,10,67,13],[68,10,68,13],[69,10,69,13],[70,10,70,13],[71,10,71,13],[72,10,72,13],[73,10,73,13],[74,10,74,13],[75,10,75,13],[76,10,76,13],[77,10,77,13],[78,10,78,13],[79,10,79,13],[80,10,80,13],[81,10,81,13],[82,10,82,13],[83,10,83,13],[84,10,84,13],[85,10,85,13],[86,10,86,13],[87,10,87,13],[88,10,88,13],[89,10,89,13],[90,10,90,13],[91,10,91,13],[92,10,92,13],[93,10,93,13],[94,10,94,13],[95,10,95,13],[96,10,96,13],[97,10,97,13],[98,10,98,13],[99,10,99,13],[100,10,100,13],[101,10,101,13],[102,10,102,13],[103,10,103,13],[104,10,104,13],[105,10,105,13],[106,10,106,13],[107,10,107,13],[108,10,108,13],[109,10,109,13],[110,10,110,13],[111,10,111,13],[112,10,112,13],[113,10,113,13],[15,14,15,18],[16,14,16,18],[17,14,17,18],[18,14,18,18],[19,14,19,18],[20,14,20,18],[21,14,21,18],[22,14,22,18],[23,14,23,18],[24,14,24,18],[25,14,25,18],[26,14,26,18],[27,14,27,18],[28,14,28,18],[29,14,29,18],[30,14,30,18],[31,14,31,18],[32,14,32,18],[33,14,33,18],[34,14,34,18],[35,14,35,18],[36,14,36,18],[37,14,37,18],[38,14,38,18],[39,14,39,18],[40,14,40,18],[41,14,41,18],[42,14,42,18],[43,14,43,18],[44,14,44,18],[45,14,45,18],[46,14,46,18],[47,14,47,18],[48,14,48,18],[49,14,49,18],[50,14,50,18],[51,14,51,18],[52,14,52,18],[53,14,53,18],[54,14,54,18],[55,14,55,18],[56,14,56,18],[57,14,57,18],[58,14,58,18],[59,14,59,18],[60,14,60,18],[61,14,61,18],[62,14,62,18],[63,14,63,18],[64,14,64,18],[65,14,65,18],[66,14,66,18],[67,14,67,18],[68,14,68,18],[69,14,69,18],[70,14,70,18],[71,14,71,18],[72,14,72,18],[73,14,73,18],[74,14,74,18],[75,14,75,18],[76,14,76,18],[77,14,77,18],[78,14,78,18],[79,14,79,18],[80,14,80,18],[81,14,81,18],[82,14,82,18],[83,14,83,18],[84,14,84,18],[85,14,85,18],[86,14,86,18],[87,14,87,18],[88,14,88,18],[89,14,89,18],[90,14,90,18],[91,14,91,18],[92,14,92,18],[93,14,93,18],[94,14,94,18],[95,14,95,18],[96,14,96,18],[97,14,97,18],[98,14,98,18],[99,14,99,18],[100,14,100,18],[101,14,101,18],[102,14,102,18],[103,14,103,18],[104,14,104,18],[105,14,105,18],[106,14,106,18],[107,14,107,18],[108,14,108,18],[109,14,109,18],[110,14,110,18],[111,14,111,18],[112,14,112,18],[113,14,113,18],[18,19,18,29],[19,19,19,29],[20,19,20,29],[21,19,21,29],[22,19,22,29],[23,19,23,29],[24,19,24,29],[25,19,25,29],[26,19,26,29],[27,19,27,29],[28,19,28,29],[29,19,29,29],[30,19,30,29],[31,19,31,29],[32,19,32,29],[33,19,33,29],[34,19,34,29],[35,19,35,29],[36,19,36,29],[37,19,37,29],[38,19,38,29],[39,19,39,29],[40,19,40,29],[41,19,41,29],[42,19,42,29],[43,19,43,29],[44,19,44,29],[45,19,45,29],[46,19,46,29],[47,19,47,29],[48,19,48,29],[49,19,49,29],[50,19,50,29],[51,19,51,29],[52,19,52,29],[53,19,53,29],[54,19,54,29],[55,19,55,29],[56,19,56,29],[57,19,57,29],[58,19,58,29],[59,19,59,29],[60,19,60,29],[61,19,61,29],[62,19,62,29],[63,19,63,29],[64,19,64,29],[65,19,65,29],[66,19,66,29],[67,19,67,29],[68,19,68,29],[84,19,84,29],[85,19,85,29],[86,19,86,29],[69,19,69,29],[70,19,70,29],[71,19,71,29],[72,19,72,29],[73,19,73,29],[74,19,74,29],[75,19,75,29],[76,19,76,29],[77,19,77,29],[108,19,108,29],[109,19,109,29],[110,19,110,29],[111,19,111,29],[112,19,112,29],[113,19,113,29],[96,19,96,29],[97,19,97,29],[98,19,98,29],[99,19,99,29],[100,19,100,29],[101,19,101,29],[102,19,102,29],[103,19,103,29],[104,19,104,29],[3,26,3,29],[4,26,4,29],[3,5,3,21],[4,1,4,13],[3,44,3,52],[4,44,4,52],[105,19,105,29],[106,19,106,29],[107,19,107,29],[87,19,87,29],[88,19,88,29],[89,19,89,29],[90,19,90,29],[91,19,91,29],[92,19,92,29],[93,19,93,29],[94,19,94,29],[95,19,95,29],[78,19,78,29],[79,19,79,29],[80,19,80,29],[81,19,81,29],[82,19,82,29],[83,19,83,29]]}
[]
[]
[null,"EK DERS DEVAM-DEVAMSIZLIK PUANTAJI"]
[null,"Okul Adı",null,null,null,null,null,null,null,null,null,null,null,null,null,null,null,null,null,null,null,null,"Ait Old. Ay",null,null,null,null,null,null,null,"Düzenleyen"]
[null,"Puantaj Başlama/Bitiş Tarihi",null,null,null,null,null,null,null,null,null,null,null,null,"2024-04-01",null,null,null,"2024-04-28",null,null,null,"Ait Old. Yıl",null,null,null,null,null,null,null,"Onaylayan"]
[null,"GÖREVLENDİRİLEN PERSONEL LİSTESİ"]
[null,"Personelin","Adı Soyadı"]
[null,null,"Kimlik No"]
[null,null,"Mezuniyet"]
[null,null,"Adı Soyadı"]
[null,null,"Kimlik No"]
[null,null,"Mezuniyet"]
[null,"S. No","PERSONELİN",null,null,null,null,null,null,null,null,null,null,null,null,null,null,null,null,null,null,null,null,null,null,null,null,null,null,null,"GÜNLÜK DERS SAATİ SAYILARI",null,null,null,null,null,null,null,null,null,null,null,null,null,null,null,null,null,null,null,null,null,null,null,null,null,null,null,null,null,null,null,null,null,null,"Toplam\nDers Saati",null,null,null,null,null,null,null,null,null,null,null,null,null,null,null,null,null,null,null,null,null,null,null,null,null,null,null,null,null,null,null,null,null,null,null,null,null,null,null,null,null,null,null,null,null,null,null,null,null,null,null,null,null,null,null,null,null,null,null,null,null,null,null,null,null,null,null,null,null,null,null,null,null,null,null,null,null,null,null,1,2,3,4,5,6,7,8,9,10,11,12,13,14,15,16,17,18,19,20,21,22,23,24,25,26,27,28,29,30,31,32,33,34,35]
[null,null,"Adı Soyadı",null,null,null,null,null,null,null,"Kimlik No",null,null,null,"Mezuniyet",null,null,null,null,"Ek Ders Türü",null,null,null,null,null,null,null,null,null,null,{"$f":"yaz!F6","v":"2024-04-01"},{"$f":"yaz!G6","v":"2024-04-02"},{"$f":"yaz!H6","v":"2024-04-03"},{"$f":"yaz!I6","v":"2024-04-04"},{"$f":"yaz!J6","v":"2024-04-05"},{"$f":"yaz!K6","v":"2024-04-06"},{"$f":"yaz!L6","v":"2024-04-07"},{"$f":"yaz!M6","v":"2024-04-08"},{"$f":"yaz!N6","v":"2024-04-09"},{"$f":"yaz!O6","v":"2024-04-10"},{"$f":"yaz!P6","v":"2024-04-11"},{"$f":"yaz!Q6","v":"2024-04-12"},{"$f":"yaz!R6","v":"2024-04-13"},{"$f":"yaz!S6","v":"2024-04-14"},{"$f":"yaz!T6","v":"2024-04-15"},{"$f":"yaz!U6","v":"2024-04-16"},{"$f":"yaz!V6","v":"2024-04-17"},{"$f":"yaz!W6","v":"2024-04-18"},{"$f":"yaz!X6","v":"2024-04-19"},{"$f":"yaz!Y6","v":"2024-04-20"},{"$f":"yaz!Z6","v":"2024-04-21"},{"$f":"yaz!AA6","v":"2024-04-22"},{"$f":"yaz!AB6","v":"2024-04-23"},{"$f":"yaz!AC6","v":"2024-04-24"},{"$f":"yaz!AD6","v":"2024-04-25"},{"$f":"yaz!AE6","v":"2024-04-26"},{"$f":"yaz!AF6","v":"2024-04-27"},{"$f":"yaz!AG6","v":"2024-04-28"},{"$f":"yaz!AH6","v":""},{"$f":"yaz!AI6","v":""},{"$f":"yaz!AJ6","v":""},{"$f":"yaz!AK6","v":""},{"$f":"yaz!AL6","v":""},{"$f":"yaz!AM6","v":""},{"$f":"yaz!AN6","v":""},null,null,null,null,null,null,null,null,null,null,null,null,null,null,null,null,null,null,null,null,null,null,null,null,null,null,null,null,null,null,null,null,null,null,null,null,null,null,null,null,null,null,null,null,null,null,null,null,null,null,null,null,null,null,null,null,null,null,null,null,null,null,null,null,null,null,null,"no","Adı Soyado","kimlik No","Mezuniyet","Liste","Liste","no","Adı Soyado","Kayıt",{"$f":"COUNTA(H7,N7,T7,Z7,AF7,AL7,AR7,AX7,BD7,BJ7,H10,N10,T10,Z10,AF10,AL10,AR10,AX10,BD10,BJ10)","v":0},null,null,null,{"$f":"yaz!AV6","v":"Pazartesi"},{"$f":"yaz!AW6","v":"Salı"},{"$f":"yaz!AX6","v":"Çarşamba"},{"$f":"yaz!AY6","v":"Perşembe"},{"$f":"yaz!AZ6","v":"Cuma"},{"$f":"yaz!BA6","v":"Cumartesi"},{"$f":"yaz!BB6","v":"Pazar"},{"$f":"yaz!BC6","v":"Pazartesi"},{"$f":"yaz!BD6","v":"Salı"},{"$f":"yaz!BE6","v":"Çarşamba"},{"$f":"yaz!BF6","v":"Perşembe"},{"$f":"yaz!BG6","v":"Cuma"},{"$f":"yaz!BH6","v":"Cumartesi"},{"$f":"yaz!BI6","v":"Pazar"},{"$f":"yaz!BJ6","v":"Pazartesi"},{"$f":"yaz!BK6","v":"Salı"},{"$f":"yaz!BL6","v":"Çarşamba"},{"$f":"yaz!BM6","v":"Perşembe"},{"$f":"yaz!BN6","v":"Cuma"},{"$f":"yaz!BO6","v":"Cumartesi"},{"$f":"yaz!BP6","v":"Pazar"},{"$f":"yaz!BQ6","v":"Pazartesi"},{"$f":"yaz!BR6","v":"Salı"},{"$f":"yaz!BS6","v":"Çarşamba"},{"$f":"yaz!BT6","v":"Perşembe"},{"$f":"yaz!BU6","v":"Cuma"},{"$f":"yaz!BV6","v":"Cumartesi"},{"$f":"yaz!BW6","v":"Pazar"},{"$f":"yaz!BX6","v":""},{"$f":"yaz!BY6","v":""},{"$f":"yaz!BZ6","v":""},{"$f":"yaz!CA6","v":""},{"$f":"yaz!CB6","v":""},{"$f":"yaz!CC6","v":""},{"$f":"yaz!CD6","v":""}]
[null,1,null,null,null,null,null,null,null,null,{"$f":"IF($EP$25=0,\"\",IF(C15=\"\",\"\",INDEX($ED$14:$EF$34,MATCH(C15,$ED$14:$ED$34,),MATCH(K$14,$ED$14:$EF$14,))))","v":""},null,null,null,{"$f":"IF($EP$25=0,\"\",IF(C15=\"\",\"\",INDEX($ED$14:$EF$34,MATCH(C15,$ED$14:$ED$34,),MATCH(O$14,$ED$14:$EF$14,))))","v":""},null,null,null,null,null,null,null,null,null,null,null,null,null,null,null,null,null,null,null,null,null,null,null,null,null,null,null,null,null,null,null,null,null,null,null,null,null,null,null,null,null,null,null,null,null,null,null,null,null,null,{"$f":"SUM(AE15:BM15)","v":0},null,null,null,null,null,null,null,null,null,null,null,null,null,null,null,null,null,null,null,null,null,null,null,null,null,null,null,null,null,null,null,null,null,null,null,null,null,null,null,null,null,null,null,null,null,null,null,null,null,null,null,null,null,null,null,null,null,null,null,null,null,null,null,null,"100-Maaş Karşılığı",null,{"$f":"EH15","v":0},{"$f":"H7","v":0},{"$f":"H8","v":0},{"$f":"H9","v":0},{"$f":"IF(ED15<>0,1,0)","v":0},{"$f":"EG15","v":0},1,{"$f":"INDEX($EC$14:$EF$34,MATCH(EI15,$EC$14:$EC$34,),MATCH(ED$14,$EC$14:$EF$14,))","v":{"$error":"#N/A"}},"Adet",{"$f":"MAX(EH15:EH34)-1","v":-1}]
[null,2,null,null,null,null,null,null,null,null,{"$f":"IF($EP$25=0,\"\",IF(C16=\"\",\"\",INDEX($ED$14:$EF$34,MATCH(C16,$ED$14:$ED$34,),MATCH(K$14,$ED$14:$EF$14,))))","v":""},null,null,null,{"$f":"IF($EP$25=0,\"\",IF(C16=\"\",\"\",INDEX($ED$14:$EF$34,MATCH(C16,$ED$14:$ED$34,),MATCH(O$14,$ED$14:$EF$14,))))","v":""},null,null,null,null,null,null,null,null,null,null,null,null,null,null,null,null,null,null,null,null,null,null,null,null,null,null,null,null,null,null,null,null,null,null,null,null,null,null,null,null,null,null,null,null,null,null,null,null,null,null,{"$f":"SUM(AE16:BM16)","v":0},null,null,null,null,null,null,null,null,null,null,null,null,null,null,null,null,null,null,null,null,null,null,null,null,null,null,null,null,null,null,null,null,null,null,null,null,null,null,null,null,null,null,null,null,null,null,null,null,null,null,null,null,null,null,null,null,null,null,null,null,null,null,null,null,"101-Gündüz",null,{"$f":"EH16","v":0},{"$f":"N7","v":0},{"$f":"N8","v":0},{"$f":"N9","v":0},{"$f":"IF(ED16<>0,1,0)","v":0},{"$f":"IF(ED16=0,EH15,EH15+1)","v":0},2,{"$f":"INDEX($EC$14:$EF$34,MATCH(EI16,$EC$14:$EC$34,),MATCH(ED$14,$EC$14:$EF$14,))","v":{"$error":"#N/A"}},1,"EJ15",null,null,"Kurum",{"$f":"IF(F4=\"\",0,1)","v":0}]
[null,3,null,null,null,null,null,null,null,null,"",null,null,null,"",null,null,null,null,null,null,null,null,null,null,null,null,null,null,null,null,null,null,null,null,null,null,null,null,null,null,null,null,null,null,null,null,null,null,null,null,null,null,null,null,null,null,null,null,null,null,null,null,null,null,0,null,null,null,null,null,null,null,null,null,null,null,null,null,null,null,null,null,null,null,null,null,null,null,null,null,null,null,null,null,null,null,null,null,null,null,null,null,null,null,null,null,null,null,null,null,null,null,null,null,null,null,null,null,null,null,null,null,null,null,null,null,null,null,null,"102-Gece",null,0,{"$f":"T7","v":0},{"$f":"T8","v":0},{"$f":"T9","v":0},0,{"$f":"IF(ED17=0,EH16,EH16+1)","v":0},3,{"$error":"#N/A"},2,{"$f":"\"EJ\"&15+EL15","v":"EJ14"},null,null,"tarih1",{"$f":"IF(O5=\"\",0,1)","v":1}]
[null,4,null,null,null,null,null,null,null,null,"",null,null,null,"",null,null,null,null,null,null,null,null,null,null,null,null,null,null,null,null,null,null,null,null,null,null,null,null,null,null,null,null,null,null,null,null,null,null,null,null,null,null,null,null,null,null,null,null,null,null,null,null,null,null,0,null,null,null,null,null,null,null,null,null,null,null,null,null,null,null,null,null,null,null,null,null,null,null,null,null,null,null,null,null,null,null,null,null,null,null,null,null,null,null,null,null,null,null,null,null,null,null,null,null,null,null,null,null,null,null,null,null,null,null,null,null,null,null,null,"103-%25 Fazla Gündüz",null,0,{"$f":"Z7","v":0},{"$f":"Z8","v":0},{"$f":"Z9","v":0},0,0,4,{"$error":"#N/A"},"Hedef",{"$f":"IF(EL14=0,\"EL19:EL19\",EL16&\":\"&EL17)","v":"EL19:EL19"},null,null,"tarih2",{"$f":"IF(S5=\"\",0,1)","v":1}]
[null,5,null,null,null,null,null,null,null,null,"",null,null,null,"",null,null,null,null,null,null,null,null,null,null,null,null,null,null,null,null,null,null,null,null,null,null,null,null,null,null,null,null,null,null,null,null,null,null,null,null,null,null,null,null,null,null,null,null,null,null,null,null,null,null,0,null,null,null,null,null,null,null,null,null,null,null,null,null,null,null,null,null,null,null,null,null,null,null,null,null,null,null,null,null,null,null,null,null,null,null,null,null,null,null,null,null,null,null,null,null,null,null,null,null,null,null,null,null,null,null,null,null,null,null,null,null,null,null,null,"104-%25 Fazla Gece",null,0,{"$f":"AF7","v":0},{"$f":"AF8","v":0},{"$f":"AF9","v":0},0,0,5,{"$error":"#N/A"},"Boş",null,null,null,"Düzenleyen1",{"$f":"IF(AK4=\"\",0,1)","v":0}]
[null,6,null,null,null,null,null,null,null,null,"",null,null,null,"",null,null,null,null,null,null,null,null,null,null,null,null,null,null,null,null,null,null,null,null,null,null,null,null,null,null,null,null,null,null,null,null,null,null,null,null,null,null,null,null,null,null,null,null,null,null,null,null,null,null,0,null,null,null,null,null,null,null,null,null,null,null,null,null,null,null,null,null,null,null,null,null,null,null,null,null,null,null,null,null,null,null,null,null,null,null,null,null,null,null,null,null,null,null,null,null,null,null,null,null,null,null,null,null,null,null,null,null,null,null,null,null,null,null,null,"106-Belleticilik",null,0,{"$f":"AL7","v":0},{"$f":"AL8","v":0},{"$f":"AL9","v":0},0,0,6,{"$error":"#N/A"},"Ek Ders",{"$f":"yaz!AS6","v":0},null,null,"Düzenleyen2",{"$f":"IF(AS4=\"\",0,1)","v":0}]
[null,7,null,null,null,null,null,null,null,null,"",null,null,null,"",null,null,null,null,null,null,null,null,null,null,null,null,null,null,null,null,null,null,null,null,null,null,null,null,null,null,null,null,null,null,null,null,null,null,null,null,null,null,null,null,null,null,null,null,null,null,null,null,null,null,0,null,null,null,null,null,null,null,null,null,null,null,null,null,null,null,null,null,null,null,null,null,null,null,null,null,null,null,null,null,null,null,null,null,null,null,null,null,null,null,null,null,null,null,null,null,null,null,null,null,null,null,null,null,null,null,null,null,null,null,null,null,null,null,null,"107-Sınav Görevi",null,0,{"$f":"AR7","v":0},{"$f":"AR8","v":0},{"$f":"AR9","v":0},0,0,7,{"$error":"#N/A"},null,null,null,null,"Onaylayan1",{"$f":"IF(AK5=\"\",0,1)","v":0}]
[null,8,null,null,null,null,null,null,null,null,"",null,null,null,"",null,null,null,null,null,null,null,null,null,null,null,null,null,null,null,null,null,null,null,null,null,null,null,null,null,null,null,null,null,null,null,null,null,null,null,null,null,null,null,null,null,null,null,null,null,null,null,null,null,null,0,null,null,null,null,null,null,null,null,null,null,null,null,null,null,null,null,null,null,null,null,null,null,null,null,null,null,null,null,null,null,null,null,null,null,null,null,null,null,null,null,null,null,null,null,null,null,null,null,null,null,null,null,null,null,null,null,null,null,null,null,null,null,null,null,"108-Egzersiz",null,0,{"$f":"AX7","v":0},{"$f":"AX8","v":0},{"$f":"AX9","v":0},0,0,8,{"$error":"#N/A"},null,null,null,null,"Onaylayan2",{"$f":"IF(AS5=\"\",0,1)","v":0}]
[null,9,null,null,null,null,null,null,null,null,"",null,null,null,"",null,null,null,null,null,null,null,null,null,null,null,null,null,null,null,null,null,null,null,null,null,null,null,null,null,null,null,null,null,null,null,null,null,null,null,null,null,null,null,null,null,null,null,null,null,null,null,null,null,null,0,null,null,null,null,null,null,null,null,null,null,null,null,null,null,null,null,null,null,null,null,null,null,null,null,null,null,null,null,null,null,null,null,null,null,null,null,null,null,null,null,null,null,null,null,null,null,null,null,null,null,null,null,null,null,null,null,null,null,null,null,null,null,null,null,"109-Hizmetiçi",null,0,{"$f":"BD7","v":0},{"$f":"BD8","v":0},{"$f":"BD9","v":0},0,0,9,{"$error":"#N/A"},null,null,null,null,"Ay",{"$f":"IF(AA4=\"\",0,1)","v":0}]
[null,10,null,null,null,null,null,null,null,null,"",null,null,null,"",null,null,null,null,null,null,null,null,null,null,null,null,null,null,null,null,null,null,null,null,null,null,null,null,null,null,null,null,null,null,null,null,null,null,null,null,null,null,null,null,null,null,null,null,null,null,null,null,null,null,0,null,null,null,null,null,null,null,null,null,null,null,null,null,null,null,null,null,null,null,null,null,null,null,null,null,null,null,null,null,null,null,null,null,null,null,null,null,null,null,null,null,null,null,null,null,null,null,null,null,null,null,null,null,null,null,null,null,null,null,null,null,null,null,null,"110-Ekders Yer. Geç. Gör. - Gündüz",null,0,{"$f":"BJ7","v":0},{"$f":"BJ8","v":0},{"$f":"BJ9","v":0},0,0,10,{"$error":"#N/A"},null,null,null,null,"Yıl",{"$f":"IF(AA5=\"\",0,1)","v":0}]
[null,11,null,null,null,null,null,null,null,null,"",null,null,null,"",null,null,null,null,null,null,null,null,null,null,null,null,null,null,null,null,null,null,null,null,null,null,null,null,null,null,null,null,null,null,null,null,null,null,null,null,null,null,null,null,null,null,null,null,null,null,null,null,null,null,0,null,null,null,null,null,null,null,null,null,null,null,null,null,null,null,null,null,null,null,null,null,null,null,null,null,null,null,null,null,null,null,null,null,null,null,null,null,null,null,null,null,null,null,null,null,null,null,null,null,null,null,null,null,null,null,null,null,null,null,null,null,null,null,null,"111-Ekders Yer. Geç. Gör. - Gece",null,0,{"$f":"H10","v":0},{"$f":"H11","v":0},{"$f":"H12","v":0},0,0,11,{"$error":"#N/A"},null,null,null,null,"Kişi Kaydı",{"$f":"MAX(EG15:EG34)","v":0}]
[null,12,null,null,null,null,null,null,null,null,"",null,null,null,"",null,null,null,null,null,null,null,null,null,null,null,null,null,null,null,null,null,null,null,null,null,null,null,null,null,null,null,null,null,null,null,null,null,null,null,null,null,null,null,null,null,null,null,null,null,null,null,null,null,null,0,null,null,null,null,null,null,null,null,null,null,null,null,null,null,null,null,null,null,null,null,null,null,null,null,null,null,null,null,null,null,null,null,null,null,null,null,null,null,null,null,null,null,null,null,null,null,null,null,null,null,null,null,null,null,null,null,null,null,null,null,null,null,null,null,"112-Ekders Yer. Geç. Gör. - %25 Gündüz",null,0,{"$f":"N10","v":0},{"$f":"N11","v":0},{"$f":"N12","v":0},0,0,12,{"$error":"#N/A"},null,null,null,null,"Ek Ders",{"$f":"IF(EL20=0,0,1)","v":0}]
[null,13,null,null,null,null,null,null,null,null,"",null,null,null,"",null,null,null,null,null,null,null,null,null,null,null,null,null,null,null,null,null,null,null,null,null,null,null,null,null,null,null,null,null,null,null,null,null,null,null,null,null,null,null,null,null,null,null,null,null,null,null,null,null,null,0,null,null,null,null,null,null,null,null,null,null,null,null,null,null,null,null,null,null,null,null,null,null,null,null,null,null,null,null,null,null,null,null,null,null,null,null,null,null,null,null,null,null,null,null,null,null,null,null,null,null,null,null,null,null,null,null,null,null,null,null,null,null,null,null,"113-Ekders Yer. Geç. Gör. - %25 Gece",null,0,{"$f":"T10","v":0},{"$f":"T11","v":0},{"$f":"T12","v":0},0,0,13,{"$error":"#N/A"},null,null,null,null,"Toplam",{"$f":"SUM(EP16:EP26)","v":2}]
[null,14,null,null,null,null,null,null,null,null,"",null,null,null,"",null,null,null,null,null,null,null,null,null,null,null,null,null,null,null,null,null,null,null,null,null,null,null,null,null,null,null,null,null,null,null,null,null,null,null,null,null,null,null,null,null,null,null,null,null,null,null,null,null,null,0,null,null,null,null,null,null,null,null,null,null,null,null,null,null,null,null,null,null,null,null,null,null,null,null,null,null,null,null,null,null,null,null,null,null,null,null,null,null,null,null,null,null,null,null,null,null,null,null,null,null,null,null,null,null,null,null,null,null,null,null,null,null,null,null,"114-Atış Eğitimi",null,0,{"$f":"Z10","v":0},{"$f":"Z11","v":0},{"$f":"Z12","v":0},0,0,14,{"$error":"#N/A"},null,null,null,null,"Ölçüt",{"$f":"IF(EP27=11,1,0)","v":0}]
[null,15,null,null,null,null,null,null,null,null,"",null,null,null,"",null,null,null,null,null,null,null,null,null,null,null,null,null,null,null,null,null,null,null,null,null,null,null,null,null,null,null,null,null,null,null,null,null,null,null,null,null,null,null,null,null,null,null,null,null,null,null,null,null,null,0,null,null,null,null,null,null,null,null,null,null,null,null,null,null,null,null,null,null,null,null,null,null,null,null,null,null,null,null,null,null,null,null,null,null,null,null,null,null,null,null,null,null,null,null,null,null,null,null,null,null,null,null,null,null,null,null,null,null,null,null,null,null,null,null,"115-Cezaevleri Eğt. Mer. - 160*Saat",null,0,{"$f":"AF10","v":0},{"$f":"AF11","v":0},{"$f":"AF12","v":0},0,0,15,{"$error":"#N/A"}]
[null,16,null,null,null,null,null,null,null,null,"",null,null,null,"",null,null,null,null,null,null,null,null,null,null,null,null,null,null,null,null,null,null,null,null,null,null,null,null,null,null,null,null,null,null,null,null,null,null,null,null,null,null,null,null,null,null,null,null,null,null,null,null,null,null,0,null,null,null,null,null,null,null,null,null,null,null,null,null,null,null,null,null,null,null,null,null,null,null,null,null,null,null,null,null,null,null,null,null,null,null,null,null,null,null,null,null,null,null,null,null,null,null,null,null,null,null,null,null,null,null,null,null,null,null,null,null,null,null,null,"116-Takviye kursu (Gündüz)",null,0,{"$f":"AL10","v":0},{"$f":"AL11","v":0},{"$f":"AL12","v":0},0,0,16,{"$error":"#N/A"}]
[null,17,null,null,null,null,null,null,null,null,"",null,null,null,"",null,null,null,null,null,null,null,null,null,null,null,null,null,null,null,null,null,null,null,null,null,null,null,null,null,null,null,null,null,null,null,null,null,null,null,null,null,null,null,null,null,null,null,null,null,null,null,null,null,null,0,null,null,null,null,null,null,null,null,null,null,null,null,null,null,null,null,null,null,null,null,null,null,null,null,null,null,null,null,null,null,null,null,null,null,null,null,null,null,null,null,null,null,null,null,null,null,null,null,null,null,null,null,null,null,null,null,null,null,null,null,null,null,null,null,"117-Takviye kursu (Haftasonu/Gece)",null,0,{"$f":"AR10","v":0},{"$f":"AR11","v":0},{"$f":"AR12","v":0},0,0,17,{"$error":"#N/A"}]
[null,18,null,null,null,null,null,null,null,null,"",null,null,null,"",null,null,null,null,null,null,null,null,null,null,null,null,null,null,null,null,null,null,null,null,null,null,null,null,null,null,null,null,null,null,null,null,null,null,null,null,null,null,null,null,null,null,null,null,null,null,null,null,null,null,0,null,null,null,null,null,null,null,null,null,null,null,null,null,null,null,null,null,null,null,null,null,null,null,null,null,null,null,null,null,null,null,null,null,null,null,null,null,null,null,null,null,null,null,null,null,null,null,null,null,null,null,null,null,null,null,null,null,null,null,null,null,null,null,null,"118-Belleticilik  %25 Fazla",null,0,{"$f":"AX10","v":0},{"$f":"AX11","v":0},{"$f":"AX12","v":0},0,0,18,{"$error":"#N/A"}]
[null,19,null,null,null,null,null,null,null,null,"",null,null,null,"",null,null,null,null,null,null,null,null,null,null,null,null,null,null,null,null,null,null,null,null,null,null,null,null,null,null,null,null,null,null,null,null,null,null,null,null,null,null,null,null,null,null,null,null,null,null,null,null,null,null,0,null,null,null,null,null,null,null,null,null,null,null,null,null,null,null,null,null,null,null,null,null,null,null,null,null,null,null,null,null,null,null,null,null,null,null,null,null,null,null,null,null,null,null,null,null,null,null,null,null,null,null,null,null,null,null,null,null,null,null,null,null,null,null,null,"119-Nöbet Görevi",null,0,{"$f":"BD10","v":0},{"$f":"BD11","v":0},{"$f":"BD12","v":0},0,0,19,{"$error":"#N/A"}]
[null,20,null,null,null,null,null,null,null,null,"",null,null,null,"",null,null,null,null,null,null,null,null,null,null,null,null,null,null,null,null,null,null,null,null,null,null,null,null,null,null,null,null,null,null,null,null,null,null,null,null,null,null,null,null,null,null,null,null,null,null,null,null,null,null,0,null,null,null,null,null,null,null,null,null,null,null,null,null,null,null,null,null,null,null,null,null,null,null,null,null,null,null,null,null,null,null,null,null,null,null,null,null,null,null,null,null,null,null,null,null,null,null,null,null,null,null,null,null,null,null,null,null,null,null,null,null,null,null,null,"121-Nöbet Ücreti %25 Fazla",null,0,{"$f":"BJ10","v":0},{"$f":"BJ11","v":0},{"$f":"BJ12","v":0},0,0,20,{"$error":"#N/A"}]
[null,21,null,null,null,null,null,null,null,null,"",null,null,null,"",null,null,null,null,null,null,null,null,null,null,null,null,null,null,null,null,null,null,null,null,null,null,null,null,null,null,null,null,null,null,null,null,null,null,null,null,null,null,null,null,null,null,null,null,null,null,null,null,null,null,0,null,null,null,null,null,null,null,null,null,null,null,null,null,null,null,null,null,null,null,null,null,null,null,null,null,null,null,null,null,null,null,null,null,null,null,null,null,null,null,null,null,null,null,null,null,null,null,null,null,null,null,null,null,null,null,null,null,null,null,null,null,null,null,null,"122-İYEP-Gündüz"]
[null,22,null,null,null,null,null,null,null,null,"",null,null,null,"",null,null,null,null,null,null,null,null,null,null,null,null,null,null,null,null,null,null,null,null,null,null,null,null,null,null,null,null,null,null,null,null,null,null,null,null,null,null,null,null,null,null,null,null,null,null,null,null,null,null,0,null,null,null,null,null,null,null,null,null,null,null,null,null,null,null,null,null,null,null,null,null,null,null,null,null,null,null,null,null,null,null,null,null,null,null,null,null,null,null,null,null,null,null,null,null,null,null,null,null,null,null,null,null,null,null,null,null,null,null,null,null,null,null,null,"123-İYEP-Gece-Hafta Sonu"]
[null,23,null,null,null,null,null,null,null,null,"",null,null,null,"",null,null,null,null,null,null,null,null,null,null,null,null,null,null,null,null,null,null,null,null,null,null,null,null,null,null,null,null,null,null,null,null,null,null,null,null,null,null,null,null,null,null,null,null,null,null,null,null,null,null,0]
[null,24,null,null,null,null,null,null,null,null,"",null,null,null,"",null,null,null,null,null,null,null,null,null,null,null,null,null,null,null,null,null,null,null,null,null,null,null,null,null,null,null,null,null,null,null,null,null,null,null,null,null,null,null,null,null,null,null,null,null,null,null,null,null,null,0]
[null,25,null,null,null,null,null,null,null,null,"",null,null,null,"",null,null,null,null,null,null,null,null,null,null,null,null,null,null,null,null,null,null,null,null,null,null,null,null,null,null,null,null,null,null,null,null,null,null,null,null,null,null,null,null,null,null,null,null,null,null,null,null,null,null,0]
[null,26,null,null,null,null,null,null,null,null,"",null,null,null,"",null,null,null,null,null,null,null,null,null,null,null,null,null,null,null,null,null,null,null,null,null,null,null,null,null,null,null,null,null,null,null,null,null,null,null,null,null,null,null,null,null,null,null,null,null,null,null,null,null,null,0]
[null,27,null,null,null,null,null,null,null,null,"",null,null,null,"",null,null,null,null,null,null,null,null,null,null,null,null,null,null,null,null,null,null,null,null,null,null,null,null,null,null,null,null,null,null,null,null,null,null,null,null,null,null,null,null,null,null,null,null,null,null,null,null,null,null,0]
[null,28,null,null,null,null,null,null,null,null,"",null,null,null,"",null,null,null,null,null,null,null,null,null,null,null,null,null,null,null,null,null,null,null,null,null,null,null,null,null,null,null,null,null,null,null,null,null,null,null,null,null,null,null,null,null,null,null,null,null,null,null,null,null,null,0]
[null,29,null,null,null,null,null,null,null,null,"",null,null,null,"",null,null,null,null,null,null,null,null,null,null,null,null,null,null,null,null,null,null,null,null,null,null,null,null,null,null,null,null,null,null,null,null,null,null,null,null,null,null,null,null,null,null,null,null,null,null,null,null,null,null,0]
[null,30,null,null,null,null,null,null,null,null,"",null,null,null,"",null,null,null,null,null,null,null,null,null,null,null,null,null,null,null,null,null,null,null,null,null,null,null,null,null,null,null,null,null,null,null,null,null,null,null,null,null,null,null,null,null,null,null,null,null,null,null,null,null,null,0]
[null,31,null,null,null,null,null,null,null,null,"",null,null,null,"",null,null,null,null,null,null,null,null,null,null,null,null,null,null,null,null,null,null,null,null,null,null,null,null,null,null,null,null,null,null,null,null,null,null,null,null,null,null,null,null,null,null,null,null,null,null,null,null,null,null,0]
[null,32,null,null,null,null,null,null,null,null,"",null,null,null,"",null,null,null,null,null,null,null,null,null,null,null,null,null,null,null,null,null,null,null,null,null,null,null,null,null,null,null,null,null,null,null,null,null,null,null,null,null,null,null,null,null,null,null,null,null,null,null,null,null,null,0]
[null,33,null,null,null,null,null,null,null,null,"",null,null,null,"",null,null,null,null,null,null,null,null,null,null,null,null,null,null,null,null,null,null,null,null,null,null,null,null,null,null,null,null,null,null,null,null,null,null,null,null,null,null,null,null,null,null,null,null,null,null,null,null,null,null,0]
[null,34,null,null,null,null,null,null,null,null,"",null,null,null,"",null,null,null,null,null,null,null,null,null,null,null,null,null,null,null,null,null,null,null,null,null,null,null,null,null,null,null,null,null,null,null,null,null,null,null,null,null,null,null,null,null,null,null,null,null,null,null,null,null,null,0]
[null,35,null,null,null,null,null,null,null,null,"",null,null,null,"",null,null,null,null,null,null,null,null,null,null,null,null,null,null,null,null,null,null,null,null,null,null,null,null,null,null,null,null,null,null,null,null,null,null,null,null,null,null,null,null,null,null,null,null,null,null,null,null,null,null,0]
[null,36,null,null,null,null,null,null,null,null,"",null,null,null,"",null,null,null,null,null,null,null,null,null,null,null,null,null,null,null,null,null,null,null,null,null,null,null,null,null,null,null,null,null,null,null,null,null,null,null,null,null,null,null,null,null,null,null,null,null,null,null,null,null,null,0]
[null,37,null,null,null,null,null,null,null,null,"",null,null,null,"",null,null,null,null,null,null,null,null,null,null,null,null,null,null,null,null,null,null,null,null,null,null,null,null,null,null,null,null,null,null,null,null,null,null,null,null,null,null,null,null,null,null,null,null,null,null,null,null,null,null,0]
[null,38,null,null,null,null,null,null,null,null,"",null,null,null,"",null,null,null,null,null,null,null,null,null,null,null,null,null,null,null,null,null,null,null,null,null,null,null,null,null,null,null,null,null,null,null,null,null,null,null,null,null,null,null,null,null,null,null,null,null,null,null,null,null,null,0]
[null,39,null,null,null,null,null,null,null,null,"",null,null,null,"",null,null,null,null,null,null,null,null,null,null,null,null,null,null,null,null,null,null,null,null,null,null,null,null,null,null,null,null,null,null,null,null,null,null,null,null,null,null,null,null,null,null,null,null,null,null,null,null,null,null,0]
[null,40,null,null,null,null,null,null,null,null,"",null,null,null,"",null,null,null,null,null,null,null,null,null,null,null,null,null,null,null,null,null,null,null,null,null,null,null,null,null,null,null,null,null,null,null,null,null,null,null,null,null,null,null,null,null,null,null,null,null,null,null,null,null,null,0]
[null,41,null,null,null,null,null,null,null,null,"",null,null,null,"",null,null,null,null,null,null,null,null,null,null,null,null,null,null,null,null,null,null,null,null,null,null,null,null,null,null,null,null,null,null,null,null,null,null,null,null,null,null,null,null,null,null,null,null,null,null,null,null,null,null,0]
[null,42,null,null,null,null,null,null,null,null,"",null,null,null,"",null,null,null,null,null,null,null,null,null,null,null,null,null,null,null,null,null,null,null,null,null,null,null,null,null,null,null,null,null,null,null,null,null,null,null,null,null,null,null,null,null,null,null,null,null,null,null,null,null,null,0]
[null,43,null,null,null,null,null,null,null,null,"",null,null,null,"",null,null,null,null,null,null,null,null,null,null,null,null,null,null,null,null,null,null,null,null,null,null,null,null,null,null,null,null,null,null,null,null,null,null,null,null,null,null,null,null,null,null,null,null,null,null,null,null,null,null,0]
[null,44,null,null,null,null,null,null,null,null,"",null,null,null,"",null,null,null,null,null,null,null,null,null,null,null,null,null,null,null,null,null,null,null,null,null,null,null,null,null,null,null,null,null,null,null,null,null,null,null,null,null,null,null,null,null,null,null,null,null,null,null,null,null,null,0]
[null,45,null,null,null,null,null,null,null,null,"",null,null,null,"",null,null,null,null,null,null,null,null,null,null,null,null,null,null,null,null,null,null,null,null,null,null,null,null,null,null,null,null,null,null,null,null,null,null,null,null,null,null,null,null,null,null,null,null,null,null,null,null,null,null,0]
[null,46,null,null,null,null,null,null,null,null,"",null,null,null,"",null,null,null,null,null,null,null,null,null,null,null,null,null,null,null,null,null,null,null,null,null,null,null,null,null,null,null,null,null,null,null,null,null,null,null,null,null,null,null,null,null,null,null,null,null,null,null,null,null,null,0]
[null,47,null,null,null,null,null,null,null,null,"",null,null,null,"",null,null,null,null,null,null,null,null,null,null,null,null,null,null,null,null,null,null,null,null,null,null,null,null,null,null,null,null,null,null,null,null,null,null,null,null,null,null,null,null,null,null,null,null,null,null,null,null,null,null,0]
[null,48,null,null,null,null,null,null,null,null,"",null,null,null,"",null,null,null,null,null,null,null,null,null,null,null,null,null,null,null,null,null,null,null,null,null,null,null,null,null,null,null,null,null,null,null,null,null,null,null,null,null,null,null,null,null,null,null,null,null,null,null,null,null,null,0]
[null,49,null,null,null,null,null,null,null,null,"",null,null,null,"",null,null,null,null,null,null,null,null,null,null,null,null,null,null,null,null,null,null,null,null,null,null,null,null,null,null,null,null,null,null,null,null,null,null,null,null,null,null,null,null,null,null,null,null,null,null,null,null,null,null,0]
[null,50,null,null,null,null,null,null,null,null,"",null,null,null,"",null,null,null,null,null,null,null,null,null,null,null,null,null,null,null,null,null,null,null,null,null,null,null,null,null,null,null,null,null,null,null,null,null,null,null,null,null,null,null,null,null,null,null,null,null,null,null,null,null,null,0]
[null,51,null,null,null,null,null,null,null,null,"",null,null,null,"",null,null,null,null,null,null,null,null,null,null,null,null,null,null,null,null,null,null,null,null,null,null,null,null,null,null,null,null,null,null,null,null,null,null,null,null,null,null,null,null,null,null,null,null,null,null,null,null,null,null,0]
[null,52,null,null,null,null,null,null,null,null,"",null,null,null,"",null,null,null,null,null,null,null,null,null,null,null,null,null,null,null,null,null,null,null,null,null,null,null,null,null,null,null,null,null,null,null,null,null,null,null,null,null,null,null,null,null,null,null,null,null,null,null,null,null,null,0]
[null,53,null,null,null,null,null,null,null,null,"",null,null,null,"",null,null,null,null,null,null,null,null,null,null,null,null,null,null,null,null,null,null,null,null,null,null,null,null,null,null,null,null,null,null,null,null,null,null,null,null,null,null,null,null,null,null,null,null,null,null,null,null,null,null,0]
[null,54,null,null,null,null,null,null,null,null,"",null,null,null,"",null,null,null,null,null,null,null,null,null,null,null,null,null,null,null,null,null,null,null,null,null,null,null,null,null,null,null,null,null,null,null,null,null,null,null,null,null,null,null,null,null,null,null,null,null,null,null,null,null,null,0]
[null,55,null,null,null,null,null,null,null,null,"",null,null,null,"",null,null,null,null,null,null,null,null,null,null,null,null,null,null,null,null,null,null,null,null,null,null,null,null,null,null,null,null,null,null,null,null,null,null,null,null,null,null,null,null,null,null,null,null,null,null,null,null,null,null,0]
[null,56,null,null,null,null,null,null,null,null,"",null,null,null,"",null,null,null,null,null,null,null,null,null,null,null,null,null,null,null,null,null,null,null,null,null,null,null,null,null,null,null,null,null,null,null,null,null,null,null,null,null,null,null,null,null,null,null,null,null,null,null,null,null,null,0]
[null,57,null,null,null,null,null,null,null,null,"",null,null,null,"",null,null,null,null,null,null,null,null,null,null,null,null,null,null,null,null,null,null,null,null,null,null,null,null,null,null,null,null,null,null,null,null,null,null,null,null,null,null,null,null,null,null,null,null,null,null,null,null,null,null,0]
[null,58,null,null,null,null,null,null,null,null,"",null,null,null,"",null,null,null,null,null,null,null,null,null,null,null,null,null,null,null,null,null,null,null,null,null,null,null,null,null,null,null,null,null,null,null,null,null,null,null,null,null,null,null,null,null,null,null,null,null,null,null,null,null,null,0]
[null,59,null,null,null,null,null,null,null,null,"",null,null,null,"",null,null,null,null,null,null,null,null,null,null,null,null,null,null,null,null,null,null,null,null,null,null,null,null,null,null,null,null,null,null,null,null,null,null,null,null,null,null,null,null,null,null,null,null,null,null,null,null,null,null,0]
[null,60,null,null,null,null,null,null,null,null,"",null,null,null,"",null,null,null,null,null,null,null,null,null,null,null,null,null,null,null,null,null,null,null,null,null,null,null,null,null,null,null,null,null,null,null,null,null,null,null,null,null,null,null,null,null,null,null,null,null,null,null,null,null,null,0]
[null,61,null,null,null,null,null,null,null,null,"",null,null,null,"",null,null,null,null,null,null,null,null,null,null,null,null,null,null,null,null,null,null,null,null,null,null,null,null,null,null,null,null,null,null,null,null,null,null,null,null,null,null,null,null,null,null,null,null,null,null,null,null,null,null,0]
[null,62,null,null,null,null,null,null,null,null,"",null,null,null,"",null,null,null,null,null,null,null,null,null,null,null,null,null,null,null,null,null,null,null,null,null,null,null,null,null,null,null,null,null,null,null,null,null,null,null,null,null,null,null,null,null,null,null,null,null,null,null,null,null,null,0]
[null,63,null,null,null,null,null,null,null,null,"",null,null,null,"",null,null,null,null,null,null,null,null,null,null,null,null,null,null,null,null,null,null,null,null,null,null,null,null,null,null,null,null,null,null,null,null,null,null,null,null,null,null,null,null,null,null,null,null,null,null,null,null,null,null,0]
[null,64,null,null,null,null,null,null,null,null,"",null,null,null,"",null,null,null,null,null,null,null,null,null,null,null,null,null,null,null,null,null,null,null,null,null,null,null,null,null,null,null,null,null,null,null,null,null,null,null,null,null,null,null,null,null,null,null,null,null,null,null,null,null,null,0]
[null,65,null,null,null,null,null,null,null,null,"",null,null,null,"",null,null,null,null,null,null,null,null,null,null,null,null,null,null,null,null,null,null,null,null,null,null,null,null,null,null,null,null,null,null,null,null,null,null,null,null,null,null,null,null,null,null,null,null,null,null,null,null,null,null,0]
[null,66,null,null,null,null,null,null,null,null,{"$f":"IF($EP$25=0,\"\",IF(C80=\"\",\"\",INDEX($ED$14:$EF$34,MATCH(C80,$ED$14:$ED$34,),MATCH(K$14,$ED$14:$EF$14,))))","v":""},null,null,null,{"$f":"IF($EP$25=0,\"\",IF(C80=\"\",\"\",INDEX($ED$14:$EF$34,MATCH(C80,$ED$14:$ED$34,),MATCH(O$14,$ED$14:$EF$14,))))","v":""},null,null,null,null,null,null,null,null,null,null,null,null,null,null,null,null,null,null,null,null,null,null,null,null,null,null,null,null,null,null,null,null,null,null,null,null,null,null,null,null,null,null,null,null,null,null,null,null,null,null,{"$f":"SUM(AE80:BM80)","v":0}]
[null,67,null,null,null,null,null,null,null,null,"",null,null,null,"",null,null,null,null,null,null,null,null,null,null,null,null,null,null,null,null,null,null,null,null,null,null,null,null,null,null,null,null,null,null,null,null,null,null,null,null,null,null,null,null,null,null,null,null,null,null,null,null,null,null,0]
[null,68,null,null,null,null,null,null,null,null,"",null,null,null,"",null,null,null,null,null,null,null,null,null,null,null,null,null,null,null,null,null,null,null,null,null,null,null,null,null,null,null,null,null,null,null,null,null,null,null,null,null,null,null,null,null,null,null,null,null,null,null,null,null,null,0]
[null,69,null,null,null,null,null,null,null,null,"",null,null,null,"",null,null,null,null,null,null,null,null,null,null,null,null,null,null,null,null,null,null,null,null,null,null,null,null,null,null,null,null,null,null,null,null,null,null,null,null,null,null,null,null,null,null,null,null,null,null,null,null,null,null,0]
[null,70,null,null,null,null,null,null,null,null,"",null,null,null,"",null,null,null,null,null,null,null,null,null,null,null,null,null,null,null,null,null,null,null,null,null,null,null,null,null,null,null,null,null,null,null,null,null,null,null,null,null,null,null,null,null,null,null,null,null,null,null,null,null,null,0]
[null,71,null,null,null,null,null,null,null,null,"",null,null,null,"",null,null,null,null,null,null,null,null,null,null,null,null,null,null,null,null,null,null,null,null,null,null,null,null,null,null,null,null,null,null,null,null,null,null,null,null,null,null,null,null,null,null,null,null,null,null,null,null,null,null,0]
[null,72,null,null,null,null,null,null,null,null,"",null,null,null,"",null,null,null,null,null,null,null,null,null,null,null,null,null,null,null,null,null,null,null,null,null,null,null,null,null,null,null,null,null,null,null,null,null,null,null,null,null,null,null,null,null,null,null,null,null,null,null,null,null,null,0]
[null,73,null,null,null,null,null,null,null,null,"",null,null,null,"",null,null,null,null,null,null,null,null,null,null,null,null,null,null,null,null,null,null,null,null,null,null,null,null,null,null,null,null,null,null,null,null,null,null,null,null,null,null,null,null,null,null,null,null,null,null,null,null,null,null,0]
[null,74,null,null,null,null,null,null,null,null,"",null,null,null,"",null,null,null,null,null,null,null,null,null,null,null,null,null,null,null,null,null,null,null,null,null,null,null,null,null,null,null,null,null,null,null,null,null,null,null,null,null,null,null,null,null,null,null,null,null,null,null,null,null,null,0]
[null,75,null,null,null,null,null,null,null,null,"",null,null,null,"",null,null,null,null,null,null,null,null,null,null,null,null,null,null,null,null,null,null,null,null,null,null,null,null,null,null,null,null,null,null,null,null,null,null,null,null,null,null,null,null,null,null,null,null,null,null,null,null,null,null,0]
[null,76,null,null,null,null,null,null,null,null,"",null,null,null,"",null,null,null,null,null,null,null,null,null,null,null,null,null,null,null,null,null,null,null,null,null,null,null,null,null,null,null,null,null,null,null,null,null,null,null,null,null,null,null,null,null,null,null,null,null,null,null,null,null,null,0]
[null,77,null,null,null,null,null,null,null,null,"",null,null,null,"",null,null,null,null,null,null,null,null,null,null,null,null,null,null,null,null,null,null,null,null,null,null,null,null,null,null,null,null,null,null,null,null,null,null,null,null,null,null,null,null,null,null,null,null,null,null,null,null,null,null,0]
[null,78,null,null,null,null,null,null,null,null,"",null,null,null,"",null,null,null,null,null,null,null,null,null,null,null,null,null,null,null,null,null,null,null,null,null,null,null,null,null,null,null,null,null,null,null,null,null,null,null,null,null,null,null,null,null,null,null,null,null,null,null,null,null,null,0]
[null,79,null,null,null,null,null,null,null,null,"",null,null,null,"",null,null,null,null,null,null,null,null,null,null,null,null,null,null,null,null,null,null,null,null,null,null,null,null,null,null,null,null,null,null,null,null,null,null,null,null,null,null,null,null,null,null,null,null,null,null,null,null,null,null,0]
[null,80,null,null,null,null,null,null,null,null,"",null,null,null,"",null,null,null,null,null,null,null,null,null,null,null,null,null,null,null,null,null,null,null,null,null,null,null,null,null,null,null,null,null,null,null,null,null,null,null,null,null,null,null,null,null,null,null,null,null,null,null,null,null,null,0]
[null,81,null,null,null,null,null,null,null,null,"",null,null,null,"",null,null,null,null,null,null,null,null,null,null,null,null,null,null,null,null,null,null,null,null,null,null,null,null,null,null,null,null,null,null,null,null,null,null,null,null,null,null,null,null,null,null,null,null,null,null,null,null,null,null,0]
[null,82,null,null,null,null,null,null,null,null,"",null,null,null,"",null,null,null,null,null,null,null,null,null,null,null,null,null,null,null,null,null,null,null,null,null,null,null,null,null,null,null,null,null,null,null,null,null,null,null,null,null,null,null,null,null,null,null,null,null,null,null,null,null,null,0]
[null,83,null,null,null,null,null,null,null,null,"",null,null,null,"",null,null,null,null,null,null,null,null,null,null,null,null,null,null,null,null,null,null,null,null,null,null,null,null,null,null,null,null,null,null,null,null,null,null,null,null,null,null,null,null,null,null,null,null,null,null,null,null,null,null,0]
[null,84,null,null,null,null,null,null,null,null,"",null,null,null,"",null,null,null,null,null,null,null,null,null,null,null,null,null,null,null,null,null,null,null,null,null,null,null,null,null,null,null,null,null,null,null,null,null,null,null,null,null,null,null,null,null,null,null,null,null,null,null,null,null,null,0]
[null,85,null,null,null,null,null,null,null,null,"",null,null,null,"",null,null,null,null,null,null,null,null,null,null,null,null,null,null,null,null,null,null,null,null,null,null,null,null,null,null,null,null,null,null,null,null,null,null,null,null,null,null,null,null,null,null,null,null,null,null,null,null,null,null,0]
[null,86,null,null,null,null,null,null,null,null,"",null,null,null,"",null,null,null,null,null,null,null,null,null,null,null,null,null,null,null,null,null,null,null,null,null,null,null,null,null,null,null,null,null,null,null,null,null,null,null,null,null,null,null,null,null,null,null,null,null,null,null,null,null,null,0]
[null,87,null,null,null,null,null,null,null,null,"",null,null,null,"",null,null,null,null,null,null,null,null,null,null,null,null,null,null,null,null,null,null,null,null,null,null,null,null,null,null,null,null,null,null,null,null,null,null,null,null,null,null,null,null,null,null,null,null,null,null,null,null,null,null,0]
[null,88,null,null,null,null,null,null,null,null,"",null,null,null,"",null,null,null,null,null,null,null,null,null,null,null,null,null,null,null,null,null,null,null,null,null,null,null,null,null,null,null,null,null,null,null,null,null,null,null,null,null,null,null,null,null,null,null,null,null,null,null,null,null,null,0]
[null,89,null,null,null,null,null,null,null,null,"",null,null,null,"",null,null,null,null,null,null,null,null,null,null,null,null,null,null,null,null,null,null,null,null,null,null,null,null,null,null,null,null,null,null,null,null,null,null,null,null,null,null,null,null,null,null,null,null,null,null,null,null,null,null,0]
[null,90,null,null,null,null,null,null,null,null,"",null,null,null,"",null,null,null,null,null,null,null,null,null,null,null,null,null,null,null,null,null,null,null,null,null,null,null,null,null,null,null,null,null,null,null,null,null,null,null,null,null,null,null,null,null,null,null,null,null,null,null,null,null,null,0]
[null,91,null,null,null,null,null,null,null,null,"",null,null,null,"",null,null,null,null,null,null,null,null,null,null,null,null,null,null,null,null,null,null,null,null,null,null,null,null,null,null,null,null,null,null,null,null,null,null,null,null,null,null,null,null,null,null,null,null,null,null,null,null,null,null,0]
[null,92,null,null,null,null,null,null,null,null,"",null,null,null,"",null,null,null,null,null,null,null,null,null,null,null,null,null,null,null,null,null,null,null,null,null,null,null,null,null,null,null,null,null,null,null,null,null,null,null,null,null,null,null,null,null,null,null,null,null,null,null,null,null,null,0]
[null,93,null,null,null,null,null,null,null,null,"",null,null,null,"",null,null,null,null,null,null,null,null,null,null,null,null,null,null,null,null,null,null,null,null,null,null,null,null,null,null,null,null,null,null,null,null,null,null,null,null,null,null,null,null,null,null,null,null,null,null,null,null,null,null,0]
[null,94,null,null,null,null,null,null,null,null,"",null,null,null,"",null,null,null,null,null,null,null,null,null,null,null,null,null,null,null,null,null,null,null,null,null,null,null,null,null,null,null,null,null,null,null,null,null,null,null,null,null,null,null,null,null,null,null,null,null,null,null,null,null,null,0]
[null,95,null,null,null,null,null,null,null,null,"",null,null,null,"",null,null,null,null,null,null,null,null,null,null,null,null,null,null,null,null,null,null,null,null,null,null,null,null,null,null,null,null,null,null,null,null,null,null,null,null,null,null,null,null,null,null,null,null,null,null,null,null,null,null,0]
[null,96,null,null,null,null,null,null,null,null,"",null,null,null,"",null,null,null,null,null,null,null,null,null,null,null,null,null,null,null,null,null,null,null,null,null,null,null,null,null,null,null,null,null,null,null,null,null,null,null,null,null,null,null,null,null,null,null,null,null,null,null,null,null,null,0]
[null,97,null,null,null,null,null,null,null,null,"",null,null,null,"",null,null,null,null,null,null,null,null,null,null,null,null,null,null,null,null,null,null,null,null,null,null,null,null,null,null,null,null,null,null,null,null,null,null,null,null,null,null,null,null,null,null,null,null,null,null,null,null,null,null,0]
[null,98,null,null,null,null,null,null,null,null,"",null,null,null,"",null,null,null,null,null,null,null,null,null,null,null,null,null,null,null,null,null,null,null,null,null,null,null,null,null,null,null,null,null,null,null,null,null,null,null,null,null,null,null,null,null,null,null,null,null,null,null,null,null,null,0]
[null,99,null,null,null,null,null,null,null,null,"",null,null,null,"",null,null,null,null,null,null,null,null,null,null,null,null,null,null,null,null,null,null,null,null,null,null,null,null,null,null,null,null,null,null,null,null,null,null,null,null,null,null,null,null,null,null,null,null,null,null,null,null,null,null,0]
[null,100,null,null,null,null,null,null,null,null,"",null,null,null,"",null,null,null,null,null,null,null,null,null,null,null,null,null,null,null,null,null,null,null,null,null,null,null,null,null,null,null,null,null,null,null,null,null,null,null,null,null,null,null,null,null,null,null,null,null,null,null,null,null,null,0]

{"sheet":"yaz","index":1,"n_rows":112,"n_cols":82,"rows_kept":112,"cut":false,"hidden":true,"merged":[[4,0,5,0],[4,1,5,1],[4,2,5,2],[4,3,5,3],[0,0,0,41],[4,4,5,4],[4,5,4,40],[4,41,5,41],[0,47,3,47],[0,48,3,48],[0,49,3,49],[0,50,3,50],[0,62,3,62],[0,51,3,51],[0,52,3,52],[0,53,3,53],[0,54,3,54],[0,55,3,55],[0,56,3,56],[0,57,3,57],[0,58,3,58],[0,59,3,59],[0,60,3,60],[0,61,3,61],[0,73,3,73],[0,74,3,74],[0,63,3,63],[0,64,3,64],[0,65,3,65],[0,66,3,66],[0,67,3,67],[0,68,3,68],[0,81,3,81],[2,0,2,1],[2,2,2,4],[2,37,2,40],[3,0,3,2],[3,37,3,40],[0,75,3,75],[0,76,3,76],[0,77,3,77],[0,78,3,78],[0,79,3,79],[0,80,3,80],[0,69,3,69],[0,70,3,70],[0,71,3,71],[0,72,3,72],[110,0,110,1],[111,0,111,1],[106,0,106,41],[108,0,108,1],[109,0,109,1],[108,3,108,4],[109,3,109,4],[110,3,110,4],[111,3,111,4]]}
["EK DERS DEVAM-DEVAMSIZLIK PUANTAJI",null,null,null,null,null,null,null,null,null,null,null,null,null,null,null,null,null,null,null,null,null,null,null,null,null,null,null,null,null,null,null,null,null,null,null,null,null,null,null,null,null,null,null,null,null,{"$f":"AU2-1","v":2023},{"$f":"D4","v":"2024-04-01"},{"$f":"AV1+1","v":"2024-04-02"},{"$f":"AW1+1","v":"2024-04-03"},"2024-04-04","2024-04-05","2024-04-06","2024-04-07","2024-04-08","2024-04-09","2024-04-10","2024-04-11","2024-04-12","2024-04-13","2024-04-14","2024-04-15","2024-04-16","2024-04-17","2024-04-18","2024-04-19","2024-04-20","2024-04-21","2024-04-22","2024-04-23","2024-04-24","2024-04-25","2024-04-26","2024-04-27","2024-04-28","2024-04-29","2024-04-30","2024-05-01","2024-05-02","2024-05-03","2024-05-04","2024-05-05"]
[null,null,null,null,null,null,null,null,null,null,null,null,null,null,null,null,null,null,null,null,null,null,null,null,null,null,null,null,null,null,null,null,null,null,null,null,null,null,null,null,null,null,null,null,null,null,{"$f":"YEAR(TODAY())","v":2024}]
["Okul/Kurum Adı",null,{"$f":"Puantaj!F4","v":0},null,null,null,null,null,null,null,null,null,null,null,null,null,null,null,null,null,null,null,null,null,null,null,null,null,null,null,null,null,null,null,null,null,null,"Ait Old. Ay",null,null,null,{"$f":"Puantaj!AA4","v":0}]
["Puantaj Başlama/Bitiş Tarihi",null,null,{"$f":"Puantaj!O5","v":"2024-04-01"},{"$f":"Puantaj!S5","v":"2024-04-28"},null,null,null,null,null,null,null,null,null,null,null,null,null,null,null,null,null,null,null,null,null,null,null,null,null,null,null,null,null,null,null,null,"Ait Old. Yıl",null,null,null,{"$f":"Puantaj!AA5","v":0}]
["S. No","Adı Soyadı","Kimlik No","Mezuniyet","Ek Ders\nTürü","GÜNLÜK DERS SAATİ SAYILARI",null,null,null,null,null,null,null,null,null,null,null,null,null,null,null,null,null,null,null,null,null,null,null,null,null,null,null,null,null,null,null,null,null,null,null,"İlgilinin\nİmzası",1,null,null,null,null,1,2,3,4,5,6,7,8,9,10,11,12,13,14,15,16,17,18,19,20,21,22,23,24,25,26,27,28,29,30,31,32,33,34,35]
[null,null,null,null,null,{"$f":"D4","v":"2024-04-01"},{"$f":"IF(AW1>$E$4,\"\",AW1)","v":"2024-04-02"},"2024-04-03","2024-04-04","2024-04-05","2024-04-06","2024-04-07","2024-04-08","2024-04-09","2024-04-10","2024-04-11","2024-04-12","2024-04-13","2024-04-14","2024-04-15","2024-04-16","2024-04-17","2024-04-18","2024-04-19","2024-04-20","2024-04-21","2024-04-22","2024-04-23","2024-04-24","2024-04-25","2024-04-26","2024-04-27","2024-04-28","","","","","","","","Toplam\nDers Saati",null,1,null,{"$f":"SUM(AO7:AO106)","v":0},null,null,{"$f":"TEXT(F6,\"gggg\")","v":"Pazartesi"},"Salı","Çarşamba","Perşembe","Cuma","Cumartesi","Pazar","Pazartesi","Salı","Çarşamba","Perşembe","Cuma","Cumartesi","Pazar","Pazartesi","Salı","Çarşamba","Perşembe","Cuma","Cumartesi","Pazar","Pazartesi","Salı","Çarşamba","Perşembe","Cuma","Cumartesi","Pazar","","","","","","",""]
[{"$f":"IF(AQ7=1,1,0)","v":0},{"$f":"Puantaj!C15","v":0},{"$f":"Puantaj!K15","v":""},{"$f":"Puantaj!O15","v":""},{"$f":"Puantaj!T15","v":0},{"$f":"IF(Puantaj!AE15=\"\",\"\",Puantaj!AE15)","v":""},{"$f":"IF(Puantaj!AF15=\"\",\"\",Puantaj!AF15)","v":""},{"$f":"IF(Puantaj!AG15=\"\",\"\",Puantaj!AG15)","v":""},{"$f":"IF(Puantaj!AH15=\"\",\"\",Puantaj!AH15)","v":""},{"$f":"IF(Puantaj!AI15=\"\",\"\",Puantaj!AI15)","v":""},{"$f":"IF(Puantaj!AJ15=\"\",\"\",Puantaj!AJ15)","v":""},{"$f":"IF(Puantaj!AK15=\"\",\"\",Puantaj!AK15)","v":""},{"$f":"IF(Puantaj!AL15=\"\",\"\",Puantaj!AL15)","v":""},{"$f":"IF(Puantaj!AM15=\"\",\"\",Puantaj!AM15)","v":""},{"$f":"IF(Puantaj!AN15=\"\",\"\",Puantaj!AN15)","v":""},{"$f":"IF(Puantaj!AO15=\"\",\"\",Puantaj!AO15)","v":""},{"$f":"IF(Puantaj!AP15=\"\",\"\",Puantaj!AP15)","v":""},{"$f":"IF(Puantaj!AQ15=\"\",\"\",Puantaj!AQ15)","v":""},{"$f":"IF(Puantaj!AR15=\"\",\"\",Puantaj!AR15)","v":""},{"$f":"IF(Puantaj!AS15=\"\",\"\",Puantaj!AS15)","v":""},{"$f":"IF(Puantaj!AT15=\"\",\"\",Puantaj!AT15)","v":""},{"$f":"IF(Puantaj!AU15=\"\",\"\",Puantaj!AU15)","v":""},{"$f":"IF(Puantaj!AV15=\"\",\"\",Puantaj!AV15)","v":""},{"$f":"IF(Puantaj!AW15=\"\",\"\",Puantaj!AW15)","v":""},{"$f":"IF(Puantaj!AX15=\"\",\"\",Puantaj!AX15)","v":""},{"$f":"IF(Puantaj!AY15=\"\",\"\",Puantaj!AY15)","v":""},{"$f":"IF(Puantaj!AZ15=\"\",\"\",Puantaj!AZ15)","v":""},{"$f":"IF(Puantaj!BA15=\"\",\"\",Puantaj!BA15)","v":""},{"$f":"IF(Puantaj!BB15=\"\",\"\",Puantaj!BB15)","v":""},{"$f":"IF(Puantaj!BC15=\"\",\"\",Puantaj!BC15)","v":""},{"$f":"IF(Puantaj!BD15=\"\",\"\",Puantaj!BD15)","v":""},{"$f":"IF(Puantaj!BE15=\"\",\"\",Puantaj!BE15)","v":""},{"$f":"IF(Puantaj!BF15=\"\",\"\",Puantaj!BF15)","v":""},{"$f":"IF(Puantaj!BG15=\"\",\"\",Puantaj!BG15)","v":""},{"$f":"IF(Puantaj!BH15=\"\",\"\",Puantaj!BH15)","v":""},{"$f":"IF(Puantaj!BI15=\"\",\"\",Puantaj!BI15)","v":""},{"$f":"IF(Puantaj!BJ15=\"\",\"\",Puantaj!BJ15)","v":""},{"$f":"IF(Puantaj!BK15=\"\",\"\",Puantaj!BK15)","v":""},{"$f":"IF(Puantaj!BL15=\"\",\"\",Puantaj!BL15)","v":""},{"$f":"IF(Puantaj!BM15=\"\",\"\",Puantaj!BM15)","v":""},{"$f":"SUM(F7:AN7)","v":0},null,{"$f":"IF(AO7=0,0,1)","v":0}]
[{"$f":"IF(AQ8=1,A7+1,A7)","v":0},{"$f":"Puantaj!C16","v":0},{"$f":"Puantaj!K16","v":""},{"$f":"Puantaj!O16","v":""},{"$f":"Puantaj!T16","v":0},{"$f":"IF(Puantaj!AE16=\"\",\"\",Puantaj!AE16)","v":""},{"$f":"IF(Puantaj!AF16=\"\",\"\",Puantaj!AF16)","v":""},{"$f":"IF(Puantaj!AG16=\"\",\"\",Puantaj!AG16)","v":""},{"$f":"IF(Puantaj!AH16=\"\",\"\",Puantaj!AH16)","v":""},{"$f":"IF(Puantaj!AI16=\"\",\"\",Puantaj!AI16)","v":""},{"$f":"IF(Puantaj!AJ16=\"\",\"\",Puantaj!AJ16)","v":""},{"$f":"IF(Puantaj!AK16=\"\",\"\",Puantaj!AK16)","v":""},{"$f":"IF(Puantaj!AL16=\"\",\"\",Puantaj!AL16)","v":""},{"$f":"IF(Puantaj!AM16=\"\",\"\",Puantaj!AM16)","v":""},{"$f":"IF(Puantaj!AN16=\"\",\"\",Puantaj!AN16)","v":""},{"$f":"IF(Puantaj!AO16=\"\",\"\",Puantaj!AO16)","v":""},{"$f":"IF(Puantaj!AP16=\"\",\"\",Puantaj!AP16)","v":""},{"$f":"IF(Puantaj!AQ16=\"\",\"\",Puantaj!AQ16)","v":""},{"$f":"IF(Puantaj!AR16=\"\",\"\",Puantaj!AR16)","v":""},{"$f":"IF(Puantaj!AS16=\"\",\"\",Puantaj!AS16)","v":""},{"$f":"IF(Puantaj!AT16=\"\",\"\",Puantaj!AT16)","v":""},{"$f":"IF(Puantaj!AU16=\"\",\"\",Puantaj!AU16)","v":""},{"$f":"IF(Puantaj!AV16=\"\",\"\",Puantaj!AV16)","v":""},{"$f":"IF(Puantaj!AW16=\"\",\"\",Puantaj!AW16)","v":""},{"$f":"IF(Puantaj!AX16=\"\",\"\",Puantaj!AX16)","v":""},{"$f":"IF(Puantaj!AY16=\"\",\"\",Puantaj!AY16)","v":""},{"$f":"IF(Puantaj!AZ16=\"\",\"\",Puantaj!AZ16)","v":""},{"$f":"IF(Puantaj!BA16=\"\",\"\",Puantaj!BA16)","v":""},{"$f":"IF(Puantaj!BB16=\"\",\"\",Puantaj!BB16)","v":""},{"$f":"IF(Puantaj!BC16=\"\",\"\",Puantaj!BC16)","v":""},{"$f":"IF(Puantaj!BD16=\"\",\"\",Puantaj!BD16)","v":""},{"$f":"IF(Puantaj!BE16=\"\",\"\",Puantaj!BE16)","v":""},{"$f":"IF(Puantaj!BF16=\"\",\"\",Puantaj!BF16)","v":""},{"$f":"IF(Puantaj!BG16=\"\",\"\",Puantaj!BG16)","v":""},{"$f":"IF(Puantaj!BH16=\"\",\"\",Puantaj!BH16)","v":""},{"$f":"IF(Puantaj!BI16=\"\",\"\",Puantaj!BI16)","v":""},{"$f":"IF(Puantaj!BJ16=\"\",\"\",Puantaj!BJ16)","v":""},{"$f":"IF(Puantaj!BK16=\"\",\"\",Puantaj!BK16)","v":""},{"$f":"IF(Puantaj!BL16=\"\",\"\",Puantaj!BL16)","v":""},{"$f":"IF(Puantaj!BM16=\"\",\"\",Puantaj!BM16)","v":""},{"$f":"SUM(F8:AN8)","v":0},null,{"$f":"IF(AO8=0,0,1)","v":0}]
[{"$f":"IF(AQ9=1,A8+1,A8)","v":0},{"$f":"Puantaj!C17","v":0},{"$f":"Puantaj!K17","v":""},{"$f":"Puantaj!O17","v":""},{"$f":"Puantaj!T17","v":0},{"$f":"IF(Puantaj!AE17=\"\",\"\",Puantaj!AE17)","v":""},{"$f":"IF(Puantaj!AF17=\"\",\"\",Puantaj!AF17)","v":""},{"$f":"IF(Puantaj!AG17=\"\",\"\",Puantaj!AG17)","v":""},{"$f":"IF(Puantaj!AH17=\"\",\"\",Puantaj!AH17)","v":""},{"$f":"IF(Puantaj!AI17=\"\",\"\",Puantaj!AI17)","v":""},{"$f":"IF(Puantaj!AJ17=\"\",\"\",Puantaj!AJ17)","v":""},{"$f":"IF(Puantaj!AK17=\"\",\"\",Puantaj!AK17)","v":""},{"$f":"IF(Puantaj!AL17=\"\",\"\",Puantaj!AL17)","v":""},{"$f":"IF(Puantaj!AM17=\"\",\"\",Puantaj!AM17)","v":""},{"$f":"IF(Puantaj!AN17=\"\",\"\",Puantaj!AN17)","v":""},{"$f":"IF(Puantaj!AO17=\"\",\"\",Puantaj!AO17)","v":""},{"$f":"IF(Puantaj!AP17=\"\",\"\",Puantaj!AP17)","v":""},{"$f":"IF(Puantaj!AQ17=\"\",\"\",Puantaj!AQ17)","v":""},{"$f":"IF(Puantaj!AR17=\"\",\"\",Puantaj!AR17)","v":""},{"$f":"IF(Puantaj!AS17=\"\",\"\",Puantaj!AS17)","v":""},{"$f":"IF(Puantaj!AT17=\"\",\"\",Puantaj!AT17)","v":""},{"$f":"IF(Puantaj!AU17=\"\",\"\",Puantaj!AU17)","v":""},{"$f":"IF(Puantaj!AV17=\"\",\"\",Puantaj!AV17)","v":""},{"$f":"IF(Puantaj!AW17=\"\",\"\",Puantaj!AW17)","v":""},{"$f":"IF(Puantaj!AX17=\"\",\"\",Puantaj!AX17)","v":""},{"$f":"IF(Puantaj!AY17=\"\",\"\",Puantaj!AY17)","v":""},{"$f":"IF(Puantaj!AZ17=\"\",\"\",Puantaj!AZ17)","v":""},{"$f":"IF(Puantaj!BA17=\"\",\"\",Puantaj!BA17)","v":""},{"$f":"IF(Puantaj!BB17=\"\",\"\",Puantaj!BB17)","v":""},{"$f":"IF(Puantaj!BC17=\"\",\"\",Puantaj!BC17)","v":""},{"$f":"IF(Puantaj!BD17=\"\",\"\",Puantaj!BD17)","v":""},{"$f":"IF(Puantaj!BE17=\"\",\"\",Puantaj!BE17)","v":""},{"$f":"IF(Puantaj!BF17=\"\",\"\",Puantaj!BF17)","v":""},{"$f":"IF(Puantaj!BG17=\"\",\"\",Puantaj!BG17)","v":""},{"$f":"IF(Puantaj!BH17=\"\",\"\",Puantaj!BH17)","v":""},{"$f":"IF(Puantaj!BI17=\"\",\"\",Puantaj!BI17)","v":""},{"$f":"IF(Puantaj!BJ17=\"\",\"\",Puantaj!BJ17)","v":""},{"$f":"IF(Puantaj!BK17=\"\",\"\",Puantaj!BK17)","v":""},{"$f":"IF(Puantaj!BL17=\"\",\"\",Puantaj!BL17)","v":""},{"$f":"IF(Puantaj!BM17=\"\",\"\",Puantaj!BM17)","v":""},0,null,0]
[0,{"$f":"Puantaj!C18","v":0},{"$f":"Puantaj!K18","v":""},{"$f":"Puantaj!O18","v":""},{"$f":"Puantaj!T18","v":0},{"$f":"IF(Puantaj!AE18=\"\",\"\",Puantaj!AE18)","v":""},{"$f":"IF(Puantaj!AF18=\"\",\"\",Puantaj!AF18)","v":""},{"$f":"IF(Puantaj!AG18=\"\",\"\",Puantaj!AG18)","v":""},{"$f":"IF(Puantaj!AH18=\"\",\"\",Puantaj!AH18)","v":""},{"$f":"IF(Puantaj!AI18=\"\",\"\",Puantaj!AI18)","v":""},{"$f":"IF(Puantaj!AJ18=\"\",\"\",Puantaj!AJ18)","v":""},{"$f":"IF(Puantaj!AK18=\"\",\"\",Puantaj!AK18)","v":""},{"$f":"IF(Puantaj!AL18=\"\",\"\",Puantaj!AL18)","v":""},{"$f":"IF(Puantaj!AM18=\"\",\"\",Puantaj!AM18)","v":""},{"$f":"IF(Puantaj!AN18=\"\",\"\",Puantaj!AN18)","v":""},{"$f":"IF(Puantaj!AO18=\"\",\"\",Puantaj!AO18)","v":""},{"$f":"IF(Puantaj!AP18=\"\",\"\",Puantaj!AP18)","v":""},{"$f":"IF(Puantaj!AQ18=\"\",\"\",Puantaj!AQ18)","v":""},{"$f":"IF(Puantaj!AR18=\"\",\"\",Puantaj!AR18)","v":""},{"$f":"IF(Puantaj!AS18=\"\",\"\",Puantaj!AS18)","v":""},{"$f":"IF(Puantaj!AT18=\"\",\"\",Puantaj!AT18)","v":""},{"$f":"IF(Puantaj!AU18=\"\",\"\",Puantaj!AU18)","v":""},{"$f":"IF(Puantaj!AV18=\"\",\"\",Puantaj!AV18)","v":""},{"$f":"IF(Puantaj!AW18=\"\",\"\",Puantaj!AW18)","v":""},{"$f":"IF(Puantaj!AX18=\"\",\"\",Puantaj!AX18)","v":""},{"$f":"IF(Puantaj!AY18=\"\",\"\",Puantaj!AY18)","v":""},{"$f":"IF(Puantaj!AZ18=\"\",\"\",Puantaj!AZ18)","v":""},{"$f":"IF(Puantaj!BA18=\"\",\"\",Puantaj!BA18)","v":""},{"$f":"IF(Puantaj!BB18=\"\",\"\",Puantaj!BB18)","v":""},{"$f":"IF(Puantaj!BC18=\"\",\"\",Puantaj!BC18)","v":""},{"$f":"IF(Puantaj!BD18=\"\",\"\",Puantaj!BD18)","v":""},{"$f":"IF(Puantaj!BE18=\"\",\"\",Puantaj!BE18)","v":""},{"$f":"IF(Puantaj!BF18=\"\",\"\",Puantaj!BF18)","v":""},{"$f":"IF(Puantaj!BG18=\"\",\"\",Puantaj!BG18)","v":""},{"$f":"IF(Puantaj!BH18=\"\",\"\",Puantaj!BH18)","v":""},{"$f":"IF(Puantaj!BI18=\"\",\"\",Puantaj!BI18)","v":""},{"$f":"IF(Puantaj!BJ18=\"\",\"\",Puantaj!BJ18)","v":""},{"$f":"IF(Puantaj!BK18=\"\",\"\",Puantaj!BK18)","v":""},{"$f":"IF(Puantaj!BL18=\"\",\"\",Puantaj!BL18)","v":""},{"$f":"IF(Puantaj!BM18=\"\",\"\",Puantaj!BM18)","v":""},0,null,0]
[0,{"$f":"Puantaj!C19","v":0},{"$f":"Puantaj!K19","v":""},{"$f":"Puantaj!O19","v":""},{"$f":"Puantaj!T19","v":0},{"$f":"IF(Puantaj!AE19=\"\",\"\",Puantaj!AE19)","v":""},{"$f":"IF(Puantaj!AF19=\"\",\"\",Puantaj!AF19)","v":""},{"$f":"IF(Puantaj!AG19=\"\",\"\",Puantaj!AG19)","v":""},{"$f":"IF(Puantaj!AH19=\"\",\"\",Puantaj!AH19)","v":""},{"$f":"IF(Puantaj!AI19=\"\",\"\",Puantaj!AI19)","v":""},{"$f":"IF(Puantaj!AJ19=\"\",\"\",Puantaj!AJ19)","v":""},{"$f":"IF(Puantaj!AK19=\"\",\"\",Puantaj!AK19)","v":""},{"$f":"IF(Puantaj!AL19=\"\",\"\",Puantaj!AL19)","v":""},{"$f":"IF(Puantaj!AM19=\"\",\"\",Puantaj!AM19)","v":""},{"$f":"IF(Puantaj!AN19=\"\",\"\",Puantaj!AN19)","v":""},{"$f":"IF(Puantaj!AO19=\"\",\"\",Puantaj!AO19)","v":""},{"$f":"IF(Puantaj!AP19=\"\",\"\",Puantaj!AP19)","v":""},{"$f":"IF(Puantaj!AQ19=\"\",\"\",Puantaj!AQ19)","v":""},{"$f":"IF(Puantaj!AR19=\"\",\"\",Puantaj!AR19)","v":""},{"$f":"IF(Puantaj!AS19=\"\",\"\",Puantaj!AS19)","v":""},{"$f":"IF(Puantaj!AT19=\"\",\"\",Puantaj!AT19)","v":""},{"$f":"IF(Puantaj!AU19=\"\",\"\",Puantaj!AU19)","v":""},{"$f":"IF(Puantaj!AV19=\"\",\"\",Puantaj!AV19)","v":""},{"$f":"IF(Puantaj!AW19=\"\",\"\",Puantaj!AW19)","v":""},{"$f":"IF(Puantaj!AX19=\"\",\"\",Puantaj!AX19)","v":""},{"$f":"IF(Puantaj!AY19=\"\",\"\",Puantaj!AY19)","v":""},{"$f":"IF(Puantaj!AZ19=\"\",\"\",Puantaj!AZ19)","v":""},{"$f":"IF(Puantaj!BA19=\"\",\"\",Puantaj!BA19)","v":""},{"$f":"IF(Puantaj!BB19=\"\",\"\",Puantaj!BB19)","v":""},{"$f":"IF(Puantaj!BC19=\"\",\"\",Puantaj!BC19)","v":""},{"$f":"IF(Puantaj!BD19=\"\",\"\",Puantaj!BD19)","v":""},{"$f":"IF(Puantaj!BE19=\"\",\"\",Puantaj!BE19)","v":""},{"$f":"IF(Puantaj!BF19=\"\",\"\",Puantaj!BF19)","v":""},{"$f":"IF(Puantaj!BG19=\"\",\"\",Puantaj!BG19)","v":""},{"$f":"IF(Puantaj!BH19=\"\",\"\",Puantaj!BH19)","v":""},{"$f":"IF(Puantaj!BI19=\"\",\"\",Puantaj!BI19)","v":""},{"$f":"IF(Puantaj!BJ19=\"\",\"\",Puantaj!BJ19)","v":""},{"$f":"IF(Puantaj!BK19=\"\",\"\",Puantaj!BK19)","v":""},{"$f":"IF(Puantaj!BL19=\"\",\"\",Puantaj!BL19)","v":""},{"$f":"IF(Puantaj!BM19=\"\",\"\",Puantaj!BM19)","v":""},0,null,0]
[0,{"$f":"Puantaj!C20","v":0},{"$f":"Puantaj!K20","v":""},{"$f":"Puantaj!O20","v":""},{"$f":"Puantaj!T20","v":0},{"$f":"IF(Puantaj!AE20=\"\",\"\",Puantaj!AE20)","v":""},{"$f":"IF(Puantaj!AF20=\"\",\"\",Puantaj!AF20)","v":""},{"$f":"IF(Puantaj!AG20=\"\",\"\",Puantaj!AG20)","v":""},{"$f":"IF(Puantaj!AH20=\"\",\"\",Puantaj!AH20)","v":""},{"$f":"IF(Puantaj!AI20=\"\",\"\",Puantaj!AI20)","v":""},{"$f":"IF(Puantaj!AJ20=\"\",\"\",Puantaj!AJ20)","v":""},{"$f":"IF(Puantaj!AK20=\"\",\"\",Puantaj!AK20)","v":""},{"$f":"IF(Puantaj!AL20=\"\",\"\",Puantaj!AL20)","v":""},{"$f":"IF(Puantaj!AM20=\"\",\"\",Puantaj!AM20)","v":""},{"$f":"IF(Puantaj!AN20=\"\",\"\",Puantaj!AN20)","v":""},{"$f":"IF(Puantaj!AO20=\"\",\"\",Puantaj!AO20)","v":""},{"$f":"IF(Puantaj!AP20=\"\",\"\",Puantaj!AP20)","v":""},{"$f":"IF(Puantaj!AQ20=\"\",\"\",Puantaj!AQ20)","v":""},{"$f":"IF(Puantaj!AR20=\"\",\"\",Puantaj!AR20)","v":""},{"$f":"IF(Puantaj!AS20=\"\",\"\",Puantaj!AS20)","v":""},{"$f":"IF(Puantaj!AT20=\"\",\"\",Puantaj!AT20)","v":""},{"$f":"IF(Puantaj!AU20=\"\",\"\",Puantaj!AU20)","v":""},{"$f":"IF(Puantaj!AV20=\"\",\"\",Puantaj!AV20)","v":""},{"$f":"IF(Puantaj!AW20=\"\",\"\",Puantaj!AW20)","v":""},{"$f":"IF(Puantaj!AX20=\"\",\"\",Puantaj!AX20)","v":""},{"$f":"IF(Puantaj!AY20=\"\",\"\",Puantaj!AY20)","v":""},{"$f":"IF(Puantaj!AZ20=\"\",\"\",Puantaj!AZ20)","v":""},{"$f":"IF(Puantaj!BA20=\"\",\"\",Puantaj!BA20)","v":""},{"$f":"IF(Puantaj!BB20=\"\",\"\",Puantaj!BB20)","v":""},{"$f":"IF(Puantaj!BC20=\"\",\"\",Puantaj!BC20)","v":""},{"$f":"IF(Puantaj!BD20=\"\",\"\",Puantaj!BD20)","v":""},{"$f":"IF(Puantaj!BE20=\"\",\"\",Puantaj!BE20)","v":""},{"$f":"IF(Puantaj!BF20=\"\",\"\",Puantaj!BF20)","v":""},{"$f":"IF(Puantaj!BG20=\"\",\"\",Puantaj!BG20)","v":""},{"$f":"IF(Puantaj!BH20=\"\",\"\",Puantaj!BH20)","v":""},{"$f":"IF(Puantaj!BI20=\"\",\"\",Puantaj!BI20)","v":""},{"$f":"IF(Puantaj!BJ20=\"\",\"\",Puantaj!BJ20)","v":""},{"$f":"IF(Puantaj!BK20=\"\",\"\",Puantaj!BK20)","v":""},{"$f":"IF(Puantaj!BL20=\"\",\"\",Puantaj!BL20)","v":""},{"$f":"IF(Puantaj!BM20=\"\",\"\",Puantaj!BM20)","v":""},0,null,0]
[0,{"$f":"Puantaj!C21","v":0},{"$f":"Puantaj!K21","v":""},{"$f":"Puantaj!O21","v":""},{"$f":"Puantaj!T21","v":0},{"$f":"IF(Puantaj!AE21=\"\",\"\",Puantaj!AE21)","v":""},{"$f":"IF(Puantaj!AF21=\"\",\"\",Puantaj!AF21)","v":""},{"$f":"IF(Puantaj!AG21=\"\",\"\",Puantaj!AG21)","v":""},{"$f":"IF(Puantaj!AH21=\"\",\"\",Puantaj!AH21)","v":""},{"$f":"IF(Puantaj!AI21=\"\",\"\",Puantaj!AI21)","v":""},{"$f":"IF(Puantaj!AJ21=\"\",\"\",Puantaj!AJ21)","v":""},{"$f":"IF(Puantaj!AK21=\"\",\"\",Puantaj!AK21)","v":""},{"$f":"IF(Puantaj!AL21=\"\",\"\",Puantaj!AL21)","v":""},{"$f":"IF(Puantaj!AM21=\"\",\"\",Puantaj!AM21)","v":""},{"$f":"IF(Puantaj!AN21=\"\",\"\",Puantaj!AN21)","v":""},{"$f":"IF(Puantaj!AO21=\"\",\"\",Puantaj!AO21)","v":""},{"$f":"IF(Puantaj!AP21=\"\",\"\",Puantaj!AP21)","v":""},{"$f":"IF(Puantaj!AQ21=\"\",\"\",Puantaj!AQ21)","v":""},{"$f":"IF(Puantaj!AR21=\"\",\"\",Puantaj!AR21)","v":""},{"$f":"IF(Puantaj!AS21=\"\",\"\",Puantaj!AS21)","v":""},{"$f":"IF(Puantaj!AT21=\"\",\"\",Puantaj!AT21)","v":""},{"$f":"IF(Puantaj!AU21=\"\",\"\",Puantaj!AU21)","v":""},{"$f":"IF(Puantaj!AV21=\"\",\"\",Puantaj!AV21)","v":""},{"$f":"IF(Puantaj!AW21=\"\",\"\",Puantaj!AW21)","v":""},{"$f":"IF(Puantaj!AX21=\"\",\"\",Puantaj!AX21)","v":""},{"$f":"IF(Puantaj!AY21=\"\",\"\",Puantaj!AY21)","v":""},{"$f":"IF(Puantaj!AZ21=\"\",\"\",Puantaj!AZ21)","v":""},{"$f":"IF(Puantaj!BA21=\"\",\"\",Puantaj!BA21)","v":""},{"$f":"IF(Puantaj!BB21=\"\",\"\",Puantaj!BB21)","v":""},{"$f":"IF(Puantaj!BC21=\"\",\"\",Puantaj!BC21)","v":""},{"$f":"IF(Puantaj!BD21=\"\",\"\",Puantaj!BD21)","v":""},{"$f":"IF(Puantaj!BE21=\"\",\"\",Puantaj!BE21)","v":""},{"$f":"IF(Puantaj!BF21=\"\",\"\",Puantaj!BF21)","v":""},{"$f":"IF(Puantaj!BG21=\"\",\"\",Puantaj!BG21)","v":""},{"$f":"IF(Puantaj!BH21=\"\",\"\",Puantaj!BH21)","v":""},{"$f":"IF(Puantaj!BI21=\"\",\"\",Puantaj!BI21)","v":""},{"$f":"IF(Puantaj!BJ21=\"\",\"\",Puantaj!BJ21)","v":""},{"$f":"IF(Puantaj!BK21=\"\",\"\",Puantaj!BK21)","v":""},{"$f":"IF(Puantaj!BL21=\"\",\"\",Puantaj!BL21)","v":""},{"$f":"IF(Puantaj!BM21=\"\",\"\",Puantaj!BM21)","v":""},0,null,0]
[0,{"$f":"Puantaj!C22","v":0},{"$f":"Puantaj!K22","v":""},{"$f":"Puantaj!O22","v":""},{"$f":"Puantaj!T22","v":0},{"$f":"IF(Puantaj!AE22=\"\",\"\",Puantaj!AE22)","v":""},{"$f":"IF(Puantaj!AF22=\"\",\"\",Puantaj!AF22)","v":""},{"$f":"IF(Puantaj!AG22=\"\",\"\",Puantaj!AG22)","v":""},{"$f":"IF(Puantaj!AH22=\"\",\"\",Puantaj!AH22)","v":""},{"$f":"IF(Puantaj!AI22=\"\",\"\",Puantaj!AI22)","v":""},{"$f":"IF(Puantaj!AJ22=\"\",\"\",Puantaj!AJ22)","v":""},{"$f":"IF(Puantaj!AK22=\"\",\"\",Puantaj!AK22)","v":""},{"$f":"IF(Puantaj!AL22=\"\",\"\",Puantaj!AL22)","v":""},{"$f":"IF(Puantaj!AM22=\"\",\"\",Puantaj!AM22)","v":""},{"$f":"IF(Puantaj!AN22=\"\",\"\",Puantaj!AN22)","v":""},{"$f":"IF(Puantaj!AO22=\"\",\"\",Puantaj!AO22)","v":""},{"$f":"IF(Puantaj!AP22=\"\",\"\",Puantaj!AP22)","v":""},{"$f":"IF(Puantaj!AQ22=\"\",\"\",Puantaj!AQ22)","v":""},{"$f":"IF(Puantaj!AR22=\"\",\"\",Puantaj!AR22)","v":""},{"$f":"IF(Puantaj!AS22=\"\",\"\",Puantaj!AS22)","v":""},{"$f":"IF(Puantaj!AT22=\"\",\"\",Puantaj!AT22)","v":""},{"$f":"IF(Puantaj!AU22=\"\",\"\",Puantaj!AU22)","v":""},{"$f":"IF(Puantaj!AV22=\"\",\"\",Puantaj!AV22)","v":""},{"$f":"IF(Puantaj!AW22=\"\",\"\",Puantaj!AW22)","v":""},{"$f":"IF(Puantaj!AX22=\"\",\"\",Puantaj!AX22)","v":""},{"$f":"IF(Puantaj!AY22=\"\",\"\",Puantaj!AY22)","v":""},{"$f":"IF(Puantaj!AZ22=\"\",\"\",Puantaj!AZ22)","v":""},{"$f":"IF(Puantaj!BA22=\"\",\"\",Puantaj!BA22)","v":""},{"$f":"IF(Puantaj!BB22=\"\",\"\",Puantaj!BB22)","v":""},{"$f":"IF(Puantaj!BC22=\"\",\"\",Puantaj!BC22)","v":""},{"$f":"IF(Puantaj!BD22=\"\",\"\",Puantaj!BD22)","v":""},{"$f":"IF(Puantaj!BE22=\"\",\"\",Puantaj!BE22)","v":""},{"$f":"IF(Puantaj!BF22=\"\",\"\",Puantaj!BF22)","v":""},{"$f":"IF(Puantaj!BG22=\"\",\"\",Puantaj!BG22)","v":""},{"$f":"IF(Puantaj!BH22=\"\",\"\",Puantaj!BH22)","v":""},{"$f":"IF(Puantaj!BI22=\"\",\"\",Puantaj!BI22)","v":""},{"$f":"IF(Puantaj!BJ22=\"\",\"\",Puantaj!BJ22)","v":""},{"$f":"IF(Puantaj!BK22=\"\",\"\",Puantaj!BK22)","v":""},{"$f":"IF(Puantaj!BL22=\"\",\"\",Puantaj!BL22)","v":""},{"$f":"IF(Puantaj!BM22=\"\",\"\",Puantaj!BM22)","v":""},0,null,0]
[0,{"$f":"Puantaj!C23","v":0},{"$f":"Puantaj!K23","v":""},{"$f":"Puantaj!O23","v":""},{"$f":"Puantaj!T23","v":0},{"$f":"IF(Puantaj!AE23=\"\",\"\",Puantaj!AE23)","v":""},{"$f":"IF(Puantaj!AF23=\"\",\"\",Puantaj!AF23)","v":""},{"$f":"IF(Puantaj!AG23=\"\",\"\",Puantaj!AG23)","v":""},{"$f":"IF(Puantaj!AH23=\"\",\"\",Puantaj!AH23)","v":""},{"$f":"IF(Puantaj!AI23=\"\",\"\",Puantaj!AI23)","v":""},{"$f":"IF(Puantaj!AJ23=\"\",\"\",Puantaj!AJ23)","v":""},{"$f":"IF(Puantaj!AK23=\"\",\"\",Puantaj!AK23)","v":""},{"$f":"IF(Puantaj!AL23=\"\",\"\",Puantaj!AL23)","v":""},{"$f":"IF(Puantaj!AM23=\"\",\"\",Puantaj!AM23)","v":""},{"$f":"IF(Puantaj!AN23=\"\",\"\",Puantaj!AN23)","v":""},{"$f":"IF(Puantaj!AO23=\"\",\"\",Puantaj!AO23)","v":""},{"$f":"IF(Puantaj!AP23=\"\",\"\",Puantaj!AP23)","v":""},{"$f":"IF(Puantaj!AQ23=\"\",\"\",Puantaj!AQ23)","v":""},{"$f":"IF(Puantaj!AR23=\"\",\"\",Puantaj!AR23)","v":""},{"$f":"IF(Puantaj!AS23=\"\",\"\",Puantaj!AS23)","v":""},{"$f":"IF(Puantaj!AT23=\"\",\"\",Puantaj!AT23)","v":""},{"$f":"IF(Puantaj!AU23=\"\",\"\",Puantaj!AU23)","v":""},{"$f":"IF(Puantaj!AV23=\"\",\"\",Puantaj!AV23)","v":""},{"$f":"IF(Puantaj!AW23=\"\",\"\",Puantaj!AW23)","v":""},{"$f":"IF(Puantaj!AX23=\"\",\"\",Puantaj!AX23)","v":""},{"$f":"IF(Puantaj!AY23=\"\",\"\",Puantaj!AY23)","v":""},{"$f":"IF(Puantaj!AZ23=\"\",\"\",Puantaj!AZ23)","v":""},{"$f":"IF(Puantaj!BA23=\"\",\"\",Puantaj!BA23)","v":""},{"$f":"IF(Puantaj!BB23=\"\",\"\",Puantaj!BB23)","v":""},{"$f":"IF(Puantaj!BC23=\"\",\"\",Puantaj!BC23)","v":""},{"$f":"IF(Puantaj!BD23=\"\",\"\",Puantaj!BD23)","v":""},{"$f":"IF(Puantaj!BE23=\"\",\"\",Puantaj!BE23)","v":""},{"$f":"IF(Puantaj!BF23=\"\",\"\",Puantaj!BF23)","v":""},{"$f":"IF(Puantaj!BG23=\"\",\"\",Puantaj!BG23)","v":""},{"$f":"IF(Puantaj!BH23=\"\",\"\",Puantaj!BH23)","v":""},{"$f":"IF(Puantaj!BI23=\"\",\"\",Puantaj!BI23)","v":""},{"$f":"IF(Puantaj!BJ23=\"\",\"\",Puantaj!BJ23)","v":""},{"$f":"IF(Puantaj!BK23=\"\",\"\",Puantaj!BK23)","v":""},{"$f":"IF(Puantaj!BL23=\"\",\"\",Puantaj!BL23)","v":""},{"$f":"IF(Puantaj!BM23=\"\",\"\",Puantaj!BM23)","v":""},0,null,0]
[0,{"$f":"Puantaj!C24","v":0},{"$f":"Puantaj!K24","v":""},{"$f":"Puantaj!O24","v":""},{"$f":"Puantaj!T24","v":0},{"$f":"IF(Puantaj!AE24=\"\",\"\",Puantaj!AE24)","v":""},{"$f":"IF(Puantaj!AF24=\"\",\"\",Puantaj!AF24)","v":""},{"$f":"IF(Puantaj!AG24=\"\",\"\",Puantaj!AG24)","v":""},{"$f":"IF(Puantaj!AH24=\"\",\"\",Puantaj!AH24)","v":""},{"$f":"IF(Puantaj!AI24=\"\",\"\",Puantaj!AI24)","v":""},{"$f":"IF(Puantaj!AJ24=\"\",\"\",Puantaj!AJ24)","v":""},{"$f":"IF(Puantaj!AK24=\"\",\"\",Puantaj!AK24)","v":""},{"$f":"IF(Puantaj!AL24=\"\",\"\",Puantaj!AL24)","v":""},{"$f":"IF(Puantaj!AM24=\"\",\"\",Puantaj!AM24)","v":""},{"$f":"IF(Puantaj!AN24=\"\",\"\",Puantaj!AN24)","v":""},{"$f":"IF(Puantaj!AO24=\"\",\"\",Puantaj!AO24)","v":""},{"$f":"IF(Puantaj!AP24=\"\",\"\",Puantaj!AP24)","v":""},{"$f":"IF(Puantaj!AQ24=\"\",\"\",Puantaj!AQ24)","v":""},{"$f":"IF(Puantaj!AR24=\"\",\"\",Puantaj!AR24)","v":""},{"$f":"IF(Puantaj!AS24=\"\",\"\",Puantaj!AS24)","v":""},{"$f":"IF(Puantaj!AT24=\"\",\"\",Puantaj!AT24)","v":""},{"$f":"IF(Puantaj!AU24=\"\",\"\",Puantaj!AU24)","v":""},{"$f":"IF(Puantaj!AV24=\"\",\"\",Puantaj!AV24)","v":""},{"$f":"IF(Puantaj!AW24=\"\",\"\",Puantaj!AW24)","v":""},{"$f":"IF(Puantaj!AX24=\"\",\"\",Puantaj!AX24)","v":""},{"$f":"IF(Puantaj!AY24=\"\",\"\",Puantaj!AY24)","v":""},{"$f":"IF(Puantaj!AZ24=\"\",\"\",Puantaj!AZ24)","v":""},{"$f":"IF(Puantaj!BA24=\"\",\"\",Puantaj!BA24)","v":""},{"$f":"IF(Puantaj!BB24=\"\",\"\",Puantaj!BB24)","v":""},{"$f":"IF(Puantaj!BC24=\"\",\"\",Puantaj!BC24)","v":""},{"$f":"IF(Puantaj!BD24=\"\",\"\",Puantaj!BD24)","v":""},{"$f":"IF(Puantaj!BE24=\"\",\"\",Puantaj!BE24)","v":""},{"$f":"IF(Puantaj!BF24=\"\",\"\",Puantaj!BF24)","v":""},{"$f":"IF(Puantaj!BG24=\"\",\"\",Puantaj!BG24)","v":""},{"$f":"IF(Puantaj!BH24=\"\",\"\",Puantaj!BH24)","v":""},{"$f":"IF(Puantaj!BI24=\"\",\"\",Puantaj!BI24)","v":""},{"$f":"IF(Puantaj!BJ24=\"\",\"\",Puantaj!BJ24)","v":""},{"$f":"IF(Puantaj!BK24=\"\",\"\",Puantaj!BK24)","v":""},{"$f":"IF(Puantaj!BL24=\"\",\"\",Puantaj!BL24)","v":""},{"$f":"IF(Puantaj!BM24=\"\",\"\",Puantaj!BM24)","v":""},0,null,0]
[0,{"$f":"Puantaj!C25","v":0},{"$f":"Puantaj!K25","v":""},{"$f":"Puantaj!O25","v":""},{"$f":"Puantaj!T25","v":0},{"$f":"IF(Puantaj!AE25=\"\",\"\",Puantaj!AE25)","v":""},{"$f":"IF(Puantaj!AF25=\"\",\"\",Puantaj!AF25)","v":""},{"$f":"IF(Puantaj!AG25=\"\",\"\",Puantaj!AG25)","v":""},{"$f":"IF(Puantaj!AH25=\"\",\"\",Puantaj!AH25)","v":""},{"$f":"IF(Puantaj!AI25=\"\",\"\",Puantaj!AI25)","v":""},{"$f":"IF(Puantaj!AJ25=\"\",\"\",Puantaj!AJ25)","v":""},{"$f":"IF(Puantaj!AK25=\"\",\"\",Puantaj!AK25)","v":""},{"$f":"IF(Puantaj!AL25=\"\",\"\",Puantaj!AL25)","v":""},{"$f":"IF(Puantaj!AM25=\"\",\"\",Puantaj!AM25)","v":""},{"$f":"IF(Puantaj!AN25=\"\",\"\",Puantaj!AN25)","v":""},{"$f":"IF(Puantaj!AO25=\"\",\"\",Puantaj!AO25)","v":""},{"$f":"IF(Puantaj!AP25=\"\",\"\",Puantaj!AP25)","v":""},{"$f":"IF(Puantaj!AQ25=\"\",\"\",Puantaj!AQ25)","v":""},{"$f":"IF(Puantaj!AR25=\"\",\"\",Puantaj!AR25)","v":""},{"$f":"IF(Puantaj!AS25=\"\",\"\",Puantaj!AS25)","v":""},{"$f":"IF(Puantaj!AT25=\"\",\"\",Puantaj!AT25)","v":""},{"$f":"IF(Puantaj!AU25=\"\",\"\",Puantaj!AU25)","v":""},{"$f":"IF(Puantaj!AV25=\"\",\"\",Puantaj!AV25)","v":""},{"$f":"IF(Puantaj!AW25=\"\",\"\",Puantaj!AW25)","v":""},{"$f":"IF(Puantaj!AX25=\"\",\"\",Puantaj!AX25)","v":""},{"$f":"IF(Puantaj!AY25=\"\",\"\",Puantaj!AY25)","v":""},{"$f":"IF(Puantaj!AZ25=\"\",\"\",Puantaj!AZ25)","v":""},{"$f":"IF(Puantaj!BA25=\"\",\"\",Puantaj!BA25)","v":""},{"$f":"IF(Puantaj!BB25=\"\",\"\",Puantaj!BB25)","v":""},{"$f":"IF(Puantaj!BC25=\"\",\"\",Puantaj!BC25)","v":""},{"$f":"IF(Puantaj!BD25=\"\",\"\",Puantaj!BD25)","v":""},{"$f":"IF(Puantaj!BE25=\"\",\"\",Puantaj!BE25)","v":""},{"$f":"IF(Puantaj!BF25=\"\",\"\",Puantaj!BF25)","v":""},{"$f":"IF(Puantaj!BG25=\"\",\"\",Puantaj!BG25)","v":""},{"$f":"IF(Puantaj!BH25=\"\",\"\",Puantaj!BH25)","v":""},{"$f":"IF(Puantaj!BI25=\"\",\"\",Puantaj!BI25)","v":""},{"$f":"IF(Puantaj!BJ25=\"\",\"\",Puantaj!BJ25)","v":""},{"$f":"IF(Puantaj!BK25=\"\",\"\",Puantaj!BK25)","v":""},{"$f":"IF(Puantaj!BL25=\"\",\"\",Puantaj!BL25)","v":""},{"$f":"IF(Puantaj!BM25=\"\",\"\",Puantaj!BM25)","v":""},0,null,0]
[0,{"$f":"Puantaj!C26","v":0},{"$f":"Puantaj!K26","v":""},{"$f":"Puantaj!O26","v":""},{"$f":"Puantaj!T26","v":0},{"$f":"IF(Puantaj!AE26=\"\",\"\",Puantaj!AE26)","v":""},{"$f":"IF(Puantaj!AF26=\"\",\"\",Puantaj!AF26)","v":""},{"$f":"IF(Puantaj!AG26=\"\",\"\",Puantaj!AG26)","v":""},{"$f":"IF(Puantaj!AH26=\"\",\"\",Puantaj!AH26)","v":""},{"$f":"IF(Puantaj!AI26=\"\",\"\",Puantaj!AI26)","v":""},{"$f":"IF(Puantaj!AJ26=\"\",\"\",Puantaj!AJ26)","v":""},{"$f":"IF(Puantaj!AK26=\"\",\"\",Puantaj!AK26)","v":""},{"$f":"IF(Puantaj!AL26=\"\",\"\",Puantaj!AL26)","v":""},{"$f":"IF(Puantaj!AM26=\"\",\"\",Puantaj!AM26)","v":""},{"$f":"IF(Puantaj!AN26=\"\",\"\",Puantaj!AN26)","v":""},{"$f":"IF(Puantaj!AO26=\"\",\"\",Puantaj!AO26)","v":""},{"$f":"IF(Puantaj!AP26=\"\",\"\",Puantaj!AP26)","v":""},{"$f":"IF(Puantaj!AQ26=\"\",\"\",Puantaj!AQ26)","v":""},{"$f":"IF(Puantaj!AR26=\"\",\"\",Puantaj!AR26)","v":""},{"$f":"IF(Puantaj!AS26=\"\",\"\",Puantaj!AS26)","v":""},{"$f":"IF(Puantaj!AT26=\"\",\"\",Puantaj!AT26)","v":""},{"$f":"IF(Puantaj!AU26=\"\",\"\",Puantaj!AU26)","v":""},{"$f":"IF(Puantaj!AV26=\"\",\"\",Puantaj!AV26)","v":""},{"$f":"IF(Puantaj!AW26=\"\",\"\",Puantaj!AW26)","v":""},{"$f":"IF(Puantaj!AX26=\"\",\"\",Puantaj!AX26)","v":""},{"$f":"IF(Puantaj!AY26=\"\",\"\",Puantaj!AY26)","v":""},{"$f":"IF(Puantaj!AZ26=\"\",\"\",Puantaj!AZ26)","v":""},{"$f":"IF(Puantaj!BA26=\"\",\"\",Puantaj!BA26)","v":""},{"$f":"IF(Puantaj!BB26=\"\",\"\",Puantaj!BB26)","v":""},{"$f":"IF(Puantaj!BC26=\"\",\"\",Puantaj!BC26)","v":""},{"$f":"IF(Puantaj!BD26=\"\",\"\",Puantaj!BD26)","v":""},{"$f":"IF(Puantaj!BE26=\"\",\"\",Puantaj!BE26)","v":""},{"$f":"IF(Puantaj!BF26=\"\",\"\",Puantaj!BF26)","v":""},{"$f":"IF(Puantaj!BG26=\"\",\"\",Puantaj!BG26)","v":""},{"$f":"IF(Puantaj!BH26=\"\",\"\",Puantaj!BH26)","v":""},{"$f":"IF(Puantaj!BI26=\"\",\"\",Puantaj!BI26)","v":""},{"$f":"IF(Puantaj!BJ26=\"\",\"\",Puantaj!BJ26)","v":""},{"$f":"IF(Puantaj!BK26=\"\",\"\",Puantaj!BK26)","v":""},{"$f":"IF(Puantaj!BL26=\"\",\"\",Puantaj!BL26)","v":""},{"$f":"IF(Puantaj!BM26=\"\",\"\",Puantaj!BM26)","v":""},0,null,0]
[0,{"$f":"Puantaj!C27","v":0},{"$f":"Puantaj!K27","v":""},{"$f":"Puantaj!O27","v":""},{"$f":"Puantaj!T27","v":0},{"$f":"IF(Puantaj!AE27=\"\",\"\",Puantaj!AE27)","v":""},{"$f":"IF(Puantaj!AF27=\"\",\"\",Puantaj!AF27)","v":""},{"$f":"IF(Puantaj!AG27=\"\",\"\",Puantaj!AG27)","v":""},{"$f":"IF(Puantaj!AH27=\"\",\"\",Puantaj!AH27)","v":""},{"$f":"IF(Puantaj!AI27=\"\",\"\",Puantaj!AI27)","v":""},{"$f":"IF(Puantaj!AJ27=\"\",\"\",Puantaj!AJ27)","v":""},{"$f":"IF(Puantaj!AK27=\"\",\"\",Puantaj!AK27)","v":""},{"$f":"IF(Puantaj!AL27=\"\",\"\",Puantaj!AL27)","v":""},{"$f":"IF(Puantaj!AM27=\"\",\"\",Puantaj!AM27)","v":""},{"$f":"IF(Puantaj!AN27=\"\",\"\",Puantaj!AN27)","v":""},{"$f":"IF(Puantaj!AO27=\"\",\"\",Puantaj!AO27)","v":""},{"$f":"IF(Puantaj!AP27=\"\",\"\",Puantaj!AP27)","v":""},{"$f":"IF(Puantaj!AQ27=\"\",\"\",Puantaj!AQ27)","v":""},{"$f":"IF(Puantaj!AR27=\"\",\"\",Puantaj!AR27)","v":""},{"$f":"IF(Puantaj!AS27=\"\",\"\",Puantaj!AS27)","v":""},{"$f":"IF(Puantaj!AT27=\"\",\"\",Puantaj!AT27)","v":""},{"$f":"IF(Puantaj!AU27=\"\",\"\",Puantaj!AU27)","v":""},{"$f":"IF(Puantaj!AV27=\"\",\"\",Puantaj!AV27)","v":""},{"$f":"IF(Puantaj!AW27=\"\",\"\",Puantaj!AW27)","v":""},{"$f":"IF(Puantaj!AX27=\"\",\"\",Puantaj!AX27)","v":""},{"$f":"IF(Puantaj!AY27=\"\",\"\",Puantaj!AY27)","v":""},{"$f":"IF(Puantaj!AZ27=\"\",\"\",Puantaj!AZ27)","v":""},{"$f":"IF(Puantaj!BA27=\"\",\"\",Puantaj!BA27)","v":""},{"$f":"IF(Puantaj!BB27=\"\",\"\",Puantaj!BB27)","v":""},{"$f":"IF(Puantaj!BC27=\"\",\"\",Puantaj!BC27)","v":""},{"$f":"IF(Puantaj!BD27=\"\",\"\",Puantaj!BD27)","v":""},{"$f":"IF(Puantaj!BE27=\"\",\"\",Puantaj!BE27)","v":""},{"$f":"IF(Puantaj!BF27=\"\",\"\",Puantaj!BF27)","v":""},{"$f":"IF(Puantaj!BG27=\"\",\"\",Puantaj!BG27)","v":""},{"$f":"IF(Puantaj!BH27=\"\",\"\",Puantaj!BH27)","v":""},{"$f":"IF(Puantaj!BI27=\"\",\"\",Puantaj!BI27)","v":""},{"$f":"IF(Puantaj!BJ27=\"\",\"\",Puantaj!BJ27)","v":""},{"$f":"IF(Puantaj!BK27=\"\",\"\",Puantaj!BK27)","v":""},{"$f":"IF(Puantaj!BL27=\"\",\"\",Puantaj!BL27)","v":""},{"$f":"IF(Puantaj!BM27=\"\",\"\",Puantaj!BM27)","v":""},0,null,0]
[0,{"$f":"Puantaj!C28","v":0},{"$f":"Puantaj!K28","v":""},{"$f":"Puantaj!O28","v":""},{"$f":"Puantaj!T28","v":0},{"$f":"IF(Puantaj!AE28=\"\",\"\",Puantaj!AE28)","v":""},{"$f":"IF(Puantaj!AF28=\"\",\"\",Puantaj!AF28)","v":""},{"$f":"IF(Puantaj!AG28=\"\",\"\",Puantaj!AG28)","v":""},{"$f":"IF(Puantaj!AH28=\"\",\"\",Puantaj!AH28)","v":""},{"$f":"IF(Puantaj!AI28=\"\",\"\",Puantaj!AI28)","v":""},{"$f":"IF(Puantaj!AJ28=\"\",\"\",Puantaj!AJ28)","v":""},{"$f":"IF(Puantaj!AK28=\"\",\"\",Puantaj!AK28)","v":""},{"$f":"IF(Puantaj!AL28=\"\",\"\",Puantaj!AL28)","v":""},{"$f":"IF(Puantaj!AM28=\"\",\"\",Puantaj!AM28)","v":""},{"$f":"IF(Puantaj!AN28=\"\",\"\",Puantaj!AN28)","v":""},{"$f":"IF(Puantaj!AO28=\"\",\"\",Puantaj!AO28)","v":""},{"$f":"IF(Puantaj!AP28=\"\",\"\",Puantaj!AP28)","v":""},{"$f":"IF(Puantaj!AQ28=\"\",\"\",Puantaj!AQ28)","v":""},{"$f":"IF(Puantaj!AR28=\"\",\"\",Puantaj!AR28)","v":""},{"$f":"IF(Puantaj!AS28=\"\",\"\",Puantaj!AS28)","v":""},{"$f":"IF(Puantaj!AT28=\"\",\"\",Puantaj!AT28)","v":""},{"$f":"IF(Puantaj!AU28=\"\",\"\",Puantaj!AU28)","v":""},{"$f":"IF(Puantaj!AV28=\"\",\"\",Puantaj!AV28)","v":""},{"$f":"IF(Puantaj!AW28=\"\",\"\",Puantaj!AW28)","v":""},{"$f":"IF(Puantaj!AX28=\"\",\"\",Puantaj!AX28)","v":""},{"$f":"IF(Puantaj!AY28=\"\",\"\",Puantaj!AY28)","v":""},{"$f":"IF(Puantaj!AZ28=\"\",\"\",Puantaj!AZ28)","v":""},{"$f":"IF(Puantaj!BA28=\"\",\"\",Puantaj!BA28)","v":""},{"$f":"IF(Puantaj!BB28=\"\",\"\",Puantaj!BB28)","v":""},{"$f":"IF(Puantaj!BC28=\"\",\"\",Puantaj!BC28)","v":""},{"$f":"IF(Puantaj!BD28=\"\",\"\",Puantaj!BD28)","v":""},{"$f":"IF(Puantaj!BE28=\"\",\"\",Puantaj!BE28)","v":""},{"$f":"IF(Puantaj!BF28=\"\",\"\",Puantaj!BF28)","v":""},{"$f":"IF(Puantaj!BG28=\"\",\"\",Puantaj!BG28)","v":""},{"$f":"IF(Puantaj!BH28=\"\",\"\",Puantaj!BH28)","v":""},{"$f":"IF(Puantaj!BI28=\"\",\"\",Puantaj!BI28)","v":""},{"$f":"IF(Puantaj!BJ28=\"\",\"\",Puantaj!BJ28)","v":""},{"$f":"IF(Puantaj!BK28=\"\",\"\",Puantaj!BK28)","v":""},{"$f":"IF(Puantaj!BL28=\"\",\"\",Puantaj!BL28)","v":""},{"$f":"IF(Puantaj!BM28=\"\",\"\",Puantaj!BM28)","v":""},0,null,0]
[0,{"$f":"Puantaj!C29","v":0},{"$f":"Puantaj!K29","v":""},{"$f":"Puantaj!O29","v":""},{"$f":"Puantaj!T29","v":0},{"$f":"IF(Puantaj!AE29=\"\",\"\",Puantaj!AE29)","v":""},{"$f":"IF(Puantaj!AF29=\"\",\"\",Puantaj!AF29)","v":""},{"$f":"IF(Puantaj!AG29=\"\",\"\",Puantaj!AG29)","v":""},{"$f":"IF(Puantaj!AH29=\"\",\"\",Puantaj!AH29)","v":""},{"$f":"IF(Puantaj!AI29=\"\",\"\",Puantaj!AI29)","v":""},{"$f":"IF(Puantaj!AJ29=\"\",\"\",Puantaj!AJ29)","v":""},{"$f":"IF(Puantaj!AK29=\"\",\"\",Puantaj!AK29)","v":""},{"$f":"IF(Puantaj!AL29=\"\",\"\",Puantaj!AL29)","v":""},{"$f":"IF(Puantaj!AM29=\"\",\"\",Puantaj!AM29)","v":""},{"$f":"IF(Puantaj!AN29=\"\",\"\",Puantaj!AN29)","v":""},{"$f":"IF(Puantaj!AO29=\"\",\"\",Puantaj!AO29)","v":""},{"$f":"IF(Puantaj!AP29=\"\",\"\",Puantaj!AP29)","v":""},{"$f":"IF(Puantaj!AQ29=\"\",\"\",Puantaj!AQ29)","v":""},{"$f":"IF(Puantaj!AR29=\"\",\"\",Puantaj!AR29)","v":""},{"$f":"IF(Puantaj!AS29=\"\",\"\",Puantaj!AS29)","v":""},{"$f":"IF(Puantaj!AT29=\"\",\"\",Puantaj!AT29)","v":""},{"$f":"IF(Puantaj!AU29=\"\",\"\",Puantaj!AU29)","v":""},{"$f":"IF(Puantaj!AV29=\"\",\"\",Puantaj!AV29)","v":""},{"$f":"IF(Puantaj!AW29=\"\",\"\",Puantaj!AW29)","v":""},{"$f":"IF(Puantaj!AX29=\"\",\"\",Puantaj!AX29)","v":""},{"$f":"IF(Puantaj!AY29=\"\",\"\",Puantaj!AY29)","v":""},{"$f":"IF(Puantaj!AZ29=\"\",\"\",Puantaj!AZ29)","v":""},{"$f":"IF(Puantaj!BA29=\"\",\"\",Puantaj!BA29)","v":""},{"$f":"IF(Puantaj!BB29=\"\",\"\",Puantaj!BB29)","v":""},{"$f":"IF(Puantaj!BC29=\"\",\"\",Puantaj!BC29)","v":""},{"$f":"IF(Puantaj!BD29=\"\",\"\",Puantaj!BD29)","v":""},{"$f":"IF(Puantaj!BE29=\"\",\"\",Puantaj!BE29)","v":""},{"$f":"IF(Puantaj!BF29=\"\",\"\",Puantaj!BF29)","v":""},{"$f":"IF(Puantaj!BG29=\"\",\"\",Puantaj!BG29)","v":""},{"$f":"IF(Puantaj!BH29=\"\",\"\",Puantaj!BH29)","v":""},{"$f":"IF(Puantaj!BI29=\"\",\"\",Puantaj!BI29)","v":""},{"$f":"IF(Puantaj!BJ29=\"\",\"\",Puantaj!BJ29)","v":""},{"$f":"IF(Puantaj!BK29=\"\",\"\",Puantaj!BK29)","v":""},{"$f":"IF(Puantaj!BL29=\"\",\"\",Puantaj!BL29)","v":""},{"$f":"IF(Puantaj!BM29=\"\",\"\",Puantaj!BM29)","v":""},0,null,0]
[0,{"$f":"Puantaj!C30","v":0},{"$f":"Puantaj!K30","v":""},{"$f":"Puantaj!O30","v":""},{"$f":"Puantaj!T30","v":0},{"$f":"IF(Puantaj!AE30=\"\",\"\",Puantaj!AE30)","v":""},{"$f":"IF(Puantaj!AF30=\"\",\"\",Puantaj!AF30)","v":""},{"$f":"IF(Puantaj!AG30=\"\",\"\",Puantaj!AG30)","v":""},{"$f":"IF(Puantaj!AH30=\"\",\"\",Puantaj!AH30)","v":""},{"$f":"IF(Puantaj!AI30=\"\",\"\",Puantaj!AI30)","v":""},{"$f":"IF(Puantaj!AJ30=\"\",\"\",Puantaj!AJ30)","v":""},{"$f":"IF(Puantaj!AK30=\"\",\"\",Puantaj!AK30)","v":""},{"$f":"IF(Puantaj!AL30=\"\",\"\",Puantaj!AL30)","v":""},{"$f":"IF(Puantaj!AM30=\"\",\"\",Puantaj!AM30)","v":""},{"$f":"IF(Puantaj!AN30=\"\",\"\",Puantaj!AN30)","v":""},{"$f":"IF(Puantaj!AO30=\"\",\"\",Puantaj!AO30)","v":""},{"$f":"IF(Puantaj!AP30=\"\",\"\",Puantaj!AP30)","v":""},{"$f":"IF(Puantaj!AQ30=\"\",\"\",Puantaj!AQ30)","v":""},{"$f":"IF(Puantaj!AR30=\"\",\"\",Puantaj!AR30)","v":""},{"$f":"IF(Puantaj!AS30=\"\",\"\",Puantaj!AS30)","v":""},{"$f":"IF(Puantaj!AT30=\"\",\"\",Puantaj!AT30)","v":""},{"$f":"IF(Puantaj!AU30=\"\",\"\",Puantaj!AU30)","v":""},{"$f":"IF(Puantaj!AV30=\"\",\"\",Puantaj!AV30)","v":""},{"$f":"IF(Puantaj!AW30=\"\",\"\",Puantaj!AW30)","v":""},{"$f":"IF(Puantaj!AX30=\"\",\"\",Puantaj!AX30)","v":""},{"$f":"IF(Puantaj!AY30=\"\",\"\",Puantaj!AY30)","v":""},{"$f":"IF(Puantaj!AZ30=\"\",\"\",Puantaj!AZ30)","v":""},{"$f":"IF(Puantaj!BA30=\"\",\"\",Puantaj!BA30)","v":""},{"$f":"IF(Puantaj!BB30=\"\",\"\",Puantaj!BB30)","v":""},{"$f":"IF(Puantaj!BC30=\"\",\"\",Puantaj!BC30)","v":""},{"$f":"IF(Puantaj!BD30=\"\",\"\",Puantaj!BD30)","v":""},{"$f":"IF(Puantaj!BE30=\"\",\"\",Puantaj!BE30)","v":""},{"$f":"IF(Puantaj!BF30=\"\",\"\",Puantaj!BF30)","v":""},{"$f":"IF(Puantaj!BG30=\"\",\"\",Puantaj!BG30)","v":""},{"$f":"IF(Puantaj!BH30=\"\",\"\",Puantaj!BH30)","v":""},{"$f":"IF(Puantaj!BI30=\"\",\"\",Puantaj!BI30)","v":""},{"$f":"IF(Puantaj!BJ30=\"\",\"\",Puantaj!BJ30)","v":""},{"$f":"IF(Puantaj!BK30=\"\",\"\",Puantaj!BK30)","v":""},{"$f":"IF(Puantaj!BL30=\"\",\"\",Puantaj!BL30)","v":""},{"$f":"IF(Puantaj!BM30=\"\",\"\",Puantaj!BM30)","v":""},0,null,0]
[0,{"$f":"Puantaj!C31","v":0},{"$f":"Puantaj!K31","v":""},{"$f":"Puantaj!O31","v":""},{"$f":"Puantaj!T31","v":0},{"$f":"IF(Puantaj!AE31=\"\",\"\",Puantaj!AE31)","v":""},{"$f":"IF(Puantaj!AF31=\"\",\"\",Puantaj!AF31)","v":""},{"$f":"IF(Puantaj!AG31=\"\",\"\",Puantaj!AG31)","v":""},{"$f":"IF(Puantaj!AH31=\"\",\"\",Puantaj!AH31)","v":""},{"$f":"IF(Puantaj!AI31=\"\",\"\",Puantaj!AI31)","v":""},{"$f":"IF(Puantaj!AJ31=\"\",\"\",Puantaj!AJ31)","v":""},{"$f":"IF(Puantaj!AK31=\"\",\"\",Puantaj!AK31)","v":""},{"$f":"IF(Puantaj!AL31=\"\",\"\",Puantaj!AL31)","v":""},{"$f":"IF(Puantaj!AM31=\"\",\"\",Puantaj!AM31)","v":""},{"$f":"IF(Puantaj!AN31=\"\",\"\",Puantaj!AN31)","v":""},{"$f":"IF(Puantaj!AO31=\"\",\"\",Puantaj!AO31)","v":""},{"$f":"IF(Puantaj!AP31=\"\",\"\",Puantaj!AP31)","v":""},{"$f":"IF(Puantaj!AQ31=\"\",\"\",Puantaj!AQ31)","v":""},{"$f":"IF(Puantaj!AR31=\"\",\"\",Puantaj!AR31)","v":""},{"$f":"IF(Puantaj!AS31=\"\",\"\",Puantaj!AS31)","v":""},{"$f":"IF(Puantaj!AT31=\"\",\"\",Puantaj!AT31)","v":""},{"$f":"IF(Puantaj!AU31=\"\",\"\",Puantaj!AU31)","v":""},{"$f":"IF(Puantaj!AV31=\"\",\"\",Puantaj!AV31)","v":""},{"$f":"IF(Puantaj!AW31=\"\",\"\",Puantaj!AW31)","v":""},{"$f":"IF(Puantaj!AX31=\"\",\"\",Puantaj!AX31)","v":""},{"$f":"IF(Puantaj!AY31=\"\",\"\",Puantaj!AY31)","v":""},{"$f":"IF(Puantaj!AZ31=\"\",\"\",Puantaj!AZ31)","v":""},{"$f":"IF(Puantaj!BA31=\"\",\"\",Puantaj!BA31)","v":""},{"$f":"IF(Puantaj!BB31=\"\",\"\",Puantaj!BB31)","v":""},{"$f":"IF(Puantaj!BC31=\"\",\"\",Puantaj!BC31)","v":""},{"$f":"IF(Puantaj!BD31=\"\",\"\",Puantaj!BD31)","v":""},{"$f":"IF(Puantaj!BE31=\"\",\"\",Puantaj!BE31)","v":""},{"$f":"IF(Puantaj!BF31=\"\",\"\",Puantaj!BF31)","v":""},{"$f":"IF(Puantaj!BG31=\"\",\"\",Puantaj!BG31)","v":""},{"$f":"IF(Puantaj!BH31=\"\",\"\",Puantaj!BH31)","v":""},{"$f":"IF(Puantaj!BI31=\"\",\"\",Puantaj!BI31)","v":""},{"$f":"IF(Puantaj!BJ31=\"\",\"\",Puantaj!BJ31)","v":""},{"$f":"IF(Puantaj!BK31=\"\",\"\",Puantaj!BK31)","v":""},{"$f":"IF(Puantaj!BL31=\"\",\"\",Puantaj!BL31)","v":""},{"$f":"IF(Puantaj!BM31=\"\",\"\",Puantaj!BM31)","v":""},0,null,0]
[0,{"$f":"Puantaj!C32","v":0},{"$f":"Puantaj!K32","v":""},{"$f":"Puantaj!O32","v":""},{"$f":"Puantaj!T32","v":0},{"$f":"IF(Puantaj!AE32=\"\",\"\",Puantaj!AE32)","v":""},{"$f":"IF(Puantaj!AF32=\"\",\"\",Puantaj!AF32)","v":""},{"$f":"IF(Puantaj!AG32=\"\",\"\",Puantaj!AG32)","v":""},{"$f":"IF(Puantaj!AH32=\"\",\"\",Puantaj!AH32)","v":""},{"$f":"IF(Puantaj!AI32=\"\",\"\",Puantaj!AI32)","v":""},{"$f":"IF(Puantaj!AJ32=\"\",\"\",Puantaj!AJ32)","v":""},{"$f":"IF(Puantaj!AK32=\"\",\"\",Puantaj!AK32)","v":""},{"$f":"IF(Puantaj!AL32=\"\",\"\",Puantaj!AL32)","v":""},{"$f":"IF(Puantaj!AM32=\"\",\"\",Puantaj!AM32)","v":""},{"$f":"IF(Puantaj!AN32=\"\",\"\",Puantaj!AN32)","v":""},{"$f":"IF(Puantaj!AO32=\"\",\"\",Puantaj!AO32)","v":""},{"$f":"IF(Puantaj!AP32=\"\",\"\",Puantaj!AP32)","v":""},{"$f":"IF(Puantaj!AQ32=\"\",\"\",Puantaj!AQ32)","v":""},{"$f":"IF(Puantaj!AR32=\"\",\"\",Puantaj!AR32)","v":""},{"$f":"IF(Puantaj!AS32=\"\",\"\",Puantaj!AS32)","v":""},{"$f":"IF(Puantaj!AT32=\"\",\"\",Puantaj!AT32)","v":""},{"$f":"IF(Puantaj!AU32=\"\",\"\",Puantaj!AU32)","v":""},{"$f":"IF(Puantaj!AV32=\"\",\"\",Puantaj!AV32)","v":""},{"$f":"IF(Puantaj!AW32=\"\",\"\",Puantaj!AW32)","v":""},{"$f":"IF(Puantaj!AX32=\"\",\"\",Puantaj!AX32)","v":""},{"$f":"IF(Puantaj!AY32=\"\",\"\",Puantaj!AY32)","v":""},{"$f":"IF(Puantaj!AZ32=\"\",\"\",Puantaj!AZ32)","v":""},{"$f":"IF(Puantaj!BA32=\"\",\"\",Puantaj!BA32)","v":""},{"$f":"IF(Puantaj!BB32=\"\",\"\",Puantaj!BB32)","v":""},{"$f":"IF(Puantaj!BC32=\"\",\"\",Puantaj!BC32)","v":""},{"$f":"IF(Puantaj!BD32=\"\",\"\",Puantaj!BD32)","v":""},{"$f":"IF(Puantaj!BE32=\"\",\"\",Puantaj!BE32)","v":""},{"$f":"IF(Puantaj!BF32=\"\",\"\",Puantaj!BF32)","v":""},{"$f":"IF(Puantaj!BG32=\"\",\"\",Puantaj!BG32)","v":""},{"$f":"IF(Puantaj!BH32=\"\",\"\",Puantaj!BH32)","v":""},{"$f":"IF(Puantaj!BI32=\"\",\"\",Puantaj!BI32)","v":""},{"$f":"IF(Puantaj!BJ32=\"\",\"\",Puantaj!BJ32)","v":""},{"$f":"IF(Puantaj!BK32=\"\",\"\",Puantaj!BK32)","v":""},{"$f":"IF(Puantaj!BL32=\"\",\"\",Puantaj!BL32)","v":""},{"$f":"IF(Puantaj!BM32=\"\",\"\",Puantaj!BM32)","v":""},0,null,0]
[0,{"$f":"Puantaj!C33","v":0},{"$f":"Puantaj!K33","v":""},{"$f":"Puantaj!O33","v":""},{"$f":"Puantaj!T33","v":0},{"$f":"IF(Puantaj!AE33=\"\",\"\",Puantaj!AE33)","v":""},{"$f":"IF(Puantaj!AF33=\"\",\"\",Puantaj!AF33)","v":""},{"$f":"IF(Puantaj!AG33=\"\",\"\",Puantaj!AG33)","v":""},{"$f":"IF(Puantaj!AH33=\"\",\"\",Puantaj!AH33)","v":""},{"$f":"IF(Puantaj!AI33=\"\",\"\",Puantaj!AI33)","v":""},{"$f":"IF(Puantaj!AJ33=\"\",\"\",Puantaj!AJ33)","v":""},{"$f":"IF(Puantaj!AK33=\"\",\"\",Puantaj!AK33)","v":""},{"$f":"IF(Puantaj!AL33=\"\",\"\",Puantaj!AL33)","v":""},{"$f":"IF(Puantaj!AM33=\"\",\"\",Puantaj!AM33)","v":""},{"$f":"IF(Puantaj!AN33=\"\",\"\",Puantaj!AN33)","v":""},{"$f":"IF(Puantaj!AO33=\"\",\"\",Puantaj!AO33)","v":""},{"$f":"IF(Puantaj!AP33=\"\",\"\",Puantaj!AP33)","v":""},{"$f":"IF(Puantaj!AQ33=\"\",\"\",Puantaj!AQ33)","v":""},{"$f":"IF(Puantaj!AR33=\"\",\"\",Puantaj!AR33)","v":""},{"$f":"IF(Puantaj!AS33=\"\",\"\",Puantaj!AS33)","v":""},{"$f":"IF(Puantaj!AT33=\"\",\"\",Puantaj!AT33)","v":""},{"$f":"IF(Puantaj!AU33=\"\",\"\",Puantaj!AU33)","v":""},{"$f":"IF(Puantaj!AV33=\"\",\"\",Puantaj!AV33)","v":""},{"$f":"IF(Puantaj!AW33=\"\",\"\",Puantaj!AW33)","v":""},{"$f":"IF(Puantaj!AX33=\"\",\"\",Puantaj!AX33)","v":""},{"$f":"IF(Puantaj!AY33=\"\",\"\",Puantaj!AY33)","v":""},{"$f":"IF(Puantaj!AZ33=\"\",\"\",Puantaj!AZ33)","v":""},{"$f":"IF(Puantaj!BA33=\"\",\"\",Puantaj!BA33)","v":""},{"$f":"IF(Puantaj!BB33=\"\",\"\",Puantaj!BB33)","v":""},{"$f":"IF(Puantaj!BC33=\"\",\"\",Puantaj!BC33)","v":""},{"$f":"IF(Puantaj!BD33=\"\",\"\",Puantaj!BD33)","v":""},{"$f":"IF(Puantaj!BE33=\"\",\"\",Puantaj!BE33)","v":""},{"$f":"IF(Puantaj!BF33=\"\",\"\",Puantaj!BF33)","v":""},{"$f":"IF(Puantaj!BG33=\"\",\"\",Puantaj!BG33)","v":""},{"$f":"IF(Puantaj!BH33=\"\",\"\",Puantaj!BH33)","v":""},{"$f":"IF(Puantaj!BI33=\"\",\"\",Puantaj!BI33)","v":""},{"$f":"IF(Puantaj!BJ33=\"\",\"\",Puantaj!BJ33)","v":""},{"$f":"IF(Puantaj!BK33=\"\",\"\",Puantaj!BK33)","v":""},{"$f":"IF(Puantaj!BL33=\"\",\"\",Puantaj!BL33)","v":""},{"$f":"IF(Puantaj!BM33=\"\",\"\",Puantaj!BM33)","v":""},0,null,0]
[0,{"$f":"Puantaj!C34","v":0},{"$f":"Puantaj!K34","v":""},{"$f":"Puantaj!O34","v":""},{"$f":"Puantaj!T34","v":0},{"$f":"IF(Puantaj!AE34=\"\",\"\",Puantaj!AE34)","v":""},{"$f":"IF(Puantaj!AF34=\"\",\"\",Puantaj!AF34)","v":""},{"$f":"IF(Puantaj!AG34=\"\",\"\",Puantaj!AG34)","v":""},{"$f":"IF(Puantaj!AH34=\"\",\"\",Puantaj!AH34)","v":""},{"$f":"IF(Puantaj!AI34=\"\",\"\",Puantaj!AI34)","v":""},{"$f":"IF(Puantaj!AJ34=\"\",\"\",Puantaj!AJ34)","v":""},{"$f":"IF(Puantaj!AK34=\"\",\"\",Puantaj!AK34)","v":""},{"$f":"IF(Puantaj!AL34=\"\",\"\",Puantaj!AL34)","v":""},{"$f":"IF(Puantaj!AM34=\"\",\"\",Puantaj!AM34)","v":""},{"$f":"IF(Puantaj!AN34=\"\",\"\",Puantaj!AN34)","v":""},{"$f":"IF(Puantaj!AO34=\"\",\"\",Puantaj!AO34)","v":""},{"$f":"IF(Puantaj!AP34=\"\",\"\",Puantaj!AP34)","v":""},{"$f":"IF(Puantaj!AQ34=\"\",\"\",Puantaj!AQ34)","v":""},{"$f":"IF(Puantaj!AR34=\"\",\"\",Puantaj!AR34)","v":""},{"$f":"IF(Puantaj!AS34=\"\",\"\",Puantaj!AS34)","v":""},{"$f":"IF(Puantaj!AT34=\"\",\"\",Puantaj!AT34)","v":""},{"$f":"IF(Puantaj!AU34=\"\",\"\",Puantaj!AU34)","v":""},{"$f":"IF(Puantaj!AV34=\"\",\"\",Puantaj!AV34)","v":""},{"$f":"IF(Puantaj!AW34=\"\",\"\",Puantaj!AW34)","v":""},{"$f":"IF(Puantaj!AX34=\"\",\"\",Puantaj!AX34)","v":""},{"$f":"IF(Puantaj!AY34=\"\",\"\",Puantaj!AY34)","v":""},{"$f":"IF(Puantaj!AZ34=\"\",\"\",Puantaj!AZ34)","v":""},{"$f":"IF(Puantaj!BA34=\"\",\"\",Puantaj!BA34)","v":""},{"$f":"IF(Puantaj!BB34=\"\",\"\",Puantaj!BB34)","v":""},{"$f":"IF(Puantaj!BC34=\"\",\"\",Puantaj!BC34)","v":""},{"$f":"IF(Puantaj!BD34=\"\",\"\",Puantaj!BD34)","v":""},{"$f":"IF(Puantaj!BE34=\"\",\"\",Puantaj!BE34)","v":""},{"$f":"IF(Puantaj!BF34=\"\",\"\",Puantaj!BF34)","v":""},{"$f":"IF(Puantaj!BG34=\"\",\"\",Puantaj!BG34)","v":""},{"$f":"IF(Puantaj!BH34=\"\",\"\",Puantaj!BH34)","v":""},{"$f":"IF(Puantaj!BI34=\"\",\"\",Puantaj!BI34)","v":""},{"$f":"IF(Puantaj!BJ34=\"\",\"\",Puantaj!BJ34)","v":""},{"$f":"IF(Puantaj!BK34=\"\",\"\",Puantaj!BK34)","v":""},{"$f":"IF(Puantaj!BL34=\"\",\"\",Puantaj!BL34)","v":""},{"$f":"IF(Puantaj!BM34=\"\",\"\",Puantaj!BM34)","v":""},0,null,0]
[0,{"$f":"Puantaj!C35","v":0},{"$f":"Puantaj!K35","v":""},{"$f":"Puantaj!O35","v":""},{"$f":"Puantaj!T35","v":0},{"$f":"IF(Puantaj!AE35=\"\",\"\",Puantaj!AE35)","v":""},{"$f":"IF(Puantaj!AF35=\"\",\"\",Puantaj!AF35)","v":""},{"$f":"IF(Puantaj!AG35=\"\",\"\",Puantaj!AG35)","v":""},{"$f":"IF(Puantaj!AH35=\"\",\"\",Puantaj!AH35)","v":""},{"$f":"IF(Puantaj!AI35=\"\",\"\",Puantaj!AI35)","v":""},{"$f":"IF(Puantaj!AJ35=\"\",\"\",Puantaj!AJ35)","v":""},{"$f":"IF(Puantaj!AK35=\"\",\"\",Puantaj!AK35)","v":""},{"$f":"IF(Puantaj!AL35=\"\",\"\",Puantaj!AL35)","v":""},{"$f":"IF(Puantaj!AM35=\"\",\"\",Puantaj!AM35)","v":""},{"$f":"IF(Puantaj!AN35=\"\",\"\",Puantaj!AN35)","v":""},{"$f":"IF(Puantaj!AO35=\"\",\"\",Puantaj!AO35)","v":""},{"$f":"IF(Puantaj!AP35=\"\",\"\",Puantaj!AP35)","v":""},{"$f":"IF(Puantaj!AQ35=\"\",\"\",Puantaj!AQ35)","v":""},{"$f":"IF(Puantaj!AR35=\"\",\"\",Puantaj!AR35)","v":""},{"$f":"IF(Puantaj!AS35=\"\",\"\",Puantaj!AS35)","v":""},{"$f":"IF(Puantaj!AT35=\"\",\"\",Puantaj!AT35)","v":""},{"$f":"IF(Puantaj!AU35=\"\",\"\",Puantaj!AU35)","v":""},{"$f":"IF(Puantaj!AV35=\"\",\"\",Puantaj!AV35)","v":""},{"$f":"IF(Puantaj!AW35=\"\",\"\",Puantaj!AW35)","v":""},{"$f":"IF(Puantaj!AX35=\"\",\"\",Puantaj!AX35)","v":""},{"$f":"IF(Puantaj!AY35=\"\",\"\",Puantaj!AY35)","v":""},{"$f":"IF(Puantaj!AZ35=\"\",\"\",Puantaj!AZ35)","v":""},{"$f":"IF(Puantaj!BA35=\"\",\"\",Puantaj!BA35)","v":""},{"$f":"IF(Puantaj!BB35=\"\",\"\",Puantaj!BB35)","v":""},{"$f":"IF(Puantaj!BC35=\"\",\"\",Puantaj!BC35)","v":""},{"$f":"IF(Puantaj!BD35=\"\",\"\",Puantaj!BD35)","v":""},{"$f":"IF(Puantaj!BE35=\"\",\"\",Puantaj!BE35)","v":""},{"$f":"IF(Puantaj!BF35=\"\",\"\",Puantaj!BF35)","v":""},{"$f":"IF(Puantaj!BG35=\"\",\"\",Puantaj!BG35)","v":""},{"$f":"IF(Puantaj!BH35=\"\",\"\",Puantaj!BH35)","v":""},{"$f":"IF(Puantaj!BI35=\"\",\"\",Puantaj!BI35)","v":""},{"$f":"IF(Puantaj!BJ35=\"\",\"\",Puantaj!BJ35)","v":""},{"$f":"IF(Puantaj!BK35=\"\",\"\",Puantaj!BK35)","v":""},{"$f":"IF(Puantaj!BL35=\"\",\"\",Puantaj!BL35)","v":""},{"$f":"IF(Puantaj!BM35=\"\",\"\",Puantaj!BM35)","v":""},0,null,0]
[0,{"$f":"Puantaj!C36","v":0},{"$f":"Puantaj!K36","v":""},{"$f":"Puantaj!O36","v":""},{"$f":"Puantaj!T36","v":0},{"$f":"IF(Puantaj!AE36=\"\",\"\",Puantaj!AE36)","v":""},{"$f":"IF(Puantaj!AF36=\"\",\"\",Puantaj!AF36)","v":""},{"$f":"IF(Puantaj!AG36=\"\",\"\",Puantaj!AG36)","v":""},{"$f":"IF(Puantaj!AH36=\"\",\"\",Puantaj!AH36)","v":""},{"$f":"IF(Puantaj!AI36=\"\",\"\",Puantaj!AI36)","v":""},{"$f":"IF(Puantaj!AJ36=\"\",\"\",Puantaj!AJ36)","v":""},{"$f":"IF(Puantaj!AK36=\"\",\"\",Puantaj!AK36)","v":""},{"$f":"IF(Puantaj!AL36=\"\",\"\",Puantaj!AL36)","v":""},{"$f":"IF(Puantaj!AM36=\"\",\"\",Puantaj!AM36)","v":""},{"$f":"IF(Puantaj!AN36=\"\",\"\",Puantaj!AN36)","v":""},{"$f":"IF(Puantaj!AO36=\"\",\"\",Puantaj!AO36)","v":""},{"$f":"IF(Puantaj!AP36=\"\",\"\",Puantaj!AP36)","v":""},{"$f":"IF(Puantaj!AQ36=\"\",\"\",Puantaj!AQ36)","v":""},{"$f":"IF(Puantaj!AR36=\"\",\"\",Puantaj!AR36)","v":""},{"$f":"IF(Puantaj!AS36=\"\",\"\",Puantaj!AS36)","v":""},{"$f":"IF(Puantaj!AT36=\"\",\"\",Puantaj!AT36)","v":""},{"$f":"IF(Puantaj!AU36=\"\",\"\",Puantaj!AU36)","v":""},{"$f":"IF(Puantaj!AV36=\"\",\"\",Puantaj!AV36)","v":""},{"$f":"IF(Puantaj!AW36=\"\",\"\",Puantaj!AW36)","v":""},{"$f":"IF(Puantaj!AX36=\"\",\"\",Puantaj!AX36)","v":""},{"$f":"IF(Puantaj!AY36=\"\",\"\",Puantaj!AY36)","v":""},{"$f":"IF(Puantaj!AZ36=\"\",\"\",Puantaj!AZ36)","v":""},{"$f":"IF(Puantaj!BA36=\"\",\"\",Puantaj!BA36)","v":""},{"$f":"IF(Puantaj!BB36=\"\",\"\",Puantaj!BB36)","v":""},{"$f":"IF(Puantaj!BC36=\"\",\"\",Puantaj!BC36)","v":""},{"$f":"IF(Puantaj!BD36=\"\",\"\",Puantaj!BD36)","v":""},{"$f":"IF(Puantaj!BE36=\"\",\"\",Puantaj!BE36)","v":""},{"$f":"IF(Puantaj!BF36=\"\",\"\",Puantaj!BF36)","v":""},{"$f":"IF(Puantaj!BG36=\"\",\"\",Puantaj!BG36)","v":""},{"$f":"IF(Puantaj!BH36=\"\",\"\",Puantaj!BH36)","v":""},{"$f":"IF(Puantaj!BI36=\"\",\"\",Puantaj!BI36)","v":""},{"$f":"IF(Puantaj!BJ36=\"\",\"\",Puantaj!BJ36)","v":""},{"$f":"IF(Puantaj!BK36=\"\",\"\",Puantaj!BK36)","v":""},{"$f":"IF(Puantaj!BL36=\"\",\"\",Puantaj!BL36)","v":""},{"$f":"IF(Puantaj!BM36=\"\",\"\",Puantaj!BM36)","v":""},0,null,0]
[0,{"$f":"Puantaj!C37","v":0},{"$f":"Puantaj!K37","v":""},{"$f":"Puantaj!O37","v":""},{"$f":"Puantaj!T37","v":0},{"$f":"IF(Puantaj!AE37=\"\",\"\",Puantaj!AE37)","v":""},{"$f":"IF(Puantaj!AF37=\"\",\"\",Puantaj!AF37)","v":""},{"$f":"IF(Puantaj!AG37=\"\",\"\",Puantaj!AG37)","v":""},{"$f":"IF(Puantaj!AH37=\"\",\"\",Puantaj!AH37)","v":""},{"$f":"IF(Puantaj!AI37=\"\",\"\",Puantaj!AI37)","v":""},{"$f":"IF(Puantaj!AJ37=\"\",\"\",Puantaj!AJ37)","v":""},{"$f":"IF(Puantaj!AK37=\"\",\"\",Puantaj!AK37)","v":""},{"$f":"IF(Puantaj!AL37=\"\",\"\",Puantaj!AL37)","v":""},{"$f":"IF(Puantaj!AM37=\"\",\"\",Puantaj!AM37)","v":""},{"$f":"IF(Puantaj!AN37=\"\",\"\",Puantaj!AN37)","v":""},{"$f":"IF(Puantaj!AO37=\"\",\"\",Puantaj!AO37)","v":""},{"$f":"IF(Puantaj!AP37=\"\",\"\",Puantaj!AP37)","v":""},{"$f":"IF(Puantaj!AQ37=\"\",\"\",Puantaj!AQ37)","v":""},{"$f":"IF(Puantaj!AR37=\"\",\"\",Puantaj!AR37)","v":""},{"$f":"IF(Puantaj!AS37=\"\",\"\",Puantaj!AS37)","v":""},{"$f":"IF(Puantaj!AT37=\"\",\"\",Puantaj!AT37)","v":""},{"$f":"IF(Puantaj!AU37=\"\",\"\",Puantaj!AU37)","v":""},{"$f":"IF(Puantaj!AV37=\"\",\"\",Puantaj!AV37)","v":""},{"$f":"IF(Puantaj!AW37=\"\",\"\",Puantaj!AW37)","v":""},{"$f":"IF(Puantaj!AX37=\"\",\"\",Puantaj!AX37)","v":""},{"$f":"IF(Puantaj!AY37=\"\",\"\",Puantaj!AY37)","v":""},{"$f":"IF(Puantaj!AZ37=\"\",\"\",Puantaj!AZ37)","v":""},{"$f":"IF(Puantaj!BA37=\"\",\"\",Puantaj!BA37)","v":""},{"$f":"IF(Puantaj!BB37=\"\",\"\",Puantaj!BB37)","v":""},{"$f":"IF(Puantaj!BC37=\"\",\"\",Puantaj!BC37)","v":""},{"$f":"IF(Puantaj!BD37=\"\",\"\",Puantaj!BD37)","v":""},{"$f":"IF(Puantaj!BE37=\"\",\"\",Puantaj!BE37)","v":""},{"$f":"IF(Puantaj!BF37=\"\",\"\",Puantaj!BF37)","v":""},{"$f":"IF(Puantaj!BG37=\"\",\"\",Puantaj!BG37)","v":""},{"$f":"IF(Puantaj!BH37=\"\",\"\",Puantaj!BH37)","v":""},{"$f":"IF(Puantaj!BI37=\"\",\"\",Puantaj!BI37)","v":""},{"$f":"IF(Puantaj!BJ37=\"\",\"\",Puantaj!BJ37)","v":""},{"$f":"IF(Puantaj!BK37=\"\",\"\",Puantaj!BK37)","v":""},{"$f":"IF(Puantaj!BL37=\"\",\"\",Puantaj!BL37)","v":""},{"$f":"IF(Puantaj!BM37=\"\",\"\",Puantaj!BM37)","v":""},0,null,0]
[0,{"$f":"Puantaj!C38","v":0},{"$f":"Puantaj!K38","v":""},{"$f":"Puantaj!O38","v":""},{"$f":"Puantaj!T38","v":0},{"$f":"IF(Puantaj!AE38=\"\",\"\",Puantaj!AE38)","v":""},{"$f":"IF(Puantaj!AF38=\"\",\"\",Puantaj!AF38)","v":""},{"$f":"IF(Puantaj!AG38=\"\",\"\",Puantaj!AG38)","v":""},{"$f":"IF(Puantaj!AH38=\"\",\"\",Puantaj!AH38)","v":""},{"$f":"IF(Puantaj!AI38=\"\",\"\",Puantaj!AI38)","v":""},{"$f":"IF(Puantaj!AJ38=\"\",\"\",Puantaj!AJ38)","v":""},{"$f":"IF(Puantaj!AK38=\"\",\"\",Puantaj!AK38)","v":""},{"$f":"IF(Puantaj!AL38=\"\",\"\",Puantaj!AL38)","v":""},{"$f":"IF(Puantaj!AM38=\"\",\"\",Puantaj!AM38)","v":""},{"$f":"IF(Puantaj!AN38=\"\",\"\",Puantaj!AN38)","v":""},{"$f":"IF(Puantaj!AO38=\"\",\"\",Puantaj!AO38)","v":""},{"$f":"IF(Puantaj!AP38=\"\",\"\",Puantaj!AP38)","v":""},{"$f":"IF(Puantaj!AQ38=\"\",\"\",Puantaj!AQ38)","v":""},{"$f":"IF(Puantaj!AR38=\"\",\"\",Puantaj!AR38)","v":""},{"$f":"IF(Puantaj!AS38=\"\",\"\",Puantaj!AS38)","v":""},{"$f":"IF(Puantaj!AT38=\"\",\"\",Puantaj!AT38)","v":""},{"$f":"IF(Puantaj!AU38=\"\",\"\",Puantaj!AU38)","v":""},{"$f":"IF(Puantaj!AV38=\"\",\"\",Puantaj!AV38)","v":""},{"$f":"IF(Puantaj!AW38=\"\",\"\",Puantaj!AW38)","v":""},{"$f":"IF(Puantaj!AX38=\"\",\"\",Puantaj!AX38)","v":""},{"$f":"IF(Puantaj!AY38=\"\",\"\",Puantaj!AY38)","v":""},{"$f":"IF(Puantaj!AZ38=\"\",\"\",Puantaj!AZ38)","v":""},{"$f":"IF(Puantaj!BA38=\"\",\"\",Puantaj!BA38)","v":""},{"$f":"IF(Puantaj!BB38=\"\",\"\",Puantaj!BB38)","v":""},{"$f":"IF(Puantaj!BC38=\"\",\"\",Puantaj!BC38)","v":""},{"$f":"IF(Puantaj!BD38=\"\",\"\",Puantaj!BD38)","v":""},{"$f":"IF(Puantaj!BE38=\"\",\"\",Puantaj!BE38)","v":""},{"$f":"IF(Puantaj!BF38=\"\",\"\",Puantaj!BF38)","v":""},{"$f":"IF(Puantaj!BG38=\"\",\"\",Puantaj!BG38)","v":""},{"$f":"IF(Puantaj!BH38=\"\",\"\",Puantaj!BH38)","v":""},{"$f":"IF(Puantaj!BI38=\"\",\"\",Puantaj!BI38)","v":""},{"$f":"IF(Puantaj!BJ38=\"\",\"\",Puantaj!BJ38)","v":""},{"$f":"IF(Puantaj!BK38=\"\",\"\",Puantaj!BK38)","v":""},{"$f":"IF(Puantaj!BL38=\"\",\"\",Puantaj!BL38)","v":""},{"$f":"IF(Puantaj!BM38=\"\",\"\",Puantaj!BM38)","v":""},0,null,0]
[0,{"$f":"Puantaj!C39","v":0},{"$f":"Puantaj!K39","v":""},{"$f":"Puantaj!O39","v":""},{"$f":"Puantaj!T39","v":0},{"$f":"IF(Puantaj!AE39=\"\",\"\",Puantaj!AE39)","v":""},{"$f":"IF(Puantaj!AF39=\"\",\"\",Puantaj!AF39)","v":""},{"$f":"IF(Puantaj!AG39=\"\",\"\",Puantaj!AG39)","v":""},{"$f":"IF(Puantaj!AH39=\"\",\"\",Puantaj!AH39)","v":""},{"$f":"IF(Puantaj!AI39=\"\",\"\",Puantaj!AI39)","v":""},{"$f":"IF(Puantaj!AJ39=\"\",\"\",Puantaj!AJ39)","v":""},{"$f":"IF(Puantaj!AK39=\"\",\"\",Puantaj!AK39)","v":""},{"$f":"IF(Puantaj!AL39=\"\",\"\",Puantaj!AL39)","v":""},{"$f":"IF(Puantaj!AM39=\"\",\"\",Puantaj!AM39)","v":""},{"$f":"IF(Puantaj!AN39=\"\",\"\",Puantaj!AN39)","v":""},{"$f":"IF(Puantaj!AO39=\"\",\"\",Puantaj!AO39)","v":""},{"$f":"IF(Puantaj!AP39=\"\",\"\",Puantaj!AP39)","v":""},{"$f":"IF(Puantaj!AQ39=\"\",\"\",Puantaj!AQ39)","v":""},{"$f":"IF(Puantaj!AR39=\"\",\"\",Puantaj!AR39)","v":""},{"$f":"IF(Puantaj!AS39=\"\",\"\",Puantaj!AS39)","v":""},{"$f":"IF(Puantaj!AT39=\"\",\"\",Puantaj!AT39)","v":""},{"$f":"IF(Puantaj!AU39=\"\",\"\",Puantaj!AU39)","v":""},{"$f":"IF(Puantaj!AV39=\"\",\"\",Puantaj!AV39)","v":""},{"$f":"IF(Puantaj!AW39=\"\",\"\",Puantaj!AW39)","v":""},{"$f":"IF(Puantaj!AX39=\"\",\"\",Puantaj!AX39)","v":""},{"$f":"IF(Puantaj!AY39=\"\",\"\",Puantaj!AY39)","v":""},{"$f":"IF(Puantaj!AZ39=\"\",\"\",Puantaj!AZ39)","v":""},{"$f":"IF(Puantaj!BA39=\"\",\"\",Puantaj!BA39)","v":""},{"$f":"IF(Puantaj!BB39=\"\",\"\",Puantaj!BB39)","v":""},{"$f":"IF(Puantaj!BC39=\"\",\"\",Puantaj!BC39)","v":""},{"$f":"IF(Puantaj!BD39=\"\",\"\",Puantaj!BD39)","v":""},{"$f":"IF(Puantaj!BE39=\"\",\"\",Puantaj!BE39)","v":""},{"$f":"IF(Puantaj!BF39=\"\",\"\",Puantaj!BF39)","v":""},{"$f":"IF(Puantaj!BG39=\"\",\"\",Puantaj!BG39)","v":""},{"$f":"IF(Puantaj!BH39=\"\",\"\",Puantaj!BH39)","v":""},{"$f":"IF(Puantaj!BI39=\"\",\"\",Puantaj!BI39)","v":""},{"$f":"IF(Puantaj!BJ39=\"\",\"\",Puantaj!BJ39)","v":""},{"$f":"IF(Puantaj!BK39=\"\",\"\",Puantaj!BK39)","v":""},{"$f":"IF(Puantaj!BL39=\"\",\"\",Puantaj!BL39)","v":""},{"$f":"IF(Puantaj!BM39=\"\",\"\",Puantaj!BM39)","v":""},0,null,0]
[0,{"$f":"Puantaj!C40","v":0},{"$f":"Puantaj!K40","v":""},{"$f":"Puantaj!O40","v":""},{"$f":"Puantaj!T40","v":0},{"$f":"IF(Puantaj!AE40=\"\",\"\",Puantaj!AE40)","v":""},{"$f":"IF(Puantaj!AF40=\"\",\"\",Puantaj!AF40)","v":""},{"$f":"IF(Puantaj!AG40=\"\",\"\",Puantaj!AG40)","v":""},{"$f":"IF(Puantaj!AH40=\"\",\"\",Puantaj!AH40)","v":""},{"$f":"IF(Puantaj!AI40=\"\",\"\",Puantaj!AI40)","v":""},{"$f":"IF(Puantaj!AJ40=\"\",\"\",Puantaj!AJ40)","v":""},{"$f":"IF(Puantaj!AK40=\"\",\"\",Puantaj!AK40)","v":""},{"$f":"IF(Puantaj!AL40=\"\",\"\",Puantaj!AL40)","v":""},{"$f":"IF(Puantaj!AM40=\"\",\"\",Puantaj!AM40)","v":""},{"$f":"IF(Puantaj!AN40=\"\",\"\",Puantaj!AN40)","v":""},{"$f":"IF(Puantaj!AO40=\"\",\"\",Puantaj!AO40)","v":""},{"$f":"IF(Puantaj!AP40=\"\",\"\",Puantaj!AP40)","v":""},{"$f":"IF(Puantaj!AQ40=\"\",\"\",Puantaj!AQ40)","v":""},{"$f":"IF(Puantaj!AR40=\"\",\"\",Puantaj!AR40)","v":""},{"$f":"IF(Puantaj!AS40=\"\",\"\",Puantaj!AS40)","v":""},{"$f":"IF(Puantaj!AT40=\"\",\"\",Puantaj!AT40)","v":""},{"$f":"IF(Puantaj!AU40=\"\",\"\",Puantaj!AU40)","v":""},{"$f":"IF(Puantaj!AV40=\"\",\"\",Puantaj!AV40)","v":""},{"$f":"IF(Puantaj!AW40=\"\",\"\",Puantaj!AW40)","v":""},{"$f":"IF(Puantaj!AX40=\"\",\"\",Puantaj!AX40)","v":""},{"$f":"IF(Puantaj!AY40=\"\",\"\",Puantaj!AY40)","v":""},{"$f":"IF(Puantaj!AZ40=\"\",\"\",Puantaj!AZ40)","v":""},{"$f":"IF(Puantaj!BA40=\"\",\"\",Puantaj!BA40)","v":""},{"$f":"IF(Puantaj!BB40=\"\",\"\",Puantaj!BB40)","v":""},{"$f":"IF(Puantaj!BC40=\"\",\"\",Puantaj!BC40)","v":""},{"$f":"IF(Puantaj!BD40=\"\",\"\",Puantaj!BD40)","v":""},{"$f":"IF(Puantaj!BE40=\"\",\"\",Puantaj!BE40)","v":""},{"$f":"IF(Puantaj!BF40=\"\",\"\",Puantaj!BF40)","v":""},{"$f":"IF(Puantaj!BG40=\"\",\"\",Puantaj!BG40)","v":""},{"$f":"IF(Puantaj!BH40=\"\",\"\",Puantaj!BH40)","v":""},{"$f":"IF(Puantaj!BI40=\"\",\"\",Puantaj!BI40)","v":""},{"$f":"IF(Puantaj!BJ40=\"\",\"\",Puantaj!BJ40)","v":""},{"$f":"IF(Puantaj!BK40=\"\",\"\",Puantaj!BK40)","v":""},{"$f":"IF(Puantaj!BL40=\"\",\"\",Puantaj!BL40)","v":""},{"$f":"IF(Puantaj!BM40=\"\",\"\",Puantaj!BM40)","v":""},0,null,0]
[0,{"$f":"Puantaj!C41","v":0},{"$f":"Puantaj!K41","v":""},{"$f":"Puantaj!O41","v":""},{"$f":"Puantaj!T41","v":0},{"$f":"IF(Puantaj!AE41=\"\",\"\",Puantaj!AE41)","v":""},{"$f":"IF(Puantaj!AF41=\"\",\"\",Puantaj!AF41)","v":""},{"$f":"IF(Puantaj!AG41=\"\",\"\",Puantaj!AG41)","v":""},{"$f":"IF(Puantaj!AH41=\"\",\"\",Puantaj!AH41)","v":""},{"$f":"IF(Puantaj!AI41=\"\",\"\",Puantaj!AI41)","v":""},{"$f":"IF(Puantaj!AJ41=\"\",\"\",Puantaj!AJ41)","v":""},{"$f":"IF(Puantaj!AK41=\"\",\"\",Puantaj!AK41)","v":""},{"$f":"IF(Puantaj!AL41=\"\",\"\",Puantaj!AL41)","v":""},{"$f":"IF(Puantaj!AM41=\"\",\"\",Puantaj!AM41)","v":""},{"$f":"IF(Puantaj!AN41=\"\",\"\",Puantaj!AN41)","v":""},{"$f":"IF(Puantaj!AO41=\"\",\"\",Puantaj!AO41)","v":""},{"$f":"IF(Puantaj!AP41=\"\",\"\",Puantaj!AP41)","v":""},{"$f":"IF(Puantaj!AQ41=\"\",\"\",Puantaj!AQ41)","v":""},{"$f":"IF(Puantaj!AR41=\"\",\"\",Puantaj!AR41)","v":""},{"$f":"IF(Puantaj!AS41=\"\",\"\",Puantaj!AS41)","v":""},{"$f":"IF(Puantaj!AT41=\"\",\"\",Puantaj!AT41)","v":""},{"$f":"IF(Puantaj!AU41=\"\",\"\",Puantaj!AU41)","v":""},{"$f":"IF(Puantaj!AV41=\"\",\"\",Puantaj!AV41)","v":""},{"$f":"IF(Puantaj!AW41=\"\",\"\",Puantaj!AW41)","v":""},{"$f":"IF(Puantaj!AX41=\"\",\"\",Puantaj!AX41)","v":""},{"$f":"IF(Puantaj!AY41=\"\",\"\",Puantaj!AY41)","v":""},{"$f":"IF(Puantaj!AZ41=\"\",\"\",Puantaj!AZ41)","v":""},{"$f":"IF(Puantaj!BA41=\"\",\"\",Puantaj!BA41)","v":""},{"$f":"IF(Puantaj!BB41=\"\",\"\",Puantaj!BB41)","v":""},{"$f":"IF(Puantaj!BC41=\"\",\"\",Puantaj!BC41)","v":""},{"$f":"IF(Puantaj!BD41=\"\",\"\",Puantaj!BD41)","v":""},{"$f":"IF(Puantaj!BE41=\"\",\"\",Puantaj!BE41)","v":""},{"$f":"IF(Puantaj!BF41=\"\",\"\",Puantaj!BF41)","v":""},{"$f":"IF(Puantaj!BG41=\"\",\"\",Puantaj!BG41)","v":""},{"$f":"IF(Puantaj!BH41=\"\",\"\",Puantaj!BH41)","v":""},{"$f":"IF(Puantaj!BI41=\"\",\"\",Puantaj!BI41)","v":""},{"$f":"IF(Puantaj!BJ41=\"\",\"\",Puantaj!BJ41)","v":""},{"$f":"IF(Puantaj!BK41=\"\",\"\",Puantaj!BK41)","v":""},{"$f":"IF(Puantaj!BL41=\"\",\"\",Puantaj!BL41)","v":""},{"$f":"IF(Puantaj!BM41=\"\",\"\",Puantaj!BM41)","v":""},0,null,0]
[0,{"$f":"Puantaj!C42","v":0},{"$f":"Puantaj!K42","v":""},{"$f":"Puantaj!O42","v":""},{"$f":"Puantaj!T42","v":0},{"$f":"IF(Puantaj!AE42=\"\",\"\",Puantaj!AE42)","v":""},{"$f":"IF(Puantaj!AF42=\"\",\"\",Puantaj!AF42)","v":""},{"$f":"IF(Puantaj!AG42=\"\",\"\",Puantaj!AG42)","v":""},{"$f":"IF(Puantaj!AH42=\"\",\"\",Puantaj!AH42)","v":""},{"$f":"IF(Puantaj!AI42=\"\",\"\",Puantaj!AI42)","v":""},{"$f":"IF(Puantaj!AJ42=\"\",\"\",Puantaj!AJ42)","v":""},{"$f":"IF(Puantaj!AK42=\"\",\"\",Puantaj!AK42)","v":""},{"$f":"IF(Puantaj!AL42=\"\",\"\",Puantaj!AL42)","v":""},{"$f":"IF(Puantaj!AM42=\"\",\"\",Puantaj!AM42)","v":""},{"$f":"IF(Puantaj!AN42=\"\",\"\",Puantaj!AN42)","v":""},{"$f":"IF(Puantaj!AO42=\"\",\"\",Puantaj!AO42)","v":""},{"$f":"IF(Puantaj!AP42=\"\",\"\",Puantaj!AP42)","v":""},{"$f":"IF(Puantaj!AQ42=\"\",\"\",Puantaj!AQ42)","v":""},{"$f":"IF(Puantaj!AR42=\"\",\"\",Puantaj!AR42)","v":""},{"$f":"IF(Puantaj!AS42=\"\",\"\",Puantaj!AS42)","v":""},{"$f":"IF(Puantaj!AT42=\"\",\"\",Puantaj!AT42)","v":""},{"$f":"IF(Puantaj!AU42=\"\",\"\",Puantaj!AU42)","v":""},{"$f":"IF(Puantaj!AV42=\"\",\"\",Puantaj!AV42)","v":""},{"$f":"IF(Puantaj!AW42=\"\",\"\",Puantaj!AW42)","v":""},{"$f":"IF(Puantaj!AX42=\"\",\"\",Puantaj!AX42)","v":""},{"$f":"IF(Puantaj!AY42=\"\",\"\",Puantaj!AY42)","v":""},{"$f":"IF(Puantaj!AZ42=\"\",\"\",Puantaj!AZ42)","v":""},{"$f":"IF(Puantaj!BA42=\"\",\"\",Puantaj!BA42)","v":""},{"$f":"IF(Puantaj!BB42=\"\",\"\",Puantaj!BB42)","v":""},{"$f":"IF(Puantaj!BC42=\"\",\"\",Puantaj!BC42)","v":""},{"$f":"IF(Puantaj!BD42=\"\",\"\",Puantaj!BD42)","v":""},{"$f":"IF(Puantaj!BE42=\"\",\"\",Puantaj!BE42)","v":""},{"$f":"IF(Puantaj!BF42=\"\",\"\",Puantaj!BF42)","v":""},{"$f":"IF(Puantaj!BG42=\"\",\"\",Puantaj!BG42)","v":""},{"$f":"IF(Puantaj!BH42=\"\",\"\",Puantaj!BH42)","v":""},{"$f":"IF(Puantaj!BI42=\"\",\"\",Puantaj!BI42)","v":""},{"$f":"IF(Puantaj!BJ42=\"\",\"\",Puantaj!BJ42)","v":""},{"$f":"IF(Puantaj!BK42=\"\",\"\",Puantaj!BK42)","v":""},{"$f":"IF(Puantaj!BL42=\"\",\"\",Puantaj!BL42)","v":""},{"$f":"IF(Puantaj!BM42=\"\",\"\",Puantaj!BM42)","v":""},0,null,0]
[0,{"$f":"Puantaj!C43","v":0},{"$f":"Puantaj!K43","v":""},{"$f":"Puantaj!O43","v":""},{"$f":"Puantaj!T43","v":0},{"$f":"IF(Puantaj!AE43=\"\",\"\",Puantaj!AE43)","v":""},{"$f":"IF(Puantaj!AF43=\"\",\"\",Puantaj!AF43)","v":""},{"$f":"IF(Puantaj!AG43=\"\",\"\",Puantaj!AG43)","v":""},{"$f":"IF(Puantaj!AH43=\"\",\"\",Puantaj!AH43)","v":""},{"$f":"IF(Puantaj!AI43=\"\",\"\",Puantaj!AI43)","v":""},{"$f":"IF(Puantaj!AJ43=\"\",\"\",Puantaj!AJ43)","v":""},{"$f":"IF(Puantaj!AK43=\"\",\"\",Puantaj!AK43)","v":""},{"$f":"IF(Puantaj!AL43=\"\",\"\",Puantaj!AL43)","v":""},{"$f":"IF(Puantaj!AM43=\"\",\"\",Puantaj!AM43)","v":""},{"$f":"IF(Puantaj!AN43=\"\",\"\",Puantaj!AN43)","v":""},{"$f":"IF(Puantaj!AO43=\"\",\"\",Puantaj!AO43)","v":""},{"$f":"IF(Puantaj!AP43=\"\",\"\",Puantaj!AP43)","v":""},{"$f":"IF(Puantaj!AQ43=\"\",\"\",Puantaj!AQ43)","v":""},{"$f":"IF(Puantaj!AR43=\"\",\"\",Puantaj!AR43)","v":""},{"$f":"IF(Puantaj!AS43=\"\",\"\",Puantaj!AS43)","v":""},{"$f":"IF(Puantaj!AT43=\"\",\"\",Puantaj!AT43)","v":""},{"$f":"IF(Puantaj!AU43=\"\",\"\",Puantaj!AU43)","v":""},{"$f":"IF(Puantaj!AV43=\"\",\"\",Puantaj!AV43)","v":""},{"$f":"IF(Puantaj!AW43=\"\",\"\",Puantaj!AW43)","v":""},{"$f":"IF(Puantaj!AX43=\"\",\"\",Puantaj!AX43)","v":""},{"$f":"IF(Puantaj!AY43=\"\",\"\",Puantaj!AY43)","v":""},{"$f":"IF(Puantaj!AZ43=\"\",\"\",Puantaj!AZ43)","v":""},{"$f":"IF(Puantaj!BA43=\"\",\"\",Puantaj!BA43)","v":""},{"$f":"IF(Puantaj!BB43=\"\",\"\",Puantaj!BB43)","v":""},{"$f":"IF(Puantaj!BC43=\"\",\"\",Puantaj!BC43)","v":""},{"$f":"IF(Puantaj!BD43=\"\",\"\",Puantaj!BD43)","v":""},{"$f":"IF(Puantaj!BE43=\"\",\"\",Puantaj!BE43)","v":""},{"$f":"IF(Puantaj!BF43=\"\",\"\",Puantaj!BF43)","v":""},{"$f":"IF(Puantaj!BG43=\"\",\"\",Puantaj!BG43)","v":""},{"$f":"IF(Puantaj!BH43=\"\",\"\",Puantaj!BH43)","v":""},{"$f":"IF(Puantaj!BI43=\"\",\"\",Puantaj!BI43)","v":""},{"$f":"IF(Puantaj!BJ43=\"\",\"\",Puantaj!BJ43)","v":""},{"$f":"IF(Puantaj!BK43=\"\",\"\",Puantaj!BK43)","v":""},{"$f":"IF(Puantaj!BL43=\"\",\"\",Puantaj!BL43)","v":""},{"$f":"IF(Puantaj!BM43=\"\",\"\",Puantaj!BM43)","v":""},0,null,0]
[0,{"$f":"Puantaj!C44","v":0},{"$f":"Puantaj!K44","v":""},{"$f":"Puantaj!O44","v":""},{"$f":"Puantaj!T44","v":0},{"$f":"IF(Puantaj!AE44=\"\",\"\",Puantaj!AE44)","v":""},{"$f":"IF(Puantaj!AF44=\"\",\"\",Puantaj!AF44)","v":""},{"$f":"IF(Puantaj!AG44=\"\",\"\",Puantaj!AG44)","v":""},{"$f":"IF(Puantaj!AH44=\"\",\"\",Puantaj!AH44)","v":""},{"$f":"IF(Puantaj!AI44=\"\",\"\",Puantaj!AI44)","v":""},{"$f":"IF(Puantaj!AJ44=\"\",\"\",Puantaj!AJ44)","v":""},{"$f":"IF(Puantaj!AK44=\"\",\"\",Puantaj!AK44)","v":""},{"$f":"IF(Puantaj!AL44=\"\",\"\",Puantaj!AL44)","v":""},{"$f":"IF(Puantaj!AM44=\"\",\"\",Puantaj!AM44)","v":""},{"$f":"IF(Puantaj!AN44=\"\",\"\",Puantaj!AN44)","v":""},{"$f":"IF(Puantaj!AO44=\"\",\"\",Puantaj!AO44)","v":""},{"$f":"IF(Puantaj!AP44=\"\",\"\",Puantaj!AP44)","v":""},{"$f":"IF(Puantaj!AQ44=\"\",\"\",Puantaj!AQ44)","v":""},{"$f":"IF(Puantaj!AR44=\"\",\"\",Puantaj!AR44)","v":""},{"$f":"IF(Puantaj!AS44=\"\",\"\",Puantaj!AS44)","v":""},{"$f":"IF(Puantaj!AT44=\"\",\"\",Puantaj!AT44)","v":""},{"$f":"IF(Puantaj!AU44=\"\",\"\",Puantaj!AU44)","v":""},{"$f":"IF(Puantaj!AV44=\"\",\"\",Puantaj!AV44)","v":""},{"$f":"IF(Puantaj!AW44=\"\",\"\",Puantaj!AW44)","v":""},{"$f":"IF(Puantaj!AX44=\"\",\"\",Puantaj!AX44)","v":""},{"$f":"IF(Puantaj!AY44=\"\",\"\",Puantaj!AY44)","v":""},{"$f":"IF(Puantaj!AZ44=\"\",\"\",Puantaj!AZ44)","v":""},{"$f":"IF(Puantaj!BA44=\"\",\"\",Puantaj!BA44)","v":""},{"$f":"IF(Puantaj!BB44=\"\",\"\",Puantaj!BB44)","v":""},{"$f":"IF(Puantaj!BC44=\"\",\"\",Puantaj!BC44)","v":""},{"$f":"IF(Puantaj!BD44=\"\",\"\",Puantaj!BD44)","v":""},{"$f":"IF(Puantaj!BE44=\"\",\"\",Puantaj!BE44)","v":""},{"$f":"IF(Puantaj!BF44=\"\",\"\",Puantaj!BF44)","v":""},{"$f":"IF(Puantaj!BG44=\"\",\"\",Puantaj!BG44)","v":""},{"$f":"IF(Puantaj!BH44=\"\",\"\",Puantaj!BH44)","v":""},{"$f":"IF(Puantaj!BI44=\"\",\"\",Puantaj!BI44)","v":""},{"$f":"IF(Puantaj!BJ44=\"\",\"\",Puantaj!BJ44)","v":""},{"$f":"IF(Puantaj!BK44=\"\",\"\",Puantaj!BK44)","v":""},{"$f":"IF(Puantaj!BL44=\"\",\"\",Puantaj!BL44)","v":""},{"$f":"IF(Puantaj!BM44=\"\",\"\",Puantaj!BM44)","v":""},0,null,0]
[0,{"$f":"Puantaj!C45","v":0},{"$f":"Puantaj!K45","v":""},{"$f":"Puantaj!O45","v":""},{"$f":"Puantaj!T45","v":0},{"$f":"IF(Puantaj!AE45=\"\",\"\",Puantaj!AE45)","v":""},{"$f":"IF(Puantaj!AF45=\"\",\"\",Puantaj!AF45)","v":""},{"$f":"IF(Puantaj!AG45=\"\",\"\",Puantaj!AG45)","v":""},{"$f":"IF(Puantaj!AH45=\"\",\"\",Puantaj!AH45)","v":""},{"$f":"IF(Puantaj!AI45=\"\",\"\",Puantaj!AI45)","v":""},{"$f":"IF(Puantaj!AJ45=\"\",\"\",Puantaj!AJ45)","v":""},{"$f":"IF(Puantaj!AK45=\"\",\"\",Puantaj!AK45)","v":""},{"$f":"IF(Puantaj!AL45=\"\",\"\",Puantaj!AL45)","v":""},{"$f":"IF(Puantaj!AM45=\"\",\"\",Puantaj!AM45)","v":""},{"$f":"IF(Puantaj!AN45=\"\",\"\",Puantaj!AN45)","v":""},{"$f":"IF(Puantaj!AO45=\"\",\"\",Puantaj!AO45)","v":""},{"$f":"IF(Puantaj!AP45=\"\",\"\",Puantaj!AP45)","v":""},{"$f":"IF(Puantaj!AQ45=\"\",\"\",Puantaj!AQ45)","v":""},{"$f":"IF(Puantaj!AR45=\"\",\"\",Puantaj!AR45)","v":""},{"$f":"IF(Puantaj!AS45=\"\",\"\",Puantaj!AS45)","v":""},{"$f":"IF(Puantaj!AT45=\"\",\"\",Puantaj!AT45)","v":""},{"$f":"IF(Puantaj!AU45=\"\",\"\",Puantaj!AU45)","v":""},{"$f":"IF(Puantaj!AV45=\"\",\"\",Puantaj!AV45)","v":""},{"$f":"IF(Puantaj!AW45=\"\",\"\",Puantaj!AW45)","v":""},{"$f":"IF(Puantaj!AX45=\"\",\"\",Puantaj!AX45)","v":""},{"$f":"IF(Puantaj!AY45=\"\",\"\",Puantaj!AY45)","v":""},{"$f":"IF(Puantaj!AZ45=\"\",\"\",Puantaj!AZ45)","v":""},{"$f":"IF(Puantaj!BA45=\"\",\"\",Puantaj!BA45)","v":""},{"$f":"IF(Puantaj!BB45=\"\",\"\",Puantaj!BB45)","v":""},{"$f":"IF(Puantaj!BC45=\"\",\"\",Puantaj!BC45)","v":""},{"$f":"IF(Puantaj!BD45=\"\",\"\",Puantaj!BD45)","v":""},{"$f":"IF(Puantaj!BE45=\"\",\"\",Puantaj!BE45)","v":""},{"$f":"IF(Puantaj!BF45=\"\",\"\",Puantaj!BF45)","v":""},{"$f":"IF(Puantaj!BG45=\"\",\"\",Puantaj!BG45)","v":""},{"$f":"IF(Puantaj!BH45=\"\",\"\",Puantaj!BH45)","v":""},{"$f":"IF(Puantaj!BI45=\"\",\"\",Puantaj!BI45)","v":""},{"$f":"IF(Puantaj!BJ45=\"\",\"\",Puantaj!BJ45)","v":""},{"$f":"IF(Puantaj!BK45=\"\",\"\",Puantaj!BK45)","v":""},{"$f":"IF(Puantaj!BL45=\"\",\"\",Puantaj!BL45)","v":""},{"$f":"IF(Puantaj!BM45=\"\",\"\",Puantaj!BM45)","v":""},0,null,0]
[0,{"$f":"Puantaj!C46","v":0},{"$f":"Puantaj!K46","v":""},{"$f":"Puantaj!O46","v":""},{"$f":"Puantaj!T46","v":0},{"$f":"IF(Puantaj!AE46=\"\",\"\",Puantaj!AE46)","v":""},{"$f":"IF(Puantaj!AF46=\"\",\"\",Puantaj!AF46)","v":""},{"$f":"IF(Puantaj!AG46=\"\",\"\",Puantaj!AG46)","v":""},{"$f":"IF(Puantaj!AH46=\"\",\"\",Puantaj!AH46)","v":""},{"$f":"IF(Puantaj!AI46=\"\",\"\",Puantaj!AI46)","v":""},{"$f":"IF(Puantaj!AJ46=\"\",\"\",Puantaj!AJ46)","v":""},{"$f":"IF(Puantaj!AK46=\"\",\"\",Puantaj!AK46)","v":""},{"$f":"IF(Puantaj!AL46=\"\",\"\",Puantaj!AL46)","v":""},{"$f":"IF(Puantaj!AM46=\"\",\"\",Puantaj!AM46)","v":""},{"$f":"IF(Puantaj!AN46=\"\",\"\",Puantaj!AN46)","v":""},{"$f":"IF(Puantaj!AO46=\"\",\"\",Puantaj!AO46)","v":""},{"$f":"IF(Puantaj!AP46=\"\",\"\",Puantaj!AP46)","v":""},{"$f":"IF(Puantaj!AQ46=\"\",\"\",Puantaj!AQ46)","v":""},{"$f":"IF(Puantaj!AR46=\"\",\"\",Puantaj!AR46)","v":""},{"$f":"IF(Puantaj!AS46=\"\",\"\",Puantaj!AS46)","v":""},{"$f":"IF(Puantaj!AT46=\"\",\"\",Puantaj!AT46)","v":""},{"$f":"IF(Puantaj!AU46=\"\",\"\",Puantaj!AU46)","v":""},{"$f":"IF(Puantaj!AV46=\"\",\"\",Puantaj!AV46)","v":""},{"$f":"IF(Puantaj!AW46=\"\",\"\",Puantaj!AW46)","v":""},{"$f":"IF(Puantaj!AX46=\"\",\"\",Puantaj!AX46)","v":""},{"$f":"IF(Puantaj!AY46=\"\",\"\",Puantaj!AY46)","v":""},{"$f":"IF(Puantaj!AZ46=\"\",\"\",Puantaj!AZ46)","v":""},{"$f":"IF(Puantaj!BA46=\"\",\"\",Puantaj!BA46)","v":""},{"$f":"IF(Puantaj!BB46=\"\",\"\",Puantaj!BB46)","v":""},{"$f":"IF(Puantaj!BC46=\"\",\"\",Puantaj!BC46)","v":""},{"$f":"IF(Puantaj!BD46=\"\",\"\",Puantaj!BD46)","v":""},{"$f":"IF(Puantaj!BE46=\"\",\"\",Puantaj!BE46)","v":""},{"$f":"IF(Puantaj!BF46=\"\",\"\",Puantaj!BF46)","v":""},{"$f":"IF(Puantaj!BG46=\"\",\"\",Puantaj!BG46)","v":""},{"$f":"IF(Puantaj!BH46=\"\",\"\",Puantaj!BH46)","v":""},{"$f":"IF(Puantaj!BI46=\"\",\"\",Puantaj!BI46)","v":""},{"$f":"IF(Puantaj!BJ46=\"\",\"\",Puantaj!BJ46)","v":""},{"$f":"IF(Puantaj!BK46=\"\",\"\",Puantaj!BK46)","v":""},{"$f":"IF(Puantaj!BL46=\"\",\"\",Puantaj!BL46)","v":""},{"$f":"IF(Puantaj!BM46=\"\",\"\",Puantaj!BM46)","v":""},0,null,0]
[0,{"$f":"Puantaj!C47","v":0},{"$f":"Puantaj!K47","v":""},{"$f":"Puantaj!O47","v":""},{"$f":"Puantaj!T47","v":0},{"$f":"IF(Puantaj!AE47=\"\",\"\",Puantaj!AE47)","v":""},{"$f":"IF(Puantaj!AF47=\"\",\"\",Puantaj!AF47)","v":""},{"$f":"IF(Puantaj!AG47=\"\",\"\",Puantaj!AG47)","v":""},{"$f":"IF(Puantaj!AH47=\"\",\"\",Puantaj!AH47)","v":""},{"$f":"IF(Puantaj!AI47=\"\",\"\",Puantaj!AI47)","v":""},{"$f":"IF(Puantaj!AJ47=\"\",\"\",Puantaj!AJ47)","v":""},{"$f":"IF(Puantaj!AK47=\"\",\"\",Puantaj!AK47)","v":""},{"$f":"IF(Puantaj!AL47=\"\",\"\",Puantaj!AL47)","v":""},{"$f":"IF(Puantaj!AM47=\"\",\"\",Puantaj!AM47)","v":""},{"$f":"IF(Puantaj!AN47=\"\",\"\",Puantaj!AN47)","v":""},{"$f":"IF(Puantaj!AO47=\"\",\"\",Puantaj!AO47)","v":""},{"$f":"IF(Puantaj!AP47=\"\",\"\",Puantaj!AP47)","v":""},{"$f":"IF(Puantaj!AQ47=\"\",\"\",Puantaj!AQ47)","v":""},{"$f":"IF(Puantaj!AR47=\"\",\"\",Puantaj!AR47)","v":""},{"$f":"IF(Puantaj!AS47=\"\",\"\",Puantaj!AS47)","v":""},{"$f":"IF(Puantaj!AT47=\"\",\"\",Puantaj!AT47)","v":""},{"$f":"IF(Puantaj!AU47=\"\",\"\",Puantaj!AU47)","v":""},{"$f":"IF(Puantaj!AV47=\"\",\"\",Puantaj!AV47)","v":""},{"$f":"IF(Puantaj!AW47=\"\",\"\",Puantaj!AW47)","v":""},{"$f":"IF(Puantaj!AX47=\"\",\"\",Puantaj!AX47)","v":""},{"$f":"IF(Puantaj!AY47=\"\",\"\",Puantaj!AY47)","v":""},{"$f":"IF(Puantaj!AZ47=\"\",\"\",Puantaj!AZ47)","v":""},{"$f":"IF(Puantaj!BA47=\"\",\"\",Puantaj!BA47)","v":""},{"$f":"IF(Puantaj!BB47=\"\",\"\",Puantaj!BB47)","v":""},{"$f":"IF(Puantaj!BC47=\"\",\"\",Puantaj!BC47)","v":""},{"$f":"IF(Puantaj!BD47=\"\",\"\",Puantaj!BD47)","v":""},{"$f":"IF(Puantaj!BE47=\"\",\"\",Puantaj!BE47)","v":""},{"$f":"IF(Puantaj!BF47=\"\",\"\",Puantaj!BF47)","v":""},{"$f":"IF(Puantaj!BG47=\"\",\"\",Puantaj!BG47)","v":""},{"$f":"IF(Puantaj!BH47=\"\",\"\",Puantaj!BH47)","v":""},{"$f":"IF(Puantaj!BI47=\"\",\"\",Puantaj!BI47)","v":""},{"$f":"IF(Puantaj!BJ47=\"\",\"\",Puantaj!BJ47)","v":""},{"$f":"IF(Puantaj!BK47=\"\",\"\",Puantaj!BK47)","v":""},{"$f":"IF(Puantaj!BL47=\"\",\"\",Puantaj!BL47)","v":""},{"$f":"IF(Puantaj!BM47=\"\",\"\",Puantaj!BM47)","v":""},0,null,0]
[0,{"$f":"Puantaj!C48","v":0},{"$f":"Puantaj!K48","v":""},{"$f":"Puantaj!O48","v":""},{"$f":"Puantaj!T48","v":0},{"$f":"IF(Puantaj!AE48=\"\",\"\",Puantaj!AE48)","v":""},{"$f":"IF(Puantaj!AF48=\"\",\"\",Puantaj!AF48)","v":""},{"$f":"IF(Puantaj!AG48=\"\",\"\",Puantaj!AG48)","v":""},{"$f":"IF(Puantaj!AH48=\"\",\"\",Puantaj!AH48)","v":""},{"$f":"IF(Puantaj!AI48=\"\",\"\",Puantaj!AI48)","v":""},{"$f":"IF(Puantaj!AJ48=\"\",\"\",Puantaj!AJ48)","v":""},{"$f":"IF(Puantaj!AK48=\"\",\"\",Puantaj!AK48)","v":""},{"$f":"IF(Puantaj!AL48=\"\",\"\",Puantaj!AL48)","v":""},{"$f":"IF(Puantaj!AM48=\"\",\"\",Puantaj!AM48)","v":""},{"$f":"IF(Puantaj!AN48=\"\",\"\",Puantaj!AN48)","v":""},{"$f":"IF(Puantaj!AO48=\"\",\"\",Puantaj!AO48)","v":""},{"$f":"IF(Puantaj!AP48=\"\",\"\",Puantaj!AP48)","v":""},{"$f":"IF(Puantaj!AQ48=\"\",\"\",Puantaj!AQ48)","v":""},{"$f":"IF(Puantaj!AR48=\"\",\"\",Puantaj!AR48)","v":""},{"$f":"IF(Puantaj!AS48=\"\",\"\",Puantaj!AS48)","v":""},{"$f":"IF(Puantaj!AT48=\"\",\"\",Puantaj!AT48)","v":""},{"$f":"IF(Puantaj!AU48=\"\",\"\",Puantaj!AU48)","v":""},{"$f":"IF(Puantaj!AV48=\"\",\"\",Puantaj!AV48)","v":""},{"$f":"IF(Puantaj!AW48=\"\",\"\",Puantaj!AW48)","v":""},{"$f":"IF(Puantaj!AX48=\"\",\"\",Puantaj!AX48)","v":""},{"$f":"IF(Puantaj!AY48=\"\",\"\",Puantaj!AY48)","v":""},{"$f":"IF(Puantaj!AZ48=\"\",\"\",Puantaj!AZ48)","v":""},{"$f":"IF(Puantaj!BA48=\"\",\"\",Puantaj!BA48)","v":""},{"$f":"IF(Puantaj!BB48=\"\",\"\",Puantaj!BB48)","v":""},{"$f":"IF(Puantaj!BC48=\"\",\"\",Puantaj!BC48)","v":""},{"$f":"IF(Puantaj!BD48=\"\",\"\",Puantaj!BD48)","v":""},{"$f":"IF(Puantaj!BE48=\"\",\"\",Puantaj!BE48)","v":""},{"$f":"IF(Puantaj!BF48=\"\",\"\",Puantaj!BF48)","v":""},{"$f":"IF(Puantaj!BG48=\"\",\"\",Puantaj!BG48)","v":""},{"$f":"IF(Puantaj!BH48=\"\",\"\",Puantaj!BH48)","v":""},{"$f":"IF(Puantaj!BI48=\"\",\"\",Puantaj!BI48)","v":""},{"$f":"IF(Puantaj!BJ48=\"\",\"\",Puantaj!BJ48)","v":""},{"$f":"IF(Puantaj!BK48=\"\",\"\",Puantaj!BK48)","v":""},{"$f":"IF(Puantaj!BL48=\"\",\"\",Puantaj!BL48)","v":""},{"$f":"IF(Puantaj!BM48=\"\",\"\",Puantaj!BM48)","v":""},0,null,0]
[0,{"$f":"Puantaj!C49","v":0},{"$f":"Puantaj!K49","v":""},{"$f":"Puantaj!O49","v":""},{"$f":"Puantaj!T49","v":0},{"$f":"IF(Puantaj!AE49=\"\",\"\",Puantaj!AE49)","v":""},{"$f":"IF(Puantaj!AF49=\"\",\"\",Puantaj!AF49)","v":""},{"$f":"IF(Puantaj!AG49=\"\",\"\",Puantaj!AG49)","v":""},{"$f":"IF(Puantaj!AH49=\"\",\"\",Puantaj!AH49)","v":""},{"$f":"IF(Puantaj!AI49=\"\",\"\",Puantaj!AI49)","v":""},{"$f":"IF(Puantaj!AJ49=\"\",\"\",Puantaj!AJ49)","v":""},{"$f":"IF(Puantaj!AK49=\"\",\"\",Puantaj!AK49)","v":""},{"$f":"IF(Puantaj!AL49=\"\",\"\",Puantaj!AL49)","v":""},{"$f":"IF(Puantaj!AM49=\"\",\"\",Puantaj!AM49)","v":""},{"$f":"IF(Puantaj!AN49=\"\",\"\",Puantaj!AN49)","v":""},{"$f":"IF(Puantaj!AO49=\"\",\"\",Puantaj!AO49)","v":""},{"$f":"IF(Puantaj!AP49=\"\",\"\",Puantaj!AP49)","v":""},{"$f":"IF(Puantaj!AQ49=\"\",\"\",Puantaj!AQ49)","v":""},{"$f":"IF(Puantaj!AR49=\"\",\"\",Puantaj!AR49)","v":""},{"$f":"IF(Puantaj!AS49=\"\",\"\",Puantaj!AS49)","v":""},{"$f":"IF(Puantaj!AT49=\"\",\"\",Puantaj!AT49)","v":""},{"$f":"IF(Puantaj!AU49=\"\",\"\",Puantaj!AU49)","v":""},{"$f":"IF(Puantaj!AV49=\"\",\"\",Puantaj!AV49)","v":""},{"$f":"IF(Puantaj!AW49=\"\",\"\",Puantaj!AW49)","v":""},{"$f":"IF(Puantaj!AX49=\"\",\"\",Puantaj!AX49)","v":""},{"$f":"IF(Puantaj!AY49=\"\",\"\",Puantaj!AY49)","v":""},{"$f":"IF(Puantaj!AZ49=\"\",\"\",Puantaj!AZ49)","v":""},{"$f":"IF(Puantaj!BA49=\"\",\"\",Puantaj!BA49)","v":""},{"$f":"IF(Puantaj!BB49=\"\",\"\",Puantaj!BB49)","v":""},{"$f":"IF(Puantaj!BC49=\"\",\"\",Puantaj!BC49)","v":""},{"$f":"IF(Puantaj!BD49=\"\",\"\",Puantaj!BD49)","v":""},{"$f":"IF(Puantaj!BE49=\"\",\"\",Puantaj!BE49)","v":""},{"$f":"IF(Puantaj!BF49=\"\",\"\",Puantaj!BF49)","v":""},{"$f":"IF(Puantaj!BG49=\"\",\"\",Puantaj!BG49)","v":""},{"$f":"IF(Puantaj!BH49=\"\",\"\",Puantaj!BH49)","v":""},{"$f":"IF(Puantaj!BI49=\"\",\"\",Puantaj!BI49)","v":""},{"$f":"IF(Puantaj!BJ49=\"\",\"\",Puantaj!BJ49)","v":""},{"$f":"IF(Puantaj!BK49=\"\",\"\",Puantaj!BK49)","v":""},{"$f":"IF(Puantaj!BL49=\"\",\"\",Puantaj!BL49)","v":""},{"$f":"IF(Puantaj!BM49=\"\",\"\",Puantaj!BM49)","v":""},0,null,0]
[0,{"$f":"Puantaj!C50","v":0},{"$f":"Puantaj!K50","v":""},{"$f":"Puantaj!O50","v":""},{"$f":"Puantaj!T50","v":0},{"$f":"IF(Puantaj!AE50=\"\",\"\",Puantaj!AE50)","v":""},{"$f":"IF(Puantaj!AF50=\"\",\"\",Puantaj!AF50)","v":""},{"$f":"IF(Puantaj!AG50=\"\",\"\",Puantaj!AG50)","v":""},{"$f":"IF(Puantaj!AH50=\"\",\"\",Puantaj!AH50)","v":""},{"$f":"IF(Puantaj!AI50=\"\",\"\",Puantaj!AI50)","v":""},{"$f":"IF(Puantaj!AJ50=\"\",\"\",Puantaj!AJ50)","v":""},{"$f":"IF(Puantaj!AK50=\"\",\"\",Puantaj!AK50)","v":""},{"$f":"IF(Puantaj!AL50=\"\",\"\",Puantaj!AL50)","v":""},{"$f":"IF(Puantaj!AM50=\"\",\"\",Puantaj!AM50)","v":""},{"$f":"IF(Puantaj!AN50=\"\",\"\",Puantaj!AN50)","v":""},{"$f":"IF(Puantaj!AO50=\"\",\"\",Puantaj!AO50)","v":""},{"$f":"IF(Puantaj!AP50=\"\",\"\",Puantaj!AP50)","v":""},{"$f":"IF(Puantaj!AQ50=\"\",\"\",Puantaj!AQ50)","v":""},{"$f":"IF(Puantaj!AR50=\"\",\"\",Puantaj!AR50)","v":""},{"$f":"IF(Puantaj!AS50=\"\",\"\",Puantaj!AS50)","v":""},{"$f":"IF(Puantaj!AT50=\"\",\"\",Puantaj!AT50)","v":""},{"$f":"IF(Puantaj!AU50=\"\",\"\",Puantaj!AU50)","v":""},{"$f":"IF(Puantaj!AV50=\"\",\"\",Puantaj!AV50)","v":""},{"$f":"IF(Puantaj!AW50=\"\",\"\",Puantaj!AW50)","v":""},{"$f":"IF(Puantaj!AX50=\"\",\"\",Puantaj!AX50)","v":""},{"$f":"IF(Puantaj!AY50=\"\",\"\",Puantaj!AY50)","v":""},{"$f":"IF(Puantaj!AZ50=\"\",\"\",Puantaj!AZ50)","v":""},{"$f":"IF(Puantaj!BA50=\"\",\"\",Puantaj!BA50)","v":""},{"$f":"IF(Puantaj!BB50=\"\",\"\",Puantaj!BB50)","v":""},{"$f":"IF(Puantaj!BC50=\"\",\"\",Puantaj!BC50)","v":""},{"$f":"IF(Puantaj!BD50=\"\",\"\",Puantaj!BD50)","v":""},{"$f":"IF(Puantaj!BE50=\"\",\"\",Puantaj!BE50)","v":""},{"$f":"IF(Puantaj!BF50=\"\",\"\",Puantaj!BF50)","v":""},{"$f":"IF(Puantaj!BG50=\"\",\"\",Puantaj!BG50)","v":""},{"$f":"IF(Puantaj!BH50=\"\",\"\",Puantaj!BH50)","v":""},{"$f":"IF(Puantaj!BI50=\"\",\"\",Puantaj!BI50)","v":""},{"$f":"IF(Puantaj!BJ50=\"\",\"\",Puantaj!BJ50)","v":""},{"$f":"IF(Puantaj!BK50=\"\",\"\",Puantaj!BK50)","v":""},{"$f":"IF(Puantaj!BL50=\"\",\"\",Puantaj!BL50)","v":""},{"$f":"IF(Puantaj!BM50=\"\",\"\",Puantaj!BM50)","v":""},0,null,0]
[0,{"$f":"Puantaj!C51","v":0},{"$f":"Puantaj!K51","v":""},{"$f":"Puantaj!O51","v":""},{"$f":"Puantaj!T51","v":0},{"$f":"IF(Puantaj!AE51=\"\",\"\",Puantaj!AE51)","v":""},{"$f":"IF(Puantaj!AF51=\"\",\"\",Puantaj!AF51)","v":""},{"$f":"IF(Puantaj!AG51=\"\",\"\",Puantaj!AG51)","v":""},{"$f":"IF(Puantaj!AH51=\"\",\"\",Puantaj!AH51)","v":""},{"$f":"IF(Puantaj!AI51=\"\",\"\",Puantaj!AI51)","v":""},{"$f":"IF(Puantaj!AJ51=\"\",\"\",Puantaj!AJ51)","v":""},{"$f":"IF(Puantaj!AK51=\"\",\"\",Puantaj!AK51)","v":""},{"$f":"IF(Puantaj!AL51=\"\",\"\",Puantaj!AL51)","v":""},{"$f":"IF(Puantaj!AM51=\"\",\"\",Puantaj!AM51)","v":""},{"$f":"IF(Puantaj!AN51=\"\",\"\",Puantaj!AN51)","v":""},{"$f":"IF(Puantaj!AO51=\"\",\"\",Puantaj!AO51)","v":""},{"$f":"IF(Puantaj!AP51=\"\",\"\",Puantaj!AP51)","v":""},{"$f":"IF(Puantaj!AQ51=\"\",\"\",Puantaj!AQ51)","v":""},{"$f":"IF(Puantaj!AR51=\"\",\"\",Puantaj!AR51)","v":""},{"$f":"IF(Puantaj!AS51=\"\",\"\",Puantaj!AS51)","v":""},{"$f":"IF(Puantaj!AT51=\"\",\"\",Puantaj!AT51)","v":""},{"$f":"IF(Puantaj!AU51=\"\",\"\",Puantaj!AU51)","v":""},{"$f":"IF(Puantaj!AV51=\"\",\"\",Puantaj!AV51)","v":""},{"$f":"IF(Puantaj!AW51=\"\",\"\",Puantaj!AW51)","v":""},{"$f":"IF(Puantaj!AX51=\"\",\"\",Puantaj!AX51)","v":""},{"$f":"IF(Puantaj!AY51=\"\",\"\",Puantaj!AY51)","v":""},{"$f":"IF(Puantaj!AZ51=\"\",\"\",Puantaj!AZ51)","v":""},{"$f":"IF(Puantaj!BA51=\"\",\"\",Puantaj!BA51)","v":""},{"$f":"IF(Puantaj!BB51=\"\",\"\",Puantaj!BB51)","v":""},{"$f":"IF(Puantaj!BC51=\"\",\"\",Puantaj!BC51)","v":""},{"$f":"IF(Puantaj!BD51=\"\",\"\",Puantaj!BD51)","v":""},{"$f":"IF(Puantaj!BE51=\"\",\"\",Puantaj!BE51)","v":""},{"$f":"IF(Puantaj!BF51=\"\",\"\",Puantaj!BF51)","v":""},{"$f":"IF(Puantaj!BG51=\"\",\"\",Puantaj!BG51)","v":""},{"$f":"IF(Puantaj!BH51=\"\",\"\",Puantaj!BH51)","v":""},{"$f":"IF(Puantaj!BI51=\"\",\"\",Puantaj!BI51)","v":""},{"$f":"IF(Puantaj!BJ51=\"\",\"\",Puantaj!BJ51)","v":""},{"$f":"IF(Puantaj!BK51=\"\",\"\",Puantaj!BK51)","v":""},{"$f":"IF(Puantaj!BL51=\"\",\"\",Puantaj!BL51)","v":""},{"$f":"IF(Puantaj!BM51=\"\",\"\",Puantaj!BM51)","v":""},0,null,0]
[0,{"$f":"Puantaj!C52","v":0},{"$f":"Puantaj!K52","v":""},{"$f":"Puantaj!O52","v":""},{"$f":"Puantaj!T52","v":0},{"$f":"IF(Puantaj!AE52=\"\",\"\",Puantaj!AE52)","v":""},{"$f":"IF(Puantaj!AF52=\"\",\"\",Puantaj!AF52)","v":""},{"$f":"IF(Puantaj!AG52=\"\",\"\",Puantaj!AG52)","v":""},{"$f":"IF(Puantaj!AH52=\"\",\"\",Puantaj!AH52)","v":""},{"$f":"IF(Puantaj!AI52=\"\",\"\",Puantaj!AI52)","v":""},{"$f":"IF(Puantaj!AJ52=\"\",\"\",Puantaj!AJ52)","v":""},{"$f":"IF(Puantaj!AK52=\"\",\"\",Puantaj!AK52)","v":""},{"$f":"IF(Puantaj!AL52=\"\",\"\",Puantaj!AL52)","v":""},{"$f":"IF(Puantaj!AM52=\"\",\"\",Puantaj!AM52)","v":""},{"$f":"IF(Puantaj!AN52=\"\",\"\",Puantaj!AN52)","v":""},{"$f":"IF(Puantaj!AO52=\"\",\"\",Puantaj!AO52)","v":""},{"$f":"IF(Puantaj!AP52=\"\",\"\",Puantaj!AP52)","v":""},{"$f":"IF(Puantaj!AQ52=\"\",\"\",Puantaj!AQ52)","v":""},{"$f":"IF(Puantaj!AR52=\"\",\"\",Puantaj!AR52)","v":""},{"$f":"IF(Puantaj!AS52=\"\",\"\",Puantaj!AS52)","v":""},{"$f":"IF(Puantaj!AT52=\"\",\"\",Puantaj!AT52)","v":""},{"$f":"IF(Puantaj!AU52=\"\",\"\",Puantaj!AU52)","v":""},{"$f":"IF(Puantaj!AV52=\"\",\"\",Puantaj!AV52)","v":""},{"$f":"IF(Puantaj!AW52=\"\",\"\",Puantaj!AW52)","v":""},{"$f":"IF(Puantaj!AX52=\"\",\"\",Puantaj!AX52)","v":""},{"$f":"IF(Puantaj!AY52=\"\",\"\",Puantaj!AY52)","v":""},{"$f":"IF(Puantaj!AZ52=\"\",\"\",Puantaj!AZ52)","v":""},{"$f":"IF(Puantaj!BA52=\"\",\"\",Puantaj!BA52)","v":""},{"$f":"IF(Puantaj!BB52=\"\",\"\",Puantaj!BB52)","v":""},{"$f":"IF(Puantaj!BC52=\"\",\"\",Puantaj!BC52)","v":""},{"$f":"IF(Puantaj!BD52=\"\",\"\",Puantaj!BD52)","v":""},{"$f":"IF(Puantaj!BE52=\"\",\"\",Puantaj!BE52)","v":""},{"$f":"IF(Puantaj!BF52=\"\",\"\",Puantaj!BF52)","v":""},{"$f":"IF(Puantaj!BG52=\"\",\"\",Puantaj!BG52)","v":""},{"$f":"IF(Puantaj!BH52=\"\",\"\",Puantaj!BH52)","v":""},{"$f":"IF(Puantaj!BI52=\"\",\"\",Puantaj!BI52)","v":""},{"$f":"IF(Puantaj!BJ52=\"\",\"\",Puantaj!BJ52)","v":""},{"$f":"IF(Puantaj!BK52=\"\",\"\",Puantaj!BK52)","v":""},{"$f":"IF(Puantaj!BL52=\"\",\"\",Puantaj!BL52)","v":""},{"$f":"IF(Puantaj!BM52=\"\",\"\",Puantaj!BM52)","v":""},0,null,0]
[0,{"$f":"Puantaj!C53","v":0},{"$f":"Puantaj!K53","v":""},{"$f":"Puantaj!O53","v":""},{"$f":"Puantaj!T53","v":0},{"$f":"IF(Puantaj!AE53=\"\",\"\",Puantaj!AE53)","v":""},{"$f":"IF(Puantaj!AF53=\"\",\"\",Puantaj!AF53)","v":""},{"$f":"IF(Puantaj!AG53=\"\",\"\",Puantaj!AG53)","v":""},{"$f":"IF(Puantaj!AH53=\"\",\"\",Puantaj!AH53)","v":""},{"$f":"IF(Puantaj!AI53=\"\",\"\",Puantaj!AI53)","v":""},{"$f":"IF(Puantaj!AJ53=\"\",\"\",Puantaj!AJ53)","v":""},{"$f":"IF(Puantaj!AK53=\"\",\"\",Puantaj!AK53)","v":""},{"$f":"IF(Puantaj!AL53=\"\",\"\",Puantaj!AL53)","v":""},{"$f":"IF(Puantaj!AM53=\"\",\"\",Puantaj!AM53)","v":""},{"$f":"IF(Puantaj!AN53=\"\",\"\",Puantaj!AN53)","v":""},{"$f":"IF(Puantaj!AO53=\"\",\"\",Puantaj!AO53)","v":""},{"$f":"IF(Puantaj!AP53=\"\",\"\",Puantaj!AP53)","v":""},{"$f":"IF(Puantaj!AQ53=\"\",\"\",Puantaj!AQ53)","v":""},{"$f":"IF(Puantaj!AR53=\"\",\"\",Puantaj!AR53)","v":""},{"$f":"IF(Puantaj!AS53=\"\",\"\",Puantaj!AS53)","v":""},{"$f":"IF(Puantaj!AT53=\"\",\"\",Puantaj!AT53)","v":""},{"$f":"IF(Puantaj!AU53=\"\",\"\",Puantaj!AU53)","v":""},{"$f":"IF(Puantaj!AV53=\"\",\"\",Puantaj!AV53)","v":""},{"$f":"IF(Puantaj!AW53=\"\",\"\",Puantaj!AW53)","v":""},{"$f":"IF(Puantaj!AX53=\"\",\"\",Puantaj!AX53)","v":""},{"$f":"IF(Puantaj!AY53=\"\",\"\",Puantaj!AY53)","v":""},{"$f":"IF(Puantaj!AZ53=\"\",\"\",Puantaj!AZ53)","v":""},{"$f":"IF(Puantaj!BA53=\"\",\"\",Puantaj!BA53)","v":""},{"$f":"IF(Puantaj!BB53=\"\",\"\",Puantaj!BB53)","v":""},{"$f":"IF(Puantaj!BC53=\"\",\"\",Puantaj!BC53)","v":""},{"$f":"IF(Puantaj!BD53=\"\",\"\",Puantaj!BD53)","v":""},{"$f":"IF(Puantaj!BE53=\"\",\"\",Puantaj!BE53)","v":""},{"$f":"IF(Puantaj!BF53=\"\",\"\",Puantaj!BF53)","v":""},{"$f":"IF(Puantaj!BG53=\"\",\"\",Puantaj!BG53)","v":""},{"$f":"IF(Puantaj!BH53=\"\",\"\",Puantaj!BH53)","v":""},{"$f":"IF(Puantaj!BI53=\"\",\"\",Puantaj!BI53)","v":""},{"$f":"IF(Puantaj!BJ53=\"\",\"\",Puantaj!BJ53)","v":""},{"$f":"IF(Puantaj!BK53=\"\",\"\",Puantaj!BK53)","v":""},{"$f":"IF(Puantaj!BL53=\"\",\"\",Puantaj!BL53)","v":""},{"$f":"IF(Puantaj!BM53=\"\",\"\",Puantaj!BM53)","v":""},0,null,0]
[0,{"$f":"Puantaj!C54","v":0},{"$f":"Puantaj!K54","v":""},{"$f":"Puantaj!O54","v":""},{"$f":"Puantaj!T54","v":0},{"$f":"IF(Puantaj!AE54=\"\",\"\",Puantaj!AE54)","v":""},{"$f":"IF(Puantaj!AF54=\"\",\"\",Puantaj!AF54)","v":""},{"$f":"IF(Puantaj!AG54=\"\",\"\",Puantaj!AG54)","v":""},{"$f":"IF(Puantaj!AH54=\"\",\"\",Puantaj!AH54)","v":""},{"$f":"IF(Puantaj!AI54=\"\",\"\",Puantaj!AI54)","v":""},{"$f":"IF(Puantaj!AJ54=\"\",\"\",Puantaj!AJ54)","v":""},{"$f":"IF(Puantaj!AK54=\"\",\"\",Puantaj!AK54)","v":""},{"$f":"IF(Puantaj!AL54=\"\",\"\",Puantaj!AL54)","v":""},{"$f":"IF(Puantaj!AM54=\"\",\"\",Puantaj!AM54)","v":""},{"$f":"IF(Puantaj!AN54=\"\",\"\",Puantaj!AN54)","v":""},{"$f":"IF(Puantaj!AO54=\"\",\"\",Puantaj!AO54)","v":""},{"$f":"IF(Puantaj!AP54=\"\",\"\",Puantaj!AP54)","v":""},{"$f":"IF(Puantaj!AQ54=\"\",\"\",Puantaj!AQ54)","v":""},{"$f":"IF(Puantaj!AR54=\"\",\"\",Puantaj!AR54)","v":""},{"$f":"IF(Puantaj!AS54=\"\",\"\",Puantaj!AS54)","v":""},{"$f":"IF(Puantaj!AT54=\"\",\"\",Puantaj!AT54)","v":""},{"$f":"IF(Puantaj!AU54=\"\",\"\",Puantaj!AU54)","v":""},{"$f":"IF(Puantaj!AV54=\"\",\"\",Puantaj!AV54)","v":""},{"$f":"IF(Puantaj!AW54=\"\",\"\",Puantaj!AW54)","v":""},{"$f":"IF(Puantaj!AX54=\"\",\"\",Puantaj!AX54)","v":""},{"$f":"IF(Puantaj!AY54=\"\",\"\",Puantaj!AY54)","v":""},{"$f":"IF(Puantaj!AZ54=\"\",\"\",Puantaj!AZ54)","v":""},{"$f":"IF(Puantaj!BA54=\"\",\"\",Puantaj!BA54)","v":""},{"$f":"IF(Puantaj!BB54=\"\",\"\",Puantaj!BB54)","v":""},{"$f":"IF(Puantaj!BC54=\"\",\"\",Puantaj!BC54)","v":""},{"$f":"IF(Puantaj!BD54=\"\",\"\",Puantaj!BD54)","v":""},{"$f":"IF(Puantaj!BE54=\"\",\"\",Puantaj!BE54)","v":""},{"$f":"IF(Puantaj!BF54=\"\",\"\",Puantaj!BF54)","v":""},{"$f":"IF(Puantaj!BG54=\"\",\"\",Puantaj!BG54)","v":""},{"$f":"IF(Puantaj!BH54=\"\",\"\",Puantaj!BH54)","v":""},{"$f":"IF(Puantaj!BI54=\"\",\"\",Puantaj!BI54)","v":""},{"$f":"IF(Puantaj!BJ54=\"\",\"\",Puantaj!BJ54)","v":""},{"$f":"IF(Puantaj!BK54=\"\",\"\",Puantaj!BK54)","v":""},{"$f":"IF(Puantaj!BL54=\"\",\"\",Puantaj!BL54)","v":""},{"$f":"IF(Puantaj!BM54=\"\",\"\",Puantaj!BM54)","v":""},0,null,0]
[0,{"$f":"Puantaj!C55","v":0},{"$f":"Puantaj!K55","v":""},{"$f":"Puantaj!O55","v":""},{"$f":"Puantaj!T55","v":0},{"$f":"IF(Puantaj!AE55=\"\",\"\",Puantaj!AE55)","v":""},{"$f":"IF(Puantaj!AF55=\"\",\"\",Puantaj!AF55)","v":""},{"$f":"IF(Puantaj!AG55=\"\",\"\",Puantaj!AG55)","v":""},{"$f":"IF(Puantaj!AH55=\"\",\"\",Puantaj!AH55)","v":""},{"$f":"IF(Puantaj!AI55=\"\",\"\",Puantaj!AI55)","v":""},{"$f":"IF(Puantaj!AJ55=\"\",\"\",Puantaj!AJ55)","v":""},{"$f":"IF(Puantaj!AK55=\"\",\"\",Puantaj!AK55)","v":""},{"$f":"IF(Puantaj!AL55=\"\",\"\",Puantaj!AL55)","v":""},{"$f":"IF(Puantaj!AM55=\"\",\"\",Puantaj!AM55)","v":""},{"$f":"IF(Puantaj!AN55=\"\",\"\",Puantaj!AN55)","v":""},{"$f":"IF(Puantaj!AO55=\"\",\"\",Puantaj!AO55)","v":""},{"$f":"IF(Puantaj!AP55=\"\",\"\",Puantaj!AP55)","v":""},{"$f":"IF(Puantaj!AQ55=\"\",\"\",Puantaj!AQ55)","v":""},{"$f":"IF(Puantaj!AR55=\"\",\"\",Puantaj!AR55)","v":""},{"$f":"IF(Puantaj!AS55=\"\",\"\",Puantaj!AS55)","v":""},{"$f":"IF(Puantaj!AT55=\"\",\"\",Puantaj!AT55)","v":""},{"$f":"IF(Puantaj!AU55=\"\",\"\",Puantaj!AU55)","v":""},{"$f":"IF(Puantaj!AV55=\"\",\"\",Puantaj!AV55)","v":""},{"$f":"IF(Puantaj!AW55=\"\",\"\",Puantaj!AW55)","v":""},{"$f":"IF(Puantaj!AX55=\"\",\"\",Puantaj!AX55)","v":""},{"$f":"IF(Puantaj!AY55=\"\",\"\",Puantaj!AY55)","v":""},{"$f":"IF(Puantaj!AZ55=\"\",\"\",Puantaj!AZ55)","v":""},{"$f":"IF(Puantaj!BA55=\"\",\"\",Puantaj!BA55)","v":""},{"$f":"IF(Puantaj!BB55=\"\",\"\",Puantaj!BB55)","v":""},{"$f":"IF(Puantaj!BC55=\"\",\"\",Puantaj!BC55)","v":""},{"$f":"IF(Puantaj!BD55=\"\",\"\",Puantaj!BD55)","v":""},{"$f":"IF(Puantaj!BE55=\"\",\"\",Puantaj!BE55)","v":""},{"$f":"IF(Puantaj!BF55=\"\",\"\",Puantaj!BF55)","v":""},{"$f":"IF(Puantaj!BG55=\"\",\"\",Puantaj!BG55)","v":""},{"$f":"IF(Puantaj!BH55=\"\",\"\",Puantaj!BH55)","v":""},{"$f":"IF(Puantaj!BI55=\"\",\"\",Puantaj!BI55)","v":""},{"$f":"IF(Puantaj!BJ55=\"\",\"\",Puantaj!BJ55)","v":""},{"$f":"IF(Puantaj!BK55=\"\",\"\",Puantaj!BK55)","v":""},{"$f":"IF(Puantaj!BL55=\"\",\"\",Puantaj!BL55)","v":""},{"$f":"IF(Puantaj!BM55=\"\",\"\",Puantaj!BM55)","v":""},0,null,0]
[0,{"$f":"Puantaj!C56","v":0},{"$f":"Puantaj!K56","v":""},{"$f":"Puantaj!O56","v":""},{"$f":"Puantaj!T56","v":0},{"$f":"IF(Puantaj!AE56=\"\",\"\",Puantaj!AE56)","v":""},{"$f":"IF(Puantaj!AF56=\"\",\"\",Puantaj!AF56)","v":""},{"$f":"IF(Puantaj!AG56=\"\",\"\",Puantaj!AG56)","v":""},{"$f":"IF(Puantaj!AH56=\"\",\"\",Puantaj!AH56)","v":""},{"$f":"IF(Puantaj!AI56=\"\",\"\",Puantaj!AI56)","v":""},{"$f":"IF(Puantaj!AJ56=\"\",\"\",Puantaj!AJ56)","v":""},{"$f":"IF(Puantaj!AK56=\"\",\"\",Puantaj!AK56)","v":""},{"$f":"IF(Puantaj!AL56=\"\",\"\",Puantaj!AL56)","v":""},{"$f":"IF(Puantaj!AM56=\"\",\"\",Puantaj!AM56)","v":""},{"$f":"IF(Puantaj!AN56=\"\",\"\",Puantaj!AN56)","v":""},{"$f":"IF(Puantaj!AO56=\"\",\"\",Puantaj!AO56)","v":""},{"$f":"IF(Puantaj!AP56=\"\",\"\",Puantaj!AP56)","v":""},{"$f":"IF(Puantaj!AQ56=\"\",\"\",Puantaj!AQ56)","v":""},{"$f":"IF(Puantaj!AR56=\"\",\"\",Puantaj!AR56)","v":""},{"$f":"IF(Puantaj!AS56=\"\",\"\",Puantaj!AS56)","v":""},{"$f":"IF(Puantaj!AT56=\"\",\"\",Puantaj!AT56)","v":""},{"$f":"IF(Puantaj!AU56=\"\",\"\",Puantaj!AU56)","v":""},{"$f":"IF(Puantaj!AV56=\"\",\"\",Puantaj!AV56)","v":""},{"$f":"IF(Puantaj!AW56=\"\",\"\",Puantaj!AW56)","v":""},{"$f":"IF(Puantaj!AX56=\"\",\"\",Puantaj!AX56)","v":""},{"$f":"IF(Puantaj!AY56=\"\",\"\",Puantaj!AY56)","v":""},{"$f":"IF(Puantaj!AZ56=\"\",\"\",Puantaj!AZ56)","v":""},{"$f":"IF(Puantaj!BA56=\"\",\"\",Puantaj!BA56)","v":""},{"$f":"IF(Puantaj!BB56=\"\",\"\",Puantaj!BB56)","v":""},{"$f":"IF(Puantaj!BC56=\"\",\"\",Puantaj!BC56)","v":""},{"$f":"IF(Puantaj!BD56=\"\",\"\",Puantaj!BD56)","v":""},{"$f":"IF(Puantaj!BE56=\"\",\"\",Puantaj!BE56)","v":""},{"$f":"IF(Puantaj!BF56=\"\",\"\",Puantaj!BF56)","v":""},{"$f":"IF(Puantaj!BG56=\"\",\"\",Puantaj!BG56)","v":""},{"$f":"IF(Puantaj!BH56=\"\",\"\",Puantaj!BH56)","v":""},{"$f":"IF(Puantaj!BI56=\"\",\"\",Puantaj!BI56)","v":""},{"$f":"IF(Puantaj!BJ56=\"\",\"\",Puantaj!BJ56)","v":""},{"$f":"IF(Puantaj!BK56=\"\",\"\",Puantaj!BK56)","v":""},{"$f":"IF(Puantaj!BL56=\"\",\"\",Puantaj!BL56)","v":""},{"$f":"IF(Puantaj!BM56=\"\",\"\",Puantaj!BM56)","v":""},0,null,0]
[0,{"$f":"Puantaj!C57","v":0},{"$f":"Puantaj!K57","v":""},{"$f":"Puantaj!O57","v":""},{"$f":"Puantaj!T57","v":0},{"$f":"IF(Puantaj!AE57=\"\",\"\",Puantaj!AE57)","v":""},{"$f":"IF(Puantaj!AF57=\"\",\"\",Puantaj!AF57)","v":""},{"$f":"IF(Puantaj!AG57=\"\",\"\",Puantaj!AG57)","v":""},{"$f":"IF(Puantaj!AH57=\"\",\"\",Puantaj!AH57)","v":""},{"$f":"IF(Puantaj!AI57=\"\",\"\",Puantaj!AI57)","v":""},{"$f":"IF(Puantaj!AJ57=\"\",\"\",Puantaj!AJ57)","v":""},{"$f":"IF(Puantaj!AK57=\"\",\"\",Puantaj!AK57)","v":""},{"$f":"IF(Puantaj!AL57=\"\",\"\",Puantaj!AL57)","v":""},{"$f":"IF(Puantaj!AM57=\"\",\"\",Puantaj!AM57)","v":""},{"$f":"IF(Puantaj!AN57=\"\",\"\",Puantaj!AN57)","v":""},{"$f":"IF(Puantaj!AO57=\"\",\"\",Puantaj!AO57)","v":""},{"$f":"IF(Puantaj!AP57=\"\",\"\",Puantaj!AP57)","v":""},{"$f":"IF(Puantaj!AQ57=\"\",\"\",Puantaj!AQ57)","v":""},{"$f":"IF(Puantaj!AR57=\"\",\"\",Puantaj!AR57)","v":""},{"$f":"IF(Puantaj!AS57=\"\",\"\",Puantaj!AS57)","v":""},{"$f":"IF(Puantaj!AT57=\"\",\"\",Puantaj!AT57)","v":""},{"$f":"IF(Puantaj!AU57=\"\",\"\",Puantaj!AU57)","v":""},{"$f":"IF(Puantaj!AV57=\"\",\"\",Puantaj!AV57)","v":""},{"$f":"IF(Puantaj!AW57=\"\",\"\",Puantaj!AW57)","v":""},{"$f":"IF(Puantaj!AX57=\"\",\"\",Puantaj!AX57)","v":""},{"$f":"IF(Puantaj!AY57=\"\",\"\",Puantaj!AY57)","v":""},{"$f":"IF(Puantaj!AZ57=\"\",\"\",Puantaj!AZ57)","v":""},{"$f":"IF(Puantaj!BA57=\"\",\"\",Puantaj!BA57)","v":""},{"$f":"IF(Puantaj!BB57=\"\",\"\",Puantaj!BB57)","v":""},{"$f":"IF(Puantaj!BC57=\"\",\"\",Puantaj!BC57)","v":""},{"$f":"IF(Puantaj!BD57=\"\",\"\",Puantaj!BD57)","v":""},{"$f":"IF(Puantaj!BE57=\"\",\"\",Puantaj!BE57)","v":""},{"$f":"IF(Puantaj!BF57=\"\",\"\",Puantaj!BF57)","v":""},{"$f":"IF(Puantaj!BG57=\"\",\"\",Puantaj!BG57)","v":""},{"$f":"IF(Puantaj!BH57=\"\",\"\",Puantaj!BH57)","v":""},{"$f":"IF(Puantaj!BI57=\"\",\"\",Puantaj!BI57)","v":""},{"$f":"IF(Puantaj!BJ57=\"\",\"\",Puantaj!BJ57)","v":""},{"$f":"IF(Puantaj!BK57=\"\",\"\",Puantaj!BK57)","v":""},{"$f":"IF(Puantaj!BL57=\"\",\"\",Puantaj!BL57)","v":""},{"$f":"IF(Puantaj!BM57=\"\",\"\",Puantaj!BM57)","v":""},0,null,0]
[0,{"$f":"Puantaj!C58","v":0},{"$f":"Puantaj!K58","v":""},{"$f":"Puantaj!O58","v":""},{"$f":"Puantaj!T58","v":0},{"$f":"IF(Puantaj!AE58=\"\",\"\",Puantaj!AE58)","v":""},{"$f":"IF(Puantaj!AF58=\"\",\"\",Puantaj!AF58)","v":""},{"$f":"IF(Puantaj!AG58=\"\",\"\",Puantaj!AG58)","v":""},{"$f":"IF(Puantaj!AH58=\"\",\"\",Puantaj!AH58)","v":""},{"$f":"IF(Puantaj!AI58=\"\",\"\",Puantaj!AI58)","v":""},{"$f":"IF(Puantaj!AJ58=\"\",\"\",Puantaj!AJ58)","v":""},{"$f":"IF(Puantaj!AK58=\"\",\"\",Puantaj!AK58)","v":""},{"$f":"IF(Puantaj!AL58=\"\",\"\",Puantaj!AL58)","v":""},{"$f":"IF(Puantaj!AM58=\"\",\"\",Puantaj!AM58)","v":""},{"$f":"IF(Puantaj!AN58=\"\",\"\",Puantaj!AN58)","v":""},{"$f":"IF(Puantaj!AO58=\"\",\"\",Puantaj!AO58)","v":""},{"$f":"IF(Puantaj!AP58=\"\",\"\",Puantaj!AP58)","v":""},{"$f":"IF(Puantaj!AQ58=\"\",\"\",Puantaj!AQ58)","v":""},{"$f":"IF(Puantaj!AR58=\"\",\"\",Puantaj!AR58)","v":""},{"$f":"IF(Puantaj!AS58=\"\",\"\",Puantaj!AS58)","v":""},{"$f":"IF(Puantaj!AT58=\"\",\"\",Puantaj!AT58)","v":""},{"$f":"IF(Puantaj!AU58=\"\",\"\",Puantaj!AU58)","v":""},{"$f":"IF(Puantaj!AV58=\"\",\"\",Puantaj!AV58)","v":""},{"$f":"IF(Puantaj!AW58=\"\",\"\",Puantaj!AW58)","v":""},{"$f":"IF(Puantaj!AX58=\"\",\"\",Puantaj!AX58)","v":""},{"$f":"IF(Puantaj!AY58=\"\",\"\",Puantaj!AY58)","v":""},{"$f":"IF(Puantaj!AZ58=\"\",\"\",Puantaj!AZ58)","v":""},{"$f":"IF(Puantaj!BA58=\"\",\"\",Puantaj!BA58)","v":""},{"$f":"IF(Puantaj!BB58=\"\",\"\",Puantaj!BB58)","v":""},{"$f":"IF(Puantaj!BC58=\"\",\"\",Puantaj!BC58)","v":""},{"$f":"IF(Puantaj!BD58=\"\",\"\",Puantaj!BD58)","v":""},{"$f":"IF(Puantaj!BE58=\"\",\"\",Puantaj!BE58)","v":""},{"$f":"IF(Puantaj!BF58=\"\",\"\",Puantaj!BF58)","v":""},{"$f":"IF(Puantaj!BG58=\"\",\"\",Puantaj!BG58)","v":""},{"$f":"IF(Puantaj!BH58=\"\",\"\",Puantaj!BH58)","v":""},{"$f":"IF(Puantaj!BI58=\"\",\"\",Puantaj!BI58)","v":""},{"$f":"IF(Puantaj!BJ58=\"\",\"\",Puantaj!BJ58)","v":""},{"$f":"IF(Puantaj!BK58=\"\",\"\",Puantaj!BK58)","v":""},{"$f":"IF(Puantaj!BL58=\"\",\"\",Puantaj!BL58)","v":""},{"$f":"IF(Puantaj!BM58=\"\",\"\",Puantaj!BM58)","v":""},0,null,0]
[0,{"$f":"Puantaj!C59","v":0},{"$f":"Puantaj!K59","v":""},{"$f":"Puantaj!O59","v":""},{"$f":"Puantaj!T59","v":0},{"$f":"IF(Puantaj!AE59=\"\",\"\",Puantaj!AE59)","v":""},{"$f":"IF(Puantaj!AF59=\"\",\"\",Puantaj!AF59)","v":""},{"$f":"IF(Puantaj!AG59=\"\",\"\",Puantaj!AG59)","v":""},{"$f":"IF(Puantaj!AH59=\"\",\"\",Puantaj!AH59)","v":""},{"$f":"IF(Puantaj!AI59=\"\",\"\",Puantaj!AI59)","v":""},{"$f":"IF(Puantaj!AJ59=\"\",\"\",Puantaj!AJ59)","v":""},{"$f":"IF(Puantaj!AK59=\"\",\"\",Puantaj!AK59)","v":""},{"$f":"IF(Puantaj!AL59=\"\",\"\",Puantaj!AL59)","v":""},{"$f":"IF(Puantaj!AM59=\"\",\"\",Puantaj!AM59)","v":""},{"$f":"IF(Puantaj!AN59=\"\",\"\",Puantaj!AN59)","v":""},{"$f":"IF(Puantaj!AO59=\"\",\"\",Puantaj!AO59)","v":""},{"$f":"IF(Puantaj!AP59=\"\",\"\",Puantaj!AP59)","v":""},{"$f":"IF(Puantaj!AQ59=\"\",\"\",Puantaj!AQ59)","v":""},{"$f":"IF(Puantaj!AR59=\"\",\"\",Puantaj!AR59)","v":""},{"$f":"IF(Puantaj!AS59=\"\",\"\",Puantaj!AS59)","v":""},{"$f":"IF(Puantaj!AT59=\"\",\"\",Puantaj!AT59)","v":""},{"$f":"IF(Puantaj!AU59=\"\",\"\",Puantaj!AU59)","v":""},{"$f":"IF(Puantaj!AV59=\"\",\"\",Puantaj!AV59)","v":""},{"$f":"IF(Puantaj!AW59=\"\",\"\",Puantaj!AW59)","v":""},{"$f":"IF(Puantaj!AX59=\"\",\"\",Puantaj!AX59)","v":""},{"$f":"IF(Puantaj!AY59=\"\",\"\",Puantaj!AY59)","v":""},{"$f":"IF(Puantaj!AZ59=\"\",\"\",Puantaj!AZ59)","v":""},{"$f":"IF(Puantaj!BA59=\"\",\"\",Puantaj!BA59)","v":""},{"$f":"IF(Puantaj!BB59=\"\",\"\",Puantaj!BB59)","v":""},{"$f":"IF(Puantaj!BC59=\"\",\"\",Puantaj!BC59)","v":""},{"$f":"IF(Puantaj!BD59=\"\",\"\",Puantaj!BD59)","v":""},{"$f":"IF(Puantaj!BE59=\"\",\"\",Puantaj!BE59)","v":""},{"$f":"IF(Puantaj!BF59=\"\",\"\",Puantaj!BF59)","v":""},{"$f":"IF(Puantaj!BG59=\"\",\"\",Puantaj!BG59)","v":""},{"$f":"IF(Puantaj!BH59=\"\",\"\",Puantaj!BH59)","v":""},{"$f":"IF(Puantaj!BI59=\"\",\"\",Puantaj!BI59)","v":""},{"$f":"IF(Puantaj!BJ59=\"\",\"\",Puantaj!BJ59)","v":""},{"$f":"IF(Puantaj!BK59=\"\",\"\",Puantaj!BK59)","v":""},{"$f":"IF(Puantaj!BL59=\"\",\"\",Puantaj!BL59)","v":""},{"$f":"IF(Puantaj!BM59=\"\",\"\",Puantaj!BM59)","v":""},0,null,0]
[0,{"$f":"Puantaj!C60","v":0},{"$f":"Puantaj!K60","v":""},{"$f":"Puantaj!O60","v":""},{"$f":"Puantaj!T60","v":0},{"$f":"IF(Puantaj!AE60=\"\",\"\",Puantaj!AE60)","v":""},{"$f":"IF(Puantaj!AF60=\"\",\"\",Puantaj!AF60)","v":""},{"$f":"IF(Puantaj!AG60=\"\",\"\",Puantaj!AG60)","v":""},{"$f":"IF(Puantaj!AH60=\"\",\"\",Puantaj!AH60)","v":""},{"$f":"IF(Puantaj!AI60=\"\",\"\",Puantaj!AI60)","v":""},{"$f":"IF(Puantaj!AJ60=\"\",\"\",Puantaj!AJ60)","v":""},{"$f":"IF(Puantaj!AK60=\"\",\"\",Puantaj!AK60)","v":""},{"$f":"IF(Puantaj!AL60=\"\",\"\",Puantaj!AL60)","v":""},{"$f":"IF(Puantaj!AM60=\"\",\"\",Puantaj!AM60)","v":""},{"$f":"IF(Puantaj!AN60=\"\",\"\",Puantaj!AN60)","v":""},{"$f":"IF(Puantaj!AO60=\"\",\"\",Puantaj!AO60)","v":""},{"$f":"IF(Puantaj!AP60=\"\",\"\",Puantaj!AP60)","v":""},{"$f":"IF(Puantaj!AQ60=\"\",\"\",Puantaj!AQ60)","v":""},{"$f":"IF(Puantaj!AR60=\"\",\"\",Puantaj!AR60)","v":""},{"$f":"IF(Puantaj!AS60=\"\",\"\",Puantaj!AS60)","v":""},{"$f":"IF(Puantaj!AT60=\"\",\"\",Puantaj!AT60)","v":""},{"$f":"IF(Puantaj!AU60=\"\",\"\",Puantaj!AU60)","v":""},{"$f":"IF(Puantaj!AV60=\"\",\"\",Puantaj!AV60)","v":""},{"$f":"IF(Puantaj!AW60=\"\",\"\",Puantaj!AW60)","v":""},{"$f":"IF(Puantaj!AX60=\"\",\"\",Puantaj!AX60)","v":""},{"$f":"IF(Puantaj!AY60=\"\",\"\",Puantaj!AY60)","v":""},{"$f":"IF(Puantaj!AZ60=\"\",\"\",Puantaj!AZ60)","v":""},{"$f":"IF(Puantaj!BA60=\"\",\"\",Puantaj!BA60)","v":""},{"$f":"IF(Puantaj!BB60=\"\",\"\",Puantaj!BB60)","v":""},{"$f":"IF(Puantaj!BC60=\"\",\"\",Puantaj!BC60)","v":""},{"$f":"IF(Puantaj!BD60=\"\",\"\",Puantaj!BD60)","v":""},{"$f":"IF(Puantaj!BE60=\"\",\"\",Puantaj!BE60)","v":""},{"$f":"IF(Puantaj!BF60=\"\",\"\",Puantaj!BF60)","v":""},{"$f":"IF(Puantaj!BG60=\"\",\"\",Puantaj!BG60)","v":""},{"$f":"IF(Puantaj!BH60=\"\",\"\",Puantaj!BH60)","v":""},{"$f":"IF(Puantaj!BI60=\"\",\"\",Puantaj!BI60)","v":""},{"$f":"IF(Puantaj!BJ60=\"\",\"\",Puantaj!BJ60)","v":""},{"$f":"IF(Puantaj!BK60=\"\",\"\",Puantaj!BK60)","v":""},{"$f":"IF(Puantaj!BL60=\"\",\"\",Puantaj!BL60)","v":""},{"$f":"IF(Puantaj!BM60=\"\",\"\",Puantaj!BM60)","v":""},0,null,0]
[0,{"$f":"Puantaj!C61","v":0},{"$f":"Puantaj!K61","v":""},{"$f":"Puantaj!O61","v":""},{"$f":"Puantaj!T61","v":0},{"$f":"IF(Puantaj!AE61=\"\",\"\",Puantaj!AE61)","v":""},{"$f":"IF(Puantaj!AF61=\"\",\"\",Puantaj!AF61)","v":""},{"$f":"IF(Puantaj!AG61=\"\",\"\",Puantaj!AG61)","v":""},{"$f":"IF(Puantaj!AH61=\"\",\"\",Puantaj!AH61)","v":""},{"$f":"IF(Puantaj!AI61=\"\",\"\",Puantaj!AI61)","v":""},{"$f":"IF(Puantaj!AJ61=\"\",\"\",Puantaj!AJ61)","v":""},{"$f":"IF(Puantaj!AK61=\"\",\"\",Puantaj!AK61)","v":""},{"$f":"IF(Puantaj!AL61=\"\",\"\",Puantaj!AL61)","v":""},{"$f":"IF(Puantaj!AM61=\"\",\"\",Puantaj!AM61)","v":""},{"$f":"IF(Puantaj!AN61=\"\",\"\",Puantaj!AN61)","v":""},{"$f":"IF(Puantaj!AO61=\"\",\"\",Puantaj!AO61)","v":""},{"$f":"IF(Puantaj!AP61=\"\",\"\",Puantaj!AP61)","v":""},{"$f":"IF(Puantaj!AQ61=\"\",\"\",Puantaj!AQ61)","v":""},{"$f":"IF(Puantaj!AR61=\"\",\"\",Puantaj!AR61)","v":""},{"$f":"IF(Puantaj!AS61=\"\",\"\",Puantaj!AS61)","v":""},{"$f":"IF(Puantaj!AT61=\"\",\"\",Puantaj!AT61)","v":""},{"$f":"IF(Puantaj!AU61=\"\",\"\",Puantaj!AU61)","v":""},{"$f":"IF(Puantaj!AV61=\"\",\"\",Puantaj!AV61)","v":""},{"$f":"IF(Puantaj!AW61=\"\",\"\",Puantaj!AW61)","v":""},{"$f":"IF(Puantaj!AX61=\"\",\"\",Puantaj!AX61)","v":""},{"$f":"IF(Puantaj!AY61=\"\",\"\",Puantaj!AY61)","v":""},{"$f":"IF(Puantaj!AZ61=\"\",\"\",Puantaj!AZ61)","v":""},{"$f":"IF(Puantaj!BA61=\"\",\"\",Puantaj!BA61)","v":""},{"$f":"IF(Puantaj!BB61=\"\",\"\",Puantaj!BB61)","v":""},{"$f":"IF(Puantaj!BC61=\"\",\"\",Puantaj!BC61)","v":""},{"$f":"IF(Puantaj!BD61=\"\",\"\",Puantaj!BD61)","v":""},{"$f":"IF(Puantaj!BE61=\"\",\"\",Puantaj!BE61)","v":""},{"$f":"IF(Puantaj!BF61=\"\",\"\",Puantaj!BF61)","v":""},{"$f":"IF(Puantaj!BG61=\"\",\"\",Puantaj!BG61)","v":""},{"$f":"IF(Puantaj!BH61=\"\",\"\",Puantaj!BH61)","v":""},{"$f":"IF(Puantaj!BI61=\"\",\"\",Puantaj!BI61)","v":""},{"$f":"IF(Puantaj!BJ61=\"\",\"\",Puantaj!BJ61)","v":""},{"$f":"IF(Puantaj!BK61=\"\",\"\",Puantaj!BK61)","v":""},{"$f":"IF(Puantaj!BL61=\"\",\"\",Puantaj!BL61)","v":""},{"$f":"IF(Puantaj!BM61=\"\",\"\",Puantaj!BM61)","v":""},0,null,0]
[0,{"$f":"Puantaj!C62","v":0},{"$f":"Puantaj!K62","v":""},{"$f":"Puantaj!O62","v":""},{"$f":"Puantaj!T62","v":0},{"$f":"IF(Puantaj!AE62=\"\",\"\",Puantaj!AE62)","v":""},{"$f":"IF(Puantaj!AF62=\"\",\"\",Puantaj!AF62)","v":""},{"$f":"IF(Puantaj!AG62=\"\",\"\",Puantaj!AG62)","v":""},{"$f":"IF(Puantaj!AH62=\"\",\"\",Puantaj!AH62)","v":""},{"$f":"IF(Puantaj!AI62=\"\",\"\",Puantaj!AI62)","v":""},{"$f":"IF(Puantaj!AJ62=\"\",\"\",Puantaj!AJ62)","v":""},{"$f":"IF(Puantaj!AK62=\"\",\"\",Puantaj!AK62)","v":""},{"$f":"IF(Puantaj!AL62=\"\",\"\",Puantaj!AL62)","v":""},{"$f":"IF(Puantaj!AM62=\"\",\"\",Puantaj!AM62)","v":""},{"$f":"IF(Puantaj!AN62=\"\",\"\",Puantaj!AN62)","v":""},{"$f":"IF(Puantaj!AO62=\"\",\"\",Puantaj!AO62)","v":""},{"$f":"IF(Puantaj!AP62=\"\",\"\",Puantaj!AP62)","v":""},{"$f":"IF(Puantaj!AQ62=\"\",\"\",Puantaj!AQ62)","v":""},{"$f":"IF(Puantaj!AR62=\"\",\"\",Puantaj!AR62)","v":""},{"$f":"IF(Puantaj!AS62=\"\",\"\",Puantaj!AS62)","v":""},{"$f":"IF(Puantaj!AT62=\"\",\"\",Puantaj!AT62)","v":""},{"$f":"IF(Puantaj!AU62=\"\",\"\",Puantaj!AU62)","v":""},{"$f":"IF(Puantaj!AV62=\"\",\"\",Puantaj!AV62)","v":""},{"$f":"IF(Puantaj!AW62=\"\",\"\",Puantaj!AW62)","v":""},{"$f":"IF(Puantaj!AX62=\"\",\"\",Puantaj!AX62)","v":""},{"$f":"IF(Puantaj!AY62=\"\",\"\",Puantaj!AY62)","v":""},{"$f":"IF(Puantaj!AZ62=\"\",\"\",Puantaj!AZ62)","v":""},{"$f":"IF(Puantaj!BA62=\"\",\"\",Puantaj!BA62)","v":""},{"$f":"IF(Puantaj!BB62=\"\",\"\",Puantaj!BB62)","v":""},{"$f":"IF(Puantaj!BC62=\"\",\"\",Puantaj!BC62)","v":""},{"$f":"IF(Puantaj!BD62=\"\",\"\",Puantaj!BD62)","v":""},{"$f":"IF(Puantaj!BE62=\"\",\"\",Puantaj!BE62)","v":""},{"$f":"IF(Puantaj!BF62=\"\",\"\",Puantaj!BF62)","v":""},{"$f":"IF(Puantaj!BG62=\"\",\"\",Puantaj!BG62)","v":""},{"$f":"IF(Puantaj!BH62=\"\",\"\",Puantaj!BH62)","v":""},{"$f":"IF(Puantaj!BI62=\"\",\"\",Puantaj!BI62)","v":""},{"$f":"IF(Puantaj!BJ62=\"\",\"\",Puantaj!BJ62)","v":""},{"$f":"IF(Puantaj!BK62=\"\",\"\",Puantaj!BK62)","v":""},{"$f":"IF(Puantaj!BL62=\"\",\"\",Puantaj!BL62)","v":""},{"$f":"IF(Puantaj!BM62=\"\",\"\",Puantaj!BM62)","v":""},0,null,0]
[0,{"$f":"Puantaj!C63","v":0},{"$f":"Puantaj!K63","v":""},{"$f":"Puantaj!O63","v":""},{"$f":"Puantaj!T63","v":0},{"$f":"IF(Puantaj!AE63=\"\",\"\",Puantaj!AE63)","v":""},{"$f":"IF(Puantaj!AF63=\"\",\"\",Puantaj!AF63)","v":""},{"$f":"IF(Puantaj!AG63=\"\",\"\",Puantaj!AG63)","v":""},{"$f":"IF(Puantaj!AH63=\"\",\"\",Puantaj!AH63)","v":""},{"$f":"IF(Puantaj!AI63=\"\",\"\",Puantaj!AI63)","v":""},{"$f":"IF(Puantaj!AJ63=\"\",\"\",Puantaj!AJ63)","v":""},{"$f":"IF(Puantaj!AK63=\"\",\"\",Puantaj!AK63)","v":""},{"$f":"IF(Puantaj!AL63=\"\",\"\",Puantaj!AL63)","v":""},{"$f":"IF(Puantaj!AM63=\"\",\"\",Puantaj!AM63)","v":""},{"$f":"IF(Puantaj!AN63=\"\",\"\",Puantaj!AN63)","v":""},{"$f":"IF(Puantaj!AO63=\"\",\"\",Puantaj!AO63)","v":""},{"$f":"IF(Puantaj!AP63=\"\",\"\",Puantaj!AP63)","v":""},{"$f":"IF(Puantaj!AQ63=\"\",\"\",Puantaj!AQ63)","v":""},{"$f":"IF(Puantaj!AR63=\"\",\"\",Puantaj!AR63)","v":""},{"$f":"IF(Puantaj!AS63=\"\",\"\",Puantaj!AS63)","v":""},{"$f":"IF(Puantaj!AT63=\"\",\"\",Puantaj!AT63)","v":""},{"$f":"IF(Puantaj!AU63=\"\",\"\",Puantaj!AU63)","v":""},{"$f":"IF(Puantaj!AV63=\"\",\"\",Puantaj!AV63)","v":""},{"$f":"IF(Puantaj!AW63=\"\",\"\",Puantaj!AW63)","v":""},{"$f":"IF(Puantaj!AX63=\"\",\"\",Puantaj!AX63)","v":""},{"$f":"IF(Puantaj!AY63=\"\",\"\",Puantaj!AY63)","v":""},{"$f":"IF(Puantaj!AZ63=\"\",\"\",Puantaj!AZ63)","v":""},{"$f":"IF(Puantaj!BA63=\"\",\"\",Puantaj!BA63)","v":""},{"$f":"IF(Puantaj!BB63=\"\",\"\",Puantaj!BB63)","v":""},{"$f":"IF(Puantaj!BC63=\"\",\"\",Puantaj!BC63)","v":""},{"$f":"IF(Puantaj!BD63=\"\",\"\",Puantaj!BD63)","v":""},{"$f":"IF(Puantaj!BE63=\"\",\"\",Puantaj!BE63)","v":""},{"$f":"IF(Puantaj!BF63=\"\",\"\",Puantaj!BF63)","v":""},{"$f":"IF(Puantaj!BG63=\"\",\"\",Puantaj!BG63)","v":""},{"$f":"IF(Puantaj!BH63=\"\",\"\",Puantaj!BH63)","v":""},{"$f":"IF(Puantaj!BI63=\"\",\"\",Puantaj!BI63)","v":""},{"$f":"IF(Puantaj!BJ63=\"\",\"\",Puantaj!BJ63)","v":""},{"$f":"IF(Puantaj!BK63=\"\",\"\",Puantaj!BK63)","v":""},{"$f":"IF(Puantaj!BL63=\"\",\"\",Puantaj!BL63)","v":""},{"$f":"IF(Puantaj!BM63=\"\",\"\",Puantaj!BM63)","v":""},0,null,0]
[0,{"$f":"Puantaj!C64","v":0},{"$f":"Puantaj!K64","v":""},{"$f":"Puantaj!O64","v":""},{"$f":"Puantaj!T64","v":0},{"$f":"IF(Puantaj!AE64=\"\",\"\",Puantaj!AE64)","v":""},{"$f":"IF(Puantaj!AF64=\"\",\"\",Puantaj!AF64)","v":""},{"$f":"IF(Puantaj!AG64=\"\",\"\",Puantaj!AG64)","v":""},{"$f":"IF(Puantaj!AH64=\"\",\"\",Puantaj!AH64)","v":""},{"$f":"IF(Puantaj!AI64=\"\",\"\",Puantaj!AI64)","v":""},{"$f":"IF(Puantaj!AJ64=\"\",\"\",Puantaj!AJ64)","v":""},{"$f":"IF(Puantaj!AK64=\"\",\"\",Puantaj!AK64)","v":""},{"$f":"IF(Puantaj!AL64=\"\",\"\",Puantaj!AL64)","v":""},{"$f":"IF(Puantaj!AM64=\"\",\"\",Puantaj!AM64)","v":""},{"$f":"IF(Puantaj!AN64=\"\",\"\",Puantaj!AN64)","v":""},{"$f":"IF(Puantaj!AO64=\"\",\"\",Puantaj!AO64)","v":""},{"$f":"IF(Puantaj!AP64=\"\",\"\",Puantaj!AP64)","v":""},{"$f":"IF(Puantaj!AQ64=\"\",\"\",Puantaj!AQ64)","v":""},{"$f":"IF(Puantaj!AR64=\"\",\"\",Puantaj!AR64)","v":""},{"$f":"IF(Puantaj!AS64=\"\",\"\",Puantaj!AS64)","v":""},{"$f":"IF(Puantaj!AT64=\"\",\"\",Puantaj!AT64)","v":""},{"$f":"IF(Puantaj!AU64=\"\",\"\",Puantaj!AU64)","v":""},{"$f":"IF(Puantaj!AV64=\"\",\"\",Puantaj!AV64)","v":""},{"$f":"IF(Puantaj!AW64=\"\",\"\",Puantaj!AW64)","v":""},{"$f":"IF(Puantaj!AX64=\"\",\"\",Puantaj!AX64)","v":""},{"$f":"IF(Puantaj!AY64=\"\",\"\",Puantaj!AY64)","v":""},{"$f":"IF(Puantaj!AZ64=\"\",\"\",Puantaj!AZ64)","v":""},{"$f":"IF(Puantaj!BA64=\"\",\"\",Puantaj!BA64)","v":""},{"$f":"IF(Puantaj!BB64=\"\",\"\",Puantaj!BB64)","v":""},{"$f":"IF(Puantaj!BC64=\"\",\"\",Puantaj!BC64)","v":""},{"$f":"IF(Puantaj!BD64=\"\",\"\",Puantaj!BD64)","v":""},{"$f":"IF(Puantaj!BE64=\"\",\"\",Puantaj!BE64)","v":""},{"$f":"IF(Puantaj!BF64=\"\",\"\",Puantaj!BF64)","v":""},{"$f":"IF(Puantaj!BG64=\"\",\"\",Puantaj!BG64)","v":""},{"$f":"IF(Puantaj!BH64=\"\",\"\",Puantaj!BH64)","v":""},{"$f":"IF(Puantaj!BI64=\"\",\"\",Puantaj!BI64)","v":""},{"$f":"IF(Puantaj!BJ64=\"\",\"\",Puantaj!BJ64)","v":""},{"$f":"IF(Puantaj!BK64=\"\",\"\",Puantaj!BK64)","v":""},{"$f":"IF(Puantaj!BL64=\"\",\"\",Puantaj!BL64)","v":""},{"$f":"IF(Puantaj!BM64=\"\",\"\",Puantaj!BM64)","v":""},0,null,0]
[0,{"$f":"Puantaj!C65","v":0},{"$f":"Puantaj!K65","v":""},{"$f":"Puantaj!O65","v":""},{"$f":"Puantaj!T65","v":0},{"$f":"IF(Puantaj!AE65=\"\",\"\",Puantaj!AE65)","v":""},{"$f":"IF(Puantaj!AF65=\"\",\"\",Puantaj!AF65)","v":""},{"$f":"IF(Puantaj!AG65=\"\",\"\",Puantaj!AG65)","v":""},{"$f":"IF(Puantaj!AH65=\"\",\"\",Puantaj!AH65)","v":""},{"$f":"IF(Puantaj!AI65=\"\",\"\",Puantaj!AI65)","v":""},{"$f":"IF(Puantaj!AJ65=\"\",\"\",Puantaj!AJ65)","v":""},{"$f":"IF(Puantaj!AK65=\"\",\"\",Puantaj!AK65)","v":""},{"$f":"IF(Puantaj!AL65=\"\",\"\",Puantaj!AL65)","v":""},{"$f":"IF(Puantaj!AM65=\"\",\"\",Puantaj!AM65)","v":""},{"$f":"IF(Puantaj!AN65=\"\",\"\",Puantaj!AN65)","v":""},{"$f":"IF(Puantaj!AO65=\"\",\"\",Puantaj!AO65)","v":""},{"$f":"IF(Puantaj!AP65=\"\",\"\",Puantaj!AP65)","v":""},{"$f":"IF(Puantaj!AQ65=\"\",\"\",Puantaj!AQ65)","v":""},{"$f":"IF(Puantaj!AR65=\"\",\"\",Puantaj!AR65)","v":""},{"$f":"IF(Puantaj!AS65=\"\",\"\",Puantaj!AS65)","v":""},{"$f":"IF(Puantaj!AT65=\"\",\"\",Puantaj!AT65)","v":""},{"$f":"IF(Puantaj!AU65=\"\",\"\",Puantaj!AU65)","v":""},{"$f":"IF(Puantaj!AV65=\"\",\"\",Puantaj!AV65)","v":""},{"$f":"IF(Puantaj!AW65=\"\",\"\",Puantaj!AW65)","v":""},{"$f":"IF(Puantaj!AX65=\"\",\"\",Puantaj!AX65)","v":""},{"$f":"IF(Puantaj!AY65=\"\",\"\",Puantaj!AY65)","v":""},{"$f":"IF(Puantaj!AZ65=\"\",\"\",Puantaj!AZ65)","v":""},{"$f":"IF(Puantaj!BA65=\"\",\"\",Puantaj!BA65)","v":""},{"$f":"IF(Puantaj!BB65=\"\",\"\",Puantaj!BB65)","v":""},{"$f":"IF(Puantaj!BC65=\"\",\"\",Puantaj!BC65)","v":""},{"$f":"IF(Puantaj!BD65=\"\",\"\",Puantaj!BD65)","v":""},{"$f":"IF(Puantaj!BE65=\"\",\"\",Puantaj!BE65)","v":""},{"$f":"IF(Puantaj!BF65=\"\",\"\",Puantaj!BF65)","v":""},{"$f":"IF(Puantaj!BG65=\"\",\"\",Puantaj!BG65)","v":""},{"$f":"IF(Puantaj!BH65=\"\",\"\",Puantaj!BH65)","v":""},{"$f":"IF(Puantaj!BI65=\"\",\"\",Puantaj!BI65)","v":""},{"$f":"IF(Puantaj!BJ65=\"\",\"\",Puantaj!BJ65)","v":""},{"$f":"IF(Puantaj!BK65=\"\",\"\",Puantaj!BK65)","v":""},{"$f":"IF(Puantaj!BL65=\"\",\"\",Puantaj!BL65)","v":""},{"$f":"IF(Puantaj!BM65=\"\",\"\",Puantaj!BM65)","v":""},0,null,0]
[0,{"$f":"Puantaj!C66","v":0},{"$f":"Puantaj!K66","v":""},{"$f":"Puantaj!O66","v":""},{"$f":"Puantaj!T66","v":0},{"$f":"IF(Puantaj!AE66=\"\",\"\",Puantaj!AE66)","v":""},{"$f":"IF(Puantaj!AF66=\"\",\"\",Puantaj!AF66)","v":""},{"$f":"IF(Puantaj!AG66=\"\",\"\",Puantaj!AG66)","v":""},{"$f":"IF(Puantaj!AH66=\"\",\"\",Puantaj!AH66)","v":""},{"$f":"IF(Puantaj!AI66=\"\",\"\",Puantaj!AI66)","v":""},{"$f":"IF(Puantaj!AJ66=\"\",\"\",Puantaj!AJ66)","v":""},{"$f":"IF(Puantaj!AK66=\"\",\"\",Puantaj!AK66)","v":""},{"$f":"IF(Puantaj!AL66=\"\",\"\",Puantaj!AL66)","v":""},{"$f":"IF(Puantaj!AM66=\"\",\"\",Puantaj!AM66)","v":""},{"$f":"IF(Puantaj!AN66=\"\",\"\",Puantaj!AN66)","v":""},{"$f":"IF(Puantaj!AO66=\"\",\"\",Puantaj!AO66)","v":""},{"$f":"IF(Puantaj!AP66=\"\",\"\",Puantaj!AP66)","v":""},{"$f":"IF(Puantaj!AQ66=\"\",\"\",Puantaj!AQ66)","v":""},{"$f":"IF(Puantaj!AR66=\"\",\"\",Puantaj!AR66)","v":""},{"$f":"IF(Puantaj!AS66=\"\",\"\",Puantaj!AS66)","v":""},{"$f":"IF(Puantaj!AT66=\"\",\"\",Puantaj!AT66)","v":""},{"$f":"IF(Puantaj!AU66=\"\",\"\",Puantaj!AU66)","v":""},{"$f":"IF(Puantaj!AV66=\"\",\"\",Puantaj!AV66)","v":""},{"$f":"IF(Puantaj!AW66=\"\",\"\",Puantaj!AW66)","v":""},{"$f":"IF(Puantaj!AX66=\"\",\"\",Puantaj!AX66)","v":""},{"$f":"IF(Puantaj!AY66=\"\",\"\",Puantaj!AY66)","v":""},{"$f":"IF(Puantaj!AZ66=\"\",\"\",Puantaj!AZ66)","v":""},{"$f":"IF(Puantaj!BA66=\"\",\"\",Puantaj!BA66)","v":""},{"$f":"IF(Puantaj!BB66=\"\",\"\",Puantaj!BB66)","v":""},{"$f":"IF(Puantaj!BC66=\"\",\"\",Puantaj!BC66)","v":""},{"$f":"IF(Puantaj!BD66=\"\",\"\",Puantaj!BD66)","v":""},{"$f":"IF(Puantaj!BE66=\"\",\"\",Puantaj!BE66)","v":""},{"$f":"IF(Puantaj!BF66=\"\",\"\",Puantaj!BF66)","v":""},{"$f":"IF(Puantaj!BG66=\"\",\"\",Puantaj!BG66)","v":""},{"$f":"IF(Puantaj!BH66=\"\",\"\",Puantaj!BH66)","v":""},{"$f":"IF(Puantaj!BI66=\"\",\"\",Puantaj!BI66)","v":""},{"$f":"IF(Puantaj!BJ66=\"\",\"\",Puantaj!BJ66)","v":""},{"$f":"IF(Puantaj!BK66=\"\",\"\",Puantaj!BK66)","v":""},{"$f":"IF(Puantaj!BL66=\"\",\"\",Puantaj!BL66)","v":""},{"$f":"IF(Puantaj!BM66=\"\",\"\",Puantaj!BM66)","v":""},0,null,0]
[0,{"$f":"Puantaj!C67","v":0},{"$f":"Puantaj!K67","v":""},{"$f":"Puantaj!O67","v":""},{"$f":"Puantaj!T67","v":0},{"$f":"IF(Puantaj!AE67=\"\",\"\",Puantaj!AE67)","v":""},{"$f":"IF(Puantaj!AF67=\"\",\"\",Puantaj!AF67)","v":""},{"$f":"IF(Puantaj!AG67=\"\",\"\",Puantaj!AG67)","v":""},{"$f":"IF(Puantaj!AH67=\"\",\"\",Puantaj!AH67)","v":""},{"$f":"IF(Puantaj!AI67=\"\",\"\",Puantaj!AI67)","v":""},{"$f":"IF(Puantaj!AJ67=\"\",\"\",Puantaj!AJ67)","v":""},{"$f":"IF(Puantaj!AK67=\"\",\"\",Puantaj!AK67)","v":""},{"$f":"IF(Puantaj!AL67=\"\",\"\",Puantaj!AL67)","v":""},{"$f":"IF(Puantaj!AM67=\"\",\"\",Puantaj!AM67)","v":""},{"$f":"IF(Puantaj!AN67=\"\",\"\",Puantaj!AN67)","v":""},{"$f":"IF(Puantaj!AO67=\"\",\"\",Puantaj!AO67)","v":""},{"$f":"IF(Puantaj!AP67=\"\",\"\",Puantaj!AP67)","v":""},{"$f":"IF(Puantaj!AQ67=\"\",\"\",Puantaj!AQ67)","v":""},{"$f":"IF(Puantaj!AR67=\"\",\"\",Puantaj!AR67)","v":""},{"$f":"IF(Puantaj!AS67=\"\",\"\",Puantaj!AS67)","v":""},{"$f":"IF(Puantaj!AT67=\"\",\"\",Puantaj!AT67)","v":""},{"$f":"IF(Puantaj!AU67=\"\",\"\",Puantaj!AU67)","v":""},{"$f":"IF(Puantaj!AV67=\"\",\"\",Puantaj!AV67)","v":""},{"$f":"IF(Puantaj!AW67=\"\",\"\",Puantaj!AW67)","v":""},{"$f":"IF(Puantaj!AX67=\"\",\"\",Puantaj!AX67)","v":""},{"$f":"IF(Puantaj!AY67=\"\",\"\",Puantaj!AY67)","v":""},{"$f":"IF(Puantaj!AZ67=\"\",\"\",Puantaj!AZ67)","v":""},{"$f":"IF(Puantaj!BA67=\"\",\"\",Puantaj!BA67)","v":""},{"$f":"IF(Puantaj!BB67=\"\",\"\",Puantaj!BB67)","v":""},{"$f":"IF(Puantaj!BC67=\"\",\"\",Puantaj!BC67)","v":""},{"$f":"IF(Puantaj!BD67=\"\",\"\",Puantaj!BD67)","v":""},{"$f":"IF(Puantaj!BE67=\"\",\"\",Puantaj!BE67)","v":""},{"$f":"IF(Puantaj!BF67=\"\",\"\",Puantaj!BF67)","v":""},{"$f":"IF(Puantaj!BG67=\"\",\"\",Puantaj!BG67)","v":""},{"$f":"IF(Puantaj!BH67=\"\",\"\",Puantaj!BH67)","v":""},{"$f":"IF(Puantaj!BI67=\"\",\"\",Puantaj!BI67)","v":""},{"$f":"IF(Puantaj!BJ67=\"\",\"\",Puantaj!BJ67)","v":""},{"$f":"IF(Puantaj!BK67=\"\",\"\",Puantaj!BK67)","v":""},{"$f":"IF(Puantaj!BL67=\"\",\"\",Puantaj!BL67)","v":""},{"$f":"IF(Puantaj!BM67=\"\",\"\",Puantaj!BM67)","v":""},0,null,0]
[0,{"$f":"Puantaj!C68","v":0},{"$f":"Puantaj!K68","v":""},{"$f":"Puantaj!O68","v":""},{"$f":"Puantaj!T68","v":0},{"$f":"IF(Puantaj!AE68=\"\",\"\",Puantaj!AE68)","v":""},{"$f":"IF(Puantaj!AF68=\"\",\"\",Puantaj!AF68)","v":""},{"$f":"IF(Puantaj!AG68=\"\",\"\",Puantaj!AG68)","v":""},{"$f":"IF(Puantaj!AH68=\"\",\"\",Puantaj!AH68)","v":""},{"$f":"IF(Puantaj!AI68=\"\",\"\",Puantaj!AI68)","v":""},{"$f":"IF(Puantaj!AJ68=\"\",\"\",Puantaj!AJ68)","v":""},{"$f":"IF(Puantaj!AK68=\"\",\"\",Puantaj!AK68)","v":""},{"$f":"IF(Puantaj!AL68=\"\",\"\",Puantaj!AL68)","v":""},{"$f":"IF(Puantaj!AM68=\"\",\"\",Puantaj!AM68)","v":""},{"$f":"IF(Puantaj!AN68=\"\",\"\",Puantaj!AN68)","v":""},{"$f":"IF(Puantaj!AO68=\"\",\"\",Puantaj!AO68)","v":""},{"$f":"IF(Puantaj!AP68=\"\",\"\",Puantaj!AP68)","v":""},{"$f":"IF(Puantaj!AQ68=\"\",\"\",Puantaj!AQ68)","v":""},{"$f":"IF(Puantaj!AR68=\"\",\"\",Puantaj!AR68)","v":""},{"$f":"IF(Puantaj!AS68=\"\",\"\",Puantaj!AS68)","v":""},{"$f":"IF(Puantaj!AT68=\"\",\"\",Puantaj!AT68)","v":""},{"$f":"IF(Puantaj!AU68=\"\",\"\",Puantaj!AU68)","v":""},{"$f":"IF(Puantaj!AV68=\"\",\"\",Puantaj!AV68)","v":""},{"$f":"IF(Puantaj!AW68=\"\",\"\",Puantaj!AW68)","v":""},{"$f":"IF(Puantaj!AX68=\"\",\"\",Puantaj!AX68)","v":""},{"$f":"IF(Puantaj!AY68=\"\",\"\",Puantaj!AY68)","v":""},{"$f":"IF(Puantaj!AZ68=\"\",\"\",Puantaj!AZ68)","v":""},{"$f":"IF(Puantaj!BA68=\"\",\"\",Puantaj!BA68)","v":""},{"$f":"IF(Puantaj!BB68=\"\",\"\",Puantaj!BB68)","v":""},{"$f":"IF(Puantaj!BC68=\"\",\"\",Puantaj!BC68)","v":""},{"$f":"IF(Puantaj!BD68=\"\",\"\",Puantaj!BD68)","v":""},{"$f":"IF(Puantaj!BE68=\"\",\"\",Puantaj!BE68)","v":""},{"$f":"IF(Puantaj!BF68=\"\",\"\",Puantaj!BF68)","v":""},{"$f":"IF(Puantaj!BG68=\"\",\"\",Puantaj!BG68)","v":""},{"$f":"IF(Puantaj!BH68=\"\",\"\",Puantaj!BH68)","v":""},{"$f":"IF(Puantaj!BI68=\"\",\"\",Puantaj!BI68)","v":""},{"$f":"IF(Puantaj!BJ68=\"\",\"\",Puantaj!BJ68)","v":""},{"$f":"IF(Puantaj!BK68=\"\",\"\",Puantaj!BK68)","v":""},{"$f":"IF(Puantaj!BL68=\"\",\"\",Puantaj!BL68)","v":""},{"$f":"IF(Puantaj!BM68=\"\",\"\",Puantaj!BM68)","v":""},0,null,0]
[0,{"$f":"Puantaj!C69","v":0},{"$f":"Puantaj!K69","v":""},{"$f":"Puantaj!O69","v":""},{"$f":"Puantaj!T69","v":0},{"$f":"IF(Puantaj!AE69=\"\",\"\",Puantaj!AE69)","v":""},{"$f":"IF(Puantaj!AF69=\"\",\"\",Puantaj!AF69)","v":""},{"$f":"IF(Puantaj!AG69=\"\",\"\",Puantaj!AG69)","v":""},{"$f":"IF(Puantaj!AH69=\"\",\"\",Puantaj!AH69)","v":""},{"$f":"IF(Puantaj!AI69=\"\",\"\",Puantaj!AI69)","v":""},{"$f":"IF(Puantaj!AJ69=\"\",\"\",Puantaj!AJ69)","v":""},{"$f":"IF(Puantaj!AK69=\"\",\"\",Puantaj!AK69)","v":""},{"$f":"IF(Puantaj!AL69=\"\",\"\",Puantaj!AL69)","v":""},{"$f":"IF(Puantaj!AM69=\"\",\"\",Puantaj!AM69)","v":""},{"$f":"IF(Puantaj!AN69=\"\",\"\",Puantaj!AN69)","v":""},{"$f":"IF(Puantaj!AO69=\"\",\"\",Puantaj!AO69)","v":""},{"$f":"IF(Puantaj!AP69=\"\",\"\",Puantaj!AP69)","v":""},{"$f":"IF(Puantaj!AQ69=\"\",\"\",Puantaj!AQ69)","v":""},{"$f":"IF(Puantaj!AR69=\"\",\"\",Puantaj!AR69)","v":""},{"$f":"IF(Puantaj!AS69=\"\",\"\",Puantaj!AS69)","v":""},{"$f":"IF(Puantaj!AT69=\"\",\"\",Puantaj!AT69)","v":""},{"$f":"IF(Puantaj!AU69=\"\",\"\",Puantaj!AU69)","v":""},{"$f":"IF(Puantaj!AV69=\"\",\"\",Puantaj!AV69)","v":""},{"$f":"IF(Puantaj!AW69=\"\",\"\",Puantaj!AW69)","v":""},{"$f":"IF(Puantaj!AX69=\"\",\"\",Puantaj!AX69)","v":""},{"$f":"IF(Puantaj!AY69=\"\",\"\",Puantaj!AY69)","v":""},{"$f":"IF(Puantaj!AZ69=\"\",\"\",Puantaj!AZ69)","v":""},{"$f":"IF(Puantaj!BA69=\"\",\"\",Puantaj!BA69)","v":""},{"$f":"IF(Puantaj!BB69=\"\",\"\",Puantaj!BB69)","v":""},{"$f":"IF(Puantaj!BC69=\"\",\"\",Puantaj!BC69)","v":""},{"$f":"IF(Puantaj!BD69=\"\",\"\",Puantaj!BD69)","v":""},{"$f":"IF(Puantaj!BE69=\"\",\"\",Puantaj!BE69)","v":""},{"$f":"IF(Puantaj!BF69=\"\",\"\",Puantaj!BF69)","v":""},{"$f":"IF(Puantaj!BG69=\"\",\"\",Puantaj!BG69)","v":""},{"$f":"IF(Puantaj!BH69=\"\",\"\",Puantaj!BH69)","v":""},{"$f":"IF(Puantaj!BI69=\"\",\"\",Puantaj!BI69)","v":""},{"$f":"IF(Puantaj!BJ69=\"\",\"\",Puantaj!BJ69)","v":""},{"$f":"IF(Puantaj!BK69=\"\",\"\",Puantaj!BK69)","v":""},{"$f":"IF(Puantaj!BL69=\"\",\"\",Puantaj!BL69)","v":""},{"$f":"IF(Puantaj!BM69=\"\",\"\",Puantaj!BM69)","v":""},0,null,0]
[0,{"$f":"Puantaj!C70","v":0},{"$f":"Puantaj!K70","v":""},{"$f":"Puantaj!O70","v":""},{"$f":"Puantaj!T70","v":0},{"$f":"IF(Puantaj!AE70=\"\",\"\",Puantaj!AE70)","v":""},{"$f":"IF(Puantaj!AF70=\"\",\"\",Puantaj!AF70)","v":""},{"$f":"IF(Puantaj!AG70=\"\",\"\",Puantaj!AG70)","v":""},{"$f":"IF(Puantaj!AH70=\"\",\"\",Puantaj!AH70)","v":""},{"$f":"IF(Puantaj!AI70=\"\",\"\",Puantaj!AI70)","v":""},{"$f":"IF(Puantaj!AJ70=\"\",\"\",Puantaj!AJ70)","v":""},{"$f":"IF(Puantaj!AK70=\"\",\"\",Puantaj!AK70)","v":""},{"$f":"IF(Puantaj!AL70=\"\",\"\",Puantaj!AL70)","v":""},{"$f":"IF(Puantaj!AM70=\"\",\"\",Puantaj!AM70)","v":""},{"$f":"IF(Puantaj!AN70=\"\",\"\",Puantaj!AN70)","v":""},{"$f":"IF(Puantaj!AO70=\"\",\"\",Puantaj!AO70)","v":""},{"$f":"IF(Puantaj!AP70=\"\",\"\",Puantaj!AP70)","v":""},{"$f":"IF(Puantaj!AQ70=\"\",\"\",Puantaj!AQ70)","v":""},{"$f":"IF(Puantaj!AR70=\"\",\"\",Puantaj!AR70)","v":""},{"$f":"IF(Puantaj!AS70=\"\",\"\",Puantaj!AS70)","v":""},{"$f":"IF(Puantaj!AT70=\"\",\"\",Puantaj!AT70)","v":""},{"$f":"IF(Puantaj!AU70=\"\",\"\",Puantaj!AU70)","v":""},{"$f":"IF(Puantaj!AV70=\"\",\"\",Puantaj!AV70)","v":""},{"$f":"IF(Puantaj!AW70=\"\",\"\",Puantaj!AW70)","v":""},{"$f":"IF(Puantaj!AX70=\"\",\"\",Puantaj!AX70)","v":""},{"$f":"IF(Puantaj!AY70=\"\",\"\",Puantaj!AY70)","v":""},{"$f":"IF(Puantaj!AZ70=\"\",\"\",Puantaj!AZ70)","v":""},{"$f":"IF(Puantaj!BA70=\"\",\"\",Puantaj!BA70)","v":""},{"$f":"IF(Puantaj!BB70=\"\",\"\",Puantaj!BB70)","v":""},{"$f":"IF(Puantaj!BC70=\"\",\"\",Puantaj!BC70)","v":""},{"$f":"IF(Puantaj!BD70=\"\",\"\",Puantaj!BD70)","v":""},{"$f":"IF(Puantaj!BE70=\"\",\"\",Puantaj!BE70)","v":""},{"$f":"IF(Puantaj!BF70=\"\",\"\",Puantaj!BF70)","v":""},{"$f":"IF(Puantaj!BG70=\"\",\"\",Puantaj!BG70)","v":""},{"$f":"IF(Puantaj!BH70=\"\",\"\",Puantaj!BH70)","v":""},{"$f":"IF(Puantaj!BI70=\"\",\"\",Puantaj!BI70)","v":""},{"$f":"IF(Puantaj!BJ70=\"\",\"\",Puantaj!BJ70)","v":""},{"$f":"IF(Puantaj!BK70=\"\",\"\",Puantaj!BK70)","v":""},{"$f":"IF(Puantaj!BL70=\"\",\"\",Puantaj!BL70)","v":""},{"$f":"IF(Puantaj!BM70=\"\",\"\",Puantaj!BM70)","v":""},0,null,0]
[0,{"$f":"Puantaj!C71","v":0},{"$f":"Puantaj!K71","v":""},{"$f":"Puantaj!O71","v":""},{"$f":"Puantaj!T71","v":0},{"$f":"IF(Puantaj!AE71=\"\",\"\",Puantaj!AE71)","v":""},{"$f":"IF(Puantaj!AF71=\"\",\"\",Puantaj!AF71)","v":""},{"$f":"IF(Puantaj!AG71=\"\",\"\",Puantaj!AG71)","v":""},{"$f":"IF(Puantaj!AH71=\"\",\"\",Puantaj!AH71)","v":""},{"$f":"IF(Puantaj!AI71=\"\",\"\",Puantaj!AI71)","v":""},{"$f":"IF(Puantaj!AJ71=\"\",\"\",Puantaj!AJ71)","v":""},{"$f":"IF(Puantaj!AK71=\"\",\"\",Puantaj!AK71)","v":""},{"$f":"IF(Puantaj!AL71=\"\",\"\",Puantaj!AL71)","v":""},{"$f":"IF(Puantaj!AM71=\"\",\"\",Puantaj!AM71)","v":""},{"$f":"IF(Puantaj!AN71=\"\",\"\",Puantaj!AN71)","v":""},{"$f":"IF(Puantaj!AO71=\"\",\"\",Puantaj!AO71)","v":""},{"$f":"IF(Puantaj!AP71=\"\",\"\",Puantaj!AP71)","v":""},{"$f":"IF(Puantaj!AQ71=\"\",\"\",Puantaj!AQ71)","v":""},{"$f":"IF(Puantaj!AR71=\"\",\"\",Puantaj!AR71)","v":""},{"$f":"IF(Puantaj!AS71=\"\",\"\",Puantaj!AS71)","v":""},{"$f":"IF(Puantaj!AT71=\"\",\"\",Puantaj!AT71)","v":""},{"$f":"IF(Puantaj!AU71=\"\",\"\",Puantaj!AU71)","v":""},{"$f":"IF(Puantaj!AV71=\"\",\"\",Puantaj!AV71)","v":""},{"$f":"IF(Puantaj!AW71=\"\",\"\",Puantaj!AW71)","v":""},{"$f":"IF(Puantaj!AX71=\"\",\"\",Puantaj!AX71)","v":""},{"$f":"IF(Puantaj!AY71=\"\",\"\",Puantaj!AY71)","v":""},{"$f":"IF(Puantaj!AZ71=\"\",\"\",Puantaj!AZ71)","v":""},{"$f":"IF(Puantaj!BA71=\"\",\"\",Puantaj!BA71)","v":""},{"$f":"IF(Puantaj!BB71=\"\",\"\",Puantaj!BB71)","v":""},{"$f":"IF(Puantaj!BC71=\"\",\"\",Puantaj!BC71)","v":""},{"$f":"IF(Puantaj!BD71=\"\",\"\",Puantaj!BD71)","v":""},{"$f":"IF(Puantaj!BE71=\"\",\"\",Puantaj!BE71)","v":""},{"$f":"IF(Puantaj!BF71=\"\",\"\",Puantaj!BF71)","v":""},{"$f":"IF(Puantaj!BG71=\"\",\"\",Puantaj!BG71)","v":""},{"$f":"IF(Puantaj!BH71=\"\",\"\",Puantaj!BH71)","v":""},{"$f":"IF(Puantaj!BI71=\"\",\"\",Puantaj!BI71)","v":""},{"$f":"IF(Puantaj!BJ71=\"\",\"\",Puantaj!BJ71)","v":""},{"$f":"IF(Puantaj!BK71=\"\",\"\",Puantaj!BK71)","v":""},{"$f":"IF(Puantaj!BL71=\"\",\"\",Puantaj!BL71)","v":""},{"$f":"IF(Puantaj!BM71=\"\",\"\",Puantaj!BM71)","v":""},0,null,0]
[0,{"$f":"Puantaj!C72","v":0},{"$f":"Puantaj!K72","v":""},{"$f":"Puantaj!O72","v":""},{"$f":"Puantaj!T72","v":0},{"$f":"IF(Puantaj!AE72=\"\",\"\",Puantaj!AE72)","v":""},{"$f":"IF(Puantaj!AF72=\"\",\"\",Puantaj!AF72)","v":""},{"$f":"IF(Puantaj!AG72=\"\",\"\",Puantaj!AG72)","v":""},{"$f":"IF(Puantaj!AH72=\"\",\"\",Puantaj!AH72)","v":""},{"$f":"IF(Puantaj!AI72=\"\",\"\",Puantaj!AI72)","v":""},{"$f":"IF(Puantaj!AJ72=\"\",\"\",Puantaj!AJ72)","v":""},{"$f":"IF(Puantaj!AK72=\"\",\"\",Puantaj!AK72)","v":""},{"$f":"IF(Puantaj!AL72=\"\",\"\",Puantaj!AL72)","v":""},{"$f":"IF(Puantaj!AM72=\"\",\"\",Puantaj!AM72)","v":""},{"$f":"IF(Puantaj!AN72=\"\",\"\",Puantaj!AN72)","v":""},{"$f":"IF(Puantaj!AO72=\"\",\"\",Puantaj!AO72)","v":""},{"$f":"IF(Puantaj!AP72=\"\",\"\",Puantaj!AP72)","v":""},{"$f":"IF(Puantaj!AQ72=\"\",\"\",Puantaj!AQ72)","v":""},{"$f":"IF(Puantaj!AR72=\"\",\"\",Puantaj!AR72)","v":""},{"$f":"IF(Puantaj!AS72=\"\",\"\",Puantaj!AS72)","v":""},{"$f":"IF(Puantaj!AT72=\"\",\"\",Puantaj!AT72)","v":""},{"$f":"IF(Puantaj!AU72=\"\",\"\",Puantaj!AU72)","v":""},{"$f":"IF(Puantaj!AV72=\"\",\"\",Puantaj!AV72)","v":""},{"$f":"IF(Puantaj!AW72=\"\",\"\",Puantaj!AW72)","v":""},{"$f":"IF(Puantaj!AX72=\"\",\"\",Puantaj!AX72)","v":""},{"$f":"IF(Puantaj!AY72=\"\",\"\",Puantaj!AY72)","v":""},{"$f":"IF(Puantaj!AZ72=\"\",\"\",Puantaj!AZ72)","v":""},{"$f":"IF(Puantaj!BA72=\"\",\"\",Puantaj!BA72)","v":""},{"$f":"IF(Puantaj!BB72=\"\",\"\",Puantaj!BB72)","v":""},{"$f":"IF(Puantaj!BC72=\"\",\"\",Puantaj!BC72)","v":""},{"$f":"IF(Puantaj!BD72=\"\",\"\",Puantaj!BD72)","v":""},{"$f":"IF(Puantaj!BE72=\"\",\"\",Puantaj!BE72)","v":""},{"$f":"IF(Puantaj!BF72=\"\",\"\",Puantaj!BF72)","v":""},{"$f":"IF(Puantaj!BG72=\"\",\"\",Puantaj!BG72)","v":""},{"$f":"IF(Puantaj!BH72=\"\",\"\",Puantaj!BH72)","v":""},{"$f":"IF(Puantaj!BI72=\"\",\"\",Puantaj!BI72)","v":""},{"$f":"IF(Puantaj!BJ72=\"\",\"\",Puantaj!BJ72)","v":""},{"$f":"IF(Puantaj!BK72=\"\",\"\",Puantaj!BK72)","v":""},{"$f":"IF(Puantaj!BL72=\"\",\"\",Puantaj!BL72)","v":""},{"$f":"IF(Puantaj!BM72=\"\",\"\",Puantaj!BM72)","v":""},0,null,0]
[0,{"$f":"Puantaj!C73","v":0},{"$f":"Puantaj!K73","v":""},{"$f":"Puantaj!O73","v":""},{"$f":"Puantaj!T73","v":0},{"$f":"IF(Puantaj!AE73=\"\",\"\",Puantaj!AE73)","v":""},{"$f":"IF(Puantaj!AF73=\"\",\"\",Puantaj!AF73)","v":""},{"$f":"IF(Puantaj!AG73=\"\",\"\",Puantaj!AG73)","v":""},{"$f":"IF(Puantaj!AH73=\"\",\"\",Puantaj!AH73)","v":""},{"$f":"IF(Puantaj!AI73=\"\",\"\",Puantaj!AI73)","v":""},{"$f":"IF(Puantaj!AJ73=\"\",\"\",Puantaj!AJ73)","v":""},{"$f":"IF(Puantaj!AK73=\"\",\"\",Puantaj!AK73)","v":""},{"$f":"IF(Puantaj!AL73=\"\",\"\",Puantaj!AL73)","v":""},{"$f":"IF(Puantaj!AM73=\"\",\"\",Puantaj!AM73)","v":""},{"$f":"IF(Puantaj!AN73=\"\",\"\",Puantaj!AN73)","v":""},{"$f":"IF(Puantaj!AO73=\"\",\"\",Puantaj!AO73)","v":""},{"$f":"IF(Puantaj!AP73=\"\",\"\",Puantaj!AP73)","v":""},{"$f":"IF(Puantaj!AQ73=\"\",\"\",Puantaj!AQ73)","v":""},{"$f":"IF(Puantaj!AR73=\"\",\"\",Puantaj!AR73)","v":""},{"$f":"IF(Puantaj!AS73=\"\",\"\",Puantaj!AS73)","v":""},{"$f":"IF(Puantaj!AT73=\"\",\"\",Puantaj!AT73)","v":""},{"$f":"IF(Puantaj!AU73=\"\",\"\",Puantaj!AU73)","v":""},{"$f":"IF(Puantaj!AV73=\"\",\"\",Puantaj!AV73)","v":""},{"$f":"IF(Puantaj!AW73=\"\",\"\",Puantaj!AW73)","v":""},{"$f":"IF(Puantaj!AX73=\"\",\"\",Puantaj!AX73)","v":""},{"$f":"IF(Puantaj!AY73=\"\",\"\",Puantaj!AY73)","v":""},{"$f":"IF(Puantaj!AZ73=\"\",\"\",Puantaj!AZ73)","v":""},{"$f":"IF(Puantaj!BA73=\"\",\"\",Puantaj!BA73)","v":""},{"$f":"IF(Puantaj!BB73=\"\",\"\",Puantaj!BB73)","v":""},{"$f":"IF(Puantaj!BC73=\"\",\"\",Puantaj!BC73)","v":""},{"$f":"IF(Puantaj!BD73=\"\",\"\",Puantaj!BD73)","v":""},{"$f":"IF(Puantaj!BE73=\"\",\"\",Puantaj!BE73)","v":""},{"$f":"IF(Puantaj!BF73=\"\",\"\",Puantaj!BF73)","v":""},{"$f":"IF(Puantaj!BG73=\"\",\"\",Puantaj!BG73)","v":""},{"$f":"IF(Puantaj!BH73=\"\",\"\",Puantaj!BH73)","v":""},{"$f":"IF(Puantaj!BI73=\"\",\"\",Puantaj!BI73)","v":""},{"$f":"IF(Puantaj!BJ73=\"\",\"\",Puantaj!BJ73)","v":""},{"$f":"IF(Puantaj!BK73=\"\",\"\",Puantaj!BK73)","v":""},{"$f":"IF(Puantaj!BL73=\"\",\"\",Puantaj!BL73)","v":""},{"$f":"IF(Puantaj!BM73=\"\",\"\",Puantaj!BM73)","v":""},0,null,0]
[0,{"$f":"Puantaj!C74","v":0},{"$f":"Puantaj!K74","v":""},{"$f":"Puantaj!O74","v":""},{"$f":"Puantaj!T74","v":0},{"$f":"IF(Puantaj!AE74=\"\",\"\",Puantaj!AE74)","v":""},{"$f":"IF(Puantaj!AF74=\"\",\"\",Puantaj!AF74)","v":""},{"$f":"IF(Puantaj!AG74=\"\",\"\",Puantaj!AG74)","v":""},{"$f":"IF(Puantaj!AH74=\"\",\"\",Puantaj!AH74)","v":""},{"$f":"IF(Puantaj!AI74=\"\",\"\",Puantaj!AI74)","v":""},{"$f":"IF(Puantaj!AJ74=\"\",\"\",Puantaj!AJ74)","v":""},{"$f":"IF(Puantaj!AK74=\"\",\"\",Puantaj!AK74)","v":""},{"$f":"IF(Puantaj!AL74=\"\",\"\",Puantaj!AL74)","v":""},{"$f":"IF(Puantaj!AM74=\"\",\"\",Puantaj!AM74)","v":""},{"$f":"IF(Puantaj!AN74=\"\",\"\",Puantaj!AN74)","v":""},{"$f":"IF(Puantaj!AO74=\"\",\"\",Puantaj!AO74)","v":""},{"$f":"IF(Puantaj!AP74=\"\",\"\",Puantaj!AP74)","v":""},{"$f":"IF(Puantaj!AQ74=\"\",\"\",Puantaj!AQ74)","v":""},{"$f":"IF(Puantaj!AR74=\"\",\"\",Puantaj!AR74)","v":""},{"$f":"IF(Puantaj!AS74=\"\",\"\",Puantaj!AS74)","v":""},{"$f":"IF(Puantaj!AT74=\"\",\"\",Puantaj!AT74)","v":""},{"$f":"IF(Puantaj!AU74=\"\",\"\",Puantaj!AU74)","v":""},{"$f":"IF(Puantaj!AV74=\"\",\"\",Puantaj!AV74)","v":""},{"$f":"IF(Puantaj!AW74=\"\",\"\",Puantaj!AW74)","v":""},{"$f":"IF(Puantaj!AX74=\"\",\"\",Puantaj!AX74)","v":""},{"$f":"IF(Puantaj!AY74=\"\",\"\",Puantaj!AY74)","v":""},{"$f":"IF(Puantaj!AZ74=\"\",\"\",Puantaj!AZ74)","v":""},{"$f":"IF(Puantaj!BA74=\"\",\"\",Puantaj!BA74)","v":""},{"$f":"IF(Puantaj!BB74=\"\",\"\",Puantaj!BB74)","v":""},{"$f":"IF(Puantaj!BC74=\"\",\"\",Puantaj!BC74)","v":""},{"$f":"IF(Puantaj!BD74=\"\",\"\",Puantaj!BD74)","v":""},{"$f":"IF(Puantaj!BE74=\"\",\"\",Puantaj!BE74)","v":""},{"$f":"IF(Puantaj!BF74=\"\",\"\",Puantaj!BF74)","v":""},{"$f":"IF(Puantaj!BG74=\"\",\"\",Puantaj!BG74)","v":""},{"$f":"IF(Puantaj!BH74=\"\",\"\",Puantaj!BH74)","v":""},{"$f":"IF(Puantaj!BI74=\"\",\"\",Puantaj!BI74)","v":""},{"$f":"IF(Puantaj!BJ74=\"\",\"\",Puantaj!BJ74)","v":""},{"$f":"IF(Puantaj!BK74=\"\",\"\",Puantaj!BK74)","v":""},{"$f":"IF(Puantaj!BL74=\"\",\"\",Puantaj!BL74)","v":""},{"$f":"IF(Puantaj!BM74=\"\",\"\",Puantaj!BM74)","v":""},0,null,0]
[0,{"$f":"Puantaj!C75","v":0},{"$f":"Puantaj!K75","v":""},{"$f":"Puantaj!O75","v":""},{"$f":"Puantaj!T75","v":0},{"$f":"IF(Puantaj!AE75=\"\",\"\",Puantaj!AE75)","v":""},{"$f":"IF(Puantaj!AF75=\"\",\"\",Puantaj!AF75)","v":""},{"$f":"IF(Puantaj!AG75=\"\",\"\",Puantaj!AG75)","v":""},{"$f":"IF(Puantaj!AH75=\"\",\"\",Puantaj!AH75)","v":""},{"$f":"IF(Puantaj!AI75=\"\",\"\",Puantaj!AI75)","v":""},{"$f":"IF(Puantaj!AJ75=\"\",\"\",Puantaj!AJ75)","v":""},{"$f":"IF(Puantaj!AK75=\"\",\"\",Puantaj!AK75)","v":""},{"$f":"IF(Puantaj!AL75=\"\",\"\",Puantaj!AL75)","v":""},{"$f":"IF(Puantaj!AM75=\"\",\"\",Puantaj!AM75)","v":""},{"$f":"IF(Puantaj!AN75=\"\",\"\",Puantaj!AN75)","v":""},{"$f":"IF(Puantaj!AO75=\"\",\"\",Puantaj!AO75)","v":""},{"$f":"IF(Puantaj!AP75=\"\",\"\",Puantaj!AP75)","v":""},{"$f":"IF(Puantaj!AQ75=\"\",\"\",Puantaj!AQ75)","v":""},{"$f":"IF(Puantaj!AR75=\"\",\"\",Puantaj!AR75)","v":""},{"$f":"IF(Puantaj!AS75=\"\",\"\",Puantaj!AS75)","v":""},{"$f":"IF(Puantaj!AT75=\"\",\"\",Puantaj!AT75)","v":""},{"$f":"IF(Puantaj!AU75=\"\",\"\",Puantaj!AU75)","v":""},{"$f":"IF(Puantaj!AV75=\"\",\"\",Puantaj!AV75)","v":""},{"$f":"IF(Puantaj!AW75=\"\",\"\",Puantaj!AW75)","v":""},{"$f":"IF(Puantaj!AX75=\"\",\"\",Puantaj!AX75)","v":""},{"$f":"IF(Puantaj!AY75=\"\",\"\",Puantaj!AY75)","v":""},{"$f":"IF(Puantaj!AZ75=\"\",\"\",Puantaj!AZ75)","v":""},{"$f":"IF(Puantaj!BA75=\"\",\"\",Puantaj!BA75)","v":""},{"$f":"IF(Puantaj!BB75=\"\",\"\",Puantaj!BB75)","v":""},{"$f":"IF(Puantaj!BC75=\"\",\"\",Puantaj!BC75)","v":""},{"$f":"IF(Puantaj!BD75=\"\",\"\",Puantaj!BD75)","v":""},{"$f":"IF(Puantaj!BE75=\"\",\"\",Puantaj!BE75)","v":""},{"$f":"IF(Puantaj!BF75=\"\",\"\",Puantaj!BF75)","v":""},{"$f":"IF(Puantaj!BG75=\"\",\"\",Puantaj!BG75)","v":""},{"$f":"IF(Puantaj!BH75=\"\",\"\",Puantaj!BH75)","v":""},{"$f":"IF(Puantaj!BI75=\"\",\"\",Puantaj!BI75)","v":""},{"$f":"IF(Puantaj!BJ75=\"\",\"\",Puantaj!BJ75)","v":""},{"$f":"IF(Puantaj!BK75=\"\",\"\",Puantaj!BK75)","v":""},{"$f":"IF(Puantaj!BL75=\"\",\"\",Puantaj!BL75)","v":""},{"$f":"IF(Puantaj!BM75=\"\",\"\",Puantaj!BM75)","v":""},0,null,0]
[0,{"$f":"Puantaj!C76","v":0},{"$f":"Puantaj!K76","v":""},{"$f":"Puantaj!O76","v":""},{"$f":"Puantaj!T76","v":0},{"$f":"IF(Puantaj!AE76=\"\",\"\",Puantaj!AE76)","v":""},{"$f":"IF(Puantaj!AF76=\"\",\"\",Puantaj!AF76)","v":""},{"$f":"IF(Puantaj!AG76=\"\",\"\",Puantaj!AG76)","v":""},{"$f":"IF(Puantaj!AH76=\"\",\"\",Puantaj!AH76)","v":""},{"$f":"IF(Puantaj!AI76=\"\",\"\",Puantaj!AI76)","v":""},{"$f":"IF(Puantaj!AJ76=\"\",\"\",Puantaj!AJ76)","v":""},{"$f":"IF(Puantaj!AK76=\"\",\"\",Puantaj!AK76)","v":""},{"$f":"IF(Puantaj!AL76=\"\",\"\",Puantaj!AL76)","v":""},{"$f":"IF(Puantaj!AM76=\"\",\"\",Puantaj!AM76)","v":""},{"$f":"IF(Puantaj!AN76=\"\",\"\",Puantaj!AN76)","v":""},{"$f":"IF(Puantaj!AO76=\"\",\"\",Puantaj!AO76)","v":""},{"$f":"IF(Puantaj!AP76=\"\",\"\",Puantaj!AP76)","v":""},{"$f":"IF(Puantaj!AQ76=\"\",\"\",Puantaj!AQ76)","v":""},{"$f":"IF(Puantaj!AR76=\"\",\"\",Puantaj!AR76)","v":""},{"$f":"IF(Puantaj!AS76=\"\",\"\",Puantaj!AS76)","v":""},{"$f":"IF(Puantaj!AT76=\"\",\"\",Puantaj!AT76)","v":""},{"$f":"IF(Puantaj!AU76=\"\",\"\",Puantaj!AU76)","v":""},{"$f":"IF(Puantaj!AV76=\"\",\"\",Puantaj!AV76)","v":""},{"$f":"IF(Puantaj!AW76=\"\",\"\",Puantaj!AW76)","v":""},{"$f":"IF(Puantaj!AX76=\"\",\"\",Puantaj!AX76)","v":""},{"$f":"IF(Puantaj!AY76=\"\",\"\",Puantaj!AY76)","v":""},{"$f":"IF(Puantaj!AZ76=\"\",\"\",Puantaj!AZ76)","v":""},{"$f":"IF(Puantaj!BA76=\"\",\"\",Puantaj!BA76)","v":""},{"$f":"IF(Puantaj!BB76=\"\",\"\",Puantaj!BB76)","v":""},{"$f":"IF(Puantaj!BC76=\"\",\"\",Puantaj!BC76)","v":""},{"$f":"IF(Puantaj!BD76=\"\",\"\",Puantaj!BD76)","v":""},{"$f":"IF(Puantaj!BE76=\"\",\"\",Puantaj!BE76)","v":""},{"$f":"IF(Puantaj!BF76=\"\",\"\",Puantaj!BF76)","v":""},{"$f":"IF(Puantaj!BG76=\"\",\"\",Puantaj!BG76)","v":""},{"$f":"IF(Puantaj!BH76=\"\",\"\",Puantaj!BH76)","v":""},{"$f":"IF(Puantaj!BI76=\"\",\"\",Puantaj!BI76)","v":""},{"$f":"IF(Puantaj!BJ76=\"\",\"\",Puantaj!BJ76)","v":""},{"$f":"IF(Puantaj!BK76=\"\",\"\",Puantaj!BK76)","v":""},{"$f":"IF(Puantaj!BL76=\"\",\"\",Puantaj!BL76)","v":""},{"$f":"IF(Puantaj!BM76=\"\",\"\",Puantaj!BM76)","v":""},0,null,0]
[0,{"$f":"Puantaj!C77","v":0},{"$f":"Puantaj!K77","v":""},{"$f":"Puantaj!O77","v":""},{"$f":"Puantaj!T77","v":0},{"$f":"IF(Puantaj!AE77=\"\",\"\",Puantaj!AE77)","v":""},{"$f":"IF(Puantaj!AF77=\"\",\"\",Puantaj!AF77)","v":""},{"$f":"IF(Puantaj!AG77=\"\",\"\",Puantaj!AG77)","v":""},{"$f":"IF(Puantaj!AH77=\"\",\"\",Puantaj!AH77)","v":""},{"$f":"IF(Puantaj!AI77=\"\",\"\",Puantaj!AI77)","v":""},{"$f":"IF(Puantaj!AJ77=\"\",\"\",Puantaj!AJ77)","v":""},{"$f":"IF(Puantaj!AK77=\"\",\"\",Puantaj!AK77)","v":""},{"$f":"IF(Puantaj!AL77=\"\",\"\",Puantaj!AL77)","v":""},{"$f":"IF(Puantaj!AM77=\"\",\"\",Puantaj!AM77)","v":""},{"$f":"IF(Puantaj!AN77=\"\",\"\",Puantaj!AN77)","v":""},{"$f":"IF(Puantaj!AO77=\"\",\"\",Puantaj!AO77)","v":""},{"$f":"IF(Puantaj!AP77=\"\",\"\",Puantaj!AP77)","v":""},{"$f":"IF(Puantaj!AQ77=\"\",\"\",Puantaj!AQ77)","v":""},{"$f":"IF(Puantaj!AR77=\"\",\"\",Puantaj!AR77)","v":""},{"$f":"IF(Puantaj!AS77=\"\",\"\",Puantaj!AS77)","v":""},{"$f":"IF(Puantaj!AT77=\"\",\"\",Puantaj!AT77)","v":""},{"$f":"IF(Puantaj!AU77=\"\",\"\",Puantaj!AU77)","v":""},{"$f":"IF(Puantaj!AV77=\"\",\"\",Puantaj!AV77)","v":""},{"$f":"IF(Puantaj!AW77=\"\",\"\",Puantaj!AW77)","v":""},{"$f":"IF(Puantaj!AX77=\"\",\"\",Puantaj!AX77)","v":""},{"$f":"IF(Puantaj!AY77=\"\",\"\",Puantaj!AY77)","v":""},{"$f":"IF(Puantaj!AZ77=\"\",\"\",Puantaj!AZ77)","v":""},{"$f":"IF(Puantaj!BA77=\"\",\"\",Puantaj!BA77)","v":""},{"$f":"IF(Puantaj!BB77=\"\",\"\",Puantaj!BB77)","v":""},{"$f":"IF(Puantaj!BC77=\"\",\"\",Puantaj!BC77)","v":""},{"$f":"IF(Puantaj!BD77=\"\",\"\",Puantaj!BD77)","v":""},{"$f":"IF(Puantaj!BE77=\"\",\"\",Puantaj!BE77)","v":""},{"$f":"IF(Puantaj!BF77=\"\",\"\",Puantaj!BF77)","v":""},{"$f":"IF(Puantaj!BG77=\"\",\"\",Puantaj!BG77)","v":""},{"$f":"IF(Puantaj!BH77=\"\",\"\",Puantaj!BH77)","v":""},{"$f":"IF(Puantaj!BI77=\"\",\"\",Puantaj!BI77)","v":""},{"$f":"IF(Puantaj!BJ77=\"\",\"\",Puantaj!BJ77)","v":""},{"$f":"IF(Puantaj!BK77=\"\",\"\",Puantaj!BK77)","v":""},{"$f":"IF(Puantaj!BL77=\"\",\"\",Puantaj!BL77)","v":""},{"$f":"IF(Puantaj!BM77=\"\",\"\",Puantaj!BM77)","v":""},0,null,0]
[0,{"$f":"Puantaj!C78","v":0},{"$f":"Puantaj!K78","v":""},{"$f":"Puantaj!O78","v":""},{"$f":"Puantaj!T78","v":0},{"$f":"IF(Puantaj!AE78=\"\",\"\",Puantaj!AE78)","v":""},{"$f":"IF(Puantaj!AF78=\"\",\"\",Puantaj!AF78)","v":""},{"$f":"IF(Puantaj!AG78=\"\",\"\",Puantaj!AG78)","v":""},{"$f":"IF(Puantaj!AH78=\"\",\"\",Puantaj!AH78)","v":""},{"$f":"IF(Puantaj!AI78=\"\",\"\",Puantaj!AI78)","v":""},{"$f":"IF(Puantaj!AJ78=\"\",\"\",Puantaj!AJ78)","v":""},{"$f":"IF(Puantaj!AK78=\"\",\"\",Puantaj!AK78)","v":""},{"$f":"IF(Puantaj!AL78=\"\",\"\",Puantaj!AL78)","v":""},{"$f":"IF(Puantaj!AM78=\"\",\"\",Puantaj!AM78)","v":""},{"$f":"IF(Puantaj!AN78=\"\",\"\",Puantaj!AN78)","v":""},{"$f":"IF(Puantaj!AO78=\"\",\"\",Puantaj!AO78)","v":""},{"$f":"IF(Puantaj!AP78=\"\",\"\",Puantaj!AP78)","v":""},{"$f":"IF(Puantaj!AQ78=\"\",\"\",Puantaj!AQ78)","v":""},{"$f":"IF(Puantaj!AR78=\"\",\"\",Puantaj!AR78)","v":""},{"$f":"IF(Puantaj!AS78=\"\",\"\",Puantaj!AS78)","v":""},{"$f":"IF(Puantaj!AT78=\"\",\"\",Puantaj!AT78)","v":""},{"$f":"IF(Puantaj!AU78=\"\",\"\",Puantaj!AU78)","v":""},{"$f":"IF(Puantaj!AV78=\"\",\"\",Puantaj!AV78)","v":""},{"$f":"IF(Puantaj!AW78=\"\",\"\",Puantaj!AW78)","v":""},{"$f":"IF(Puantaj!AX78=\"\",\"\",Puantaj!AX78)","v":""},{"$f":"IF(Puantaj!AY78=\"\",\"\",Puantaj!AY78)","v":""},{"$f":"IF(Puantaj!AZ78=\"\",\"\",Puantaj!AZ78)","v":""},{"$f":"IF(Puantaj!BA78=\"\",\"\",Puantaj!BA78)","v":""},{"$f":"IF(Puantaj!BB78=\"\",\"\",Puantaj!BB78)","v":""},{"$f":"IF(Puantaj!BC78=\"\",\"\",Puantaj!BC78)","v":""},{"$f":"IF(Puantaj!BD78=\"\",\"\",Puantaj!BD78)","v":""},{"$f":"IF(Puantaj!BE78=\"\",\"\",Puantaj!BE78)","v":""},{"$f":"IF(Puantaj!BF78=\"\",\"\",Puantaj!BF78)","v":""},{"$f":"IF(Puantaj!BG78=\"\",\"\",Puantaj!BG78)","v":""},{"$f":"IF(Puantaj!BH78=\"\",\"\",Puantaj!BH78)","v":""},{"$f":"IF(Puantaj!BI78=\"\",\"\",Puantaj!BI78)","v":""},{"$f":"IF(Puantaj!BJ78=\"\",\"\",Puantaj!BJ78)","v":""},{"$f":"IF(Puantaj!BK78=\"\",\"\",Puantaj!BK78)","v":""},{"$f":"IF(Puantaj!BL78=\"\",\"\",Puantaj!BL78)","v":""},{"$f":"IF(Puantaj!BM78=\"\",\"\",Puantaj!BM78)","v":""},0,null,0]
[0,{"$f":"Puantaj!C79","v":0},{"$f":"Puantaj!K79","v":""},{"$f":"Puantaj!O79","v":""},{"$f":"Puantaj!T79","v":0},{"$f":"IF(Puantaj!AE79=\"\",\"\",Puantaj!AE79)","v":""},{"$f":"IF(Puantaj!AF79=\"\",\"\",Puantaj!AF79)","v":""},{"$f":"IF(Puantaj!AG79=\"\",\"\",Puantaj!AG79)","v":""},{"$f":"IF(Puantaj!AH79=\"\",\"\",Puantaj!AH79)","v":""},{"$f":"IF(Puantaj!AI79=\"\",\"\",Puantaj!AI79)","v":""},{"$f":"IF(Puantaj!AJ79=\"\",\"\",Puantaj!AJ79)","v":""},{"$f":"IF(Puantaj!AK79=\"\",\"\",Puantaj!AK79)","v":""},{"$f":"IF(Puantaj!AL79=\"\",\"\",Puantaj!AL79)","v":""},{"$f":"IF(Puantaj!AM79=\"\",\"\",Puantaj!AM79)","v":""},{"$f":"IF(Puantaj!AN79=\"\",\"\",Puantaj!AN79)","v":""},{"$f":"IF(Puantaj!AO79=\"\",\"\",Puantaj!AO79)","v":""},{"$f":"IF(Puantaj!AP79=\"\",\"\",Puantaj!AP79)","v":""},{"$f":"IF(Puantaj!AQ79=\"\",\"\",Puantaj!AQ79)","v":""},{"$f":"IF(Puantaj!AR79=\"\",\"\",Puantaj!AR79)","v":""},{"$f":"IF(Puantaj!AS79=\"\",\"\",Puantaj!AS79)","v":""},{"$f":"IF(Puantaj!AT79=\"\",\"\",Puantaj!AT79)","v":""},{"$f":"IF(Puantaj!AU79=\"\",\"\",Puantaj!AU79)","v":""},{"$f":"IF(Puantaj!AV79=\"\",\"\",Puantaj!AV79)","v":""},{"$f":"IF(Puantaj!AW79=\"\",\"\",Puantaj!AW79)","v":""},{"$f":"IF(Puantaj!AX79=\"\",\"\",Puantaj!AX79)","v":""},{"$f":"IF(Puantaj!AY79=\"\",\"\",Puantaj!AY79)","v":""},{"$f":"IF(Puantaj!AZ79=\"\",\"\",Puantaj!AZ79)","v":""},{"$f":"IF(Puantaj!BA79=\"\",\"\",Puantaj!BA79)","v":""},{"$f":"IF(Puantaj!BB79=\"\",\"\",Puantaj!BB79)","v":""},{"$f":"IF(Puantaj!BC79=\"\",\"\",Puantaj!BC79)","v":""},{"$f":"IF(Puantaj!BD79=\"\",\"\",Puantaj!BD79)","v":""},{"$f":"IF(Puantaj!BE79=\"\",\"\",Puantaj!BE79)","v":""},{"$f":"IF(Puantaj!BF79=\"\",\"\",Puantaj!BF79)","v":""},{"$f":"IF(Puantaj!BG79=\"\",\"\",Puantaj!BG79)","v":""},{"$f":"IF(Puantaj!BH79=\"\",\"\",Puantaj!BH79)","v":""},{"$f":"IF(Puantaj!BI79=\"\",\"\",Puantaj!BI79)","v":""},{"$f":"IF(Puantaj!BJ79=\"\",\"\",Puantaj!BJ79)","v":""},{"$f":"IF(Puantaj!BK79=\"\",\"\",Puantaj!BK79)","v":""},{"$f":"IF(Puantaj!BL79=\"\",\"\",Puantaj!BL79)","v":""},{"$f":"IF(Puantaj!BM79=\"\",\"\",Puantaj!BM79)","v":""},{"$f":"SUM(F71:AN71)","v":0},null,0]
[0,{"$f":"Puantaj!C80","v":0},{"$f":"Puantaj!K80","v":""},{"$f":"Puantaj!O80","v":""},{"$f":"Puantaj!T80","v":0},{"$f":"IF(Puantaj!AE80=\"\",\"\",Puantaj!AE80)","v":""},{"$f":"IF(Puantaj!AF80=\"\",\"\",Puantaj!AF80)","v":""},{"$f":"IF(Puantaj!AG80=\"\",\"\",Puantaj!AG80)","v":""},{"$f":"IF(Puantaj!AH80=\"\",\"\",Puantaj!AH80)","v":""},{"$f":"IF(Puantaj!AI80=\"\",\"\",Puantaj!AI80)","v":""},{"$f":"IF(Puantaj!AJ80=\"\",\"\",Puantaj!AJ80)","v":""},{"$f":"IF(Puantaj!AK80=\"\",\"\",Puantaj!AK80)","v":""},{"$f":"IF(Puantaj!AL80=\"\",\"\",Puantaj!AL80)","v":""},{"$f":"IF(Puantaj!AM80=\"\",\"\",Puantaj!AM80)","v":""},{"$f":"IF(Puantaj!AN80=\"\",\"\",Puantaj!AN80)","v":""},{"$f":"IF(Puantaj!AO80=\"\",\"\",Puantaj!AO80)","v":""},{"$f":"IF(Puantaj!AP80=\"\",\"\",Puantaj!AP80)","v":""},{"$f":"IF(Puantaj!AQ80=\"\",\"\",Puantaj!AQ80)","v":""},{"$f":"IF(Puantaj!AR80=\"\",\"\",Puantaj!AR80)","v":""},{"$f":"IF(Puantaj!AS80=\"\",\"\",Puantaj!AS80)","v":""},{"$f":"IF(Puantaj!AT80=\"\",\"\",Puantaj!AT80)","v":""},{"$f":"IF(Puantaj!AU80=\"\",\"\",Puantaj!AU80)","v":""},{"$f":"IF(Puantaj!AV80=\"\",\"\",Puantaj!AV80)","v":""},{"$f":"IF(Puantaj!AW80=\"\",\"\",Puantaj!AW80)","v":""},{"$f":"IF(Puantaj!AX80=\"\",\"\",Puantaj!AX80)","v":""},{"$f":"IF(Puantaj!AY80=\"\",\"\",Puantaj!AY80)","v":""},{"$f":"IF(Puantaj!AZ80=\"\",\"\",Puantaj!AZ80)","v":""},{"$f":"IF(Puantaj!BA80=\"\",\"\",Puantaj!BA80)","v":""},{"$f":"IF(Puantaj!BB80=\"\",\"\",Puantaj!BB80)","v":""},{"$f":"IF(Puantaj!BC80=\"\",\"\",Puantaj!BC80)","v":""},{"$f":"IF(Puantaj!BD80=\"\",\"\",Puantaj!BD80)","v":""},{"$f":"IF(Puantaj!BE80=\"\",\"\",Puantaj!BE80)","v":""},{"$f":"IF(Puantaj!BF80=\"\",\"\",Puantaj!BF80)","v":""},{"$f":"IF(Puantaj!BG80=\"\",\"\",Puantaj!BG80)","v":""},{"$f":"IF(Puantaj!BH80=\"\",\"\",Puantaj!BH80)","v":""},{"$f":"IF(Puantaj!BI80=\"\",\"\",Puantaj!BI80)","v":""},{"$f":"IF(Puantaj!BJ80=\"\",\"\",Puantaj!BJ80)","v":""},{"$f":"IF(Puantaj!BK80=\"\",\"\",Puantaj!BK80)","v":""},{"$f":"IF(Puantaj!BL80=\"\",\"\",Puantaj!BL80)","v":""},{"$f":"IF(Puantaj!BM80=\"\",\"\",Puantaj!BM80)","v":""},0,null,{"$f":"IF(AO72=0,0,1)","v":0}]
[{"$f":"IF(AQ73=1,A72+1,A72)","v":0},{"$f":"Puantaj!C81","v":0},{"$f":"Puantaj!K81","v":""},{"$f":"Puantaj!O81","v":""},{"$f":"Puantaj!T81","v":0},{"$f":"IF(Puantaj!AE81=\"\",\"\",Puantaj!AE81)","v":""},{"$f":"IF(Puantaj!AF81=\"\",\"\",Puantaj!AF81)","v":""},{"$f":"IF(Puantaj!AG81=\"\",\"\",Puantaj!AG81)","v":""},{"$f":"IF(Puantaj!AH81=\"\",\"\",Puantaj!AH81)","v":""},{"$f":"IF(Puantaj!AI81=\"\",\"\",Puantaj!AI81)","v":""},{"$f":"IF(Puantaj!AJ81=\"\",\"\",Puantaj!AJ81)","v":""},{"$f":"IF(Puantaj!AK81=\"\",\"\",Puantaj!AK81)","v":""},{"$f":"IF(Puantaj!AL81=\"\",\"\",Puantaj!AL81)","v":""},{"$f":"IF(Puantaj!AM81=\"\",\"\",Puantaj!AM81)","v":""},{"$f":"IF(Puantaj!AN81=\"\",\"\",Puantaj!AN81)","v":""},{"$f":"IF(Puantaj!AO81=\"\",\"\",Puantaj!AO81)","v":""},{"$f":"IF(Puantaj!AP81=\"\",\"\",Puantaj!AP81)","v":""},{"$f":"IF(Puantaj!AQ81=\"\",\"\",Puantaj!AQ81)","v":""},{"$f":"IF(Puantaj!AR81=\"\",\"\",Puantaj!AR81)","v":""},{"$f":"IF(Puantaj!AS81=\"\",\"\",Puantaj!AS81)","v":""},{"$f":"IF(Puantaj!AT81=\"\",\"\",Puantaj!AT81)","v":""},{"$f":"IF(Puantaj!AU81=\"\",\"\",Puantaj!AU81)","v":""},{"$f":"IF(Puantaj!AV81=\"\",\"\",Puantaj!AV81)","v":""},{"$f":"IF(Puantaj!AW81=\"\",\"\",Puantaj!AW81)","v":""},{"$f":"IF(Puantaj!AX81=\"\",\"\",Puantaj!AX81)","v":""},{"$f":"IF(Puantaj!AY81=\"\",\"\",Puantaj!AY81)","v":""},{"$f":"IF(Puantaj!AZ81=\"\",\"\",Puantaj!AZ81)","v":""},{"$f":"IF(Puantaj!BA81=\"\",\"\",Puantaj!BA81)","v":""},{"$f":"IF(Puantaj!BB81=\"\",\"\",Puantaj!BB81)","v":""},{"$f":"IF(Puantaj!BC81=\"\",\"\",Puantaj!BC81)","v":""},{"$f":"IF(Puantaj!BD81=\"\",\"\",Puantaj!BD81)","v":""},{"$f":"IF(Puantaj!BE81=\"\",\"\",Puantaj!BE81)","v":""},{"$f":"IF(Puantaj!BF81=\"\",\"\",Puantaj!BF81)","v":""},{"$f":"IF(Puantaj!BG81=\"\",\"\",Puantaj!BG81)","v":""},{"$f":"IF(Puantaj!BH81=\"\",\"\",Puantaj!BH81)","v":""},{"$f":"IF(Puantaj!BI81=\"\",\"\",Puantaj!BI81)","v":""},{"$f":"IF(Puantaj!BJ81=\"\",\"\",Puantaj!BJ81)","v":""},{"$f":"IF(Puantaj!BK81=\"\",\"\",Puantaj!BK81)","v":""},{"$f":"IF(Puantaj!BL81=\"\",\"\",Puantaj!BL81)","v":""},{"$f":"IF(Puantaj!BM81=\"\",\"\",Puantaj!BM81)","v":""},0,null,0]
[0,{"$f":"Puantaj!C82","v":0},{"$f":"Puantaj!K82","v":""},{"$f":"Puantaj!O82","v":""},{"$f":"Puantaj!T82","v":0},{"$f":"IF(Puantaj!AE82=\"\",\"\",Puantaj!AE82)","v":""},{"$f":"IF(Puantaj!AF82=\"\",\"\",Puantaj!AF82)","v":""},{"$f":"IF(Puantaj!AG82=\"\",\"\",Puantaj!AG82)","v":""},{"$f":"IF(Puantaj!AH82=\"\",\"\",Puantaj!AH82)","v":""},{"$f":"IF(Puantaj!AI82=\"\",\"\",Puantaj!AI82)","v":""},{"$f":"IF(Puantaj!AJ82=\"\",\"\",Puantaj!AJ82)","v":""},{"$f":"IF(Puantaj!AK82=\"\",\"\",Puantaj!AK82)","v":""},{"$f":"IF(Puantaj!AL82=\"\",\"\",Puantaj!AL82)","v":""},{"$f":"IF(Puantaj!AM82=\"\",\"\",Puantaj!AM82)","v":""},{"$f":"IF(Puantaj!AN82=\"\",\"\",Puantaj!AN82)","v":""},{"$f":"IF(Puantaj!AO82=\"\",\"\",Puantaj!AO82)","v":""},{"$f":"IF(Puantaj!AP82=\"\",\"\",Puantaj!AP82)","v":""},{"$f":"IF(Puantaj!AQ82=\"\",\"\",Puantaj!AQ82)","v":""},{"$f":"IF(Puantaj!AR82=\"\",\"\",Puantaj!AR82)","v":""},{"$f":"IF(Puantaj!AS82=\"\",\"\",Puantaj!AS82)","v":""},{"$f":"IF(Puantaj!AT82=\"\",\"\",Puantaj!AT82)","v":""},{"$f":"IF(Puantaj!AU82=\"\",\"\",Puantaj!AU82)","v":""},{"$f":"IF(Puantaj!AV82=\"\",\"\",Puantaj!AV82)","v":""},{"$f":"IF(Puantaj!AW82=\"\",\"\",Puantaj!AW82)","v":""},{"$f":"IF(Puantaj!AX82=\"\",\"\",Puantaj!AX82)","v":""},{"$f":"IF(Puantaj!AY82=\"\",\"\",Puantaj!AY82)","v":""},{"$f":"IF(Puantaj!AZ82=\"\",\"\",Puantaj!AZ82)","v":""},{"$f":"IF(Puantaj!BA82=\"\",\"\",Puantaj!BA82)","v":""},{"$f":"IF(Puantaj!BB82=\"\",\"\",Puantaj!BB82)","v":""},{"$f":"IF(Puantaj!BC82=\"\",\"\",Puantaj!BC82)","v":""},{"$f":"IF(Puantaj!BD82=\"\",\"\",Puantaj!BD82)","v":""},{"$f":"IF(Puantaj!BE82=\"\",\"\",Puantaj!BE82)","v":""},{"$f":"IF(Puantaj!BF82=\"\",\"\",Puantaj!BF82)","v":""},{"$f":"IF(Puantaj!BG82=\"\",\"\",Puantaj!BG82)","v":""},{"$f":"IF(Puantaj!BH82=\"\",\"\",Puantaj!BH82)","v":""},{"$f":"IF(Puantaj!BI82=\"\",\"\",Puantaj!BI82)","v":""},{"$f":"IF(Puantaj!BJ82=\"\",\"\",Puantaj!BJ82)","v":""},{"$f":"IF(Puantaj!BK82=\"\",\"\",Puantaj!BK82)","v":""},{"$f":"IF(Puantaj!BL82=\"\",\"\",Puantaj!BL82)","v":""},{"$f":"IF(Puantaj!BM82=\"\",\"\",Puantaj!BM82)","v":""},0,null,0]
[0,{"$f":"Puantaj!C83","v":0},{"$f":"Puantaj!K83","v":""},{"$f":"Puantaj!O83","v":""},{"$f":"Puantaj!T83","v":0},{"$f":"IF(Puantaj!AE83=\"\",\"\",Puantaj!AE83)","v":""},{"$f":"IF(Puantaj!AF83=\"\",\"\",Puantaj!AF83)","v":""},{"$f":"IF(Puantaj!AG83=\"\",\"\",Puantaj!AG83)","v":""},{"$f":"IF(Puantaj!AH83=\"\",\"\",Puantaj!AH83)","v":""},{"$f":"IF(Puantaj!AI83=\"\",\"\",Puantaj!AI83)","v":""},{"$f":"IF(Puantaj!AJ83=\"\",\"\",Puantaj!AJ83)","v":""},{"$f":"IF(Puantaj!AK83=\"\",\"\",Puantaj!AK83)","v":""},{"$f":"IF(Puantaj!AL83=\"\",\"\",Puantaj!AL83)","v":""},{"$f":"IF(Puantaj!AM83=\"\",\"\",Puantaj!AM83)","v":""},{"$f":"IF(Puantaj!AN83=\"\",\"\",Puantaj!AN83)","v":""},{"$f":"IF(Puantaj!AO83=\"\",\"\",Puantaj!AO83)","v":""},{"$f":"IF(Puantaj!AP83=\"\",\"\",Puantaj!AP83)","v":""},{"$f":"IF(Puantaj!AQ83=\"\",\"\",Puantaj!AQ83)","v":""},{"$f":"IF(Puantaj!AR83=\"\",\"\",Puantaj!AR83)","v":""},{"$f":"IF(Puantaj!AS83=\"\",\"\",Puantaj!AS83)","v":""},{"$f":"IF(Puantaj!AT83=\"\",\"\",Puantaj!AT83)","v":""},{"$f":"IF(Puantaj!AU83=\"\",\"\",Puantaj!AU83)","v":""},{"$f":"IF(Puantaj!AV83=\"\",\"\",Puantaj!AV83)","v":""},{"$f":"IF(Puantaj!AW83=\"\",\"\",Puantaj!AW83)","v":""},{"$f":"IF(Puantaj!AX83=\"\",\"\",Puantaj!AX83)","v":""},{"$f":"IF(Puantaj!AY83=\"\",\"\",Puantaj!AY83)","v":""},{"$f":"IF(Puantaj!AZ83=\"\",\"\",Puantaj!AZ83)","v":""},{"$f":"IF(Puantaj!BA83=\"\",\"\",Puantaj!BA83)","v":""},{"$f":"IF(Puantaj!BB83=\"\",\"\",Puantaj!BB83)","v":""},{"$f":"IF(Puantaj!BC83=\"\",\"\",Puantaj!BC83)","v":""},{"$f":"IF(Puantaj!BD83=\"\",\"\",Puantaj!BD83)","v":""},{"$f":"IF(Puantaj!BE83=\"\",\"\",Puantaj!BE83)","v":""},{"$f":"IF(Puantaj!BF83=\"\",\"\",Puantaj!BF83)","v":""},{"$f":"IF(Puantaj!BG83=\"\",\"\",Puantaj!BG83)","v":""},{"$f":"IF(Puantaj!BH83=\"\",\"\",Puantaj!BH83)","v":""},{"$f":"IF(Puantaj!BI83=\"\",\"\",Puantaj!BI83)","v":""},{"$f":"IF(Puantaj!BJ83=\"\",\"\",Puantaj!BJ83)","v":""},{"$f":"IF(Puantaj!BK83=\"\",\"\",Puantaj!BK83)","v":""},{"$f":"IF(Puantaj!BL83=\"\",\"\",Puantaj!BL83)","v":""},{"$f":"IF(Puantaj!BM83=\"\",\"\",Puantaj!BM83)","v":""},0,null,0]
[0,{"$f":"Puantaj!C84","v":0},{"$f":"Puantaj!K84","v":""},{"$f":"Puantaj!O84","v":""},{"$f":"Puantaj!T84","v":0},{"$f":"IF(Puantaj!AE84=\"\",\"\",Puantaj!AE84)","v":""},{"$f":"IF(Puantaj!AF84=\"\",\"\",Puantaj!AF84)","v":""},{"$f":"IF(Puantaj!AG84=\"\",\"\",Puantaj!AG84)","v":""},{"$f":"IF(Puantaj!AH84=\"\",\"\",Puantaj!AH84)","v":""},{"$f":"IF(Puantaj!AI84=\"\",\"\",Puantaj!AI84)","v":""},{"$f":"IF(Puantaj!AJ84=\"\",\"\",Puantaj!AJ84)","v":""},{"$f":"IF(Puantaj!AK84=\"\",\"\",Puantaj!AK84)","v":""},{"$f":"IF(Puantaj!AL84=\"\",\"\",Puantaj!AL84)","v":""},{"$f":"IF(Puantaj!AM84=\"\",\"\",Puantaj!AM84)","v":""},{"$f":"IF(Puantaj!AN84=\"\",\"\",Puantaj!AN84)","v":""},{"$f":"IF(Puantaj!AO84=\"\",\"\",Puantaj!AO84)","v":""},{"$f":"IF(Puantaj!AP84=\"\",\"\",Puantaj!AP84)","v":""},{"$f":"IF(Puantaj!AQ84=\"\",\"\",Puantaj!AQ84)","v":""},{"$f":"IF(Puantaj!AR84=\"\",\"\",Puantaj!AR84)","v":""},{"$f":"IF(Puantaj!AS84=\"\",\"\",Puantaj!AS84)","v":""},{"$f":"IF(Puantaj!AT84=\"\",\"\",Puantaj!AT84)","v":""},{"$f":"IF(Puantaj!AU84=\"\",\"\",Puantaj!AU84)","v":""},{"$f":"IF(Puantaj!AV84=\"\",\"\",Puantaj!AV84)","v":""},{"$f":"IF(Puantaj!AW84=\"\",\"\",Puantaj!AW84)","v":""},{"$f":"IF(Puantaj!AX84=\"\",\"\",Puantaj!AX84)","v":""},{"$f":"IF(Puantaj!AY84=\"\",\"\",Puantaj!AY84)","v":""},{"$f":"IF(Puantaj!AZ84=\"\",\"\",Puantaj!AZ84)","v":""},{"$f":"IF(Puantaj!BA84=\"\",\"\",Puantaj!BA84)","v":""},{"$f":"IF(Puantaj!BB84=\"\",\"\",Puantaj!BB84)","v":""},{"$f":"IF(Puantaj!BC84=\"\",\"\",Puantaj!BC84)","v":""},{"$f":"IF(Puantaj!BD84=\"\",\"\",Puantaj!BD84)","v":""},{"$f":"IF(Puantaj!BE84=\"\",\"\",Puantaj!BE84)","v":""},{"$f":"IF(Puantaj!BF84=\"\",\"\",Puantaj!BF84)","v":""},{"$f":"IF(Puantaj!BG84=\"\",\"\",Puantaj!BG84)","v":""},{"$f":"IF(Puantaj!BH84=\"\",\"\",Puantaj!BH84)","v":""},{"$f":"IF(Puantaj!BI84=\"\",\"\",Puantaj!BI84)","v":""},{"$f":"IF(Puantaj!BJ84=\"\",\"\",Puantaj!BJ84)","v":""},{"$f":"IF(Puantaj!BK84=\"\",\"\",Puantaj!BK84)","v":""},{"$f":"IF(Puantaj!BL84=\"\",\"\",Puantaj!BL84)","v":""},{"$f":"IF(Puantaj!BM84=\"\",\"\",Puantaj!BM84)","v":""},0,null,0]
[0,{"$f":"Puantaj!C85","v":0},{"$f":"Puantaj!K85","v":""},{"$f":"Puantaj!O85","v":""},{"$f":"Puantaj!T85","v":0},{"$f":"IF(Puantaj!AE85=\"\",\"\",Puantaj!AE85)","v":""},{"$f":"IF(Puantaj!AF85=\"\",\"\",Puantaj!AF85)","v":""},{"$f":"IF(Puantaj!AG85=\"\",\"\",Puantaj!AG85)","v":""},{"$f":"IF(Puantaj!AH85=\"\",\"\",Puantaj!AH85)","v":""},{"$f":"IF(Puantaj!AI85=\"\",\"\",Puantaj!AI85)","v":""},{"$f":"IF(Puantaj!AJ85=\"\",\"\",Puantaj!AJ85)","v":""},{"$f":"IF(Puantaj!AK85=\"\",\"\",Puantaj!AK85)","v":""},{"$f":"IF(Puantaj!AL85=\"\",\"\",Puantaj!AL85)","v":""},{"$f":"IF(Puantaj!AM85=\"\",\"\",Puantaj!AM85)","v":""},{"$f":"IF(Puantaj!AN85=\"\",\"\",Puantaj!AN85)","v":""},{"$f":"IF(Puantaj!AO85=\"\",\"\",Puantaj!AO85)","v":""},{"$f":"IF(Puantaj!AP85=\"\",\"\",Puantaj!AP85)","v":""},{"$f":"IF(Puantaj!AQ85=\"\",\"\",Puantaj!AQ85)","v":""},{"$f":"IF(Puantaj!AR85=\"\",\"\",Puantaj!AR85)","v":""},{"$f":"IF(Puantaj!AS85=\"\",\"\",Puantaj!AS85)","v":""},{"$f":"IF(Puantaj!AT85=\"\",\"\",Puantaj!AT85)","v":""},{"$f":"IF(Puantaj!AU85=\"\",\"\",Puantaj!AU85)","v":""},{"$f":"IF(Puantaj!AV85=\"\",\"\",Puantaj!AV85)","v":""},{"$f":"IF(Puantaj!AW85=\"\",\"\",Puantaj!AW85)","v":""},{"$f":"IF(Puantaj!AX85=\"\",\"\",Puantaj!AX85)","v":""},{"$f":"IF(Puantaj!AY85=\"\",\"\",Puantaj!AY85)","v":""},{"$f":"IF(Puantaj!AZ85=\"\",\"\",Puantaj!AZ85)","v":""},{"$f":"IF(Puantaj!BA85=\"\",\"\",Puantaj!BA85)","v":""},{"$f":"IF(Puantaj!BB85=\"\",\"\",Puantaj!BB85)","v":""},{"$f":"IF(Puantaj!BC85=\"\",\"\",Puantaj!BC85)","v":""},{"$f":"IF(Puantaj!BD85=\"\",\"\",Puantaj!BD85)","v":""},{"$f":"IF(Puantaj!BE85=\"\",\"\",Puantaj!BE85)","v":""},{"$f":"IF(Puantaj!BF85=\"\",\"\",Puantaj!BF85)","v":""},{"$f":"IF(Puantaj!BG85=\"\",\"\",Puantaj!BG85)","v":""},{"$f":"IF(Puantaj!BH85=\"\",\"\",Puantaj!BH85)","v":""},{"$f":"IF(Puantaj!BI85=\"\",\"\",Puantaj!BI85)","v":""},{"$f":"IF(Puantaj!BJ85=\"\",\"\",Puantaj!BJ85)","v":""},{"$f":"IF(Puantaj!BK85=\"\",\"\",Puantaj!BK85)","v":""},{"$f":"IF(Puantaj!BL85=\"\",\"\",Puantaj!BL85)","v":""},{"$f":"IF(Puantaj!BM85=\"\",\"\",Puantaj!BM85)","v":""},0,null,0]
[0,{"$f":"Puantaj!C86","v":0},{"$f":"Puantaj!K86","v":""},{"$f":"Puantaj!O86","v":""},{"$f":"Puantaj!T86","v":0},{"$f":"IF(Puantaj!AE86=\"\",\"\",Puantaj!AE86)","v":""},{"$f":"IF(Puantaj!AF86=\"\",\"\",Puantaj!AF86)","v":""},{"$f":"IF(Puantaj!AG86=\"\",\"\",Puantaj!AG86)","v":""},{"$f":"IF(Puantaj!AH86=\"\",\"\",Puantaj!AH86)","v":""},{"$f":"IF(Puantaj!AI86=\"\",\"\",Puantaj!AI86)","v":""},{"$f":"IF(Puantaj!AJ86=\"\",\"\",Puantaj!AJ86)","v":""},{"$f":"IF(Puantaj!AK86=\"\",\"\",Puantaj!AK86)","v":""},{"$f":"IF(Puantaj!AL86=\"\",\"\",Puantaj!AL86)","v":""},{"$f":"IF(Puantaj!AM86=\"\",\"\",Puantaj!AM86)","v":""},{"$f":"IF(Puantaj!AN86=\"\",\"\",Puantaj!AN86)","v":""},{"$f":"IF(Puantaj!AO86=\"\",\"\",Puantaj!AO86)","v":""},{"$f":"IF(Puantaj!AP86=\"\",\"\",Puantaj!AP86)","v":""},{"$f":"IF(Puantaj!AQ86=\"\",\"\",Puantaj!AQ86)","v":""},{"$f":"IF(Puantaj!AR86=\"\",\"\",Puantaj!AR86)","v":""},{"$f":"IF(Puantaj!AS86=\"\",\"\",Puantaj!AS86)","v":""},{"$f":"IF(Puantaj!AT86=\"\",\"\",Puantaj!AT86)","v":""},{"$f":"IF(Puantaj!AU86=\"\",\"\",Puantaj!AU86)","v":""},{"$f":"IF(Puantaj!AV86=\"\",\"\",Puantaj!AV86)","v":""},{"$f":"IF(Puantaj!AW86=\"\",\"\",Puantaj!AW86)","v":""},{"$f":"IF(Puantaj!AX86=\"\",\"\",Puantaj!AX86)","v":""},{"$f":"IF(Puantaj!AY86=\"\",\"\",Puantaj!AY86)","v":""},{"$f":"IF(Puantaj!AZ86=\"\",\"\",Puantaj!AZ86)","v":""},{"$f":"IF(Puantaj!BA86=\"\",\"\",Puantaj!BA86)","v":""},{"$f":"IF(Puantaj!BB86=\"\",\"\",Puantaj!BB86)","v":""},{"$f":"IF(Puantaj!BC86=\"\",\"\",Puantaj!BC86)","v":""},{"$f":"IF(Puantaj!BD86=\"\",\"\",Puantaj!BD86)","v":""},{"$f":"IF(Puantaj!BE86=\"\",\"\",Puantaj!BE86)","v":""},{"$f":"IF(Puantaj!BF86=\"\",\"\",Puantaj!BF86)","v":""},{"$f":"IF(Puantaj!BG86=\"\",\"\",Puantaj!BG86)","v":""},{"$f":"IF(Puantaj!BH86=\"\",\"\",Puantaj!BH86)","v":""},{"$f":"IF(Puantaj!BI86=\"\",\"\",Puantaj!BI86)","v":""},{"$f":"IF(Puantaj!BJ86=\"\",\"\",Puantaj!BJ86)","v":""},{"$f":"IF(Puantaj!BK86=\"\",\"\",Puantaj!BK86)","v":""},{"$f":"IF(Puantaj!BL86=\"\",\"\",Puantaj!BL86)","v":""},{"$f":"IF(Puantaj!BM86=\"\",\"\",Puantaj!BM86)","v":""},0,null,0]
[0,{"$f":"Puantaj!C87","v":0},{"$f":"Puantaj!K87","v":""},{"$f":"Puantaj!O87","v":""},{"$f":"Puantaj!T87","v":0},{"$f":"IF(Puantaj!AE87=\"\",\"\",Puantaj!AE87)","v":""},{"$f":"IF(Puantaj!AF87=\"\",\"\",Puantaj!AF87)","v":""},{"$f":"IF(Puantaj!AG87=\"\",\"\",Puantaj!AG87)","v":""},{"$f":"IF(Puantaj!AH87=\"\",\"\",Puantaj!AH87)","v":""},{"$f":"IF(Puantaj!AI87=\"\",\"\",Puantaj!AI87)","v":""},{"$f":"IF(Puantaj!AJ87=\"\",\"\",Puantaj!AJ87)","v":""},{"$f":"IF(Puantaj!AK87=\"\",\"\",Puantaj!AK87)","v":""},{"$f":"IF(Puantaj!AL87=\"\",\"\",Puantaj!AL87)","v":""},{"$f":"IF(Puantaj!AM87=\"\",\"\",Puantaj!AM87)","v":""},{"$f":"IF(Puantaj!AN87=\"\",\"\",Puantaj!AN87)","v":""},{"$f":"IF(Puantaj!AO87=\"\",\"\",Puantaj!AO87)","v":""},{"$f":"IF(Puantaj!AP87=\"\",\"\",Puantaj!AP87)","v":""},{"$f":"IF(Puantaj!AQ87=\"\",\"\",Puantaj!AQ87)","v":""},{"$f":"IF(Puantaj!AR87=\"\",\"\",Puantaj!AR87)","v":""},{"$f":"IF(Puantaj!AS87=\"\",\"\",Puantaj!AS87)","v":""},{"$f":"IF(Puantaj!AT87=\"\",\"\",Puantaj!AT87)","v":""},{"$f":"IF(Puantaj!AU87=\"\",\"\",Puantaj!AU87)","v":""},{"$f":"IF(Puantaj!AV87=\"\",\"\",Puantaj!AV87)","v":""},{"$f":"IF(Puantaj!AW87=\"\",\"\",Puantaj!AW87)","v":""},{"$f":"IF(Puantaj!AX87=\"\",\"\",Puantaj!AX87)","v":""},{"$f":"IF(Puantaj!AY87=\"\",\"\",Puantaj!AY87)","v":""},{"$f":"IF(Puantaj!AZ87=\"\",\"\",Puantaj!AZ87)","v":""},{"$f":"IF(Puantaj!BA87=\"\",\"\",Puantaj!BA87)","v":""},{"$f":"IF(Puantaj!BB87=\"\",\"\",Puantaj!BB87)","v":""},{"$f":"IF(Puantaj!BC87=\"\",\"\",Puantaj!BC87)","v":""},{"$f":"IF(Puantaj!BD87=\"\",\"\",Puantaj!BD87)","v":""},{"$f":"IF(Puantaj!BE87=\"\",\"\",Puantaj!BE87)","v":""},{"$f":"IF(Puantaj!BF87=\"\",\"\",Puantaj!BF87)","v":""},{"$f":"IF(Puantaj!BG87=\"\",\"\",Puantaj!BG87)","v":""},{"$f":"IF(Puantaj!BH87=\"\",\"\",Puantaj!BH87)","v":""},{"$f":"IF(Puantaj!BI87=\"\",\"\",Puantaj!BI87)","v":""},{"$f":"IF(Puantaj!BJ87=\"\",\"\",Puantaj!BJ87)","v":""},{"$f":"IF(Puantaj!BK87=\"\",\"\",Puantaj!BK87)","v":""},{"$f":"IF(Puantaj!BL87=\"\",\"\",Puantaj!BL87)","v":""},{"$f":"IF(Puantaj!BM87=\"\",\"\",Puantaj!BM87)","v":""},0,null,0]
[0,{"$f":"Puantaj!C88","v":0},{"$f":"Puantaj!K88","v":""},{"$f":"Puantaj!O88","v":""},{"$f":"Puantaj!T88","v":0},{"$f":"IF(Puantaj!AE88=\"\",\"\",Puantaj!AE88)","v":""},{"$f":"IF(Puantaj!AF88=\"\",\"\",Puantaj!AF88)","v":""},{"$f":"IF(Puantaj!AG88=\"\",\"\",Puantaj!AG88)","v":""},{"$f":"IF(Puantaj!AH88=\"\",\"\",Puantaj!AH88)","v":""},{"$f":"IF(Puantaj!AI88=\"\",\"\",Puantaj!AI88)","v":""},{"$f":"IF(Puantaj!AJ88=\"\",\"\",Puantaj!AJ88)","v":""},{"$f":"IF(Puantaj!AK88=\"\",\"\",Puantaj!AK88)","v":""},{"$f":"IF(Puantaj!AL88=\"\",\"\",Puantaj!AL88)","v":""},{"$f":"IF(Puantaj!AM88=\"\",\"\",Puantaj!AM88)","v":""},{"$f":"IF(Puantaj!AN88=\"\",\"\",Puantaj!AN88)","v":""},{"$f":"IF(Puantaj!AO88=\"\",\"\",Puantaj!AO88)","v":""},{"$f":"IF(Puantaj!AP88=\"\",\"\",Puantaj!AP88)","v":""},{"$f":"IF(Puantaj!AQ88=\"\",\"\",Puantaj!AQ88)","v":""},{"$f":"IF(Puantaj!AR88=\"\",\"\",Puantaj!AR88)","v":""},{"$f":"IF(Puantaj!AS88=\"\",\"\",Puantaj!AS88)","v":""},{"$f":"IF(Puantaj!AT88=\"\",\"\",Puantaj!AT88)","v":""},{"$f":"IF(Puantaj!AU88=\"\",\"\",Puantaj!AU88)","v":""},{"$f":"IF(Puantaj!AV88=\"\",\"\",Puantaj!AV88)","v":""},{"$f":"IF(Puantaj!AW88=\"\",\"\",Puantaj!AW88)","v":""},{"$f":"IF(Puantaj!AX88=\"\",\"\",Puantaj!AX88)","v":""},{"$f":"IF(Puantaj!AY88=\"\",\"\",Puantaj!AY88)","v":""},{"$f":"IF(Puantaj!AZ88=\"\",\"\",Puantaj!AZ88)","v":""},{"$f":"IF(Puantaj!BA88=\"\",\"\",Puantaj!BA88)","v":""},{"$f":"IF(Puantaj!BB88=\"\",\"\",Puantaj!BB88)","v":""},{"$f":"IF(Puantaj!BC88=\"\",\"\",Puantaj!BC88)","v":""},{"$f":"IF(Puantaj!BD88=\"\",\"\",Puantaj!BD88)","v":""},{"$f":"IF(Puantaj!BE88=\"\",\"\",Puantaj!BE88)","v":""},{"$f":"IF(Puantaj!BF88=\"\",\"\",Puantaj!BF88)","v":""},{"$f":"IF(Puantaj!BG88=\"\",\"\",Puantaj!BG88)","v":""},{"$f":"IF(Puantaj!BH88=\"\",\"\",Puantaj!BH88)","v":""},{"$f":"IF(Puantaj!BI88=\"\",\"\",Puantaj!BI88)","v":""},{"$f":"IF(Puantaj!BJ88=\"\",\"\",Puantaj!BJ88)","v":""},{"$f":"IF(Puantaj!BK88=\"\",\"\",Puantaj!BK88)","v":""},{"$f":"IF(Puantaj!BL88=\"\",\"\",Puantaj!BL88)","v":""},{"$f":"IF(Puantaj!BM88=\"\",\"\",Puantaj!BM88)","v":""},0,null,0]
[0,{"$f":"Puantaj!C89","v":0},{"$f":"Puantaj!K89","v":""},{"$f":"Puantaj!O89","v":""},{"$f":"Puantaj!T89","v":0},{"$f":"IF(Puantaj!AE89=\"\",\"\",Puantaj!AE89)","v":""},{"$f":"IF(Puantaj!AF89=\"\",\"\",Puantaj!AF89)","v":""},{"$f":"IF(Puantaj!AG89=\"\",\"\",Puantaj!AG89)","v":""},{"$f":"IF(Puantaj!AH89=\"\",\"\",Puantaj!AH89)","v":""},{"$f":"IF(Puantaj!AI89=\"\",\"\",Puantaj!AI89)","v":""},{"$f":"IF(Puantaj!AJ89=\"\",\"\",Puantaj!AJ89)","v":""},{"$f":"IF(Puantaj!AK89=\"\",\"\",Puantaj!AK89)","v":""},{"$f":"IF(Puantaj!AL89=\"\",\"\",Puantaj!AL89)","v":""},{"$f":"IF(Puantaj!AM89=\"\",\"\",Puantaj!AM89)","v":""},{"$f":"IF(Puantaj!AN89=\"\",\"\",Puantaj!AN89)","v":""},{"$f":"IF(Puantaj!AO89=\"\",\"\",Puantaj!AO89)","v":""},{"$f":"IF(Puantaj!AP89=\"\",\"\",Puantaj!AP89)","v":""},{"$f":"IF(Puantaj!AQ89=\"\",\"\",Puantaj!AQ89)","v":""},{"$f":"IF(Puantaj!AR89=\"\",\"\",Puantaj!AR89)","v":""},{"$f":"IF(Puantaj!AS89=\"\",\"\",Puantaj!AS89)","v":""},{"$f":"IF(Puantaj!AT89=\"\",\"\",Puantaj!AT89)","v":""},{"$f":"IF(Puantaj!AU89=\"\",\"\",Puantaj!AU89)","v":""},{"$f":"IF(Puantaj!AV89=\"\",\"\",Puantaj!AV89)","v":""},{"$f":"IF(Puantaj!AW89=\"\",\"\",Puantaj!AW89)","v":""},{"$f":"IF(Puantaj!AX89=\"\",\"\",Puantaj!AX89)","v":""},{"$f":"IF(Puantaj!AY89=\"\",\"\",Puantaj!AY89)","v":""},{"$f":"IF(Puantaj!AZ89=\"\",\"\",Puantaj!AZ89)","v":""},{"$f":"IF(Puantaj!BA89=\"\",\"\",Puantaj!BA89)","v":""},{"$f":"IF(Puantaj!BB89=\"\",\"\",Puantaj!BB89)","v":""},{"$f":"IF(Puantaj!BC89=\"\",\"\",Puantaj!BC89)","v":""},{"$f":"IF(Puantaj!BD89=\"\",\"\",Puantaj!BD89)","v":""},{"$f":"IF(Puantaj!BE89=\"\",\"\",Puantaj!BE89)","v":""},{"$f":"IF(Puantaj!BF89=\"\",\"\",Puantaj!BF89)","v":""},{"$f":"IF(Puantaj!BG89=\"\",\"\",Puantaj!BG89)","v":""},{"$f":"IF(Puantaj!BH89=\"\",\"\",Puantaj!BH89)","v":""},{"$f":"IF(Puantaj!BI89=\"\",\"\",Puantaj!BI89)","v":""},{"$f":"IF(Puantaj!BJ89=\"\",\"\",Puantaj!BJ89)","v":""},{"$f":"IF(Puantaj!BK89=\"\",\"\",Puantaj!BK89)","v":""},{"$f":"IF(Puantaj!BL89=\"\",\"\",Puantaj!BL89)","v":""},{"$f":"IF(Puantaj!BM89=\"\",\"\",Puantaj!BM89)","v":""},0,null,0]
[0,{"$f":"Puantaj!C90","v":0},{"$f":"Puantaj!K90","v":""},{"$f":"Puantaj!O90","v":""},{"$f":"Puantaj!T90","v":0},{"$f":"IF(Puantaj!AE90=\"\",\"\",Puantaj!AE90)","v":""},{"$f":"IF(Puantaj!AF90=\"\",\"\",Puantaj!AF90)","v":""},{"$f":"IF(Puantaj!AG90=\"\",\"\",Puantaj!AG90)","v":""},{"$f":"IF(Puantaj!AH90=\"\",\"\",Puantaj!AH90)","v":""},{"$f":"IF(Puantaj!AI90=\"\",\"\",Puantaj!AI90)","v":""},{"$f":"IF(Puantaj!AJ90=\"\",\"\",Puantaj!AJ90)","v":""},{"$f":"IF(Puantaj!AK90=\"\",\"\",Puantaj!AK90)","v":""},{"$f":"IF(Puantaj!AL90=\"\",\"\",Puantaj!AL90)","v":""},{"$f":"IF(Puantaj!AM90=\"\",\"\",Puantaj!AM90)","v":""},{"$f":"IF(Puantaj!AN90=\"\",\"\",Puantaj!AN90)","v":""},{"$f":"IF(Puantaj!AO90=\"\",\"\",Puantaj!AO90)","v":""},{"$f":"IF(Puantaj!AP90=\"\",\"\",Puantaj!AP90)","v":""},{"$f":"IF(Puantaj!AQ90=\"\",\"\",Puantaj!AQ90)","v":""},{"$f":"IF(Puantaj!AR90=\"\",\"\",Puantaj!AR90)","v":""},{"$f":"IF(Puantaj!AS90=\"\",\"\",Puantaj!AS90)","v":""},{"$f":"IF(Puantaj!AT90=\"\",\"\",Puantaj!AT90)","v":""},{"$f":"IF(Puantaj!AU90=\"\",\"\",Puantaj!AU90)","v":""},{"$f":"IF(Puantaj!AV90=\"\",\"\",Puantaj!AV90)","v":""},{"$f":"IF(Puantaj!AW90=\"\",\"\",Puantaj!AW90)","v":""},{"$f":"IF(Puantaj!AX90=\"\",\"\",Puantaj!AX90)","v":""},{"$f":"IF(Puantaj!AY90=\"\",\"\",Puantaj!AY90)","v":""},{"$f":"IF(Puantaj!AZ90=\"\",\"\",Puantaj!AZ90)","v":""},{"$f":"IF(Puantaj!BA90=\"\",\"\",Puantaj!BA90)","v":""},{"$f":"IF(Puantaj!BB90=\"\",\"\",Puantaj!BB90)","v":""},{"$f":"IF(Puantaj!BC90=\"\",\"\",Puantaj!BC90)","v":""},{"$f":"IF(Puantaj!BD90=\"\",\"\",Puantaj!BD90)","v":""},{"$f":"IF(Puantaj!BE90=\"\",\"\",Puantaj!BE90)","v":""},{"$f":"IF(Puantaj!BF90=\"\",\"\",Puantaj!BF90)","v":""},{"$f":"IF(Puantaj!BG90=\"\",\"\",Puantaj!BG90)","v":""},{"$f":"IF(Puantaj!BH90=\"\",\"\",Puantaj!BH90)","v":""},{"$f":"IF(Puantaj!BI90=\"\",\"\",Puantaj!BI90)","v":""},{"$f":"IF(Puantaj!BJ90=\"\",\"\",Puantaj!BJ90)","v":""},{"$f":"IF(Puantaj!BK90=\"\",\"\",Puantaj!BK90)","v":""},{"$f":"IF(Puantaj!BL90=\"\",\"\",Puantaj!BL90)","v":""},{"$f":"IF(Puantaj!BM90=\"\",\"\",Puantaj!BM90)","v":""},0,null,0]
[0,{"$f":"Puantaj!C91","v":0},{"$f":"Puantaj!K91","v":""},{"$f":"Puantaj!O91","v":""},{"$f":"Puantaj!T91","v":0},{"$f":"IF(Puantaj!AE91=\"\",\"\",Puantaj!AE91)","v":""},{"$f":"IF(Puantaj!AF91=\"\",\"\",Puantaj!AF91)","v":""},{"$f":"IF(Puantaj!AG91=\"\",\"\",Puantaj!AG91)","v":""},{"$f":"IF(Puantaj!AH91=\"\",\"\",Puantaj!AH91)","v":""},{"$f":"IF(Puantaj!AI91=\"\",\"\",Puantaj!AI91)","v":""},{"$f":"IF(Puantaj!AJ91=\"\",\"\",Puantaj!AJ91)","v":""},{"$f":"IF(Puantaj!AK91=\"\",\"\",Puantaj!AK91)","v":""},{"$f":"IF(Puantaj!AL91=\"\",\"\",Puantaj!AL91)","v":""},{"$f":"IF(Puantaj!AM91=\"\",\"\",Puantaj!AM91)","v":""},{"$f":"IF(Puantaj!AN91=\"\",\"\",Puantaj!AN91)","v":""},{"$f":"IF(Puantaj!AO91=\"\",\"\",Puantaj!AO91)","v":""},{"$f":"IF(Puantaj!AP91=\"\",\"\",Puantaj!AP91)","v":""},{"$f":"IF(Puantaj!AQ91=\"\",\"\",Puantaj!AQ91)","v":""},{"$f":"IF(Puantaj!AR91=\"\",\"\",Puantaj!AR91)","v":""},{"$f":"IF(Puantaj!AS91=\"\",\"\",Puantaj!AS91)","v":""},{"$f":"IF(Puantaj!AT91=\"\",\"\",Puantaj!AT91)","v":""},{"$f":"IF(Puantaj!AU91=\"\",\"\",Puantaj!AU91)","v":""},{"$f":"IF(Puantaj!AV91=\"\",\"\",Puantaj!AV91)","v":""},{"$f":"IF(Puantaj!AW91=\"\",\"\",Puantaj!AW91)","v":""},{"$f":"IF(Puantaj!AX91=\"\",\"\",Puantaj!AX91)","v":""},{"$f":"IF(Puantaj!AY91=\"\",\"\",Puantaj!AY91)","v":""},{"$f":"IF(Puantaj!AZ91=\"\",\"\",Puantaj!AZ91)","v":""},{"$f":"IF(Puantaj!BA91=\"\",\"\",Puantaj!BA91)","v":""},{"$f":"IF(Puantaj!BB91=\"\",\"\",Puantaj!BB91)","v":""},{"$f":"IF(Puantaj!BC91=\"\",\"\",Puantaj!BC91)","v":""},{"$f":"IF(Puantaj!BD91=\"\",\"\",Puantaj!BD91)","v":""},{"$f":"IF(Puantaj!BE91=\"\",\"\",Puantaj!BE91)","v":""},{"$f":"IF(Puantaj!BF91=\"\",\"\",Puantaj!BF91)","v":""},{"$f":"IF(Puantaj!BG91=\"\",\"\",Puantaj!BG91)","v":""},{"$f":"IF(Puantaj!BH91=\"\",\"\",Puantaj!BH91)","v":""},{"$f":"IF(Puantaj!BI91=\"\",\"\",Puantaj!BI91)","v":""},{"$f":"IF(Puantaj!BJ91=\"\",\"\",Puantaj!BJ91)","v":""},{"$f":"IF(Puantaj!BK91=\"\",\"\",Puantaj!BK91)","v":""},{"$f":"IF(Puantaj!BL91=\"\",\"\",Puantaj!BL91)","v":""},{"$f":"IF(Puantaj!BM91=\"\",\"\",Puantaj!BM91)","v":""},0,null,0]
[0,{"$f":"Puantaj!C92","v":0},{"$f":"Puantaj!K92","v":""},{"$f":"Puantaj!O92","v":""},{"$f":"Puantaj!T92","v":0},{"$f":"IF(Puantaj!AE92=\"\",\"\",Puantaj!AE92)","v":""},{"$f":"IF(Puantaj!AF92=\"\",\"\",Puantaj!AF92)","v":""},{"$f":"IF(Puantaj!AG92=\"\",\"\",Puantaj!AG92)","v":""},{"$f":"IF(Puantaj!AH92=\"\",\"\",Puantaj!AH92)","v":""},{"$f":"IF(Puantaj!AI92=\"\",\"\",Puantaj!AI92)","v":""},{"$f":"IF(Puantaj!AJ92=\"\",\"\",Puantaj!AJ92)","v":""},{"$f":"IF(Puantaj!AK92=\"\",\"\",Puantaj!AK92)","v":""},{"$f":"IF(Puantaj!AL92=\"\",\"\",Puantaj!AL92)","v":""},{"$f":"IF(Puantaj!AM92=\"\",\"\",Puantaj!AM92)","v":""},{"$f":"IF(Puantaj!AN92=\"\",\"\",Puantaj!AN92)","v":""},{"$f":"IF(Puantaj!AO92=\"\",\"\",Puantaj!AO92)","v":""},{"$f":"IF(Puantaj!AP92=\"\",\"\",Puantaj!AP92)","v":""},{"$f":"IF(Puantaj!AQ92=\"\",\"\",Puantaj!AQ92)","v":""},{"$f":"IF(Puantaj!AR92=\"\",\"\",Puantaj!AR92)","v":""},{"$f":"IF(Puantaj!AS92=\"\",\"\",Puantaj!AS92)","v":""},{"$f":"IF(Puantaj!AT92=\"\",\"\",Puantaj!AT92)","v":""},{"$f":"IF(Puantaj!AU92=\"\",\"\",Puantaj!AU92)","v":""},{"$f":"IF(Puantaj!AV92=\"\",\"\",Puantaj!AV92)","v":""},{"$f":"IF(Puantaj!AW92=\"\",\"\",Puantaj!AW92)","v":""},{"$f":"IF(Puantaj!AX92=\"\",\"\",Puantaj!AX92)","v":""},{"$f":"IF(Puantaj!AY92=\"\",\"\",Puantaj!AY92)","v":""},{"$f":"IF(Puantaj!AZ92=\"\",\"\",Puantaj!AZ92)","v":""},{"$f":"IF(Puantaj!BA92=\"\",\"\",Puantaj!BA92)","v":""},{"$f":"IF(Puantaj!BB92=\"\",\"\",Puantaj!BB92)","v":""},{"$f":"IF(Puantaj!BC92=\"\",\"\",Puantaj!BC92)","v":""},{"$f":"IF(Puantaj!BD92=\"\",\"\",Puantaj!BD92)","v":""},{"$f":"IF(Puantaj!BE92=\"\",\"\",Puantaj!BE92)","v":""},{"$f":"IF(Puantaj!BF92=\"\",\"\",Puantaj!BF92)","v":""},{"$f":"IF(Puantaj!BG92=\"\",\"\",Puantaj!BG92)","v":""},{"$f":"IF(Puantaj!BH92=\"\",\"\",Puantaj!BH92)","v":""},{"$f":"IF(Puantaj!BI92=\"\",\"\",Puantaj!BI92)","v":""},{"$f":"IF(Puantaj!BJ92=\"\",\"\",Puantaj!BJ92)","v":""},{"$f":"IF(Puantaj!BK92=\"\",\"\",Puantaj!BK92)","v":""},{"$f":"IF(Puantaj!BL92=\"\",\"\",Puantaj!BL92)","v":""},{"$f":"IF(Puantaj!BM92=\"\",\"\",Puantaj!BM92)","v":""},0,null,0]
[0,{"$f":"Puantaj!C93","v":0},{"$f":"Puantaj!K93","v":""},{"$f":"Puantaj!O93","v":""},{"$f":"Puantaj!T93","v":0},{"$f":"IF(Puantaj!AE93=\"\",\"\",Puantaj!AE93)","v":""},{"$f":"IF(Puantaj!AF93=\"\",\"\",Puantaj!AF93)","v":""},{"$f":"IF(Puantaj!AG93=\"\",\"\",Puantaj!AG93)","v":""},{"$f":"IF(Puantaj!AH93=\"\",\"\",Puantaj!AH93)","v":""},{"$f":"IF(Puantaj!AI93=\"\",\"\",Puantaj!AI93)","v":""},{"$f":"IF(Puantaj!AJ93=\"\",\"\",Puantaj!AJ93)","v":""},{"$f":"IF(Puantaj!AK93=\"\",\"\",Puantaj!AK93)","v":""},{"$f":"IF(Puantaj!AL93=\"\",\"\",Puantaj!AL93)","v":""},{"$f":"IF(Puantaj!AM93=\"\",\"\",Puantaj!AM93)","v":""},{"$f":"IF(Puantaj!AN93=\"\",\"\",Puantaj!AN93)","v":""},{"$f":"IF(Puantaj!AO93=\"\",\"\",Puantaj!AO93)","v":""},{"$f":"IF(Puantaj!AP93=\"\",\"\",Puantaj!AP93)","v":""},{"$f":"IF(Puantaj!AQ93=\"\",\"\",Puantaj!AQ93)","v":""},{"$f":"IF(Puantaj!AR93=\"\",\"\",Puantaj!AR93)","v":""},{"$f":"IF(Puantaj!AS93=\"\",\"\",Puantaj!AS93)","v":""},{"$f":"IF(Puantaj!AT93=\"\",\"\",Puantaj!AT93)","v":""},{"$f":"IF(Puantaj!AU93=\"\",\"\",Puantaj!AU93)","v":""},{"$f":"IF(Puantaj!AV93=\"\",\"\",Puantaj!AV93)","v":""},{"$f":"IF(Puantaj!AW93=\"\",\"\",Puantaj!AW93)","v":""},{"$f":"IF(Puantaj!AX93=\"\",\"\",Puantaj!AX93)","v":""},{"$f":"IF(Puantaj!AY93=\"\",\"\",Puantaj!AY93)","v":""},{"$f":"IF(Puantaj!AZ93=\"\",\"\",Puantaj!AZ93)","v":""},{"$f":"IF(Puantaj!BA93=\"\",\"\",Puantaj!BA93)","v":""},{"$f":"IF(Puantaj!BB93=\"\",\"\",Puantaj!BB93)","v":""},{"$f":"IF(Puantaj!BC93=\"\",\"\",Puantaj!BC93)","v":""},{"$f":"IF(Puantaj!BD93=\"\",\"\",Puantaj!BD93)","v":""},{"$f":"IF(Puantaj!BE93=\"\",\"\",Puantaj!BE93)","v":""},{"$f":"IF(Puantaj!BF93=\"\",\"\",Puantaj!BF93)","v":""},{"$f":"IF(Puantaj!BG93=\"\",\"\",Puantaj!BG93)","v":""},{"$f":"IF(Puantaj!BH93=\"\",\"\",Puantaj!BH93)","v":""},{"$f":"IF(Puantaj!BI93=\"\",\"\",Puantaj!BI93)","v":""},{"$f":"IF(Puantaj!BJ93=\"\",\"\",Puantaj!BJ93)","v":""},{"$f":"IF(Puantaj!BK93=\"\",\"\",Puantaj!BK93)","v":""},{"$f":"IF(Puantaj!BL93=\"\",\"\",Puantaj!BL93)","v":""},{"$f":"IF(Puantaj!BM93=\"\",\"\",Puantaj!BM93)","v":""},0,null,0]
[0,{"$f":"Puantaj!C94","v":0},{"$f":"Puantaj!K94","v":""},{"$f":"Puantaj!O94","v":""},{"$f":"Puantaj!T94","v":0},{"$f":"IF(Puantaj!AE94=\"\",\"\",Puantaj!AE94)","v":""},{"$f":"IF(Puantaj!AF94=\"\",\"\",Puantaj!AF94)","v":""},{"$f":"IF(Puantaj!AG94=\"\",\"\",Puantaj!AG94)","v":""},{"$f":"IF(Puantaj!AH94=\"\",\"\",Puantaj!AH94)","v":""},{"$f":"IF(Puantaj!AI94=\"\",\"\",Puantaj!AI94)","v":""},{"$f":"IF(Puantaj!AJ94=\"\",\"\",Puantaj!AJ94)","v":""},{"$f":"IF(Puantaj!AK94=\"\",\"\",Puantaj!AK94)","v":""},{"$f":"IF(Puantaj!AL94=\"\",\"\",Puantaj!AL94)","v":""},{"$f":"IF(Puantaj!AM94=\"\",\"\",Puantaj!AM94)","v":""},{"$f":"IF(Puantaj!AN94=\"\",\"\",Puantaj!AN94)","v":""},{"$f":"IF(Puantaj!AO94=\"\",\"\",Puantaj!AO94)","v":""},{"$f":"IF(Puantaj!AP94=\"\",\"\",Puantaj!AP94)","v":""},{"$f":"IF(Puantaj!AQ94=\"\",\"\",Puantaj!AQ94)","v":""},{"$f":"IF(Puantaj!AR94=\"\",\"\",Puantaj!AR94)","v":""},{"$f":"IF(Puantaj!AS94=\"\",\"\",Puantaj!AS94)","v":""},{"$f":"IF(Puantaj!AT94=\"\",\"\",Puantaj!AT94)","v":""},{"$f":"IF(Puantaj!AU94=\"\",\"\",Puantaj!AU94)","v":""},{"$f":"IF(Puantaj!AV94=\"\",\"\",Puantaj!AV94)","v":""},{"$f":"IF(Puantaj!AW94=\"\",\"\",Puantaj!AW94)","v":""},{"$f":"IF(Puantaj!AX94=\"\",\"\",Puantaj!AX94)","v":""},{"$f":"IF(Puantaj!AY94=\"\",\"\",Puantaj!AY94)","v":""},{"$f":"IF(Puantaj!AZ94=\"\",\"\",Puantaj!AZ94)","v":""},{"$f":"IF(Puantaj!BA94=\"\",\"\",Puantaj!BA94)","v":""},{"$f":"IF(Puantaj!BB94=\"\",\"\",Puantaj!BB94)","v":""},{"$f":"IF(Puantaj!BC94=\"\",\"\",Puantaj!BC94)","v":""},{"$f":"IF(Puantaj!BD94=\"\",\"\",Puantaj!BD94)","v":""},{"$f":"IF(Puantaj!BE94=\"\",\"\",Puantaj!BE94)","v":""},{"$f":"IF(Puantaj!BF94=\"\",\"\",Puantaj!BF94)","v":""},{"$f":"IF(Puantaj!BG94=\"\",\"\",Puantaj!BG94)","v":""},{"$f":"IF(Puantaj!BH94=\"\",\"\",Puantaj!BH94)","v":""},{"$f":"IF(Puantaj!BI94=\"\",\"\",Puantaj!BI94)","v":""},{"$f":"IF(Puantaj!BJ94=\"\",\"\",Puantaj!BJ94)","v":""},{"$f":"IF(Puantaj!BK94=\"\",\"\",Puantaj!BK94)","v":""},{"$f":"IF(Puantaj!BL94=\"\",\"\",Puantaj!BL94)","v":""},{"$f":"IF(Puantaj!BM94=\"\",\"\",Puantaj!BM94)","v":""},0,null,0]
[0,{"$f":"Puantaj!C95","v":0},{"$f":"Puantaj!K95","v":""},{"$f":"Puantaj!O95","v":""},{"$f":"Puantaj!T95","v":0},{"$f":"IF(Puantaj!AE95=\"\",\"\",Puantaj!AE95)","v":""},{"$f":"IF(Puantaj!AF95=\"\",\"\",Puantaj!AF95)","v":""},{"$f":"IF(Puantaj!AG95=\"\",\"\",Puantaj!AG95)","v":""},{"$f":"IF(Puantaj!AH95=\"\",\"\",Puantaj!AH95)","v":""},{"$f":"IF(Puantaj!AI95=\"\",\"\",Puantaj!AI95)","v":""},{"$f":"IF(Puantaj!AJ95=\"\",\"\",Puantaj!AJ95)","v":""},{"$f":"IF(Puantaj!AK95=\"\",\"\",Puantaj!AK95)","v":""},{"$f":"IF(Puantaj!AL95=\"\",\"\",Puantaj!AL95)","v":""},{"$f":"IF(Puantaj!AM95=\"\",\"\",Puantaj!AM95)","v":""},{"$f":"IF(Puantaj!AN95=\"\",\"\",Puantaj!AN95)","v":""},{"$f":"IF(Puantaj!AO95=\"\",\"\",Puantaj!AO95)","v":""},{"$f":"IF(Puantaj!AP95=\"\",\"\",Puantaj!AP95)","v":""},{"$f":"IF(Puantaj!AQ95=\"\",\"\",Puantaj!AQ95)","v":""},{"$f":"IF(Puantaj!AR95=\"\",\"\",Puantaj!AR95)","v":""},{"$f":"IF(Puantaj!AS95=\"\",\"\",Puantaj!AS95)","v":""},{"$f":"IF(Puantaj!AT95=\"\",\"\",Puantaj!AT95)","v":""},{"$f":"IF(Puantaj!AU95=\"\",\"\",Puantaj!AU95)","v":""},{"$f":"IF(Puantaj!AV95=\"\",\"\",Puantaj!AV95)","v":""},{"$f":"IF(Puantaj!AW95=\"\",\"\",Puantaj!AW95)","v":""},{"$f":"IF(Puantaj!AX95=\"\",\"\",Puantaj!AX95)","v":""},{"$f":"IF(Puantaj!AY95=\"\",\"\",Puantaj!AY95)","v":""},{"$f":"IF(Puantaj!AZ95=\"\",\"\",Puantaj!AZ95)","v":""},{"$f":"IF(Puantaj!BA95=\"\",\"\",Puantaj!BA95)","v":""},{"$f":"IF(Puantaj!BB95=\"\",\"\",Puantaj!BB95)","v":""},{"$f":"IF(Puantaj!BC95=\"\",\"\",Puantaj!BC95)","v":""},{"$f":"IF(Puantaj!BD95=\"\",\"\",Puantaj!BD95)","v":""},{"$f":"IF(Puantaj!BE95=\"\",\"\",Puantaj!BE95)","v":""},{"$f":"IF(Puantaj!BF95=\"\",\"\",Puantaj!BF95)","v":""},{"$f":"IF(Puantaj!BG95=\"\",\"\",Puantaj!BG95)","v":""},{"$f":"IF(Puantaj!BH95=\"\",\"\",Puantaj!BH95)","v":""},{"$f":"IF(Puantaj!BI95=\"\",\"\",Puantaj!BI95)","v":""},{"$f":"IF(Puantaj!BJ95=\"\",\"\",Puantaj!BJ95)","v":""},{"$f":"IF(Puantaj!BK95=\"\",\"\",Puantaj!BK95)","v":""},{"$f":"IF(Puantaj!BL95=\"\",\"\",Puantaj!BL95)","v":""},{"$f":"IF(Puantaj!BM95=\"\",\"\",Puantaj!BM95)","v":""},0,null,0]
[0,{"$f":"Puantaj!C96","v":0},{"$f":"Puantaj!K96","v":""},{"$f":"Puantaj!O96","v":""},{"$f":"Puantaj!T96","v":0},{"$f":"IF(Puantaj!AE96=\"\",\"\",Puantaj!AE96)","v":""},{"$f":"IF(Puantaj!AF96=\"\",\"\",Puantaj!AF96)","v":""},{"$f":"IF(Puantaj!AG96=\"\",\"\",Puantaj!AG96)","v":""},{"$f":"IF(Puantaj!AH96=\"\",\"\",Puantaj!AH96)","v":""},{"$f":"IF(Puantaj!AI96=\"\",\"\",Puantaj!AI96)","v":""},{"$f":"IF(Puantaj!AJ96=\"\",\"\",Puantaj!AJ96)","v":""},{"$f":"IF(Puantaj!AK96=\"\",\"\",Puantaj!AK96)","v":""},{"$f":"IF(Puantaj!AL96=\"\",\"\",Puantaj!AL96)","v":""},{"$f":"IF(Puantaj!AM96=\"\",\"\",Puantaj!AM96)","v":""},{"$f":"IF(Puantaj!AN96=\"\",\"\",Puantaj!AN96)","v":""},{"$f":"IF(Puantaj!AO96=\"\",\"\",Puantaj!AO96)","v":""},{"$f":"IF(Puantaj!AP96=\"\",\"\",Puantaj!AP96)","v":""},{"$f":"IF(Puantaj!AQ96=\"\",\"\",Puantaj!AQ96)","v":""},{"$f":"IF(Puantaj!AR96=\"\",\"\",Puantaj!AR96)","v":""},{"$f":"IF(Puantaj!AS96=\"\",\"\",Puantaj!AS96)","v":""},{"$f":"IF(Puantaj!AT96=\"\",\"\",Puantaj!AT96)","v":""},{"$f":"IF(Puantaj!AU96=\"\",\"\",Puantaj!AU96)","v":""},{"$f":"IF(Puantaj!AV96=\"\",\"\",Puantaj!AV96)","v":""},{"$f":"IF(Puantaj!AW96=\"\",\"\",Puantaj!AW96)","v":""},{"$f":"IF(Puantaj!AX96=\"\",\"\",Puantaj!AX96)","v":""},{"$f":"IF(Puantaj!AY96=\"\",\"\",Puantaj!AY96)","v":""},{"$f":"IF(Puantaj!AZ96=\"\",\"\",Puantaj!AZ96)","v":""},{"$f":"IF(Puantaj!BA96=\"\",\"\",Puantaj!BA96)","v":""},{"$f":"IF(Puantaj!BB96=\"\",\"\",Puantaj!BB96)","v":""},{"$f":"IF(Puantaj!BC96=\"\",\"\",Puantaj!BC96)","v":""},{"$f":"IF(Puantaj!BD96=\"\",\"\",Puantaj!BD96)","v":""},{"$f":"IF(Puantaj!BE96=\"\",\"\",Puantaj!BE96)","v":""},{"$f":"IF(Puantaj!BF96=\"\",\"\",Puantaj!BF96)","v":""},{"$f":"IF(Puantaj!BG96=\"\",\"\",Puantaj!BG96)","v":""},{"$f":"IF(Puantaj!BH96=\"\",\"\",Puantaj!BH96)","v":""},{"$f":"IF(Puantaj!BI96=\"\",\"\",Puantaj!BI96)","v":""},{"$f":"IF(Puantaj!BJ96=\"\",\"\",Puantaj!BJ96)","v":""},{"$f":"IF(Puantaj!BK96=\"\",\"\",Puantaj!BK96)","v":""},{"$f":"IF(Puantaj!BL96=\"\",\"\",Puantaj!BL96)","v":""},{"$f":"IF(Puantaj!BM96=\"\",\"\",Puantaj!BM96)","v":""},0,null,0]
[0,{"$f":"Puantaj!C97","v":0},{"$f":"Puantaj!K97","v":""},{"$f":"Puantaj!O97","v":""},{"$f":"Puantaj!T97","v":0},{"$f":"IF(Puantaj!AE97=\"\",\"\",Puantaj!AE97)","v":""},{"$f":"IF(Puantaj!AF97=\"\",\"\",Puantaj!AF97)","v":""},{"$f":"IF(Puantaj!AG97=\"\",\"\",Puantaj!AG97)","v":""},{"$f":"IF(Puantaj!AH97=\"\",\"\",Puantaj!AH97)","v":""},{"$f":"IF(Puantaj!AI97=\"\",\"\",Puantaj!AI97)","v":""},{"$f":"IF(Puantaj!AJ97=\"\",\"\",Puantaj!AJ97)","v":""},{"$f":"IF(Puantaj!AK97=\"\",\"\",Puantaj!AK97)","v":""},{"$f":"IF(Puantaj!AL97=\"\",\"\",Puantaj!AL97)","v":""},{"$f":"IF(Puantaj!AM97=\"\",\"\",Puantaj!AM97)","v":""},{"$f":"IF(Puantaj!AN97=\"\",\"\",Puantaj!AN97)","v":""},{"$f":"IF(Puantaj!AO97=\"\",\"\",Puantaj!AO97)","v":""},{"$f":"IF(Puantaj!AP97=\"\",\"\",Puantaj!AP97)","v":""},{"$f":"IF(Puantaj!AQ97=\"\",\"\",Puantaj!AQ97)","v":""},{"$f":"IF(Puantaj!AR97=\"\",\"\",Puantaj!AR97)","v":""},{"$f":"IF(Puantaj!AS97=\"\",\"\",Puantaj!AS97)","v":""},{"$f":"IF(Puantaj!AT97=\"\",\"\",Puantaj!AT97)","v":""},{"$f":"IF(Puantaj!AU97=\"\",\"\",Puantaj!AU97)","v":""},{"$f":"IF(Puantaj!AV97=\"\",\"\",Puantaj!AV97)","v":""},{"$f":"IF(Puantaj!AW97=\"\",\"\",Puantaj!AW97)","v":""},{"$f":"IF(Puantaj!AX97=\"\",\"\",Puantaj!AX97)","v":""},{"$f":"IF(Puantaj!AY97=\"\",\"\",Puantaj!AY97)","v":""},{"$f":"IF(Puantaj!AZ97=\"\",\"\",Puantaj!AZ97)","v":""},{"$f":"IF(Puantaj!BA97=\"\",\"\",Puantaj!BA97)","v":""},{"$f":"IF(Puantaj!BB97=\"\",\"\",Puantaj!BB97)","v":""},{"$f":"IF(Puantaj!BC97=\"\",\"\",Puantaj!BC97)","v":""},{"$f":"IF(Puantaj!BD97=\"\",\"\",Puantaj!BD97)","v":""},{"$f":"IF(Puantaj!BE97=\"\",\"\",Puantaj!BE97)","v":""},{"$f":"IF(Puantaj!BF97=\"\",\"\",Puantaj!BF97)","v":""},{"$f":"IF(Puantaj!BG97=\"\",\"\",Puantaj!BG97)","v":""},{"$f":"IF(Puantaj!BH97=\"\",\"\",Puantaj!BH97)","v":""},{"$f":"IF(Puantaj!BI97=\"\",\"\",Puantaj!BI97)","v":""},{"$f":"IF(Puantaj!BJ97=\"\",\"\",Puantaj!BJ97)","v":""},{"$f":"IF(Puantaj!BK97=\"\",\"\",Puantaj!BK97)","v":""},{"$f":"IF(Puantaj!BL97=\"\",\"\",Puantaj!BL97)","v":""},{"$f":"IF(Puantaj!BM97=\"\",\"\",Puantaj!BM97)","v":""},0,null,0]
[0,{"$f":"Puantaj!C98","v":0},{"$f":"Puantaj!K98","v":""},{"$f":"Puantaj!O98","v":""},{"$f":"Puantaj!T98","v":0},{"$f":"IF(Puantaj!AE98=\"\",\"\",Puantaj!AE98)","v":""},{"$f":"IF(Puantaj!AF98=\"\",\"\",Puantaj!AF98)","v":""},{"$f":"IF(Puantaj!AG98=\"\",\"\",Puantaj!AG98)","v":""},{"$f":"IF(Puantaj!AH98=\"\",\"\",Puantaj!AH98)","v":""},{"$f":"IF(Puantaj!AI98=\"\",\"\",Puantaj!AI98)","v":""},{"$f":"IF(Puantaj!AJ98=\"\",\"\",Puantaj!AJ98)","v":""},{"$f":"IF(Puantaj!AK98=\"\",\"\",Puantaj!AK98)","v":""},{"$f":"IF(Puantaj!AL98=\"\",\"\",Puantaj!AL98)","v":""},{"$f":"IF(Puantaj!AM98=\"\",\"\",Puantaj!AM98)","v":""},{"$f":"IF(Puantaj!AN98=\"\",\"\",Puantaj!AN98)","v":""},{"$f":"IF(Puantaj!AO98=\"\",\"\",Puantaj!AO98)","v":""},{"$f":"IF(Puantaj!AP98=\"\",\"\",Puantaj!AP98)","v":""},{"$f":"IF(Puantaj!AQ98=\"\",\"\",Puantaj!AQ98)","v":""},{"$f":"IF(Puantaj!AR98=\"\",\"\",Puantaj!AR98)","v":""},{"$f":"IF(Puantaj!AS98=\"\",\"\",Puantaj!AS98)","v":""},{"$f":"IF(Puantaj!AT98=\"\",\"\",Puantaj!AT98)","v":""},{"$f":"IF(Puantaj!AU98=\"\",\"\",Puantaj!AU98)","v":""},{"$f":"IF(Puantaj!AV98=\"\",\"\",Puantaj!AV98)","v":""},{"$f":"IF(Puantaj!AW98=\"\",\"\",Puantaj!AW98)","v":""},{"$f":"IF(Puantaj!AX98=\"\",\"\",Puantaj!AX98)","v":""},{"$f":"IF(Puantaj!AY98=\"\",\"\",Puantaj!AY98)","v":""},{"$f":"IF(Puantaj!AZ98=\"\",\"\",Puantaj!AZ98)","v":""},{"$f":"IF(Puantaj!BA98=\"\",\"\",Puantaj!BA98)","v":""},{"$f":"IF(Puantaj!BB98=\"\",\"\",Puantaj!BB98)","v":""},{"$f":"IF(Puantaj!BC98=\"\",\"\",Puantaj!BC98)","v":""},{"$f":"IF(Puantaj!BD98=\"\",\"\",Puantaj!BD98)","v":""},{"$f":"IF(Puantaj!BE98=\"\",\"\",Puantaj!BE98)","v":""},{"$f":"IF(Puantaj!BF98=\"\",\"\",Puantaj!BF98)","v":""},{"$f":"IF(Puantaj!BG98=\"\",\"\",Puantaj!BG98)","v":""},{"$f":"IF(Puantaj!BH98=\"\",\"\",Puantaj!BH98)","v":""},{"$f":"IF(Puantaj!BI98=\"\",\"\",Puantaj!BI98)","v":""},{"$f":"IF(Puantaj!BJ98=\"\",\"\",Puantaj!BJ98)","v":""},{"$f":"IF(Puantaj!BK98=\"\",\"\",Puantaj!BK98)","v":""},{"$f":"IF(Puantaj!BL98=\"\",\"\",Puantaj!BL98)","v":""},{"$f":"IF(Puantaj!BM98=\"\",\"\",Puantaj!BM98)","v":""},0,null,0]
[0,{"$f":"Puantaj!C99","v":0},{"$f":"Puantaj!K99","v":""},{"$f":"Puantaj!O99","v":""},{"$f":"Puantaj!T99","v":0},{"$f":"IF(Puantaj!AE99=\"\",\"\",Puantaj!AE99)","v":""},{"$f":"IF(Puantaj!AF99=\"\",\"\",Puantaj!AF99)","v":""},{"$f":"IF(Puantaj!AG99=\"\",\"\",Puantaj!AG99)","v":""},{"$f":"IF(Puantaj!AH99=\"\",\"\",Puantaj!AH99)","v":""},{"$f":"IF(Puantaj!AI99=\"\",\"\",Puantaj!AI99)","v":""},{"$f":"IF(Puantaj!AJ99=\"\",\"\",Puantaj!AJ99)","v":""},{"$f":"IF(Puantaj!AK99=\"\",\"\",Puantaj!AK99)","v":""},{"$f":"IF(Puantaj!AL99=\"\",\"\",Puantaj!AL99)","v":""},{"$f":"IF(Puantaj!AM99=\"\",\"\",Puantaj!AM99)","v":""},{"$f":"IF(Puantaj!AN99=\"\",\"\",Puantaj!AN99)","v":""},{"$f":"IF(Puantaj!AO99=\"\",\"\",Puantaj!AO99)","v":""},{"$f":"IF(Puantaj!AP99=\"\",\"\",Puantaj!AP99)","v":""},{"$f":"IF(Puantaj!AQ99=\"\",\"\",Puantaj!AQ99)","v":""},{"$f":"IF(Puantaj!AR99=\"\",\"\",Puantaj!AR99)","v":""},{"$f":"IF(Puantaj!AS99=\"\",\"\",Puantaj!AS99)","v":""},{"$f":"IF(Puantaj!AT99=\"\",\"\",Puantaj!AT99)","v":""},{"$f":"IF(Puantaj!AU99=\"\",\"\",Puantaj!AU99)","v":""},{"$f":"IF(Puantaj!AV99=\"\",\"\",Puantaj!AV99)","v":""},{"$f":"IF(Puantaj!AW99=\"\",\"\",Puantaj!AW99)","v":""},{"$f":"IF(Puantaj!AX99=\"\",\"\",Puantaj!AX99)","v":""},{"$f":"IF(Puantaj!AY99=\"\",\"\",Puantaj!AY99)","v":""},{"$f":"IF(Puantaj!AZ99=\"\",\"\",Puantaj!AZ99)","v":""},{"$f":"IF(Puantaj!BA99=\"\",\"\",Puantaj!BA99)","v":""},{"$f":"IF(Puantaj!BB99=\"\",\"\",Puantaj!BB99)","v":""},{"$f":"IF(Puantaj!BC99=\"\",\"\",Puantaj!BC99)","v":""},{"$f":"IF(Puantaj!BD99=\"\",\"\",Puantaj!BD99)","v":""},{"$f":"IF(Puantaj!BE99=\"\",\"\",Puantaj!BE99)","v":""},{"$f":"IF(Puantaj!BF99=\"\",\"\",Puantaj!BF99)","v":""},{"$f":"IF(Puantaj!BG99=\"\",\"\",Puantaj!BG99)","v":""},{"$f":"IF(Puantaj!BH99=\"\",\"\",Puantaj!BH99)","v":""},{"$f":"IF(Puantaj!BI99=\"\",\"\",Puantaj!BI99)","v":""},{"$f":"IF(Puantaj!BJ99=\"\",\"\",Puantaj!BJ99)","v":""},{"$f":"IF(Puantaj!BK99=\"\",\"\",Puantaj!BK99)","v":""},{"$f":"IF(Puantaj!BL99=\"\",\"\",Puantaj!BL99)","v":""},{"$f":"IF(Puantaj!BM99=\"\",\"\",Puantaj!BM99)","v":""},0,null,0]
[0,{"$f":"Puantaj!C100","v":0},{"$f":"Puantaj!K100","v":""},{"$f":"Puantaj!O100","v":""},{"$f":"Puantaj!T100","v":0},{"$f":"IF(Puantaj!AE100=\"\",\"\",Puantaj!AE100)","v":""},{"$f":"IF(Puantaj!AF100=\"\",\"\",Puantaj!AF100)","v":""},{"$f":"IF(Puantaj!AG100=\"\",\"\",Puantaj!AG100)","v":""},{"$f":"IF(Puantaj!AH100=\"\",\"\",Puantaj!AH100)","v":""},{"$f":"IF(Puantaj!AI100=\"\",\"\",Puantaj!AI100)","v":""},{"$f":"IF(Puantaj!AJ100=\"\",\"\",Puantaj!AJ100)","v":""},{"$f":"IF(Puantaj!AK100=\"\",\"\",Puantaj!AK100)","v":""},{"$f":"IF(Puantaj!AL100=\"\",\"\",Puantaj!AL100)","v":""},{"$f":"IF(Puantaj!AM100=\"\",\"\",Puantaj!AM100)","v":""},{"$f":"IF(Puantaj!AN100=\"\",\"\",Puantaj!AN100)","v":""},{"$f":"IF(Puantaj!AO100=\"\",\"\",Puantaj!AO100)","v":""},{"$f":"IF(Puantaj!AP100=\"\",\"\",Puantaj!AP100)","v":""},{"$f":"IF(Puantaj!AQ100=\"\",\"\",Puantaj!AQ100)","v":""},{"$f":"IF(Puantaj!AR100=\"\",\"\",Puantaj!AR100)","v":""},{"$f":"IF(Puantaj!AS100=\"\",\"\",Puantaj!AS100)","v":""},{"$f":"IF(Puantaj!AT100=\"\",\"\",Puantaj!AT100)","v":""},{"$f":"IF(Puantaj!AU100=\"\",\"\",Puantaj!AU100)","v":""},{"$f":"IF(Puantaj!AV100=\"\",\"\",Puantaj!AV100)","v":""},{"$f":"IF(Puantaj!AW100=\"\",\"\",Puantaj!AW100)","v":""},{"$f":"IF(Puantaj!AX100=\"\",\"\",Puantaj!AX100)","v":""},{"$f":"IF(Puantaj!AY100=\"\",\"\",Puantaj!AY100)","v":""},{"$f":"IF(Puantaj!AZ100=\"\",\"\",Puantaj!AZ100)","v":""},{"$f":"IF(Puantaj!BA100=\"\",\"\",Puantaj!BA100)","v":""},{"$f":"IF(Puantaj!BB100=\"\",\"\",Puantaj!BB100)","v":""},{"$f":"IF(Puantaj!BC100=\"\",\"\",Puantaj!BC100)","v":""},{"$f":"IF(Puantaj!BD100=\"\",\"\",Puantaj!BD100)","v":""},{"$f":"IF(Puantaj!BE100=\"\",\"\",Puantaj!BE100)","v":""},{"$f":"IF(Puantaj!BF100=\"\",\"\",Puantaj!BF100)","v":""},{"$f":"IF(Puantaj!BG100=\"\",\"\",Puantaj!BG100)","v":""},{"$f":"IF(Puantaj!BH100=\"\",\"\",Puantaj!BH100)","v":""},{"$f":"IF(Puantaj!BI100=\"\",\"\",Puantaj!BI100)","v":""},{"$f":"IF(Puantaj!BJ100=\"\",\"\",Puantaj!BJ100)","v":""},{"$f":"IF(Puantaj!BK100=\"\",\"\",Puantaj!BK100)","v":""},{"$f":"IF(Puantaj!BL100=\"\",\"\",Puantaj!BL100)","v":""},{"$f":"IF(Puantaj!BM100=\"\",\"\",Puantaj!BM100)","v":""},0,null,0]
[0,{"$f":"Puantaj!C101","v":0},{"$f":"Puantaj!K101","v":""},{"$f":"Puantaj!O101","v":""},{"$f":"Puantaj!T101","v":0},{"$f":"IF(Puantaj!AE101=\"\",\"\",Puantaj!AE101)","v":""},{"$f":"IF(Puantaj!AF101=\"\",\"\",Puantaj!AF101)","v":""},{"$f":"IF(Puantaj!AG101=\"\",\"\",Puantaj!AG101)","v":""},{"$f":"IF(Puantaj!AH101=\"\",\"\",Puantaj!AH101)","v":""},{"$f":"IF(Puantaj!AI101=\"\",\"\",Puantaj!AI101)","v":""},{"$f":"IF(Puantaj!AJ101=\"\",\"\",Puantaj!AJ101)","v":""},{"$f":"IF(Puantaj!AK101=\"\",\"\",Puantaj!AK101)","v":""},{"$f":"IF(Puantaj!AL101=\"\",\"\",Puantaj!AL101)","v":""},{"$f":"IF(Puantaj!AM101=\"\",\"\",Puantaj!AM101)","v":""},{"$f":"IF(Puantaj!AN101=\"\",\"\",Puantaj!AN101)","v":""},{"$f":"IF(Puantaj!AO101=\"\",\"\",Puantaj!AO101)","v":""},{"$f":"IF(Puantaj!AP101=\"\",\"\",Puantaj!AP101)","v":""},{"$f":"IF(Puantaj!AQ101=\"\",\"\",Puantaj!AQ101)","v":""},{"$f":"IF(Puantaj!AR101=\"\",\"\",Puantaj!AR101)","v":""},{"$f":"IF(Puantaj!AS101=\"\",\"\",Puantaj!AS101)","v":""},{"$f":"IF(Puantaj!AT101=\"\",\"\",Puantaj!AT101)","v":""},{"$f":"IF(Puantaj!AU101=\"\",\"\",Puantaj!AU101)","v":""},{"$f":"IF(Puantaj!AV101=\"\",\"\",Puantaj!AV101)","v":""},{"$f":"IF(Puantaj!AW101=\"\",\"\",Puantaj!AW101)","v":""},{"$f":"IF(Puantaj!AX101=\"\",\"\",Puantaj!AX101)","v":""},{"$f":"IF(Puantaj!AY101=\"\",\"\",Puantaj!AY101)","v":""},{"$f":"IF(Puantaj!AZ101=\"\",\"\",Puantaj!AZ101)","v":""},{"$f":"IF(Puantaj!BA101=\"\",\"\",Puantaj!BA101)","v":""},{"$f":"IF(Puantaj!BB101=\"\",\"\",Puantaj!BB101)","v":""},{"$f":"IF(Puantaj!BC101=\"\",\"\",Puantaj!BC101)","v":""},{"$f":"IF(Puantaj!BD101=\"\",\"\",Puantaj!BD101)","v":""},{"$f":"IF(Puantaj!BE101=\"\",\"\",Puantaj!BE101)","v":""},{"$f":"IF(Puantaj!BF101=\"\",\"\",Puantaj!BF101)","v":""},{"$f":"IF(Puantaj!BG101=\"\",\"\",Puantaj!BG101)","v":""},{"$f":"IF(Puantaj!BH101=\"\",\"\",Puantaj!BH101)","v":""},{"$f":"IF(Puantaj!BI101=\"\",\"\",Puantaj!BI101)","v":""},{"$f":"IF(Puantaj!BJ101=\"\",\"\",Puantaj!BJ101)","v":""},{"$f":"IF(Puantaj!BK101=\"\",\"\",Puantaj!BK101)","v":""},{"$f":"IF(Puantaj!BL101=\"\",\"\",Puantaj!BL101)","v":""},{"$f":"IF(Puantaj!BM101=\"\",\"\",Puantaj!BM101)","v":""},0,null,0]
[0,{"$f":"Puantaj!C102","v":0},{"$f":"Puantaj!K102","v":""},{"$f":"Puantaj!O102","v":""},{"$f":"Puantaj!T102","v":0},{"$f":"IF(Puantaj!AE102=\"\",\"\",Puantaj!AE102)","v":""},{"$f":"IF(Puantaj!AF102=\"\",\"\",Puantaj!AF102)","v":""},{"$f":"IF(Puantaj!AG102=\"\",\"\",Puantaj!AG102)","v":""},{"$f":"IF(Puantaj!AH102=\"\",\"\",Puantaj!AH102)","v":""},{"$f":"IF(Puantaj!AI102=\"\",\"\",Puantaj!AI102)","v":""},{"$f":"IF(Puantaj!AJ102=\"\",\"\",Puantaj!AJ102)","v":""},{"$f":"IF(Puantaj!AK102=\"\",\"\",Puantaj!AK102)","v":""},{"$f":"IF(Puantaj!AL102=\"\",\"\",Puantaj!AL102)","v":""},{"$f":"IF(Puantaj!AM102=\"\",\"\",Puantaj!AM102)","v":""},{"$f":"IF(Puantaj!AN102=\"\",\"\",Puantaj!AN102)","v":""},{"$f":"IF(Puantaj!AO102=\"\",\"\",Puantaj!AO102)","v":""},{"$f":"IF(Puantaj!AP102=\"\",\"\",Puantaj!AP102)","v":""},{"$f":"IF(Puantaj!AQ102=\"\",\"\",Puantaj!AQ102)","v":""},{"$f":"IF(Puantaj!AR102=\"\",\"\",Puantaj!AR102)","v":""},{"$f":"IF(Puantaj!AS102=\"\",\"\",Puantaj!AS102)","v":""},{"$f":"IF(Puantaj!AT102=\"\",\"\",Puantaj!AT102)","v":""},{"$f":"IF(Puantaj!AU102=\"\",\"\",Puantaj!AU102)","v":""},{"$f":"IF(Puantaj!AV102=\"\",\"\",Puantaj!AV102)","v":""},{"$f":"IF(Puantaj!AW102=\"\",\"\",Puantaj!AW102)","v":""},{"$f":"IF(Puantaj!AX102=\"\",\"\",Puantaj!AX102)","v":""},{"$f":"IF(Puantaj!AY102=\"\",\"\",Puantaj!AY102)","v":""},{"$f":"IF(Puantaj!AZ102=\"\",\"\",Puantaj!AZ102)","v":""},{"$f":"IF(Puantaj!BA102=\"\",\"\",Puantaj!BA102)","v":""},{"$f":"IF(Puantaj!BB102=\"\",\"\",Puantaj!BB102)","v":""},{"$f":"IF(Puantaj!BC102=\"\",\"\",Puantaj!BC102)","v":""},{"$f":"IF(Puantaj!BD102=\"\",\"\",Puantaj!BD102)","v":""},{"$f":"IF(Puantaj!BE102=\"\",\"\",Puantaj!BE102)","v":""},{"$f":"IF(Puantaj!BF102=\"\",\"\",Puantaj!BF102)","v":""},{"$f":"IF(Puantaj!BG102=\"\",\"\",Puantaj!BG102)","v":""},{"$f":"IF(Puantaj!BH102=\"\",\"\",Puantaj!BH102)","v":""},{"$f":"IF(Puantaj!BI102=\"\",\"\",Puantaj!BI102)","v":""},{"$f":"IF(Puantaj!BJ102=\"\",\"\",Puantaj!BJ102)","v":""},{"$f":"IF(Puantaj!BK102=\"\",\"\",Puantaj!BK102)","v":""},{"$f":"IF(Puantaj!BL102=\"\",\"\",Puantaj!BL102)","v":""},{"$f":"IF(Puantaj!BM102=\"\",\"\",Puantaj!BM102)","v":""},0,null,0]
[0,{"$f":"Puantaj!C103","v":0},{"$f":"Puantaj!K103","v":""},{"$f":"Puantaj!O103","v":""},{"$f":"Puantaj!T103","v":0},{"$f":"IF(Puantaj!AE103=\"\",\"\",Puantaj!AE103)","v":""},{"$f":"IF(Puantaj!AF103=\"\",\"\",Puantaj!AF103)","v":""},{"$f":"IF(Puantaj!AG103=\"\",\"\",Puantaj!AG103)","v":""},{"$f":"IF(Puantaj!AH103=\"\",\"\",Puantaj!AH103)","v":""},{"$f":"IF(Puantaj!AI103=\"\",\"\",Puantaj!AI103)","v":""},{"$f":"IF(Puantaj!AJ103=\"\",\"\",Puantaj!AJ103)","v":""},{"$f":"IF(Puantaj!AK103=\"\",\"\",Puantaj!AK103)","v":""},{"$f":"IF(Puantaj!AL103=\"\",\"\",Puantaj!AL103)","v":""},{"$f":"IF(Puantaj!AM103=\"\",\"\",Puantaj!AM103)","v":""},{"$f":"IF(Puantaj!AN103=\"\",\"\",Puantaj!AN103)","v":""},{"$f":"IF(Puantaj!AO103=\"\",\"\",Puantaj!AO103)","v":""},{"$f":"IF(Puantaj!AP103=\"\",\"\",Puantaj!AP103)","v":""},{"$f":"IF(Puantaj!AQ103=\"\",\"\",Puantaj!AQ103)","v":""},{"$f":"IF(Puantaj!AR103=\"\",\"\",Puantaj!AR103)","v":""},{"$f":"IF(Puantaj!AS103=\"\",\"\",Puantaj!AS103)","v":""},{"$f":"IF(Puantaj!AT103=\"\",\"\",Puantaj!AT103)","v":""},{"$f":"IF(Puantaj!AU103=\"\",\"\",Puantaj!AU103)","v":""},{"$f":"IF(Puantaj!AV103=\"\",\"\",Puantaj!AV103)","v":""},{"$f":"IF(Puantaj!AW103=\"\",\"\",Puantaj!AW103)","v":""},{"$f":"IF(Puantaj!AX103=\"\",\"\",Puantaj!AX103)","v":""},{"$f":"IF(Puantaj!AY103=\"\",\"\",Puantaj!AY103)","v":""},{"$f":"IF(Puantaj!AZ103=\"\",\"\",Puantaj!AZ103)","v":""},{"$f":"IF(Puantaj!BA103=\"\",\"\",Puantaj!BA103)","v":""},{"$f":"IF(Puantaj!BB103=\"\",\"\",Puantaj!BB103)","v":""},{"$f":"IF(Puantaj!BC103=\"\",\"\",Puantaj!BC103)","v":""},{"$f":"IF(Puantaj!BD103=\"\",\"\",Puantaj!BD103)","v":""},{"$f":"IF(Puantaj!BE103=\"\",\"\",Puantaj!BE103)","v":""},{"$f":"IF(Puantaj!BF103=\"\",\"\",Puantaj!BF103)","v":""},{"$f":"IF(Puantaj!BG103=\"\",\"\",Puantaj!BG103)","v":""},{"$f":"IF(Puantaj!BH103=\"\",\"\",Puantaj!BH103)","v":""},{"$f":"IF(Puantaj!BI103=\"\",\"\",Puantaj!BI103)","v":""},{"$f":"IF(Puantaj!BJ103=\"\",\"\",Puantaj!BJ103)","v":""},{"$f":"IF(Puantaj!BK103=\"\",\"\",Puantaj!BK103)","v":""},{"$f":"IF(Puantaj!BL103=\"\",\"\",Puantaj!BL103)","v":""},{"$f":"IF(Puantaj!BM103=\"\",\"\",Puantaj!BM103)","v":""},0,null,0]
[0,{"$f":"Puantaj!C104","v":0},{"$f":"Puantaj!K104","v":""},{"$f":"Puantaj!O104","v":""},{"$f":"Puantaj!T104","v":0},{"$f":"IF(Puantaj!AE104=\"\",\"\",Puantaj!AE104)","v":""},{"$f":"IF(Puantaj!AF104=\"\",\"\",Puantaj!AF104)","v":""},{"$f":"IF(Puantaj!AG104=\"\",\"\",Puantaj!AG104)","v":""},{"$f":"IF(Puantaj!AH104=\"\",\"\",Puantaj!AH104)","v":""},{"$f":"IF(Puantaj!AI104=\"\",\"\",Puantaj!AI104)","v":""},{"$f":"IF(Puantaj!AJ104=\"\",\"\",Puantaj!AJ104)","v":""},{"$f":"IF(Puantaj!AK104=\"\",\"\",Puantaj!AK104)","v":""},{"$f":"IF(Puantaj!AL104=\"\",\"\",Puantaj!AL104)","v":""},{"$f":"IF(Puantaj!AM104=\"\",\"\",Puantaj!AM104)","v":""},{"$f":"IF(Puantaj!AN104=\"\",\"\",Puantaj!AN104)","v":""},{"$f":"IF(Puantaj!AO104=\"\",\"\",Puantaj!AO104)","v":""},{"$f":"IF(Puantaj!AP104=\"\",\"\",Puantaj!AP104)","v":""},{"$f":"IF(Puantaj!AQ104=\"\",\"\",Puantaj!AQ104)","v":""},{"$f":"IF(Puantaj!AR104=\"\",\"\",Puantaj!AR104)","v":""},{"$f":"IF(Puantaj!AS104=\"\",\"\",Puantaj!AS104)","v":""},{"$f":"IF(Puantaj!AT104=\"\",\"\",Puantaj!AT104)","v":""},{"$f":"IF(Puantaj!AU104=\"\",\"\",Puantaj!AU104)","v":""},{"$f":"IF(Puantaj!AV104=\"\",\"\",Puantaj!AV104)","v":""},{"$f":"IF(Puantaj!AW104=\"\",\"\",Puantaj!AW104)","v":""},{"$f":"IF(Puantaj!AX104=\"\",\"\",Puantaj!AX104)","v":""},{"$f":"IF(Puantaj!AY104=\"\",\"\",Puantaj!AY104)","v":""},{"$f":"IF(Puantaj!AZ104=\"\",\"\",Puantaj!AZ104)","v":""},{"$f":"IF(Puantaj!BA104=\"\",\"\",Puantaj!BA104)","v":""},{"$f":"IF(Puantaj!BB104=\"\",\"\",Puantaj!BB104)","v":""},{"$f":"IF(Puantaj!BC104=\"\",\"\",Puantaj!BC104)","v":""},{"$f":"IF(Puantaj!BD104=\"\",\"\",Puantaj!BD104)","v":""},{"$f":"IF(Puantaj!BE104=\"\",\"\",Puantaj!BE104)","v":""},{"$f":"IF(Puantaj!BF104=\"\",\"\",Puantaj!BF104)","v":""},{"$f":"IF(Puantaj!BG104=\"\",\"\",Puantaj!BG104)","v":""},{"$f":"IF(Puantaj!BH104=\"\",\"\",Puantaj!BH104)","v":""},{"$f":"IF(Puantaj!BI104=\"\",\"\",Puantaj!BI104)","v":""},{"$f":"IF(Puantaj!BJ104=\"\",\"\",Puantaj!BJ104)","v":""},{"$f":"IF(Puantaj!BK104=\"\",\"\",Puantaj!BK104)","v":""},{"$f":"IF(Puantaj!BL104=\"\",\"\",Puantaj!BL104)","v":""},{"$f":"IF(Puantaj!BM104=\"\",\"\",Puantaj!BM104)","v":""},0,null,0]
[0,{"$f":"Puantaj!C105","v":0},{"$f":"Puantaj!K105","v":""},{"$f":"Puantaj!O105","v":""},{"$f":"Puantaj!T105","v":0},{"$f":"IF(Puantaj!AE105=\"\",\"\",Puantaj!AE105)","v":""},{"$f":"IF(Puantaj!AF105=\"\",\"\",Puantaj!AF105)","v":""},{"$f":"IF(Puantaj!AG105=\"\",\"\",Puantaj!AG105)","v":""},{"$f":"IF(Puantaj!AH105=\"\",\"\",Puantaj!AH105)","v":""},{"$f":"IF(Puantaj!AI105=\"\",\"\",Puantaj!AI105)","v":""},{"$f":"IF(Puantaj!AJ105=\"\",\"\",Puantaj!AJ105)","v":""},{"$f":"IF(Puantaj!AK105=\"\",\"\",Puantaj!AK105)","v":""},{"$f":"IF(Puantaj!AL105=\"\",\"\",Puantaj!AL105)","v":""},{"$f":"IF(Puantaj!AM105=\"\",\"\",Puantaj!AM105)","v":""},{"$f":"IF(Puantaj!AN105=\"\",\"\",Puantaj!AN105)","v":""},{"$f":"IF(Puantaj!AO105=\"\",\"\",Puantaj!AO105)","v":""},{"$f":"IF(Puantaj!AP105=\"\",\"\",Puantaj!AP105)","v":""},{"$f":"IF(Puantaj!AQ105=\"\",\"\",Puantaj!AQ105)","v":""},{"$f":"IF(Puantaj!AR105=\"\",\"\",Puantaj!AR105)","v":""},{"$f":"IF(Puantaj!AS105=\"\",\"\",Puantaj!AS105)","v":""},{"$f":"IF(Puantaj!AT105=\"\",\"\",Puantaj!AT105)","v":""},{"$f":"IF(Puantaj!AU105=\"\",\"\",Puantaj!AU105)","v":""},{"$f":"IF(Puantaj!AV105=\"\",\"\",Puantaj!AV105)","v":""},{"$f":"IF(Puantaj!AW105=\"\",\"\",Puantaj!AW105)","v":""},{"$f":"IF(Puantaj!AX105=\"\",\"\",Puantaj!AX105)","v":""},{"$f":"IF(Puantaj!AY105=\"\",\"\",Puantaj!AY105)","v":""},{"$f":"IF(Puantaj!AZ105=\"\",\"\",Puantaj!AZ105)","v":""},{"$f":"IF(Puantaj!BA105=\"\",\"\",Puantaj!BA105)","v":""},{"$f":"IF(Puantaj!BB105=\"\",\"\",Puantaj!BB105)","v":""},{"$f":"IF(Puantaj!BC105=\"\",\"\",Puantaj!BC105)","v":""},{"$f":"IF(Puantaj!BD105=\"\",\"\",Puantaj!BD105)","v":""},{"$f":"IF(Puantaj!BE105=\"\",\"\",Puantaj!BE105)","v":""},{"$f":"IF(Puantaj!BF105=\"\",\"\",Puantaj!BF105)","v":""},{"$f":"IF(Puantaj!BG105=\"\",\"\",Puantaj!BG105)","v":""},{"$f":"IF(Puantaj!BH105=\"\",\"\",Puantaj!BH105)","v":""},{"$f":"IF(Puantaj!BI105=\"\",\"\",Puantaj!BI105)","v":""},{"$f":"IF(Puantaj!BJ105=\"\",\"\",Puantaj!BJ105)","v":""},{"$f":"IF(Puantaj!BK105=\"\",\"\",Puantaj!BK105)","v":""},{"$f":"IF(Puantaj!BL105=\"\",\"\",Puantaj!BL105)","v":""},{"$f":"IF(Puantaj!BM105=\"\",\"\",Puantaj!BM105)","v":""},0,null,0]
[0,{"$f":"Puantaj!C106","v":0},{"$f":"Puantaj!K106","v":""},{"$f":"Puantaj!O106","v":""},{"$f":"Puantaj!T106","v":0},{"$f":"IF(Puantaj!AE106=\"\",\"\",Puantaj!AE106)","v":""},{"$f":"IF(Puantaj!AF106=\"\",\"\",Puantaj!AF106)","v":""},{"$f":"IF(Puantaj!AG106=\"\",\"\",Puantaj!AG106)","v":""},{"$f":"IF(Puantaj!AH106=\"\",\"\",Puantaj!AH106)","v":""},{"$f":"IF(Puantaj!AI106=\"\",\"\",Puantaj!AI106)","v":""},{"$f":"IF(Puantaj!AJ106=\"\",\"\",Puantaj!AJ106)","v":""},{"$f":"IF(Puantaj!AK106=\"\",\"\",Puantaj!AK106)","v":""},{"$f":"IF(Puantaj!AL106=\"\",\"\",Puantaj!AL106)","v":""},{"$f":"IF(Puantaj!AM106=\"\",\"\",Puantaj!AM106)","v":""},{"$f":"IF(Puantaj!AN106=\"\",\"\",Puantaj!AN106)","v":""},{"$f":"IF(Puantaj!AO106=\"\",\"\",Puantaj!AO106)","v":""},{"$f":"IF(Puantaj!AP106=\"\",\"\",Puantaj!AP106)","v":""},{"$f":"IF(Puantaj!AQ106=\"\",\"\",Puantaj!AQ106)","v":""},{"$f":"IF(Puantaj!AR106=\"\",\"\",Puantaj!AR106)","v":""},{"$f":"IF(Puantaj!AS106=\"\",\"\",Puantaj!AS106)","v":""},{"$f":"IF(Puantaj!AT106=\"\",\"\",Puantaj!AT106)","v":""},{"$f":"IF(Puantaj!AU106=\"\",\"\",Puantaj!AU106)","v":""},{"$f":"IF(Puantaj!AV106=\"\",\"\",Puantaj!AV106)","v":""},{"$f":"IF(Puantaj!AW106=\"\",\"\",Puantaj!AW106)","v":""},{"$f":"IF(Puantaj!AX106=\"\",\"\",Puantaj!AX106)","v":""},{"$f":"IF(Puantaj!AY106=\"\",\"\",Puantaj!AY106)","v":""},{"$f":"IF(Puantaj!AZ106=\"\",\"\",Puantaj!AZ106)","v":""},{"$f":"IF(Puantaj!BA106=\"\",\"\",Puantaj!BA106)","v":""},{"$f":"IF(Puantaj!BB106=\"\",\"\",Puantaj!BB106)","v":""},{"$f":"IF(Puantaj!BC106=\"\",\"\",Puantaj!BC106)","v":""},{"$f":"IF(Puantaj!BD106=\"\",\"\",Puantaj!BD106)","v":""},{"$f":"IF(Puantaj!BE106=\"\",\"\",Puantaj!BE106)","v":""},{"$f":"IF(Puantaj!BF106=\"\",\"\",Puantaj!BF106)","v":""},{"$f":"IF(Puantaj!BG106=\"\",\"\",Puantaj!BG106)","v":""},{"$f":"IF(Puantaj!BH106=\"\",\"\",Puantaj!BH106)","v":""},{"$f":"IF(Puantaj!BI106=\"\",\"\",Puantaj!BI106)","v":""},{"$f":"IF(Puantaj!BJ106=\"\",\"\",Puantaj!BJ106)","v":""},{"$f":"IF(Puantaj!BK106=\"\",\"\",Puantaj!BK106)","v":""},{"$f":"IF(Puantaj!BL106=\"\",\"\",Puantaj!BL106)","v":""},{"$f":"IF(Puantaj!BM106=\"\",\"\",Puantaj!BM106)","v":""},0,null,0]
[0,{"$f":"Puantaj!C107","v":0},{"$f":"Puantaj!K107","v":""},{"$f":"Puantaj!O107","v":""},{"$f":"Puantaj!T107","v":0},{"$f":"IF(Puantaj!AE107=\"\",\"\",Puantaj!AE107)","v":""},{"$f":"IF(Puantaj!AF107=\"\",\"\",Puantaj!AF107)","v":""},{"$f":"IF(Puantaj!AG107=\"\",\"\",Puantaj!AG107)","v":""},{"$f":"IF(Puantaj!AH107=\"\",\"\",Puantaj!AH107)","v":""},{"$f":"IF(Puantaj!AI107=\"\",\"\",Puantaj!AI107)","v":""},{"$f":"IF(Puantaj!AJ107=\"\",\"\",Puantaj!AJ107)","v":""},{"$f":"IF(Puantaj!AK107=\"\",\"\",Puantaj!AK107)","v":""},{"$f":"IF(Puantaj!AL107=\"\",\"\",Puantaj!AL107)","v":""},{"$f":"IF(Puantaj!AM107=\"\",\"\",Puantaj!AM107)","v":""},{"$f":"IF(Puantaj!AN107=\"\",\"\",Puantaj!AN107)","v":""},{"$f":"IF(Puantaj!AO107=\"\",\"\",Puantaj!AO107)","v":""},{"$f":"IF(Puantaj!AP107=\"\",\"\",Puantaj!AP107)","v":""},{"$f":"IF(Puantaj!AQ107=\"\",\"\",Puantaj!AQ107)","v":""},{"$f":"IF(Puantaj!AR107=\"\",\"\",Puantaj!AR107)","v":""},{"$f":"IF(Puantaj!AS107=\"\",\"\",Puantaj!AS107)","v":""},{"$f":"IF(Puantaj!AT107=\"\",\"\",Puantaj!AT107)","v":""},{"$f":"IF(Puantaj!AU107=\"\",\"\",Puantaj!AU107)","v":""},{"$f":"IF(Puantaj!AV107=\"\",\"\",Puantaj!AV107)","v":""},{"$f":"IF(Puantaj!AW107=\"\",\"\",Puantaj!AW107)","v":""},{"$f":"IF(Puantaj!AX107=\"\",\"\",Puantaj!AX107)","v":""},{"$f":"IF(Puantaj!AY107=\"\",\"\",Puantaj!AY107)","v":""},{"$f":"IF(Puantaj!AZ107=\"\",\"\",Puantaj!AZ107)","v":""},{"$f":"IF(Puantaj!BA107=\"\",\"\",Puantaj!BA107)","v":""},{"$f":"IF(Puantaj!BB107=\"\",\"\",Puantaj!BB107)","v":""},{"$f":"IF(Puantaj!BC107=\"\",\"\",Puantaj!BC107)","v":""},{"$f":"IF(Puantaj!BD107=\"\",\"\",Puantaj!BD107)","v":""},{"$f":"IF(Puantaj!BE107=\"\",\"\",Puantaj!BE107)","v":""},{"$f":"IF(Puantaj!BF107=\"\",\"\",Puantaj!BF107)","v":""},{"$f":"IF(Puantaj!BG107=\"\",\"\",Puantaj!BG107)","v":""},{"$f":"IF(Puantaj!BH107=\"\",\"\",Puantaj!BH107)","v":""},{"$f":"IF(Puantaj!BI107=\"\",\"\",Puantaj!BI107)","v":""},{"$f":"IF(Puantaj!BJ107=\"\",\"\",Puantaj!BJ107)","v":""},{"$f":"IF(Puantaj!BK107=\"\",\"\",Puantaj!BK107)","v":""},{"$f":"IF(Puantaj!BL107=\"\",\"\",Puantaj!BL107)","v":""},{"$f":"IF(Puantaj!BM107=\"\",\"\",Puantaj!BM107)","v":""},0,null,0]
[0,{"$f":"Puantaj!C108","v":0},{"$f":"Puantaj!K108","v":""},{"$f":"Puantaj!O108","v":""},{"$f":"Puantaj!T108","v":0},{"$f":"IF(Puantaj!AE108=\"\",\"\",Puantaj!AE108)","v":""},{"$f":"IF(Puantaj!AF108=\"\",\"\",Puantaj!AF108)","v":""},{"$f":"IF(Puantaj!AG108=\"\",\"\",Puantaj!AG108)","v":""},{"$f":"IF(Puantaj!AH108=\"\",\"\",Puantaj!AH108)","v":""},{"$f":"IF(Puantaj!AI108=\"\",\"\",Puantaj!AI108)","v":""},{"$f":"IF(Puantaj!AJ108=\"\",\"\",Puantaj!AJ108)","v":""},{"$f":"IF(Puantaj!AK108=\"\",\"\",Puantaj!AK108)","v":""},{"$f":"IF(Puantaj!AL108=\"\",\"\",Puantaj!AL108)","v":""},{"$f":"IF(Puantaj!AM108=\"\",\"\",Puantaj!AM108)","v":""},{"$f":"IF(Puantaj!AN108=\"\",\"\",Puantaj!AN108)","v":""},{"$f":"IF(Puantaj!AO108=\"\",\"\",Puantaj!AO108)","v":""},{"$f":"IF(Puantaj!AP108=\"\",\"\",Puantaj!AP108)","v":""},{"$f":"IF(Puantaj!AQ108=\"\",\"\",Puantaj!AQ108)","v":""},{"$f":"IF(Puantaj!AR108=\"\",\"\",Puantaj!AR108)","v":""},{"$f":"IF(Puantaj!AS108=\"\",\"\",Puantaj!AS108)","v":""},{"$f":"IF(Puantaj!AT108=\"\",\"\",Puantaj!AT108)","v":""},{"$f":"IF(Puantaj!AU108=\"\",\"\",Puantaj!AU108)","v":""},{"$f":"IF(Puantaj!AV108=\"\",\"\",Puantaj!AV108)","v":""},{"$f":"IF(Puantaj!AW108=\"\",\"\",Puantaj!AW108)","v":""},{"$f":"IF(Puantaj!AX108=\"\",\"\",Puantaj!AX108)","v":""},{"$f":"IF(Puantaj!AY108=\"\",\"\",Puantaj!AY108)","v":""},{"$f":"IF(Puantaj!AZ108=\"\",\"\",Puantaj!AZ108)","v":""},{"$f":"IF(Puantaj!BA108=\"\",\"\",Puantaj!BA108)","v":""},{"$f":"IF(Puantaj!BB108=\"\",\"\",Puantaj!BB108)","v":""},{"$f":"IF(Puantaj!BC108=\"\",\"\",Puantaj!BC108)","v":""},{"$f":"IF(Puantaj!BD108=\"\",\"\",Puantaj!BD108)","v":""},{"$f":"IF(Puantaj!BE108=\"\",\"\",Puantaj!BE108)","v":""},{"$f":"IF(Puantaj!BF108=\"\",\"\",Puantaj!BF108)","v":""},{"$f":"IF(Puantaj!BG108=\"\",\"\",Puantaj!BG108)","v":""},{"$f":"IF(Puantaj!BH108=\"\",\"\",Puantaj!BH108)","v":""},{"$f":"IF(Puantaj!BI108=\"\",\"\",Puantaj!BI108)","v":""},{"$f":"IF(Puantaj!BJ108=\"\",\"\",Puantaj!BJ108)","v":""},{"$f":"IF(Puantaj!BK108=\"\",\"\",Puantaj!BK108)","v":""},{"$f":"IF(Puantaj!BL108=\"\",\"\",Puantaj!BL108)","v":""},{"$f":"IF(Puantaj!BM108=\"\",\"\",Puantaj!BM108)","v":""},0,null,0]
[0,{"$f":"Puantaj!C109","v":0},{"$f":"Puantaj!K109","v":""},{"$f":"Puantaj!O109","v":""},{"$f":"Puantaj!T109","v":0},{"$f":"IF(Puantaj!AE109=\"\",\"\",Puantaj!AE109)","v":""},{"$f":"IF(Puantaj!AF109=\"\",\"\",Puantaj!AF109)","v":""},{"$f":"IF(Puantaj!AG109=\"\",\"\",Puantaj!AG109)","v":""},{"$f":"IF(Puantaj!AH109=\"\",\"\",Puantaj!AH109)","v":""},{"$f":"IF(Puantaj!AI109=\"\",\"\",Puantaj!AI109)","v":""},{"$f":"IF(Puantaj!AJ109=\"\",\"\",Puantaj!AJ109)","v":""},{"$f":"IF(Puantaj!AK109=\"\",\"\",Puantaj!AK109)","v":""},{"$f":"IF(Puantaj!AL109=\"\",\"\",Puantaj!AL109)","v":""},{"$f":"IF(Puantaj!AM109=\"\",\"\",Puantaj!AM109)","v":""},{"$f":"IF(Puantaj!AN109=\"\",\"\",Puantaj!AN109)","v":""},{"$f":"IF(Puantaj!AO109=\"\",\"\",Puantaj!AO109)","v":""},{"$f":"IF(Puantaj!AP109=\"\",\"\",Puantaj!AP109)","v":""},{"$f":"IF(Puantaj!AQ109=\"\",\"\",Puantaj!AQ109)","v":""},{"$f":"IF(Puantaj!AR109=\"\",\"\",Puantaj!AR109)","v":""},{"$f":"IF(Puantaj!AS109=\"\",\"\",Puantaj!AS109)","v":""},{"$f":"IF(Puantaj!AT109=\"\",\"\",Puantaj!AT109)","v":""},{"$f":"IF(Puantaj!AU109=\"\",\"\",Puantaj!AU109)","v":""},{"$f":"IF(Puantaj!AV109=\"\",\"\",Puantaj!AV109)","v":""},{"$f":"IF(Puantaj!AW109=\"\",\"\",Puantaj!AW109)","v":""},{"$f":"IF(Puantaj!AX109=\"\",\"\",Puantaj!AX109)","v":""},{"$f":"IF(Puantaj!AY109=\"\",\"\",Puantaj!AY109)","v":""},{"$f":"IF(Puantaj!AZ109=\"\",\"\",Puantaj!AZ109)","v":""},{"$f":"IF(Puantaj!BA109=\"\",\"\",Puantaj!BA109)","v":""},{"$f":"IF(Puantaj!BB109=\"\",\"\",Puantaj!BB109)","v":""},{"$f":"IF(Puantaj!BC109=\"\",\"\",Puantaj!BC109)","v":""},{"$f":"IF(Puantaj!BD109=\"\",\"\",Puantaj!BD109)","v":""},{"$f":"IF(Puantaj!BE109=\"\",\"\",Puantaj!BE109)","v":""},{"$f":"IF(Puantaj!BF109=\"\",\"\",Puantaj!BF109)","v":""},{"$f":"IF(Puantaj!BG109=\"\",\"\",Puantaj!BG109)","v":""},{"$f":"IF(Puantaj!BH109=\"\",\"\",Puantaj!BH109)","v":""},{"$f":"IF(Puantaj!BI109=\"\",\"\",Puantaj!BI109)","v":""},{"$f":"IF(Puantaj!BJ109=\"\",\"\",Puantaj!BJ109)","v":""},{"$f":"IF(Puantaj!BK109=\"\",\"\",Puantaj!BK109)","v":""},{"$f":"IF(Puantaj!BL109=\"\",\"\",Puantaj!BL109)","v":""},{"$f":"IF(Puantaj!BM109=\"\",\"\",Puantaj!BM109)","v":""},0,null,0]
[0,{"$f":"Puantaj!C110","v":0},{"$f":"Puantaj!K110","v":""},{"$f":"Puantaj!O110","v":""},{"$f":"Puantaj!T110","v":0},{"$f":"IF(Puantaj!AE110=\"\",\"\",Puantaj!AE110)","v":""},{"$f":"IF(Puantaj!AF110=\"\",\"\",Puantaj!AF110)","v":""},{"$f":"IF(Puantaj!AG110=\"\",\"\",Puantaj!AG110)","v":""},{"$f":"IF(Puantaj!AH110=\"\",\"\",Puantaj!AH110)","v":""},{"$f":"IF(Puantaj!AI110=\"\",\"\",Puantaj!AI110)","v":""},{"$f":"IF(Puantaj!AJ110=\"\",\"\",Puantaj!AJ110)","v":""},{"$f":"IF(Puantaj!AK110=\"\",\"\",Puantaj!AK110)","v":""},{"$f":"IF(Puantaj!AL110=\"\",\"\",Puantaj!AL110)","v":""},{"$f":"IF(Puantaj!AM110=\"\",\"\",Puantaj!AM110)","v":""},{"$f":"IF(Puantaj!AN110=\"\",\"\",Puantaj!AN110)","v":""},{"$f":"IF(Puantaj!AO110=\"\",\"\",Puantaj!AO110)","v":""},{"$f":"IF(Puantaj!AP110=\"\",\"\",Puantaj!AP110)","v":""},{"$f":"IF(Puantaj!AQ110=\"\",\"\",Puantaj!AQ110)","v":""},{"$f":"IF(Puantaj!AR110=\"\",\"\",Puantaj!AR110)","v":""},{"$f":"IF(Puantaj!AS110=\"\",\"\",Puantaj!AS110)","v":""},{"$f":"IF(Puantaj!AT110=\"\",\"\",Puantaj!AT110)","v":""},{"$f":"IF(Puantaj!AU110=\"\",\"\",Puantaj!AU110)","v":""},{"$f":"IF(Puantaj!AV110=\"\",\"\",Puantaj!AV110)","v":""},{"$f":"IF(Puantaj!AW110=\"\",\"\",Puantaj!AW110)","v":""},{"$f":"IF(Puantaj!AX110=\"\",\"\",Puantaj!AX110)","v":""},{"$f":"IF(Puantaj!AY110=\"\",\"\",Puantaj!AY110)","v":""},{"$f":"IF(Puantaj!AZ110=\"\",\"\",Puantaj!AZ110)","v":""},{"$f":"IF(Puantaj!BA110=\"\",\"\",Puantaj!BA110)","v":""},{"$f":"IF(Puantaj!BB110=\"\",\"\",Puantaj!BB110)","v":""},{"$f":"IF(Puantaj!BC110=\"\",\"\",Puantaj!BC110)","v":""},{"$f":"IF(Puantaj!BD110=\"\",\"\",Puantaj!BD110)","v":""},{"$f":"IF(Puantaj!BE110=\"\",\"\",Puantaj!BE110)","v":""},{"$f":"IF(Puantaj!BF110=\"\",\"\",Puantaj!BF110)","v":""},{"$f":"IF(Puantaj!BG110=\"\",\"\",Puantaj!BG110)","v":""},{"$f":"IF(Puantaj!BH110=\"\",\"\",Puantaj!BH110)","v":""},{"$f":"IF(Puantaj!BI110=\"\",\"\",Puantaj!BI110)","v":""},{"$f":"IF(Puantaj!BJ110=\"\",\"\",Puantaj!BJ110)","v":""},{"$f":"IF(Puantaj!BK110=\"\",\"\",Puantaj!BK110)","v":""},{"$f":"IF(Puantaj!BL110=\"\",\"\",Puantaj!BL110)","v":""},{"$f":"IF(Puantaj!BM110=\"\",\"\",Puantaj!BM110)","v":""},0,null,0]
[0,{"$f":"Puantaj!C111","v":0},{"$f":"Puantaj!K111","v":""},{"$f":"Puantaj!O111","v":""},{"$f":"Puantaj!T111","v":0},{"$f":"IF(Puantaj!AE111=\"\",\"\",Puantaj!AE111)","v":""},{"$f":"IF(Puantaj!AF111=\"\",\"\",Puantaj!AF111)","v":""},{"$f":"IF(Puantaj!AG111=\"\",\"\",Puantaj!AG111)","v":""},{"$f":"IF(Puantaj!AH111=\"\",\"\",Puantaj!AH111)","v":""},{"$f":"IF(Puantaj!AI111=\"\",\"\",Puantaj!AI111)","v":""},{"$f":"IF(Puantaj!AJ111=\"\",\"\",Puantaj!AJ111)","v":""},{"$f":"IF(Puantaj!AK111=\"\",\"\",Puantaj!AK111)","v":""},{"$f":"IF(Puantaj!AL111=\"\",\"\",Puantaj!AL111)","v":""},{"$f":"IF(Puantaj!AM111=\"\",\"\",Puantaj!AM111)","v":""},{"$f":"IF(Puantaj!AN111=\"\",\"\",Puantaj!AN111)","v":""},{"$f":"IF(Puantaj!AO111=\"\",\"\",Puantaj!AO111)","v":""},{"$f":"IF(Puantaj!AP111=\"\",\"\",Puantaj!AP111)","v":""},{"$f":"IF(Puantaj!AQ111=\"\",\"\",Puantaj!AQ111)","v":""},{"$f":"IF(Puantaj!AR111=\"\",\"\",Puantaj!AR111)","v":""},{"$f":"IF(Puantaj!AS111=\"\",\"\",Puantaj!AS111)","v":""},{"$f":"IF(Puantaj!AT111=\"\",\"\",Puantaj!AT111)","v":""},{"$f":"IF(Puantaj!AU111=\"\",\"\",Puantaj!AU111)","v":""},{"$f":"IF(Puantaj!AV111=\"\",\"\",Puantaj!AV111)","v":""},{"$f":"IF(Puantaj!AW111=\"\",\"\",Puantaj!AW111)","v":""},{"$f":"IF(Puantaj!AX111=\"\",\"\",Puantaj!AX111)","v":""},{"$f":"IF(Puantaj!AY111=\"\",\"\",Puantaj!AY111)","v":""},{"$f":"IF(Puantaj!AZ111=\"\",\"\",Puantaj!AZ111)","v":""},{"$f":"IF(Puantaj!BA111=\"\",\"\",Puantaj!BA111)","v":""},{"$f":"IF(Puantaj!BB111=\"\",\"\",Puantaj!BB111)","v":""},{"$f":"IF(Puantaj!BC111=\"\",\"\",Puantaj!BC111)","v":""},{"$f":"IF(Puantaj!BD111=\"\",\"\",Puantaj!BD111)","v":""},{"$f":"IF(Puantaj!BE111=\"\",\"\",Puantaj!BE111)","v":""},{"$f":"IF(Puantaj!BF111=\"\",\"\",Puantaj!BF111)","v":""},{"$f":"IF(Puantaj!BG111=\"\",\"\",Puantaj!BG111)","v":""},{"$f":"IF(Puantaj!BH111=\"\",\"\",Puantaj!BH111)","v":""},{"$f":"IF(Puantaj!BI111=\"\",\"\",Puantaj!BI111)","v":""},{"$f":"IF(Puantaj!BJ111=\"\",\"\",Puantaj!BJ111)","v":""},{"$f":"IF(Puantaj!BK111=\"\",\"\",Puantaj!BK111)","v":""},{"$f":"IF(Puantaj!BL111=\"\",\"\",Puantaj!BL111)","v":""},{"$f":"IF(Puantaj!BM111=\"\",\"\",Puantaj!BM111)","v":""},0,null,0]
[0,{"$f":"Puantaj!C112","v":0},{"$f":"Puantaj!K112","v":""},{"$f":"Puantaj!O112","v":""},{"$f":"Puantaj!T112","v":0},{"$f":"IF(Puantaj!AE112=\"\",\"\",Puantaj!AE112)","v":""},{"$f":"IF(Puantaj!AF112=\"\",\"\",Puantaj!AF112)","v":""},{"$f":"IF(Puantaj!AG112=\"\",\"\",Puantaj!AG112)","v":""},{"$f":"IF(Puantaj!AH112=\"\",\"\",Puantaj!AH112)","v":""},{"$f":"IF(Puantaj!AI112=\"\",\"\",Puantaj!AI112)","v":""},{"$f":"IF(Puantaj!AJ112=\"\",\"\",Puantaj!AJ112)","v":""},{"$f":"IF(Puantaj!AK112=\"\",\"\",Puantaj!AK112)","v":""},{"$f":"IF(Puantaj!AL112=\"\",\"\",Puantaj!AL112)","v":""},{"$f":"IF(Puantaj!AM112=\"\",\"\",Puantaj!AM112)","v":""},{"$f":"IF(Puantaj!AN112=\"\",\"\",Puantaj!AN112)","v":""},{"$f":"IF(Puantaj!AO112=\"\",\"\",Puantaj!AO112)","v":""},{"$f":"IF(Puantaj!AP112=\"\",\"\",Puantaj!AP112)","v":""},{"$f":"IF(Puantaj!AQ112=\"\",\"\",Puantaj!AQ112)","v":""},{"$f":"IF(Puantaj!AR112=\"\",\"\",Puantaj!AR112)","v":""},{"$f":"IF(Puantaj!AS112=\"\",\"\",Puantaj!AS112)","v":""},{"$f":"IF(Puantaj!AT112=\"\",\"\",Puantaj!AT112)","v":""},{"$f":"IF(Puantaj!AU112=\"\",\"\",Puantaj!AU112)","v":""},{"$f":"IF(Puantaj!AV112=\"\",\"\",Puantaj!AV112)","v":""},{"$f":"IF(Puantaj!AW112=\"\",\"\",Puantaj!AW112)","v":""},{"$f":"IF(Puantaj!AX112=\"\",\"\",Puantaj!AX112)","v":""},{"$f":"IF(Puantaj!AY112=\"\",\"\",Puantaj!AY112)","v":""},{"$f":"IF(Puantaj!AZ112=\"\",\"\",Puantaj!AZ112)","v":""},{"$f":"IF(Puantaj!BA112=\"\",\"\",Puantaj!BA112)","v":""},{"$f":"IF(Puantaj!BB112=\"\",\"\",Puantaj!BB112)","v":""},{"$f":"IF(Puantaj!BC112=\"\",\"\",Puantaj!BC112)","v":""},{"$f":"IF(Puantaj!BD112=\"\",\"\",Puantaj!BD112)","v":""},{"$f":"IF(Puantaj!BE112=\"\",\"\",Puantaj!BE112)","v":""},{"$f":"IF(Puantaj!BF112=\"\",\"\",Puantaj!BF112)","v":""},{"$f":"IF(Puantaj!BG112=\"\",\"\",Puantaj!BG112)","v":""},{"$f":"IF(Puantaj!BH112=\"\",\"\",Puantaj!BH112)","v":""},{"$f":"IF(Puantaj!BI112=\"\",\"\",Puantaj!BI112)","v":""},{"$f":"IF(Puantaj!BJ112=\"\",\"\",Puantaj!BJ112)","v":""},{"$f":"IF(Puantaj!BK112=\"\",\"\",Puantaj!BK112)","v":""},{"$f":"IF(Puantaj!BL112=\"\",\"\",Puantaj!BL112)","v":""},{"$f":"IF(Puantaj!BM112=\"\",\"\",Puantaj!BM112)","v":""},0,null,0]
[0,{"$f":"Puantaj!C113","v":0},{"$f":"Puantaj!K113","v":""},{"$f":"Puantaj!O113","v":""},{"$f":"Puantaj!T113","v":0},{"$f":"IF(Puantaj!AE113=\"\",\"\",Puantaj!AE113)","v":""},{"$f":"IF(Puantaj!AF113=\"\",\"\",Puantaj!AF113)","v":""},{"$f":"IF(Puantaj!AG113=\"\",\"\",Puantaj!AG113)","v":""},{"$f":"IF(Puantaj!AH113=\"\",\"\",Puantaj!AH113)","v":""},{"$f":"IF(Puantaj!AI113=\"\",\"\",Puantaj!AI113)","v":""},{"$f":"IF(Puantaj!AJ113=\"\",\"\",Puantaj!AJ113)","v":""},{"$f":"IF(Puantaj!AK113=\"\",\"\",Puantaj!AK113)","v":""},{"$f":"IF(Puantaj!AL113=\"\",\"\",Puantaj!AL113)","v":""},{"$f":"IF(Puantaj!AM113=\"\",\"\",Puantaj!AM113)","v":""},{"$f":"IF(Puantaj!AN113=\"\",\"\",Puantaj!AN113)","v":""},{"$f":"IF(Puantaj!AO113=\"\",\"\",Puantaj!AO113)","v":""},{"$f":"IF(Puantaj!AP113=\"\",\"\",Puantaj!AP113)","v":""},{"$f":"IF(Puantaj!AQ113=\"\",\"\",Puantaj!AQ113)","v":""},{"$f":"IF(Puantaj!AR113=\"\",\"\",Puantaj!AR113)","v":""},{"$f":"IF(Puantaj!AS113=\"\",\"\",Puantaj!AS113)","v":""},{"$f":"IF(Puantaj!AT113=\"\",\"\",Puantaj!AT113)","v":""},{"$f":"IF(Puantaj!AU113=\"\",\"\",Puantaj!AU113)","v":""},{"$f":"IF(Puantaj!AV113=\"\",\"\",Puantaj!AV113)","v":""},{"$f":"IF(Puantaj!AW113=\"\",\"\",Puantaj!AW113)","v":""},{"$f":"IF(Puantaj!AX113=\"\",\"\",Puantaj!AX113)","v":""},{"$f":"IF(Puantaj!AY113=\"\",\"\",Puantaj!AY113)","v":""},{"$f":"IF(Puantaj!AZ113=\"\",\"\",Puantaj!AZ113)","v":""},{"$f":"IF(Puantaj!BA113=\"\",\"\",Puantaj!BA113)","v":""},{"$f":"IF(Puantaj!BB113=\"\",\"\",Puantaj!BB113)","v":""},{"$f":"IF(Puantaj!BC113=\"\",\"\",Puantaj!BC113)","v":""},{"$f":"IF(Puantaj!BD113=\"\",\"\",Puantaj!BD113)","v":""},{"$f":"IF(Puantaj!BE113=\"\",\"\",Puantaj!BE113)","v":""},{"$f":"IF(Puantaj!BF113=\"\",\"\",Puantaj!BF113)","v":""},{"$f":"IF(Puantaj!BG113=\"\",\"\",Puantaj!BG113)","v":""},{"$f":"IF(Puantaj!BH113=\"\",\"\",Puantaj!BH113)","v":""},{"$f":"IF(Puantaj!BI113=\"\",\"\",Puantaj!BI113)","v":""},{"$f":"IF(Puantaj!BJ113=\"\",\"\",Puantaj!BJ113)","v":""},{"$f":"IF(Puantaj!BK113=\"\",\"\",Puantaj!BK113)","v":""},{"$f":"IF(Puantaj!BL113=\"\",\"\",Puantaj!BL113)","v":""},{"$f":"IF(Puantaj!BM113=\"\",\"\",Puantaj!BM113)","v":""},0,null,0]
[0,{"$f":"Puantaj!C114","v":0},{"$f":"Puantaj!K114","v":""},{"$f":"Puantaj!O114","v":""},{"$f":"Puantaj!T114","v":0},{"$f":"IF(Puantaj!AE114=\"\",\"\",Puantaj!AE114)","v":""},{"$f":"IF(Puantaj!AF114=\"\",\"\",Puantaj!AF114)","v":""},{"$f":"IF(Puantaj!AG114=\"\",\"\",Puantaj!AG114)","v":""},{"$f":"IF(Puantaj!AH114=\"\",\"\",Puantaj!AH114)","v":""},{"$f":"IF(Puantaj!AI114=\"\",\"\",Puantaj!AI114)","v":""},{"$f":"IF(Puantaj!AJ114=\"\",\"\",Puantaj!AJ114)","v":""},{"$f":"IF(Puantaj!AK114=\"\",\"\",Puantaj!AK114)","v":""},{"$f":"IF(Puantaj!AL114=\"\",\"\",Puantaj!AL114)","v":""},{"$f":"IF(Puantaj!AM114=\"\",\"\",Puantaj!AM114)","v":""},{"$f":"IF(Puantaj!AN114=\"\",\"\",Puantaj!AN114)","v":""},{"$f":"IF(Puantaj!AO114=\"\",\"\",Puantaj!AO114)","v":""},{"$f":"IF(Puantaj!AP114=\"\",\"\",Puantaj!AP114)","v":""},{"$f":"IF(Puantaj!AQ114=\"\",\"\",Puantaj!AQ114)","v":""},{"$f":"IF(Puantaj!AR114=\"\",\"\",Puantaj!AR114)","v":""},{"$f":"IF(Puantaj!AS114=\"\",\"\",Puantaj!AS114)","v":""},{"$f":"IF(Puantaj!AT114=\"\",\"\",Puantaj!AT114)","v":""},{"$f":"IF(Puantaj!AU114=\"\",\"\",Puantaj!AU114)","v":""},{"$f":"IF(Puantaj!AV114=\"\",\"\",Puantaj!AV114)","v":""},{"$f":"IF(Puantaj!AW114=\"\",\"\",Puantaj!AW114)","v":""},{"$f":"IF(Puantaj!AX114=\"\",\"\",Puantaj!AX114)","v":""},{"$f":"IF(Puantaj!AY114=\"\",\"\",Puantaj!AY114)","v":""},{"$f":"IF(Puantaj!AZ114=\"\",\"\",Puantaj!AZ114)","v":""},{"$f":"IF(Puantaj!BA114=\"\",\"\",Puantaj!BA114)","v":""},{"$f":"IF(Puantaj!BB114=\"\",\"\",Puantaj!BB114)","v":""},{"$f":"IF(Puantaj!BC114=\"\",\"\",Puantaj!BC114)","v":""},{"$f":"IF(Puantaj!BD114=\"\",\"\",Puantaj!BD114)","v":""},{"$f":"IF(Puantaj!BE114=\"\",\"\",Puantaj!BE114)","v":""},{"$f":"IF(Puantaj!BF114=\"\",\"\",Puantaj!BF114)","v":""},{"$f":"IF(Puantaj!BG114=\"\",\"\",Puantaj!BG114)","v":""},{"$f":"IF(Puantaj!BH114=\"\",\"\",Puantaj!BH114)","v":""},{"$f":"IF(Puantaj!BI114=\"\",\"\",Puantaj!BI114)","v":""},{"$f":"IF(Puantaj!BJ114=\"\",\"\",Puantaj!BJ114)","v":""},{"$f":"IF(Puantaj!BK114=\"\",\"\",Puantaj!BK114)","v":""},{"$f":"IF(Puantaj!BL114=\"\",\"\",Puantaj!BL114)","v":""},{"$f":"IF(Puantaj!BM114=\"\",\"\",Puantaj!BM114)","v":""},0,null,0]
[{"$f":"\"Okul/Kurumumuz yukarıda isimleri yazılı öğretmenlere \"&AP3&\"/\"&AP4& \" ayında \"&AS6&\" saat ek ders tahakkuk ettirilmiştir.\"","v":"Okul/Kurumumuz yukarıda isimleri yazılı öğretmenlere 0/0 ayında 0 saat ek ders tahakkuk ettirilmiştir."},null,null,null,null,null,null,null,null,null,null,null,null,null,null,null,null,null,null,null,null,null,null,null,null,null,null,null,null,null,null,null,null,null,null,null,null,null,null,null,null,null,1]
[null,null,null,null,null,null,null,null,null,null,null,null,null,null,null,null,null,null,null,null,null,null,null,null,null,null,null,null,null,null,null,null,null,null,null,null,null,null,null,null,null,null,1]
["Hazırlayan",null,null,"Onaylayan",null,null,null,null,null,null,null,null,null,null,null,null,null,null,null,null,null,null,null,null,null,null,null,null,null,null,null,null,null,null,null,null,null,null,null,null,null,null,1]
[null,null,null,null,null,null,null,null,null,null,null,null,null,null,null,null,null,null,null,null,null,null,null,null,null,null,null,null,null,null,null,null,null,null,null,null,null,null,null,null,null,null,1]
[{"$f":"Puantaj!AK4","v":0},null,null,{"$f":"Puantaj!AK5","v":0},null,null,null,null,null,null,null,null,null,null,null,null,null,null,null,null,null,null,null,null,null,null,null,null,null,null,null,null,null,null,null,null,null,null,null,null,null,null,1]
[{"$f":"Puantaj!AS4","v":0},null,null,{"$f":"Puantaj!AS5","v":0},null,null,null,null,null,null,null,null,null,null,null,null,null,null,null,null,null,null,null,null,null,null,null,null,null,null,null,null,null,null,null,null,null,null,null,null,null,null,1]