{"text_format":"1","workbook":"xlsx","n_sheets":2,"sheets":["Puantaj","ptj"],"not_rendered":{"charts":0,"images":4,"macros":1,"external_links":0,"defined_names":5,"comments":0,"pivot_tables":0},"unopened":[],"bounds":{"document_bytes":16777216,"sheet_cells":100000,"rows_first":2000,"rows_last":500,"rows_between":2000,"halvings":0,"cell_chars":16384,"cell_head_chars":4096},"cells_cut":0,"cells_raw":0,"read":"whole","date_system":"1900"}

{"sheet":"Puantaj","index":0,"n_rows":86,"n_cols":76,"rows_kept":86,"cut":false,"hidden":false,"merged":[[78,42,81,42],[82,42,85,42],[42,42,45,42],[46,42,49,42],[50,42,53,42],[54,42,57,42],[58,42,61,42],[62,42,65,42],[66,42,69,42],[70,42,73,42],[74,42,77,42],[6,42,9,42],[10,42,13,42],[14,42,17,42],[18,42,21,42],[22,42,25,42],[26,42,29,42],[30,42,33,42],[34,42,37,42],[38,42,41,42],[4,4,4,34],[10,1,13,1],[4,1,5,1],[4,3,5,3],[4,2,5,2],[6,1,9,1],[6,38,9,38],[0,1,0,38],[6,36,9,36],[1,1,1,2],[2,1,2,2],[3,1,3,2],[2,25,2,28],[3,25,3,28],[2,29,2,31],[3,29,3,31],[2,13,2,16],[2,3,2,6],[2,7,2,12],[3,3,3,6],[3,7,3,12],[3,13,3,16],[10,36,13,36],[10,38,13,38],[14,1,17,1],[14,36,17,36],[14,38,17,38],[18,1,21,1],[18,36,21,36],[18,38,21,38],[22,1,25,1],[22,36,25,36],[22,38,25,38],[82,1,85,1],[82,36,85,36],[82,38,85,38],[1,3,1,16],[74,1,77,1],[74,36,77,36],[74,38,77,38],[78,1,81,1],[78,36,81,36],[78,38,81,38],[66,1,69,1],[66,36,69,36],[66,38,69,38],[70,1,73,1],[70,36,73,36],[70,38,73,38],[50,38,53,38],[54,1,57,1],[54,36,57,36],[54,38,57,38],[42,1,45,1],[34,1,37,1],[34,36,37,36],[34,38,37,38],[26,1,29,1],[26,36,29,36],[26,38,29,38],[30,1,33,1],[30,36,33,36],[30,38,33,38],[62,1,65,1],[62,36,65,36],[62,38,65,38],[38,1,41,1],[38,36,41,36],[38,38,41,38],[58,1,61,1],[58,36,61,36],[58,38,61,38],[42,36,45,36],[42,38,45,38],[46,1,49,1],[46,36,49,36],[46,38,49,38],[50,1,53,1],[50,36,53,36],[0,56,3,56],[0,57,3,57],[0,58,3,58],[0,49,3,49],[0,50,3,50],[0,51,3,51],[0,52,3,52],[0,53,3,53],[0,44,3,44],[0,45,3,45],[0,46,3,46],[0,47,3,47],[0,48,3,48],[1,17,1,24],[2,18,2,20],[3,18,3,20],[2,22,2,24],[3,22,3,24],[4,35,4,38],[0,74,3,74],[0,69,3,69],[0,70,3,70],[0,71,3,71],[0,72,3,72],[0,73,3,73],[0,64,3,64],[0,65,3,65],[0,66,3,66],[0,67,3,67],[0,68,3,68],[0,59,3,59],[0,60,3,60],[0,61,3,61],[0,62,3,62],[0,63,3,63],[0,54,3,54],[0,55,3,55]]}
[null,"ÜCRETLİ ÖĞRETMEN - USTAÖĞRETİCİ  PUANTAJI",null,null,null,null,null,null,null,null,null,null,null,null,null,null,null,null,null,null,null,null,null,null,null,null,null,null,null,null,null,null,null,null,null,null,null,null,null,null,null,null,null,{"$f":"AR2-1","v":2023},{"$f":"AR5","v":"01/02/2024"},{"$f":"AS1+1","v":"2024-02-02"},{"$f":"AT1+1","v":"2024-02-03"},"2024-02-04","2024-02-05","2024-02-06","2024-02-07","2024-02-08","2024-02-09","2024-02-10","2024-02-11","2024-02-12","2024-02-13","2024-02-14","2024-02-15","2024-02-16","2024-02-17","2024-02-18","2024-02-19","2024-02-20","2024-02-21","2024-02-22","2024-02-23","2024-02-24","2024-02-25","2024-02-26","2024-02-27","2024-02-28","2024-02-29","2024-03-01","2024-03-02"]
[null,"Okul/Kurum Adı",null,null,null,null,null,null,null,null,null,null,null,null,null,null,null,"Ekders Tanımları",null,null,null,null,null,null,null,null,null,null,null,null,null,null,null,null,null,null,null,null,null,null,null,null,null,{"$f":"YEAR(TODAY())","v":2024}]
[null,"Düzenleyen",null,null,null,null,null,null,null,null,null,null,null,"Tarih",null,null,null,1,"Gündüz",null,null,3,"Dyk",null,null,"Ait Old. Ay",null,null,null,"Şubat",null,null,null,null,null,null,null,null,null,null,null,null,null,{"$f":"IF(AD3=\"Ocak\",1,IF(AD3=\"Şubat\",2,IF(AD3=\"Mart\",3,IF(AD3=\"Nisan\",4,IF(AD3=\"Mayıs\",5,IF(AD3=\"Haziran\",6,IF(AD3=\"Temmuz\",7,IF(AD3=\"Ağustos\",8,IF(AD3=\"Eylül\",9,IF(AD3=\"Ekim\",10,IF(AD3=\"Kasım\",11,IF(AD3=\"Aralık\",12,\"\"))))))))))))","v":2}]
[null,"Onaylayan",null,null,null,null,null,null,null,null,null,null,null,{"$f":"BX6","v":"2024-03-01"},null,null,null,2,"Gece",null,null,4,"Nöbet",null,null,"Ait Old. Yıl",null,null,null,2024,null,null,null,null,null,null,null,null,null,null,null,null,null,{"$f":"\"01\"&\"/\"&AR3&\"/\"&AR2","v":"01/2/2024"}]
[null,"S. No","Kimlik No\nAdı Soyadı\nUnvanı\nStatü","Ek Ders Türü","GÜNLÜK DERS SAATİ SAYILARI",null,null,null,null,null,null,null,null,null,null,null,null,null,null,null,null,null,null,null,null,null,null,null,null,null,null,null,null,null,null,"EK DERS TOPLAMLARI",null,null,null,null,null,null,null,{"$f":"TEXT(AR4,\"gg/aa/yyyy\")","v":"01/02/2024"},1,2,3,4,5,6,7,8,9,10,11,12,13,14,15,16,17,18,19,20,21,22,23,24,25,26,27,28,29,30,31]
[null,null,null,null,{"$f":"AS1","v":"01/02/2024"},{"$f":"AT1","v":"2024-02-02"},"2024-02-03","2024-02-04","2024-02-05","2024-02-06","2024-02-07","2024-02-08","2024-02-09","2024-02-10","2024-02-11","2024-02-12","2024-02-13","2024-02-14","2024-02-15","2024-02-16","2024-02-17","2024-02-18","2024-02-19","2024-02-20","2024-02-21","2024-02-22","2024-02-23","2024-02-24","2024-02-25","2024-02-26","2024-02-27","2024-02-28","2024-02-29","2024-03-01","2024-03-02","Toplam\nDers Saati","Eğt. Öğr.\nDes. Görevi","Ek Ders Saati\nGenel Toplamı","Ek Ders\nToplamı",null,null,{"$f":"SUM(AQ7:AQ86)","v":0},{"$f":"ROUND(AP6,0)","v":0},{"$f":"SUM(AM7:AM86)","v":0},{"$f":"TEXT(E6,\"gggg\")","v":"Perşembe"},{"$f":"TEXT(F6,\"gggg\")","v":"Cuma"},"Cumartesi","Pazar","Pazartesi","Salı","Çarşamba","Perşembe","Cuma","Cumartesi","Pazar","Pazartesi","Salı","Çarşamba","Perşembe","Cuma","Cumartesi","Pazar","Pazartesi","Salı","Çarşamba","Perşembe","Cuma","Cumartesi","Pazar","Pazartesi","Salı","Çarşamba","Perşembe","Cuma","Cumartesi",{"$f":"EDATE(AS1,1)","v":"2024-03-01"}]
[null,1,null,{"$f":"IF(S3=\"\",\"\",S3)","v":"Gündüz"},null,null,null,null,null,null,null,null,null,null,null,null,null,null,null,null,null,null,null,null,null,null,null,null,null,null,null,null,null,null,null,{"$f":"IF(C10=\"\",0,SUM(E7:AI7))","v":0},{"$f":"IF(C10=\"\",0,IF(C10=\"Emekli\",0,ROUNDDOWN(SUM(E7:AI10)/2,0)))","v":0},{"$f":"IF(C10=\"\",0,AJ7+AK7)","v":0},{"$f":"AL7+AL8+AL9+AL10","v":0},null,null,{"$f":"IF(C7=\"\",0,1)","v":0},{"$f":"SUM((AP7:AP10)/4)","v":0},{"$f":"IF(AD3=\"Ocak\",\"Oca\",IF(AD3=\"Şubat\",\"Şub\",IF(AD3=\"Mart\",\"Mar\",IF(AD3=\"Nisan\",\"Nis\",IF(AD3=\"Mayıs\",\"May\",IF(AD3=\"Haziran\",\"Haz\",IF(AD3=\"Temmuz\",\"Tem\",IF(AD3=\"Ağustos\",\"Ağu\",IF(AD3=\"Eylül\",\"Eyl\",IF(AD3=\"Ekim\",\"Eki\",IF(AD3=\"Kasım\",\"Kas\",IF(AD3=\"Aralık\",\"Ara\",\"\"))))))))))))","v":"Şub"},{"$f":"TEXT(E6,\"aaa\")","v":"Şub"},{"$f":"TEXT(F6,\"aaa\")","v":"Şub"},"Şub","Şub","Şub","Şub","Şub","Şub","Şub","Şub","Şub","Şub","Şub","Şub","Şub","Şub","Şub","Şub","Şub","Şub","Şub","Şub","Şub","Şub","Şub","Şub","Şub","Şub","Şub","Mar","Mar"]
[null,null,null,{"$f":"IF(S4=\"\",\"\",S4)","v":"Gece"},null,null,null,null,null,null,null,null,null,null,null,null,null,null,null,null,null,null,null,null,null,null,null,null,null,null,null,null,null,null,null,{"$f":"IF(C10=\"\",0,SUM(E8:AI8))","v":0},null,{"$f":"IF(C10=\"\",0,AJ8+AK8)","v":0},null,null,null,{"$f":"IF(C8=\"\",0,1)","v":0}]
[null,null,null,{"$f":"IF(W3=\"\",\"\",W3)","v":"Dyk"},null,null,null,null,null,null,null,null,null,null,null,null,null,null,null,null,null,null,null,null,null,null,null,null,null,null,null,null,null,null,null,{"$f":"IF(C10=\"\",0,SUM(E9:AI9))","v":0},null,{"$f":"IF(C10=\"\",0,AJ9+AK9)","v":0},null,null,null,0]
[null,null,null,{"$f":"IF(W4=\"\",\"\",W4)","v":"Nöbet"},null,null,null,null,null,null,null,null,null,null,null,null,null,null,null,null,null,null,null,null,null,null,null,null,null,null,null,null,null,null,null,{"$f":"IF(C10=\"\",0,SUM(E10:AI10))","v":0},null,{"$f":"IF(C10=\"\",0,AJ10+AK10)","v":0},null,null,null,0]
[null,2,null,{"$f":"D7","v":"Gündüz"},null,null,null,null,null,null,null,null,null,null,null,null,null,null,null,null,null,null,null,null,null,null,null,null,null,null,null,null,null,null,null,{"$f":"IF(C14=\"\",0,SUM(E11:AI11))","v":0},{"$f":"IF(C14=\"\",0,IF(C14=\"Emekli\",0,ROUNDDOWN(SUM(E11:AI14)/2,0)))","v":0},{"$f":"IF(C14=\"\",0,AJ11+AK11)","v":0},{"$f":"AL11+AL12+AL13+AL14","v":0},null,null,0,{"$f":"SUM((AP11:AP14)/4)","v":0}]
[null,null,null,"Gece",null,null,null,null,null,null,null,null,null,null,null,null,null,null,null,null,null,null,null,null,null,null,null,null,null,null,null,null,null,null,null,{"$f":"IF(C14=\"\",0,SUM(E12:AI12))","v":0},null,{"$f":"IF(C14=\"\",0,AJ12+AK12)","v":0},null,null,null,0,null,"Kurum",{"$f":"IF(D2=\"\",0,1)","v":0}]
[null,null,null,"Dyk",null,null,null,null,null,null,null,null,null,null,null,null,null,null,null,null,null,null,null,null,null,null,null,null,null,null,null,null,null,null,null,{"$f":"IF(C14=\"\",0,SUM(E13:AI13))","v":0},null,{"$f":"IF(C14=\"\",0,AJ13+AK13)","v":0},null,null,null,0,null,"Düz-Ad",{"$f":"IF(D3=\"\",0,1)","v":0}]
[null,null,null,"Nöbet",null,null,null,null,null,null,null,null,null,null,null,null,null,null,null,null,null,null,null,null,null,null,null,null,null,null,null,null,null,null,null,{"$f":"IF(C14=\"\",0,SUM(E14:AI14))","v":0},null,{"$f":"IF(C14=\"\",0,AJ14+AK14)","v":0},null,null,null,0,null,"Düz-Unv",{"$f":"IF(H3=\"\",0,1)","v":0}]
[null,3,null,"Gündüz",null,null,null,null,null,null,null,null,null,null,null,null,null,null,null,null,null,null,null,null,null,null,null,null,null,null,null,null,null,null,null,{"$f":"IF(C18=\"\",0,SUM(E15:AI15))","v":0},{"$f":"IF(C18=\"\",0,IF(C18=\"Emekli\",0,ROUNDDOWN(SUM(E15:AI18)/2,0)))","v":0},{"$f":"IF(C18=\"\",0,AJ15+AK15)","v":0},{"$f":"AL15+AL16+AL17+AL18","v":0},null,null,0,{"$f":"SUM((AP15:AP18)/4)","v":0},"Ony-Ad",{"$f":"IF(D4=\"\",0,1)","v":0}]
[null,null,null,"Gece",null,null,null,null,null,null,null,null,null,null,null,null,null,null,null,null,null,null,null,null,null,null,null,null,null,null,null,null,null,null,null,{"$f":"IF(C18=\"\",0,SUM(E16:AI16))","v":0},null,{"$f":"IF(C18=\"\",0,AJ16+AK16)","v":0},null,null,null,0,null,"Ony-Unv",{"$f":"IF(H4=\"\",0,1)","v":0}]
[null,null,null,"Dyk",null,null,null,null,null,null,null,null,null,null,null,null,null,null,null,null,null,null,null,null,null,null,null,null,null,null,null,null,null,null,null,{"$f":"IF(C18=\"\",0,SUM(E17:AI17))","v":0},null,{"$f":"IF(C18=\"\",0,AJ17+AK17)","v":0},null,null,null,0,null,"Tarih",{"$f":"IF(N4=\"\",0,1)","v":1}]
[null,null,null,"Nöbet",null,null,null,null,null,null,null,null,null,null,null,null,null,null,null,null,null,null,null,null,null,null,null,null,null,null,null,null,null,null,null,{"$f":"IF(C18=\"\",0,SUM(E18:AI18))","v":0},null,{"$f":"IF(C18=\"\",0,AJ18+AK18)","v":0},null,null,null,0,null,"Ek-1",{"$f":"IF(S3=\"\",0,1)","v":1}]
[null,4,null,"Gündüz",null,null,null,null,null,null,null,null,null,null,null,null,null,null,null,null,null,null,null,null,null,null,null,null,null,null,null,null,null,null,null,{"$f":"IF(C22=\"\",0,SUM(E19:AI19))","v":0},{"$f":"IF(C22=\"\",0,IF(C22=\"Emekli\",0,ROUNDDOWN(SUM(E19:AI22)/2,0)))","v":0},{"$f":"IF(C22=\"\",0,AJ19+AK19)","v":0},{"$f":"AL19+AL20+AL21+AL22","v":0},null,null,0,{"$f":"SUM((AP19:AP22)/4)","v":0},"Ek-2",{"$f":"IF(S4=\"\",0,1)","v":1}]
[null,null,null,"Gece",null,null,null,null,null,null,null,null,null,null,null,null,null,null,null,null,null,null,null,null,null,null,null,null,null,null,null,null,null,null,null,{"$f":"IF(C22=\"\",0,SUM(E20:AI20))","v":0},null,{"$f":"IF(C22=\"\",0,AJ20+AK20)","v":0},null,null,null,0,null,"Ek-3",{"$f":"IF(W3=\"\",0,1)","v":1}]
[null,null,null,"Dyk",null,null,null,null,null,null,null,null,null,null,null,null,null,null,null,null,null,null,null,null,null,null,null,null,null,null,null,null,null,null,null,{"$f":"IF(C22=\"\",0,SUM(E21:AI21))","v":0},null,{"$f":"IF(C22=\"\",0,AJ21+AK21)","v":0},null,null,null,0,null,"Ek-4",{"$f":"IF(W4=\"\",0,1)","v":1}]
[null,null,null,"Nöbet",null,null,null,null,null,null,null,null,null,null,null,null,null,null,null,null,null,null,null,null,null,null,null,null,null,null,null,null,null,null,null,{"$f":"IF(C22=\"\",0,SUM(E22:AI22))","v":0},null,{"$f":"IF(C22=\"\",0,AJ22+AK22)","v":0},null,null,null,0,null,"Ay",{"$f":"IF(AD3=\"\",0,1)","v":1}]
[null,5,null,"Gündüz",null,null,null,null,null,null,null,null,null,null,null,null,null,null,null,null,null,null,null,null,null,null,null,null,null,null,null,null,null,null,null,{"$f":"IF(C26=\"\",0,SUM(E23:AI23))","v":0},{"$f":"IF(C26=\"\",0,IF(C26=\"Emekli\",0,ROUNDDOWN(SUM(E23:AI26)/2,0)))","v":0},{"$f":"IF(C26=\"\",0,AJ23+AK23)","v":0},{"$f":"AL23+AL24+AL25+AL26","v":0},null,null,0,{"$f":"SUM((AP23:AP26)/4)","v":0},"Yıl",{"$f":"IF(AD4=\"\",0,1)","v":1}]
[null,null,null,"Gece",null,null,null,null,null,null,null,null,null,null,null,null,null,null,null,null,null,null,null,null,null,null,null,null,null,null,null,null,null,null,null,{"$f":"IF(C26=\"\",0,SUM(E24:AI24))","v":0},null,{"$f":"IF(C26=\"\",0,AJ24+AK24)","v":0},null,null,null,0,null,"Personel",{"$f":"IF(AP6=0,0,IF(AP6=AQ6,1,0))","v":0}]
[null,null,null,"Dyk",null,null,null,null,null,null,null,null,null,null,null,null,null,null,null,null,null,null,null,null,null,null,null,null,null,null,null,null,null,null,null,{"$f":"IF(C26=\"\",0,SUM(E25:AI25))","v":0},null,{"$f":"IF(C26=\"\",0,AJ25+AK25)","v":0},null,null,null,0,null,"Ölçüt",{"$f":"IF(SUM(AS12:AS24)=13,1,0)","v":0}]
[null,null,null,"Nöbet",null,null,null,null,null,null,null,null,null,null,null,null,null,null,null,null,null,null,null,null,null,null,null,null,null,null,null,null,null,null,null,{"$f":"IF(C26=\"\",0,SUM(E26:AI26))","v":0},null,{"$f":"IF(C26=\"\",0,AJ26+AK26)","v":0},null,null,null,0]
[null,6,null,"Gündüz",null,null,null,null,null,null,null,null,null,null,null,null,null,null,null,null,null,null,null,null,null,null,null,null,null,null,null,null,null,null,null,{"$f":"IF(C30=\"\",0,SUM(E27:AI27))","v":0},{"$f":"IF(C30=\"\",0,IF(C30=\"Emekli\",0,ROUNDDOWN(SUM(E27:AI30)/2,0)))","v":0},{"$f":"IF(C30=\"\",0,AJ27+AK27)","v":0},{"$f":"AL27+AL28+AL29+AL30","v":0},null,null,0,{"$f":"SUM((AP27:AP30)/4)","v":0}]
[null,null,null,"Gece",null,null,null,null,null,null,null,null,null,null,null,null,null,null,null,null,null,null,null,null,null,null,null,null,null,null,null,null,null,null,null,{"$f":"IF(C30=\"\",0,SUM(E28:AI28))","v":0},null,{"$f":"IF(C30=\"\",0,AJ28+AK28)","v":0},null,null,null,0]
[null,null,null,"Dyk",null,null,null,null,null,null,null,null,null,null,null,null,null,null,null,null,null,null,null,null,null,null,null,null,null,null,null,null,null,null,null,{"$f":"IF(C30=\"\",0,SUM(E29:AI29))","v":0},null,{"$f":"IF(C30=\"\",0,AJ29+AK29)","v":0},null,null,null,0]
[null,null,null,"Nöbet",null,null,null,null,null,null,null,null,null,null,null,null,null,null,null,null,null,null,null,null,null,null,null,null,null,null,null,null,null,null,null,{"$f":"IF(C30=\"\",0,SUM(E30:AI30))","v":0},null,{"$f":"IF(C30=\"\",0,AJ30+AK30)","v":0},null,null,null,0]
[null,7,null,"Gündüz",null,null,null,null,null,null,null,null,null,null,null,null,null,null,null,null,null,null,null,null,null,null,null,null,null,null,null,null,null,null,null,{"$f":"IF(C34=\"\",0,SUM(E31:AI31))","v":0},{"$f":"IF(C34=\"\",0,IF(C34=\"Emekli\",0,ROUNDDOWN(SUM(E31:AI34)/2,0)))","v":0},{"$f":"IF(C34=\"\",0,AJ31+AK31)","v":0},{"$f":"AL31+AL32+AL33+AL34","v":0},null,null,0,{"$f":"SUM((AP31:AP34)/4)","v":0}]
[null,null,null,"Gece",null,null,null,null,null,null,null,null,null,null,null,null,null,null,null,null,null,null,null,null,null,null,null,null,null,null,null,null,null,null,null,{"$f":"IF(C34=\"\",0,SUM(E32:AI32))","v":0},null,{"$f":"IF(C34=\"\",0,AJ32+AK32)","v":0},null,null,null,0]
[null,null,null,"Dyk",null,null,null,null,null,null,null,null,null,null,null,null,null,null,null,null,null,null,null,null,null,null,null,null,null,null,null,null,null,null,null,{"$f":"IF(C34=\"\",0,SUM(E33:AI33))","v":0},null,{"$f":"IF(C34=\"\",0,AJ33+AK33)","v":0},null,null,null,0]
[null,null,null,"Nöbet",null,null,null,null,null,null,null,null,null,null,null,null,null,null,null,null,null,null,null,null,null,null,null,null,null,null,null,null,null,null,null,{"$f":"IF(C34=\"\",0,SUM(E34:AI34))","v":0},null,{"$f":"IF(C34=\"\",0,AJ34+AK34)","v":0},null,null,null,0]
[null,8,null,"Gündüz",null,null,null,null,null,null,null,null,null,null,null,null,null,null,null,null,null,null,null,null,null,null,null,null,null,null,null,null,null,null,null,{"$f":"IF(C38=\"\",0,SUM(E35:AI35))","v":0},{"$f":"IF(C38=\"\",0,IF(C38=\"Emekli\",0,ROUNDDOWN(SUM(E35:AI38)/2,0)))","v":0},{"$f":"IF(C38=\"\",0,AJ35+AK35)","v":0},{"$f":"AL35+AL36+AL37+AL38","v":0},null,null,0,{"$f":"SUM((AP35:AP38)/4)","v":0}]
[null,null,null,"Gece",null,null,null,null,null,null,null,null,null,null,null,null,null,null,null,null,null,null,null,null,null,null,null,null,null,null,null,null,null,null,null,{"$f":"IF(C38=\"\",0,SUM(E36:AI36))","v":0},null,{"$f":"IF(C38=\"\",0,AJ36+AK36)","v":0},null,null,null,0]
[null,null,null,"Dyk",null,null,null,null,null,null,null,null,null,null,null,null,null,null,null,null,null,null,null,null,null,null,null,null,null,null,null,null,null,null,null,{"$f":"IF(C38=\"\",0,SUM(E37:AI37))","v":0},null,{"$f":"IF(C38=\"\",0,AJ37+AK37)","v":0},null,null,null,0]
[null,null,null,"Nöbet",null,null,null,null,null,null,null,null,null,null,null,null,null,null,null,null,null,null,null,null,null,null,null,null,null,null,null,null,null,null,null,{"$f":"IF(C38=\"\",0,SUM(E38:AI38))","v":0},null,{"$f":"IF(C38=\"\",0,AJ38+AK38)","v":0},null,null,null,0]
[null,9,null,"Gündüz",null,null,null,null,null,null,null,null,null,null,null,null,null,null,null,null,null,null,null,null,null,null,null,null,null,null,null,null,null,null,null,{"$f":"IF(C42=\"\",0,SUM(E39:AI39))","v":0},{"$f":"IF(C42=\"\",0,IF(C42=\"Emekli\",0,ROUNDDOWN(SUM(E39:AI42)/2,0)))","v":0},{"$f":"IF(C42=\"\",0,AJ39+AK39)","v":0},{"$f":"AL39+AL40+AL41+AL42","v":0},null,null,0,{"$f":"SUM((AP39:AP42)/4)","v":0}]
[null,null,null,"Gece",null,null,null,null,null,null,null,null,null,null,null,null,null,null,null,null,null,null,null,null,null,null,null,null,null,null,null,null,null,null,null,{"$f":"IF(C42=\"\",0,SUM(E40:AI40))","v":0},null,{"$f":"IF(C42=\"\",0,AJ40+AK40)","v":0},null,null,null,0]
[null,null,null,"Dyk",null,null,null,null,null,null,null,null,null,null,null,null,null,null,null,null,null,null,null,null,null,null,null,null,null,null,null,null,null,null,null,{"$f":"IF(C42=\"\",0,SUM(E41:AI41))","v":0},null,{"$f":"IF(C42=\"\",0,AJ41+AK41)","v":0},null,null,null,0]
[null,null,null,"Nöbet",null,null,null,null,null,null,null,null,null,null,null,null,null,null,null,null,null,null,null,null,null,null,null,null,null,null,null,null,null,null,null,{"$f":"IF(C42=\"\",0,SUM(E42:AI42))","v":0},null,{"$f":"IF(C42=\"\",0,AJ42+AK42)","v":0},null,null,null,0]
[null,10,null,{"$f":"D39","v":"Gündüz"},null,null,null,null,null,null,null,null,null,null,null,null,null,null,null,null,null,null,null,null,null,null,null,null,null,null,null,null,null,null,null,{"$f":"IF(C46=\"\",0,SUM(E43:AI43))","v":0},{"$f":"IF(C46=\"\",0,IF(C46=\"Emekli\",0,ROUNDDOWN(SUM(E43:AI46)/2,0)))","v":0},{"$f":"IF(C46=\"\",0,AJ43+AK43)","v":0},{"$f":"AL43+AL44+AL45+AL46","v":0},null,null,0,{"$f":"SUM((AP43:AP46)/4)","v":0}]
[null,null,null,"Gece",null,null,null,null,null,null,null,null,null,null,null,null,null,null,null,null,null,null,null,null,null,null,null,null,null,null,null,null,null,null,null,{"$f":"IF(C46=\"\",0,SUM(E44:AI44))","v":0},null,{"$f":"IF(C46=\"\",0,AJ44+AK44)","v":0},null,null,null,0]
[null,null,null,"Dyk",null,null,null,null,null,null,null,null,null,null,null,null,null,null,null,null,null,null,null,null,null,null,null,null,null,null,null,null,null,null,null,{"$f":"IF(C46=\"\",0,SUM(E45:AI45))","v":0},null,{"$f":"IF(C46=\"\",0,AJ45+AK45)","v":0},null,null,null,0]
[null,null,null,"Nöbet",null,null,null,null,null,null,null,null,null,null,null,null,null,null,null,null,null,null,null,null,null,null,null,null,null,null,null,null,null,null,null,{"$f":"IF(C46=\"\",0,SUM(E46:AI46))","v":0},null,{"$f":"IF(C46=\"\",0,AJ46+AK46)","v":0},null,null,null,0]
[null,11,null,"Gündüz",null,null,null,null,null,null,null,null,null,null,null,null,null,null,null,null,null,null,null,null,null,null,null,null,null,null,null,null,null,null,null,{"$f":"IF(C50=\"\",0,SUM(E47:AI47))","v":0},{"$f":"IF(C50=\"\",0,IF(C50=\"Emekli\",0,ROUNDDOWN(SUM(E47:AI50)/2,0)))","v":0},{"$f":"IF(C50=\"\",0,AJ47+AK47)","v":0},{"$f":"AL47+AL48+AL49+AL50","v":0},null,null,0,{"$f":"SUM((AP47:AP50)/4)","v":0}]
[null,null,null,"Gece",null,null,null,null,null,null,null,null,null,null,null,null,null,null,null,null,null,null,null,null,null,null,null,null,null,null,null,null,null,null,null,{"$f":"IF(C50=\"\",0,SUM(E48:AI48))","v":0},null,{"$f":"IF(C50=\"\",0,AJ48+AK48)","v":0},null,null,null,0]
[null,null,null,"Dyk",null,null,null,null,null,null,null,null,null,null,null,null,null,null,null,null,null,null,null,null,null,null,null,null,null,null,null,null,null,null,null,{"$f":"IF(C50=\"\",0,SUM(E49:AI49))","v":0},null,{"$f":"IF(C50=\"\",0,AJ49+AK49)","v":0},null,null,null,0]
[null,null,null,"Nöbet",null,null,null,null,null,null,null,null,null,null,null,null,null,null,null,null,null,null,null,null,null,null,null,null,null,null,null,null,null,null,null,{"$f":"IF(C50=\"\",0,SUM(E50:AI50))","v":0},null,{"$f":"IF(C50=\"\",0,AJ50+AK50)","v":0},null,null,null,0]
[null,12,null,"Gündüz",null,null,null,null,null,null,null,null,null,null,null,null,null,null,null,null,null,null,null,null,null,null,null,null,null,null,null,null,null,null,null,{"$f":"IF(C54=\"\",0,SUM(E51:AI51))","v":0},{"$f":"IF(C54=\"\",0,IF(C54=\"Emekli\",0,ROUNDDOWN(SUM(E51:AI54)/2,0)))","v":0},{"$f":"IF(C54=\"\",0,AJ51+AK51)","v":0},{"$f":"AL51+AL52+AL53+AL54","v":0},null,null,0,{"$f":"SUM((AP51:AP54)/4)","v":0}]
[null,null,null,"Gece",null,null,null,null,null,null,null,null,null,null,null,null,null,null,null,null,null,null,null,null,null,null,null,null,null,null,null,null,null,null,null,{"$f":"IF(C54=\"\",0,SUM(E52:AI52))","v":0},null,{"$f":"IF(C54=\"\",0,AJ52+AK52)","v":0},null,null,null,0]
[null,null,null,"Dyk",null,null,null,null,null,null,null,null,null,null,null,null,null,null,null,null,null,null,null,null,null,null,null,null,null,null,null,null,null,null,null,{"$f":"IF(C54=\"\",0,SUM(E53:AI53))","v":0},null,{"$f":"IF(C54=\"\",0,AJ53+AK53)","v":0},null,null,null,0]
[null,null,null,"Nöbet",null,null,null,null,null,null,null,null,null,null,null,null,null,null,null,null,null,null,null,null,null,null,null,null,null,null,null,null,null,null,null,{"$f":"IF(C54=\"\",0,SUM(E54:AI54))","v":0},null,{"$f":"IF(C54=\"\",0,AJ54+AK54)","v":0},null,null,null,0]
[null,13,null,"Gündüz",null,null,null,null,null,null,null,null,null,null,null,null,null,null,null,null,null,null,null,null,null,null,null,null,null,null,null,null,null,null,null,{"$f":"IF(C58=\"\",0,SUM(E55:AI55))","v":0},{"$f":"IF(C58=\"\",0,IF(C58=\"Emekli\",0,ROUNDDOWN(SUM(E55:AI58)/2,0)))","v":0},{"$f":"IF(C58=\"\",0,AJ55+AK55)","v":0},{"$f":"AL55+AL56+AL57+AL58","v":0},null,null,0,{"$f":"SUM((AP55:AP58)/4)","v":0}]
[null,null,null,"Gece",null,null,null,null,null,null,null,null,null,null,null,null,null,null,null,null,null,null,null,null,null,null,null,null,null,null,null,null,null,null,null,{"$f":"IF(C58=\"\",0,SUM(E56:AI56))","v":0},null,{"$f":"IF(C58=\"\",0,AJ56+AK56)","v":0},null,null,null,0]
[null,null,null,"Dyk",null,null,null,null,null,null,null,null,null,null,null,null,null,null,null,null,null,null,null,null,null,null,null,null,null,null,null,null,null,null,null,{"$f":"IF(C58=\"\",0,SUM(E57:AI57))","v":0},null,{"$f":"IF(C58=\"\",0,AJ57+AK57)","v":0},null,null,null,0]
[null,null,null,"Nöbet",null,null,null,null,null,null,null,null,null,null,null,null,null,null,null,null,null,null,null,null,null,null,null,null,null,null,null,null,null,null,null,{"$f":"IF(C58=\"\",0,SUM(E58:AI58))","v":0},null,{"$f":"IF(C58=\"\",0,AJ58+AK58)","v":0},null,null,null,0]
[null,14,null,"Gündüz",null,null,null,null,null,null,null,null,null,null,null,null,null,null,null,null,null,null,null,null,null,null,null,null,null,null,null,null,null,null,null,{"$f":"IF(C62=\"\",0,SUM(E59:AI59))","v":0},{"$f":"IF(C62=\"\",0,IF(C62=\"Emekli\",0,ROUNDDOWN(SUM(E59:AI62)/2,0)))","v":0},{"$f":"IF(C62=\"\",0,AJ59+AK59)","v":0},{"$f":"AL59+AL60+AL61+AL62","v":0},null,null,0,{"$f":"SUM((AP59:AP62)/4)","v":0}]
[null,null,null,"Gece",null,null,null,null,null,null,null,null,null,null,null,null,null,null,null,null,null,null,null,null,null,null,null,null,null,null,null,null,null,null,null,{"$f":"IF(C62=\"\",0,SUM(E60:AI60))","v":0},null,{"$f":"IF(C62=\"\",0,AJ60+AK60)","v":0},null,null,null,0]
[null,null,null,"Dyk",null,null,null,null,null,null,null,null,null,null,null,null,null,null,null,null,null,null,null,null,null,null,null,null,null,null,null,null,null,null,null,{"$f":"IF(C62=\"\",0,SUM(E61:AI61))","v":0},null,{"$f":"IF(C62=\"\",0,AJ61+AK61)","v":0},null,null,null,0]
[null,null,null,"Nöbet",null,null,null,null,null,null,null,null,null,null,null,null,null,null,null,null,null,null,null,null,null,null,null,null,null,null,null,null,null,null,null,{"$f":"IF(C62=\"\",0,SUM(E62:AI62))","v":0},null,{"$f":"IF(C62=\"\",0,AJ62+AK62)","v":0},null,null,null,0]
[null,15,null,"Gündüz",null,null,null,null,null,null,null,null,null,null,null,null,null,null,null,null,null,null,null,null,null,null,null,null,null,null,null,null,null,null,null,{"$f":"IF(C66=\"\",0,SUM(E63:AI63))","v":0},{"$f":"IF(C66=\"\",0,IF(C66=\"Emekli\",0,ROUNDDOWN(SUM(E63:AI66)/2,0)))","v":0},{"$f":"IF(C66=\"\",0,AJ63+AK63)","v":0},{"$f":"AL63+AL64+AL65+AL66","v":0},null,null,0,{"$f":"SUM((AP63:AP66)/4)","v":0}]
[null,null,null,"Gece",null,null,null,null,null,null,null,null,null,null,null,null,null,null,null,null,null,null,null,null,null,null,null,null,null,null,null,null,null,null,null,{"$f":"IF(C66=\"\",0,SUM(E64:AI64))","v":0},null,{"$f":"IF(C66=\"\",0,AJ64+AK64)","v":0},null,null,null,0]
[null,null,null,"Dyk",null,null,null,null,null,null,null,null,null,null,null,null,null,null,null,null,null,null,null,null,null,null,null,null,null,null,null,null,null,null,null,{"$f":"IF(C66=\"\",0,SUM(E65:AI65))","v":0},null,{"$f":"IF(C66=\"\",0,AJ65+AK65)","v":0},null,null,null,0]
[null,null,null,"Nöbet",null,null,null,null,null,null,null,null,null,null,null,null,null,null,null,null,null,null,null,null,null,null,null,null,null,null,null,null,null,null,null,{"$f":"IF(C66=\"\",0,SUM(E66:AI66))","v":0},null,{"$f":"IF(C66=\"\",0,AJ66+AK66)","v":0},null,null,null,0]
[null,16,null,"Gündüz",null,null,null,null,null,null,null,null,null,null,null,null,null,null,null,null,null,null,null,null,null,null,null,null,null,null,null,null,null,null,null,{"$f":"IF(C70=\"\",0,SUM(E67:AI67))","v":0},{"$f":"IF(C70=\"\",0,IF(C70=\"Emekli\",0,ROUNDDOWN(SUM(E67:AI70)/2,0)))","v":0},{"$f":"IF(C70=\"\",0,AJ67+AK67)","v":0},{"$f":"AL67+AL68+AL69+AL70","v":0},null,null,0,{"$f":"SUM((AP67:AP70)/4)","v":0}]
[null,null,null,"Gece",null,null,null,null,null,null,null,null,null,null,null,null,null,null,null,null,null,null,null,null,null,null,null,null,null,null,null,null,null,null,null,{"$f":"IF(C70=\"\",0,SUM(E68:AI68))","v":0},null,{"$f":"IF(C70=\"\",0,AJ68+AK68)","v":0},null,null,null,0]
[null,null,null,"Dyk",null,null,null,null,null,null,null,null,null,null,null,null,null,null,null,null,null,null,null,null,null,null,null,null,null,null,null,null,null,null,null,{"$f":"IF(C70=\"\",0,SUM(E69:AI69))","v":0},null,{"$f":"IF(C70=\"\",0,AJ69+AK69)","v":0},null,null,null,0]
[null,null,null,"Nöbet",null,null,null,null,null,null,null,null,null,null,null,null,null,null,null,null,null,null,null,null,null,null,null,null,null,null,null,null,null,null,null,{"$f":"IF(C70=\"\",0,SUM(E70:AI70))","v":0},null,{"$f":"IF(C70=\"\",0,AJ70+AK70)","v":0},null,null,null,0]
[null,17,null,"Gündüz",null,null,null,null,null,null,null,null,null,null,null,null,null,null,null,null,null,null,null,null,null,null,null,null,null,null,null,null,null,null,null,{"$f":"IF(C74=\"\",0,SUM(E71:AI71))","v":0},{"$f":"IF(C74=\"\",0,IF(C74=\"Emekli\",0,ROUNDDOWN(SUM(E71:AI74)/2,0)))","v":0},{"$f":"IF(C74=\"\",0,AJ71+AK71)","v":0},{"$f":"AL71+AL72+AL73+AL74","v":0},null,null,0,{"$f":"SUM((AP71:AP74)/4)","v":0}]
[null,null,null,"Gece",null,null,null,null,null,null,null,null,null,null,null,null,null,null,null,null,null,null,null,null,null,null,null,null,null,null,null,null,null,null,null,{"$f":"IF(C74=\"\",0,SUM(E72:AI72))","v":0},null,{"$f":"IF(C74=\"\",0,AJ72+AK72)","v":0},null,null,null,{"$f":"IF(C72=\"\",0,1)","v":0}]
[null,null,null,"Dyk",null,null,null,null,null,null,null,null,null,null,null,null,null,null,null,null,null,null,null,null,null,null,null,null,null,null,null,null,null,null,null,{"$f":"IF(C74=\"\",0,SUM(E73:AI73))","v":0},null,{"$f":"IF(C74=\"\",0,AJ73+AK73)","v":0},null,null,null,0]
[null,null,null,"Nöbet",null,null,null,null,null,null,null,null,null,null,null,null,null,null,null,null,null,null,null,null,null,null,null,null,null,null,null,null,null,null,null,{"$f":"IF(C74=\"\",0,SUM(E74:AI74))","v":0},null,{"$f":"IF(C74=\"\",0,AJ74+AK74)","v":0},null,null,null,0]
[null,18,null,{"$f":"D71","v":"Gündüz"},null,null,null,null,null,null,null,null,null,null,null,null,null,null,null,null,null,null,null,null,null,null,null,null,null,null,null,null,null,null,null,{"$f":"IF(C78=\"\",0,SUM(E75:AI75))","v":0},{"$f":"IF(C78=\"\",0,IF(C78=\"Emekli\",0,ROUNDDOWN(SUM(E75:AI78)/2,0)))","v":0},{"$f":"IF(C78=\"\",0,AJ75+AK75)","v":0},{"$f":"AL75+AL76+AL77+AL78","v":0},null,null,0,{"$f":"SUM((AP75:AP78)/4)","v":0}]
[null,null,null,"Gece",null,null,null,null,null,null,null,null,null,null,null,null,null,null,null,null,null,null,null,null,null,null,null,null,null,null,null,null,null,null,null,{"$f":"IF(C78=\"\",0,SUM(E76:AI76))","v":0},null,{"$f":"IF(C78=\"\",0,AJ76+AK76)","v":0},null,null,null,0]
[null,null,null,"Dyk",null,null,null,null,null,null,null,null,null,null,null,null,null,null,null,null,null,null,null,null,null,null,null,null,null,null,null,null,null,null,null,{"$f":"IF(C78=\"\",0,SUM(E77:AI77))","v":0},null,{"$f":"IF(C78=\"\",0,AJ77+AK77)","v":0},null,null,null,0]
[null,null,null,"Nöbet",null,null,null,null,null,null,null,null,null,null,null,null,null,null,null,null,null,null,null,null,null,null,null,null,null,null,null,null,null,null,null,{"$f":"IF(C78=\"\",0,SUM(E78:AI78))","v":0},null,{"$f":"IF(C78=\"\",0,AJ78+AK78)","v":0},null,null,null,0]
[null,19,null,"Gündüz",null,null,null,null,null,null,null,null,null,null,null,null,null,null,null,null,null,null,null,null,null,null,null,null,null,null,null,null,null,null,null,{"$f":"IF(C82=\"\",0,SUM(E79:AI79))","v":0},{"$f":"IF(C82=\"\",0,IF(C82=\"Emekli\",0,ROUNDDOWN(SUM(E79:AI82)/2,0)))","v":0},{"$f":"IF(C82=\"\",0,AJ79+AK79)","v":0},{"$f":"AL79+AL80+AL81+AL82","v":0},null,null,0,{"$f":"SUM((AP79:AP82)/4)","v":0}]
[null,null,null,"Gece",null,null,null,null,null,null,null,null,null,null,null,null,null,null,null,null,null,null,null,null,null,null,null,null,null,null,null,null,null,null,null,{"$f":"IF(C82=\"\",0,SUM(E80:AI80))","v":0},null,{"$f":"IF(C82=\"\",0,AJ80+AK80)","v":0},null,null,null,0]
[null,null,null,"Dyk",null,null,null,null,null,null,null,null,null,null,null,null,null,null,null,null,null,null,null,null,null,null,null,null,null,null,null,null,null,null,null,{"$f":"IF(C82=\"\",0,SUM(E81:AI81))","v":0},null,{"$f":"IF(C82=\"\",0,AJ81+AK81)","v":0},null,null,null,0]
[null,null,null,"Nöbet",null,null,null,null,null,null,null,null,null,null,null,null,null,null,null,null,null,null,null,null,null,null,null,null,null,null,null,null,null,null,null,{"$f":"IF(C82=\"\",0,SUM(E82:AI82))","v":0},null,{"$f":"IF(C82=\"\",0,AJ82+AK82)","v":0},null,null,null,0]
[null,20,null,"Gündüz",null,null,null,null,null,null,null,null,null,null,null,null,null,null,null,null,null,null,null,null,null,null,null,null,null,null,null,null,null,null,null,{"$f":"IF(C86=\"\",0,SUM(E83:AI83))","v":0},{"$f":"IF(C86=\"\",0,IF(C86=\"Emekli\",0,ROUNDDOWN(SUM(E83:AI86)/2,0)))","v":0},{"$f":"IF(C86=\"\",0,AJ83+AK83)","v":0},{"$f":"AL83+AL84+AL85+AL86","v":0},null,null,0,{"$f":"SUM((AP83:AP86)/4)","v":0}]
[null,null,null,"Gece",null,null,null,null,null,null,null,null,null,null,null,null,null,null,null,null,null,null,null,null,null,null,null,null,null,null,null,null,null,null,null,{"$f":"IF(C86=\"\",0,SUM(E84:AI84))","v":0},null,{"$f":"IF(C86=\"\",0,AJ84+AK84)","v":0},null,null,null,0]
[null,null,null,"Dyk",null,null,null,null,null,null,null,null,null,null,null,null,null,null,null,null,null,null,null,null,null,null,null,null,null,null,null,null,null,null,null,{"$f":"IF(C86=\"\",0,SUM(E85:AI85))","v":0},null,{"$f":"IF(C86=\"\",0,AJ85+AK85)","v":0},null,null,null,0]
[null,null,null,"Nöbet",null,null,null,null,null,null,null,null,null,null,null,null,null,null,null,null,null,null,null,null,null,null,null,null,null,null,null,null,null,null,null,{"$f":"IF(C86=\"\",0,SUM(E86:AI86))","v":0},null,{"$f":"IF(C86=\"\",0,AJ86+AK86)","v":0},null,null,null,0]

{"sheet":"ptj","index":1,"n_rows":33,"n_cols":70,"rows_kept":33,"cut":false,"hidden":true,"merged":[[0,45,3,45],[0,46,3,46],[0,47,3,47],[0,48,3,48],[3,2,3,15],[0,40,3,40],[0,41,3,41],[0,42,3,42],[0,43,3,43],[0,44,3,44],[0,49,3,49],[0,0,0,37],[0,39,3,39],[0,69,3,69],[2,34,2,35],[2,36,2,37],[3,0,3,1],[3,34,3,35],[3,36,3,37],[0,62,3,62],[0,63,3,63],[0,64,3,64],[0,65,3,65],[0,66,3,66],[0,67,3,67],[0,56,3,56],[0,68,3,68],[0,60,3,60],[0,61,3,61],[0,50,3,50],[0,51,3,51],[0,52,3,52],[0,53,3,53],[0,54,3,54],[0,55,3,55],[0,57,3,57],[0,58,3,58],[0,59,3,59],[26,0,26,37],[4,0,5,0],[4,1,5,1],[4,2,5,2],[4,3,4,33],[4,34,4,37],[28,1,28,2],[29,1,29,2],[31,1,31,2],[32,1,32,2],[28,3,28,10],[29,3,29,10],[31,3,31,10],[32,3,32,10]]}
["ÜCRETLİ ÖĞRETMEN - USTAÖĞRETİCİ  PUANTAJI",null,null,null,null,null,null,null,null,null,null,null,null,null,null,null,null,null,null,null,null,null,null,null,null,null,null,null,null,null,null,null,null,null,null,null,null,null,1,{"$f":"Puantaj!AS1","v":"01/02/2024"},{"$f":"AN1+1","v":"2024-02-02"},{"$f":"AO1+1","v":"2024-02-03"},"2024-02-04","2024-02-05","2024-02-06","2024-02-07","2024-02-08","2024-02-09","2024-02-10","2024-02-11","2024-02-12","2024-02-13","2024-02-14","2024-02-15","2024-02-16","2024-02-17","2024-02-18","2024-02-19","2024-02-20","2024-02-21","2024-02-22","2024-02-23","2024-02-24","2024-02-25","2024-02-26","2024-02-27","2024-02-28","2024-02-29","2024-03-01","2024-03-02"]
[]
[null,null,null,null,null,null,null,null,null,null,null,null,null,null,null,null,null,null,null,null,null,null,null,null,null,null,null,null,null,null,null,null,null,null,"Ait Old. Ay",null,{"$f":"Puantaj!AD3","v":"Şubat"},null,1]
["Okul/Kurum Adı",null,{"$f":"Puantaj!D2","v":0},null,null,null,null,null,null,null,null,null,null,null,null,null,null,null,null,null,null,null,null,null,null,null,null,null,null,null,null,null,null,null,"Ait Old. Yıl",null,{"$f":"Puantaj!AD4","v":2024},null,1]
["S. No","Kimlik No\nAdı Soyadı\nUnvanı\nStatü","Ek Ders Türü","GÜNLÜK DERS SAATİ SAYILARI",null,null,null,null,null,null,null,null,null,null,null,null,null,null,null,null,null,null,null,null,null,null,null,null,null,null,null,null,null,null,"EK DERS TOPLAMLARI",null,null,null,1,1,2,3,4,5,6,7,8,9,10,11,12,13,14,15,16,17,18,19,20,21,22,23,24,25,26,27,28,29,30,31]
[null,null,null,{"$f":"AN1","v":"01/02/2024"},{"$f":"AO1","v":"2024-02-02"},"2024-02-03","2024-02-04","2024-02-05","2024-02-06","2024-02-07","2024-02-08","2024-02-09","2024-02-10","2024-02-11","2024-02-12","2024-02-13","2024-02-14","2024-02-15","2024-02-16","2024-02-17","2024-02-18","2024-02-19","2024-02-20","2024-02-21","2024-02-22","2024-02-23","2024-02-24","2024-02-25","2024-02-26","2024-02-27","2024-02-28","2024-02-29","2024-03-01","2024-03-02","Toplam\nDers Saati","Eğt. Öğr.\nDes. Görevi","Ek Ders Saati\nGenel Toplamı","Ek Ders\nToplamı",1,{"$f":"TEXT(D6,\"gggg\")","v":"Perşembe"},{"$f":"TEXT(E6,\"gggg\")","v":"Cuma"},"Cumartesi","Pazar","Pazartesi","Salı","Çarşamba","Perşembe","Cuma","Cumartesi","Pazar","Pazartesi","Salı","Çarşamba","Perşembe","Cuma","Cumartesi","Pazar","Pazartesi","Salı","Çarşamba","Perşembe","Cuma","Cumartesi","Pazar","Pazartesi","Salı","Çarşamba","Perşembe","Cuma","Cumartesi"]
[{"$f":"Puantaj!B7","v":1},{"$f":"Puantaj!C7&\"                                                  \"&Puantaj!C8&\"                                                  \"&Puantaj!C9&\"                                                  \"&Puantaj!C10","v":"                                                                                                                                                      "},{"$f":"Puantaj!D7&\"                    \"&Puantaj!D8&\"                    \"&Puantaj!D9&\"                    \"&Puantaj!D10","v":"Gündüz                    Gece                    Dyk                    Nöbet"},{"$f":"IF(Puantaj!$C10=\"\",\"\",Puantaj!E7&\"                    \"&Puantaj!E8&\"                    \"&Puantaj!E9&\"                    \"&Puantaj!E10)","v":""},{"$f":"IF(Puantaj!$C10=\"\",\"\",Puantaj!F7&\"                    \"&Puantaj!F8&\"                    \"&Puantaj!F9&\"                    \"&Puantaj!F10)","v":""},{"$f":"IF(Puantaj!$C10=\"\",\"\",Puantaj!G7&\"                    \"&Puantaj!G8&\"                    \"&Puantaj!G9&\"                    \"&Puantaj!G10)","v":""},{"$f":"IF(Puantaj!$C10=\"\",\"\",Puantaj!H7&\"                    \"&Puantaj!H8&\"                    \"&Puantaj!H9&\"                    \"&Puantaj!H10)","v":""},{"$f":"IF(Puantaj!$C10=\"\",\"\",Puantaj!I7&\"                    \"&Puantaj!I8&\"                    \"&Puantaj!I9&\"                    \"&Puantaj!I10)","v":""},{"$f":"IF(Puantaj!$C10=\"\",\"\",Puantaj!J7&\"                    \"&Puantaj!J8&\"                    \"&Puantaj!J9&\"                    \"&Puantaj!J10)","v":""},{"$f":"IF(Puantaj!$C10=\"\",\"\",Puantaj!K7&\"                    \"&Puantaj!K8&\"                    \"&Puantaj!K9&\"                    \"&Puantaj!K10)","v":""},{"$f":"IF(Puantaj!$C10=\"\",\"\",Puantaj!L7&\"                    \"&Puantaj!L8&\"                    \"&Puantaj!L9&\"                    \"&Puantaj!L10)","v":""},{"$f":"IF(Puantaj!$C10=\"\",\"\",Puantaj!M7&\"                    \"&Puantaj!M8&\"                    \"&Puantaj!M9&\"                    \"&Puantaj!M10)","v":""},{"$f":"IF(Puantaj!$C10=\"\",\"\",Puantaj!N7&\"                    \"&Puantaj!N8&\"                    \"&Puantaj!N9&\"                    \"&Puantaj!N10)","v":""},{"$f":"IF(Puantaj!$C10=\"\",\"\",Puantaj!O7&\"                    \"&Puantaj!O8&\"                    \"&Puantaj!O9&\"                    \"&Puantaj!O10)","v":""},{"$f":"IF(Puantaj!$C10=\"\",\"\",Puantaj!P7&\"                    \"&Puantaj!P8&\"                    \"&Puantaj!P9&\"                    \"&Puantaj!P10)","v":""},{"$f":"IF(Puantaj!$C10=\"\",\"\",Puantaj!Q7&\"                    \"&Puantaj!Q8&\"                    \"&Puantaj!Q9&\"                    \"&Puantaj!Q10)","v":""},{"$f":"IF(Puantaj!$C10=\"\",\"\",Puantaj!R7&\"                    \"&Puantaj!R8&\"                    \"&Puantaj!R9&\"                    \"&Puantaj!R10)","v":""},{"$f":"IF(Puantaj!$C10=\"\",\"\",Puantaj!S7&\"                    \"&Puantaj!S8&\"                    \"&Puantaj!S9&\"                    \"&Puantaj!S10)","v":""},{"$f":"IF(Puantaj!$C10=\"\",\"\",Puantaj!T7&\"                    \"&Puantaj!T8&\"                    \"&Puantaj!T9&\"                    \"&Puantaj!T10)","v":""},{"$f":"IF(Puantaj!$C10=\"\",\"\",Puantaj!U7&\"                    \"&Puantaj!U8&\"                    \"&Puantaj!U9&\"                    \"&Puantaj!U10)","v":""},{"$f":"IF(Puantaj!$C10=\"\",\"\",Puantaj!V7&\"                    \"&Puantaj!V8&\"                    \"&Puantaj!V9&\"                    \"&Puantaj!V10)","v":""},{"$f":"IF(Puantaj!$C10=\"\",\"\",Puantaj!W7&\"                    \"&Puantaj!W8&\"                    \"&Puantaj!W9&\"                    \"&Puantaj!W10)","v":""},{"$f":"IF(Puantaj!$C10=\"\",\"\",Puantaj!X7&\"                    \"&Puantaj!X8&\"                    \"&Puantaj!X9&\"                    \"&Puantaj!X10)","v":""},{"$f":"IF(Puantaj!$C10=\"\",\"\",Puantaj!Y7&\"                    \"&Puantaj!Y8&\"                    \"&Puantaj!Y9&\"                    \"&Puantaj!Y10)","v":""},{"$f":"IF(Puantaj!$C10=\"\",\"\",Puantaj!Z7&\"                    \"&Puantaj!Z8&\"                    \"&Puantaj!Z9&\"                    \"&Puantaj!Z10)","v":""},{"$f":"IF(Puantaj!$C10=\"\",\"\",Puantaj!AA7&\"                    \"&Puantaj!AA8&\"                    \"&Puantaj!AA9&\"                    \"&Puantaj!AA10)","v":""},{"$f":"IF(Puantaj!$C10=\"\",\"\",Puantaj!AB7&\"                    \"&Puantaj!AB8&\"                    \"&Puantaj!AB9&\"                    \"&Puantaj!AB10)","v":""},{"$f":"IF(Puantaj!$C10=\"\",\"\",Puantaj!AC7&\"                    \"&Puantaj!AC8&\"                    \"&Puantaj!AC9&\"                    \"&Puantaj!AC10)","v":""},{"$f":"IF(Puantaj!$C10=\"\",\"\",Puantaj!AD7&\"                    \"&Puantaj!AD8&\"                    \"&Puantaj!AD9&\"                    \"&Puantaj!AD10)","v":""},{"$f":"IF(Puantaj!$C10=\"\",\"\",Puantaj!AE7&\"                    \"&Puantaj!AE8&\"                    \"&Puantaj!AE9&\"                    \"&Puantaj!AE10)","v":""},{"$f":"IF(Puantaj!$C10=\"\",\"\",Puantaj!AF7&\"                    \"&Puantaj!AF8&\"                    \"&Puantaj!AF9&\"                    \"&Puantaj!AF10)","v":""},{"$f":"IF(Puantaj!$C10=\"\",\"\",Puantaj!AG7&\"                    \"&Puantaj!AG8&\"                    \"&Puantaj!AG9&\"                    \"&Puantaj!AG10)","v":""},{"$f":"IF(Puantaj!$C10=\"\",\"\",Puantaj!AH7&\"                    \"&Puantaj!AH8&\"                    \"&Puantaj!AH9&\"                    \"&Puantaj!AH10)","v":""},{"$f":"IF(Puantaj!$C10=\"\",\"\",Puantaj!AI7&\"                    \"&Puantaj!AI8&\"                    \"&Puantaj!AI9&\"                    \"&Puantaj!AI10)","v":""},{"$f":"Puantaj!AJ7&\"                    \"&Puantaj!AJ8&\"                    \"&Puantaj!AJ9&\"                    \"&Puantaj!AJ10","v":"0                    0                    0                    0"},{"$f":"Puantaj!AK7&\"                    \"&Puantaj!AK8&\"                    \"&Puantaj!AK9&\"                    \"&Puantaj!AK10","v":"0                                                            "},{"$f":"Puantaj!AL7&\"                    \"&Puantaj!AL8&\"                    \"&Puantaj!AL9&\"                    \"&Puantaj!AL10","v":"0                    0                    0                    0"},{"$f":"Puantaj!AM7","v":0},{"$f":"IF(AL7=0,0,1)","v":0}]
[{"$f":"Puantaj!B11","v":2},{"$f":"Puantaj!C11&\"                                                  \"&Puantaj!C12&\"                                                  \"&Puantaj!C13&\"                                                  \"&Puantaj!C14","v":"                                                                                                                                                      "},{"$f":"Puantaj!D11&\"                    \"&Puantaj!D12&\"                    \"&Puantaj!D13&\"                    \"&Puantaj!D14","v":"Gündüz                    Gece                    Dyk                    Nöbet"},{"$f":"IF(Puantaj!$C14=\"\",\"\",Puantaj!E11&\"                    \"&Puantaj!E12&\"                    \"&Puantaj!E13&\"                    \"&Puantaj!E14)","v":""},{"$f":"IF(Puantaj!$C14=\"\",\"\",Puantaj!F11&\"                    \"&Puantaj!F12&\"                    \"&Puantaj!F13&\"                    \"&Puantaj!F14)","v":""},{"$f":"IF(Puantaj!$C14=\"\",\"\",Puantaj!G11&\"                    \"&Puantaj!G12&\"                    \"&Puantaj!G13&\"                    \"&Puantaj!G14)","v":""},{"$f":"IF(Puantaj!$C14=\"\",\"\",Puantaj!H11&\"                    \"&Puantaj!H12&\"                    \"&Puantaj!H13&\"                    \"&Puantaj!H14)","v":""},{"$f":"IF(Puantaj!$C14=\"\",\"\",Puantaj!I11&\"                    \"&Puantaj!I12&\"                    \"&Puantaj!I13&\"                    \"&Puantaj!I14)","v":""},{"$f":"IF(Puantaj!$C14=\"\",\"\",Puantaj!J11&\"                    \"&Puantaj!J12&\"                    \"&Puantaj!J13&\"                    \"&Puantaj!J14)","v":""},{"$f":"IF(Puantaj!$C14=\"\",\"\",Puantaj!K11&\"                    \"&Puantaj!K12&\"                    \"&Puantaj!K13&\"                    \"&Puantaj!K14)","v":""},{"$f":"IF(Puantaj!$C14=\"\",\"\",Puantaj!L11&\"                    \"&Puantaj!L12&\"                    \"&Puantaj!L13&\"                    \"&Puantaj!L14)","v":""},{"$f":"IF(Puantaj!$C14=\"\",\"\",Puantaj!M11&\"                    \"&Puantaj!M12&\"                    \"&Puantaj!M13&\"                    \"&Puantaj!M14)","v":""},{"$f":"IF(Puantaj!$C14=\"\",\"\",Puantaj!N11&\"                    \"&Puantaj!N12&\"                    \"&Puantaj!N13&\"                    \"&Puantaj!N14)","v":""},{"$f":"IF(Puantaj!$C14=\"\",\"\",Puantaj!O11&\"                    \"&Puantaj!O12&\"                    \"&Puantaj!O13&\"                    \"&Puantaj!O14)","v":""},{"$f":"IF(Puantaj!$C14=\"\",\"\",Puantaj!P11&\"                    \"&Puantaj!P12&\"                    \"&Puantaj!P13&\"                    \"&Puantaj!P14)","v":""},{"$f":"IF(Puantaj!$C14=\"\",\"\",Puantaj!Q11&\"                    \"&Puantaj!Q12&\"                    \"&Puantaj!Q13&\"                    \"&Puantaj!Q14)","v":""},{"$f":"IF(Puantaj!$C14=\"\",\"\",Puantaj!R11&\"                    \"&Puantaj!R12&\"                    \"&Puantaj!R13&\"                    \"&Puantaj!R14)","v":""},{"$f":"IF(Puantaj!$C14=\"\",\"\",Puantaj!S11&\"                    \"&Puantaj!S12&\"                    \"&Puantaj!S13&\"                    \"&Puantaj!S14)","v":""},{"$f":"IF(Puantaj!$C14=\"\",\"\",Puantaj!T11&\"                    \"&Puantaj!T12&\"                    \"&Puantaj!T13&\"                    \"&Puantaj!T14)","v":""},{"$f":"IF(Puantaj!$C14=\"\",\"\",Puantaj!U11&\"                    \"&Puantaj!U12&\"                    \"&Puantaj!U13&\"                    \"&Puantaj!U14)","v":""},{"$f":"IF(Puantaj!$C14=\"\",\"\",Puantaj!V11&\"                    \"&Puantaj!V12&\"                    \"&Puantaj!V13&\"                    \"&Puantaj!V14)","v":""},{"$f":"IF(Puantaj!$C14=\"\",\"\",Puantaj!W11&\"                    \"&Puantaj!W12&\"                    \"&Puantaj!W13&\"                    \"&Puantaj!W14)","v":""},{"$f":"IF(Puantaj!$C14=\"\",\"\",Puantaj!X11&\"                    \"&Puantaj!X12&\"                    \"&Puantaj!X13&\"                    \"&Puantaj!X14)","v":""},{"$f":"IF(Puantaj!$C14=\"\",\"\",Puantaj!Y11&\"                    \"&Puantaj!Y12&\"                    \"&Puantaj!Y13&\"                    \"&Puantaj!Y14)","v":""},{"$f":"IF(Puantaj!$C14=\"\",\"\",Puantaj!Z11&\"                    \"&Puantaj!Z12&\"                    \"&Puantaj!Z13&\"                    \"&Puantaj!Z14)","v":""},{"$f":"IF(Puantaj!$C14=\"\",\"\",Puantaj!AA11&\"                    \"&Puantaj!AA12&\"                    \"&Puantaj!AA13&\"                    \"&Puantaj!AA14)","v":""},{"$f":"IF(Puantaj!$C14=\"\",\"\",Puantaj!AB11&\"                    \"&Puantaj!AB12&\"                    \"&Puantaj!AB13&\"                    \"&Puantaj!AB14)","v":""},{"$f":"IF(Puantaj!$C14=\"\",\"\",Puantaj!AC11&\"                    \"&Puantaj!AC12&\"                    \"&Puantaj!AC13&\"                    \"&Puantaj!AC14)","v":""},{"$f":"IF(Puantaj!$C14=\"\",\"\",Puantaj!AD11&\"                    \"&Puantaj!AD12&\"                    \"&Puantaj!AD13&\"                    \"&Puantaj!AD14)","v":""},{"$f":"IF(Puantaj!$C14=\"\",\"\",Puantaj!AE11&\"                    \"&Puantaj!AE12&\"                    \"&Puantaj!AE13&\"                    \"&Puantaj!AE14)","v":""},{"$f":"IF(Puantaj!$C14=\"\",\"\",Puantaj!AF11&\"                    \"&Puantaj!AF12&\"                    \"&Puantaj!AF13&\"                    \"&Puantaj!AF14)","v":""},{"$f":"IF(Puantaj!$C14=\"\",\"\",Puantaj!AG11&\"                    \"&Puantaj!AG12&\"                    \"&Puantaj!AG13&\"                    \"&Puantaj!AG14)","v":""},{"$f":"IF(Puantaj!$C14=\"\",\"\",Puantaj!AH11&\"                    \"&Puantaj!AH12&\"                    \"&Puantaj!AH13&\"                    \"&Puantaj!AH14)","v":""},{"$f":"IF(Puantaj!$C14=\"\",\"\",Puantaj!AI11&\"                    \"&Puantaj!AI12&\"                    \"&Puantaj!AI13&\"                    \"&Puantaj!AI14)","v":""},{"$f":"Puantaj!AJ11&\"                    \"&Puantaj!AJ12&\"                    \"&Puantaj!AJ13&\"                    \"&Puantaj!AJ14","v":"0                    0                    0                    0"},{"$f":"Puantaj!AK11&\"                    \"&Puantaj!AK12&\"                    \"&Puantaj!AK13&\"                    \"&Puantaj!AK14","v":"0                                                            "},{"$f":"Puantaj!AL11&\"                    \"&Puantaj!AL12&\"                    \"&Puantaj!AL13&\"                    \"&Puantaj!AL14","v":"0                    0                    0                    0"},{"$f":"Puantaj!AM11","v":0},{"$f":"IF(AL8=0,0,1)","v":0}]
[{"$f":"Puantaj!B15","v":3},{"$f":"Puantaj!C15&\"                                                  \"&Puantaj!C16&\"                                                  \"&Puantaj!C17&\"                                                  \"&Puantaj!C18","v":"                                                                                                                                                      "},{"$f":"Puantaj!D15&\"                    \"&Puantaj!D16&\"                    \"&Puantaj!D17&\"                    \"&Puantaj!D18","v":"Gündüz                    Gece                    Dyk                    Nöbet"},{"$f":"IF(Puantaj!$C18=\"\",\"\",Puantaj!E15&\"                    \"&Puantaj!E16&\"                    \"&Puantaj!E17&\"                    \"&Puantaj!E18)","v":""},{"$f":"IF(Puantaj!$C18=\"\",\"\",Puantaj!F15&\"                    \"&Puantaj!F16&\"                    \"&Puantaj!F17&\"                    \"&Puantaj!F18)","v":""},{"$f":"IF(Puantaj!$C18=\"\",\"\",Puantaj!G15&\"                    \"&Puantaj!G16&\"                    \"&Puantaj!G17&\"                    \"&Puantaj!G18)","v":""},{"$f":"IF(Puantaj!$C18=\"\",\"\",Puantaj!H15&\"                    \"&Puantaj!H16&\"                    \"&Puantaj!H17&\"                    \"&Puantaj!H18)","v":""},{"$f":"IF(Puantaj!$C18=\"\",\"\",Puantaj!I15&\"                    \"&Puantaj!I16&\"                    \"&Puantaj!I17&\"                    \"&Puantaj!I18)","v":""},{"$f":"IF(Puantaj!$C18=\"\",\"\",Puantaj!J15&\"                    \"&Puantaj!J16&\"                    \"&Puantaj!J17&\"                    \"&Puantaj!J18)","v":""},{"$f":"IF(Puantaj!$C18=\"\",\"\",Puantaj!K15&\"                    \"&Puantaj!K16&\"                    \"&Puantaj!K17&\"                    \"&Puantaj!K18)","v":""},{"$f":"IF(Puantaj!$C18=\"\",\"\",Puantaj!L15&\"                    \"&Puantaj!L16&\"                    \"&Puantaj!L17&\"                    \"&Puantaj!L18)","v":""},{"$f":"IF(Puantaj!$C18=\"\",\"\",Puantaj!M15&\"                    \"&Puantaj!M16&\"                    \"&Puantaj!M17&\"                    \"&Puantaj!M18)","v":""},{"$f":"IF(Puantaj!$C18=\"\",\"\",Puantaj!N15&\"                    \"&Puantaj!N16&\"                    \"&Puantaj!N17&\"                    \"&Puantaj!N18)","v":""},{"$f":"IF(Puantaj!$C18=\"\",\"\",Puantaj!O15&\"                    \"&Puantaj!O16&\"                    \"&Puantaj!O17&\"                    \"&Puantaj!O18)","v":""},{"$f":"IF(Puantaj!$C18=\"\",\"\",Puantaj!P15&\"                    \"&Puantaj!P16&\"                    \"&Puantaj!P17&\"                    \"&Puantaj!P18)","v":""},{"$f":"IF(Puantaj!$C18=\"\",\"\",Puantaj!Q15&\"                    \"&Puantaj!Q16&\"                    \"&Puantaj!Q17&\"                    \"&Puantaj!Q18)","v":""},{"$f":"IF(Puantaj!$C18=\"\",\"\",Puantaj!R15&\"                    \"&Puantaj!R16&\"                    \"&Puantaj!R17&\"                    \"&Puantaj!R18)","v":""},{"$f":"IF(Puantaj!$C18=\"\",\"\",Puantaj!S15&\"                    \"&Puantaj!S16&\"                    \"&Puantaj!S17&\"                    \"&Puantaj!S18)","v":""},{"$f":"IF(Puantaj!$C18=\"\",\"\",Puantaj!T15&\"                    \"&Puantaj!T16&\"                    \"&Puantaj!T17&\"                    \"&Puantaj!T18)","v":""},{"$f":"IF(Puantaj!$C18=\"\",\"\",Puantaj!U15&\"                    \"&Puantaj!U16&\"                    \"&Puantaj!U17&\"                    \"&Puantaj!U18)","v":""},{"$f":"IF(Puantaj!$C18=\"\",\"\",Puantaj!V15&\"                    \"&Puantaj!V16&\"                    \"&Puantaj!V17&\"                    \"&Puantaj!V18)","v":""},{"$f":"IF(Puantaj!$C18=\"\",\"\",Puantaj!W15&\"                    \"&Puantaj!W16&\"                    \"&Puantaj!W17&\"                    \"&Puantaj!W18)","v":""},{"$f":"IF(Puantaj!$C18=\"\",\"\",Puantaj!X15&\"                    \"&Puantaj!X16&\"                    \"&Puantaj!X17&\"                    \"&Puantaj!X18)","v":""},{"$f":"IF(Puantaj!$C18=\"\",\"\",Puantaj!Y15&\"                    \"&Puantaj!Y16&\"                    \"&Puantaj!Y17&\"                    \"&Puantaj!Y18)","v":""},{"$f":"IF(Puantaj!$C18=\"\",\"\",Puantaj!Z15&\"                    \"&Puantaj!Z16&\"                    \"&Puantaj!Z17&\"                    \"&Puantaj!Z18)","v":""},{"$f":"IF(Puantaj!$C18=\"\",\"\",Puantaj!AA15&\"                    \"&Puantaj!AA16&\"                    \"&Puantaj!AA17&\"                    \"&Puantaj!AA18)","v":""},{"$f":"IF(Puantaj!$C18=\"\",\"\",Puantaj!AB15&\"                    \"&Puantaj!AB16&\"                    \"&Puantaj!AB17&\"                    \"&Puantaj!AB18)","v":""},{"$f":"IF(Puantaj!$C18=\"\",\"\",Puantaj!AC15&\"                    \"&Puantaj!AC16&\"                    \"&Puantaj!AC17&\"                    \"&Puantaj!AC18)","v":""},{"$f":"IF(Puantaj!$C18=\"\",\"\",Puantaj!AD15&\"                    \"&Puantaj!AD16&\"                    \"&Puantaj!AD17&\"                    \"&Puantaj!AD18)","v":""},{"$f":"IF(Puantaj!$C18=\"\",\"\",Puantaj!AE15&\"                    \"&Puantaj!AE16&\"                    \"&Puantaj!AE17&\"                    \"&Puantaj!AE18)","v":""},{"$f":"IF(Puantaj!$C18=\"\",\"\",Puantaj!AF15&\"                    \"&Puantaj!AF16&\"                    \"&Puantaj!AF17&\"                    \"&Puantaj!AF18)","v":""},{"$f":"IF(Puantaj!$C18=\"\",\"\",Puantaj!AG15&\"                    \"&Puantaj!AG16&\"                    \"&Puantaj!AG17&\"                    \"&Puantaj!AG18)","v":""},{"$f":"IF(Puantaj!$C18=\"\",\"\",Puantaj!AH15&\"                    \"&Puantaj!AH16&\"                    \"&Puantaj!AH17&\"                    \"&Puantaj!AH18)","v":""},{"$f":"IF(Puantaj!$C18=\"\",\"\",Puantaj!AI15&\"                    \"&Puantaj!AI16&\"                    \"&Puantaj!AI17&\"                    \"&Puantaj!AI18)","v":""},{"$f":"Puantaj!AJ15&\"                    \"&Puantaj!AJ16&\"                    \"&Puantaj!AJ17&\"                    \"&Puantaj!AJ18","v":"0                    0                    0                    0"},{"$f":"Puantaj!AK15&\"                    \"&Puantaj!AK16&\"                    \"&Puantaj!AK17&\"                    \"&Puantaj!AK18","v":"0                                                            "},{"$f":"Puantaj!AL15&\"                    \"&Puantaj!AL16&\"                    \"&Puantaj!AL17&\"                    \"&Puantaj!AL18","v":"0                    0                    0                    0"},{"$f":"Puantaj!AM15","v":0},{"$f":"IF(AL9=0,0,1)","v":0}]
[{"$f":"Puantaj!B19","v":4},{"$f":"Puantaj!C19&\"                                                  \"&Puantaj!C20&\"                                                  \"&Puantaj!C21&\"                                                  \"&Puantaj!C22","v":"                                                                                                                                                      "},{"$f":"Puantaj!D19&\"                    \"&Puantaj!D20&\"                    \"&Puantaj!D21&\"                    \"&Puantaj!D22","v":"Gündüz                    Gece                    Dyk                    Nöbet"},{"$f":"IF(Puantaj!$C22=\"\",\"\",Puantaj!E19&\"                    \"&Puantaj!E20&\"                    \"&Puantaj!E21&\"                    \"&Puantaj!E22)","v":""},{"$f":"IF(Puantaj!$C22=\"\",\"\",Puantaj!F19&\"                    \"&Puantaj!F20&\"                    \"&Puantaj!F21&\"                    \"&Puantaj!F22)","v":""},{"$f":"IF(Puantaj!$C22=\"\",\"\",Puantaj!G19&\"                    \"&Puantaj!G20&\"                    \"&Puantaj!G21&\"                    \"&Puantaj!G22)","v":""},{"$f":"IF(Puantaj!$C22=\"\",\"\",Puantaj!H19&\"                    \"&Puantaj!H20&\"                    \"&Puantaj!H21&\"                    \"&Puantaj!H22)","v":""},{"$f":"IF(Puantaj!$C22=\"\",\"\",Puantaj!I19&\"                    \"&Puantaj!I20&\"                    \"&Puantaj!I21&\"                    \"&Puantaj!I22)","v":""},{"$f":"IF(Puantaj!$C22=\"\",\"\",Puantaj!J19&\"                    \"&Puantaj!J20&\"                    \"&Puantaj!J21&\"                    \"&Puantaj!J22)","v":""},{"$f":"IF(Puantaj!$C22=\"\",\"\",Puantaj!K19&\"                    \"&Puantaj!K20&\"                    \"&Puantaj!K21&\"                    \"&Puantaj!K22)","v":""},{"$f":"IF(Puantaj!$C22=\"\",\"\",Puantaj!L19&\"                    \"&Puantaj!L20&\"                    \"&Puantaj!L21&\"                    \"&Puantaj!L22)","v":""},{"$f":"IF(Puantaj!$C22=\"\",\"\",Puantaj!M19&\"                    \"&Puantaj!M20&\"                    \"&Puantaj!M21&\"                    \"&Puantaj!M22)","v":""},{"$f":"IF(Puantaj!$C22=\"\",\"\",Puantaj!N19&\"                    \"&Puantaj!N20&\"                    \"&Puantaj!N21&\"                    \"&Puantaj!N22)","v":""},{"$f":"IF(Puantaj!$C22=\"\",\"\",Puantaj!O19&\"                    \"&Puantaj!O20&\"                    \"&Puantaj!O21&\"                    \"&Puantaj!O22)","v":""},{"$f":"IF(Puantaj!$C22=\"\",\"\",Puantaj!P19&\"                    \"&Puantaj!P20&\"                    \"&Puantaj!P21&\"                    \"&Puantaj!P22)","v":""},{"$f":"IF(Puantaj!$C22=\"\",\"\",Puantaj!Q19&\"                    \"&Puantaj!Q20&\"                    \"&Puantaj!Q21&\"                    \"&Puantaj!Q22)","v":""},{"$f":"IF(Puantaj!$C22=\"\",\"\",Puantaj!R19&\"                    \"&Puantaj!R20&\"                    \"&Puantaj!R21&\"                    \"&Puantaj!R22)","v":""},{"$f":"IF(Puantaj!$C22=\"\",\"\",Puantaj!S19&\"                    \"&Puantaj!S20&\"                    \"&Puantaj!S21&\"                    \"&Puantaj!S22)","v":""},{"$f":"IF(Puantaj!$C22=\"\",\"\",Puantaj!T19&\"                    \"&Puantaj!T20&\"                    \"&Puantaj!T21&\"                    \"&Puantaj!T22)","v":""},{"$f":"IF(Puantaj!$C22=\"\",\"\",Puantaj!U19&\"                    \"&Puantaj!U20&\"                    \"&Puantaj!U21&\"                    \"&Puantaj!U22)","v":""},{"$f":"IF(Puantaj!$C22=\"\",\"\",Puantaj!V19&\"                    \"&Puantaj!V20&\"                    \"&Puantaj!V21&\"                    \"&Puantaj!V22)","v":""},{"$f":"IF(Puantaj!$C22=\"\",\"\",Puantaj!W19&\"                    \"&Puantaj!W20&\"                    \"&Puantaj!W21&\"                    \"&Puantaj!W22)","v":""},{"$f":"IF(Puantaj!$C22=\"\",\"\",Puantaj!X19&\"                    \"&Puantaj!X20&\"                    \"&Puantaj!X21&\"                    \"&Puantaj!X22)","v":""},{"$f":"IF(Puantaj!$C22=\"\",\"\",Puantaj!Y19&\"                    \"&Puantaj!Y20&\"                    \"&Puantaj!Y21&\"                    \"&Puantaj!Y22)","v":""},{"$f":"IF(Puantaj!$C22=\"\",\"\",Puantaj!Z19&\"                    \"&Puantaj!Z20&\"                    \"&Puantaj!Z21&\"                    \"&Puantaj!Z22)","v":""},{"$f":"IF(Puantaj!$C22=\"\",\"\",Puantaj!AA19&\"                    \"&Puantaj!AA20&\"                    \"&Puantaj!AA21&\"                    \"&Puantaj!AA22)","v":""},{"$f":"IF(Puantaj!$C22=\"\",\"\",Puantaj!AB19&\"                    \"&Puantaj!AB20&\"                    \"&Puantaj!AB21&\"                    \"&Puantaj!AB22)","v":""},{"$f":"IF(Puantaj!$C22=\"\",\"\",Puantaj!AC19&\"                    \"&Puantaj!AC20&\"                    \"&Puantaj!AC21&\"                    \"&Puantaj!AC22)","v":""},{"$f":"IF(Puantaj!$C22=\"\",\"\",Puantaj!AD19&\"                    \"&Puantaj!AD20&\"                    \"&Puantaj!AD21&\"                    \"&Puantaj!AD22)","v":""},{"$f":"IF(Puantaj!$C22=\"\",\"\",Puantaj!AE19&\"                    \"&Puantaj!AE20&\"                    \"&Puantaj!AE21&\"                    \"&Puantaj!AE22)","v":""},{"$f":"IF(Puantaj!$C22=\"\",\"\",Puantaj!AF19&\"                    \"&Puantaj!AF20&\"                    \"&Puantaj!AF21&\"                    \"&Puantaj!AF22)","v":""},{"$f":"IF(Puantaj!$C22=\"\",\"\",Puantaj!AG19&\"                    \"&Puantaj!AG20&\"                    \"&Puantaj!AG21&\"                    \"&Puantaj!AG22)","v":""},{"$f":"IF(Puantaj!$C22=\"\",\"\",Puantaj!AH19&\"                    \"&Puantaj!AH20&\"                    \"&Puantaj!AH21&\"                    \"&Puantaj!AH22)","v":""},{"$f":"IF(Puantaj!$C22=\"\",\"\",Puantaj!AI19&\"                    \"&Puantaj!AI20&\"                    \"&Puantaj!AI21&\"                    \"&Puantaj!AI22)","v":""},{"$f":"Puantaj!AJ19&\"                    \"&Puantaj!AJ20&\"                    \"&Puantaj!AJ21&\"                    \"&Puantaj!AJ22","v":"0                    0                    0                    0"},{"$f":"Puantaj!AK19&\"                    \"&Puantaj!AK20&\"                    \"&Puantaj!AK21&\"                    \"&Puantaj!AK22","v":"0                                                            "},{"$f":"Puantaj!AL19&\"                    \"&Puantaj!AL20&\"                    \"&Puantaj!AL21&\"                    \"&Puantaj!AL22","v":"0                    0                    0                    0"},{"$f":"Puantaj!AM19","v":0},0]
[{"$f":"Puantaj!B23","v":5},{"$f":"Puantaj!C23&\"                                                  \"&Puantaj!C24&\"                                                  \"&Puantaj!C25&\"                                                  \"&Puantaj!C26","v":"                                                                                                                                                      "},{"$f":"Puantaj!D23&\"                    \"&Puantaj!D24&\"                    \"&Puantaj!D25&\"                    \"&Puantaj!D26","v":"Gündüz                    Gece                    Dyk                    Nöbet"},{"$f":"IF(Puantaj!$C26=\"\",\"\",Puantaj!E23&\"                    \"&Puantaj!E24&\"                    \"&Puantaj!E25&\"                    \"&Puantaj!E26)","v":""},{"$f":"IF(Puantaj!$C26=\"\",\"\",Puantaj!F23&\"                    \"&Puantaj!F24&\"                    \"&Puantaj!F25&\"                    \"&Puantaj!F26)","v":""},{"$f":"IF(Puantaj!$C26=\"\",\"\",Puantaj!G23&\"                    \"&Puantaj!G24&\"                    \"&Puantaj!G25&\"                    \"&Puantaj!G26)","v":""},{"$f":"IF(Puantaj!$C26=\"\",\"\",Puantaj!H23&\"                    \"&Puantaj!H24&\"                    \"&Puantaj!H25&\"                    \"&Puantaj!H26)","v":""},{"$f":"IF(Puantaj!$C26=\"\",\"\",Puantaj!I23&\"                    \"&Puantaj!I24&\"                    \"&Puantaj!I25&\"                    \"&Puantaj!I26)","v":""},{"$f":"IF(Puantaj!$C26=\"\",\"\",Puantaj!J23&\"                    \"&Puantaj!J24&\"                    \"&Puantaj!J25&\"                    \"&Puantaj!J26)","v":""},{"$f":"IF(Puantaj!$C26=\"\",\"\",Puantaj!K23&\"                    \"&Puantaj!K24&\"                    \"&Puantaj!K25&\"                    \"&Puantaj!K26)","v":""},{"$f":"IF(Puantaj!$C26=\"\",\"\",Puantaj!L23&\"                    \"&Puantaj!L24&\"                    \"&Puantaj!L25&\"                    \"&Puantaj!L26)","v":""},{"$f":"IF(Puantaj!$C26=\"\",\"\",Puantaj!M23&\"                    \"&Puantaj!M24&\"                    \"&Puantaj!M25&\"                    \"&Puantaj!M26)","v":""},{"$f":"IF(Puantaj!$C26=\"\",\"\",Puantaj!N23&\"                    \"&Puantaj!N24&\"                    \"&Puantaj!N25&\"                    \"&Puantaj!N26)","v":""},{"$f":"IF(Puantaj!$C26=\"\",\"\",Puantaj!O23&\"                    \"&Puantaj!O24&\"                    \"&Puantaj!O25&\"                    \"&Puantaj!O26)","v":""},{"$f":"IF(Puantaj!$C26=\"\",\"\",Puantaj!P23&\"                    \"&Puantaj!P24&\"                    \"&Puantaj!P25&\"                    \"&Puantaj!P26)","v":""},{"$f":"IF(Puantaj!$C26=\"\",\"\",Puantaj!Q23&\"                    \"&Puantaj!Q24&\"                    \"&Puantaj!Q25&\"                    \"&Puantaj!Q26)","v":""},{"$f":"IF(Puantaj!$C26=\"\",\"\",Puantaj!R23&\"                    \"&Puantaj!R24&\"                    \"&Puantaj!R25&\"                    \"&Puantaj!R26)","v":""},{"$f":"IF(Puantaj!$C26=\"\",\"\",Puantaj!S23&\"                    \"&Puantaj!S24&\"                    \"&Puantaj!S25&\"                    \"&Puantaj!S26)","v":""},{"$f":"IF(Puantaj!$C26=\"\",\"\",Puantaj!T23&\"                    \"&Puantaj!T24&\"                    \"&Puantaj!T25&\"                    \"&Puantaj!T26)","v":""},{"$f":"IF(Puantaj!$C26=\"\",\"\",Puantaj!U23&\"                    \"&Puantaj!U24&\"                    \"&Puantaj!U25&\"                    \"&Puantaj!U26)","v":""},{"$f":"IF(Puantaj!$C26=\"\",\"\",Puantaj!V23&\"                    \"&Puantaj!V24&\"                    \"&Puantaj!V25&\"                    \"&Puantaj!V26)","v":""},{"$f":"IF(Puantaj!$C26=\"\",\"\",Puantaj!W23&\"                    \"&Puantaj!W24&\"                    \"&Puantaj!W25&\"                    \"&Puantaj!W26)","v":""},{"$f":"IF(Puantaj!$C26=\"\",\"\",Puantaj!X23&\"                    \"&Puantaj!X24&\"                    \"&Puantaj!X25&\"                    \"&Puantaj!X26)","v":""},{"$f":"IF(Puantaj!$C26=\"\",\"\",Puantaj!Y23&\"                    \"&Puantaj!Y24&\"                    \"&Puantaj!Y25&\"                    \"&Puantaj!Y26)","v":""},{"$f":"IF(Puantaj!$C26=\"\",\"\",Puantaj!Z23&\"                    \"&Puantaj!Z24&\"                    \"&Puantaj!Z25&\"                    \"&Puantaj!Z26)","v":""},{"$f":"IF(Puantaj!$C26=\"\",\"\",Puantaj!AA23&\"                    \"&Puantaj!AA24&\"                    \"&Puantaj!AA25&\"                    \"&Puantaj!AA26)","v":""},{"$f":"IF(Puantaj!$C26=\"\",\"\",Puantaj!AB23&\"                    \"&Puantaj!AB24&\"                    \"&Puantaj!AB25&\"                    \"&Puantaj!AB26)","v":""},{"$f":"IF(Puantaj!$C26=\"\",\"\",Puantaj!AC23&\"                    \"&Puantaj!AC24&\"                    \"&Puantaj!AC25&\"                    \"&Puantaj!AC26)","v":""},{"$f":"IF(Puantaj!$C26=\"\",\"\",Puantaj!AD23&\"                    \"&Puantaj!AD24&\"                    \"&Puantaj!AD25&\"                    \"&Puantaj!AD26)","v":""},{"$f":"IF(Puantaj!$C26=\"\",\"\",Puantaj!AE23&\"                    \"&Puantaj!AE24&\"                    \"&Puantaj!AE25&\"                    \"&Puantaj!AE26)","v":""},{"$f":"IF(Puantaj!$C26=\"\",\"\",Puantaj!AF23&\"                    \"&Puantaj!AF24&\"                    \"&Puantaj!AF25&\"                    \"&Puantaj!AF26)","v":""},{"$f":"IF(Puantaj!$C26=\"\",\"\",Puantaj!AG23&\"                    \"&Puantaj!AG24&\"                    \"&Puantaj!AG25&\"                    \"&Puantaj!AG26)","v":""},{"$f":"IF(Puantaj!$C26=\"\",\"\",Puantaj!AH23&\"                    \"&Puantaj!AH24&\"                    \"&Puantaj!AH25&\"                    \"&Puantaj!AH26)","v":""},{"$f":"IF(Puantaj!$C26=\"\",\"\",Puantaj!AI23&\"                    \"&Puantaj!AI24&\"                    \"&Puantaj!AI25&\"                    \"&Puantaj!AI26)","v":""},{"$f":"Puantaj!AJ23&\"                    \"&Puantaj!AJ24&\"                    \"&Puantaj!AJ25&\"                    \"&Puantaj!AJ26","v":"0                    0                    0                    0"},{"$f":"Puantaj!AK23&\"                    \"&Puantaj!AK24&\"                    \"&Puantaj!AK25&\"                    \"&Puantaj!AK26","v":"0                                                            "},{"$f":"Puantaj!AL23&\"                    \"&Puantaj!AL24&\"                    \"&Puantaj!AL25&\"                    \"&Puantaj!AL26","v":"0                    0                    0                    0"},{"$f":"Puantaj!AM23","v":0},0]
[{"$f":"Puantaj!B27","v":6},{"$f":"Puantaj!C27&\"                                                  \"&Puantaj!C28&\"                                                  \"&Puantaj!C29&\"                                                  \"&Puantaj!C30","v":"                                                                                                                                                      "},{"$f":"Puantaj!D27&\"                    \"&Puantaj!D28&\"                    \"&Puantaj!D29&\"                    \"&Puantaj!D30","v":"Gündüz                    Gece                    Dyk                    Nöbet"},{"$f":"IF(Puantaj!$C30=\"\",\"\",Puantaj!E27&\"                    \"&Puantaj!E28&\"                    \"&Puantaj!E29&\"                    \"&Puantaj!E30)","v":""},{"$f":"IF(Puantaj!$C30=\"\",\"\",Puantaj!F27&\"                    \"&Puantaj!F28&\"                    \"&Puantaj!F29&\"                    \"&Puantaj!F30)","v":""},{"$f":"IF(Puantaj!$C30=\"\",\"\",Puantaj!G27&\"                    \"&Puantaj!G28&\"                    \"&Puantaj!G29&\"                    \"&Puantaj!G30)","v":""},{"$f":"IF(Puantaj!$C30=\"\",\"\",Puantaj!H27&\"                    \"&Puantaj!H28&\"                    \"&Puantaj!H29&\"                    \"&Puantaj!H30)","v":""},{"$f":"IF(Puantaj!$C30=\"\",\"\",Puantaj!I27&\"                    \"&Puantaj!I28&\"                    \"&Puantaj!I29&\"                    \"&Puantaj!I30)","v":""},{"$f":"IF(Puantaj!$C30=\"\",\"\",Puantaj!J27&\"                    \"&Puantaj!J28&\"                    \"&Puantaj!J29&\"                    \"&Puantaj!J30)","v":""},{"$f":"IF(Puantaj!$C30=\"\",\"\",Puantaj!K27&\"                    \"&Puantaj!K28&\"                    \"&Puantaj!K29&\"                    \"&Puantaj!K30)","v":""},{"$f":"IF(Puantaj!$C30=\"\",\"\",Puantaj!L27&\"                    \"&Puantaj!L28&\"                    \"&Puantaj!L29&\"                    \"&Puantaj!L30)","v":""},{"$f":"IF(Puantaj!$C30=\"\",\"\",Puantaj!M27&\"                    \"&Puantaj!M28&\"                    \"&Puantaj!M29&\"                    \"&Puantaj!M30)","v":""},{"$f":"IF(Puantaj!$C30=\"\",\"\",Puantaj!N27&\"                    \"&Puantaj!N28&\"                    \"&Puantaj!N29&\"                    \"&Puantaj!N30)","v":""},{"$f":"IF(Puantaj!$C30=\"\",\"\",Puantaj!O27&\"                    \"&Puantaj!O28&\"                    \"&Puantaj!O29&\"                    \"&Puantaj!O30)","v":""},{"$f":"IF(Puantaj!$C30=\"\",\"\",Puantaj!P27&\"                    \"&Puantaj!P28&\"                    \"&Puantaj!P29&\"                    \"&Puantaj!P30)","v":""},{"$f":"IF(Puantaj!$C30=\"\",\"\",Puantaj!Q27&\"                    \"&Puantaj!Q28&\"                    \"&Puantaj!Q29&\"                    \"&Puantaj!Q30)","v":""},{"$f":"IF(Puantaj!$C30=\"\",\"\",Puantaj!R27&\"                    \"&Puantaj!R28&\"                    \"&Puantaj!R29&\"                    \"&Puantaj!R30)","v":""},{"$f":"IF(Puantaj!$C30=\"\",\"\",Puantaj!S27&\"                    \"&Puantaj!S28&\"                    \"&Puantaj!S29&\"                    \"&Puantaj!S30)","v":""},{"$f":"IF(Puantaj!$C30=\"\",\"\",Puantaj!T27&\"                    \"&Puantaj!T28&\"                    \"&Puantaj!T29&\"                    \"&Puantaj!T30)","v":""},{"$f":"IF(Puantaj!$C30=\"\",\"\",Puantaj!U27&\"                    \"&Puantaj!U28&\"                    \"&Puantaj!U29&\"                    \"&Puantaj!U30)","v":""},{"$f":"IF(Puantaj!$C30=\"\",\"\",Puantaj!V27&\"                    \"&Puantaj!V28&\"                    \"&Puantaj!V29&\"                    \"&Puantaj!V30)","v":""},{"$f":"IF(Puantaj!$C30=\"\",\"\",Puantaj!W27&\"                    \"&Puantaj!W28&\"                    \"&Puantaj!W29&\"                    \"&Puantaj!W30)","v":""},{"$f":"IF(Puantaj!$C30=\"\",\"\",Puantaj!X27&\"                    \"&Puantaj!X28&\"                    \"&Puantaj!X29&\"                    \"&Puantaj!X30)","v":""},{"$f":"IF(Puantaj!$C30=\"\",\"\",Puantaj!Y27&\"                    \"&Puantaj!Y28&\"                    \"&Puantaj!Y29&\"                    \"&Puantaj!Y30)","v":""},{"$f":"IF(Puantaj!$C30=\"\",\"\",Puantaj!Z27&\"                    \"&Puantaj!Z28&\"                    \"&Puantaj!Z29&\"                    \"&Puantaj!Z30)","v":""},{"$f":"IF(Puantaj!$C30=\"\",\"\",Puantaj!AA27&\"                    \"&Puantaj!AA28&\"                    \"&Puantaj!AA29&\"                    \"&Puantaj!AA30)","v":""},{"$f":"IF(Puantaj!$C30=\"\",\"\",Puantaj!AB27&\"                    \"&Puantaj!AB28&\"                    \"&Puantaj!AB29&\"                    \"&Puantaj!AB30)","v":""},{"$f":"IF(Puantaj!$C30=\"\",\"\",Puantaj!AC27&\"                    \"&Puantaj!AC28&\"                    \"&Puantaj!AC29&\"                    \"&Puantaj!AC30)","v":""},{"$f":"IF(Puantaj!$C30=\"\",\"\",Puantaj!AD27&\"                    \"&Puantaj!AD28&\"                    \"&Puantaj!AD29&\"                    \"&Puantaj!AD30)","v":""},{"$f":"IF(Puantaj!$C30=\"\",\"\",Puantaj!AE27&\"                    \"&Puantaj!AE28&\"                    \"&Puantaj!AE29&\"                    \"&Puantaj!AE30)","v":""},{"$f":"IF(Puantaj!$C30=\"\",\"\",Puantaj!AF27&\"                    \"&Puantaj!AF28&\"                    \"&Puantaj!AF29&\"                    \"&Puantaj!AF30)","v":""},{"$f":"IF(Puantaj!$C30=\"\",\"\",Puantaj!AG27&\"                    \"&Puantaj!AG28&\"                    \"&Puantaj!AG29&\"                    \"&Puantaj!AG30)","v":""},{"$f":"IF(Puantaj!$C30=\"\",\"\",Puantaj!AH27&\"                    \"&Puantaj!AH28&\"                    \"&Puantaj!AH29&\"                    \"&Puantaj!AH30)","v":""},{"$f":"IF(Puantaj!$C30=\"\",\"\",Puantaj!AI27&\"                    \"&Puantaj!AI28&\"                    \"&Puantaj!AI29&\"                    \"&Puantaj!AI30)","v":""},{"$f":"Puantaj!AJ27&\"                    \"&Puantaj!AJ28&\"                    \"&Puantaj!AJ29&\"                    \"&Puantaj!AJ30","v":"0                    0                    0                    0"},{"$f":"Puantaj!AK27&\"                    \"&Puantaj!AK28&\"                    \"&Puantaj!AK29&\"                    \"&Puantaj!AK30","v":"0                                                            "},{"$f":"Puantaj!AL27&\"                    \"&Puantaj!AL28&\"                    \"&Puantaj!AL29&\"                    \"&Puantaj!AL30","v":"0                    0                    0                    0"},{"$f":"Puantaj!AM27","v":0},0]
[{"$f":"Puantaj!B31","v":7},{"$f":"Puantaj!C31&\"                                                  \"&Puantaj!C32&\"                                                  \"&Puantaj!C33&\"                                                  \"&Puantaj!C34","v":"                                                                                                                                                      "},{"$f":"Puantaj!D31&\"                    \"&Puantaj!D32&\"                    \"&Puantaj!D33&\"                    \"&Puantaj!D34","v":"Gündüz                    Gece                    Dyk                    Nöbet"},{"$f":"IF(Puantaj!$C34=\"\",\"\",Puantaj!E31&\"                    \"&Puantaj!E32&\"                    \"&Puantaj!E33&\"                    \"&Puantaj!E34)","v":""},{"$f":"IF(Puantaj!$C34=\"\",\"\",Puantaj!F31&\"                    \"&Puantaj!F32&\"                    \"&Puantaj!F33&\"                    \"&Puantaj!F34)","v":""},{"$f":"IF(Puantaj!$C34=\"\",\"\",Puantaj!G31&\"                    \"&Puantaj!G32&\"                    \"&Puantaj!G33&\"                    \"&Puantaj!G34)","v":""},{"$f":"IF(Puantaj!$C34=\"\",\"\",Puantaj!H31&\"                    \"&Puantaj!H32&\"                    \"&Puantaj!H33&\"                    \"&Puantaj!H34)","v":""},{"$f":"IF(Puantaj!$C34=\"\",\"\",Puantaj!I31&\"                    \"&Puantaj!I32&\"                    \"&Puantaj!I33&\"                    \"&Puantaj!I34)","v":""},{"$f":"IF(Puantaj!$C34=\"\",\"\",Puantaj!J31&\"                    \"&Puantaj!J32&\"                    \"&Puantaj!J33&\"                    \"&Puantaj!J34)","v":""},{"$f":"IF(Puantaj!$C34=\"\",\"\",Puantaj!K31&\"                    \"&Puantaj!K32&\"                    \"&Puantaj!K33&\"                    \"&Puantaj!K34)","v":""},{"$f":"IF(Puantaj!$C34=\"\",\"\",Puantaj!L31&\"                    \"&Puantaj!L32&\"                    \"&Puantaj!L33&\"                    \"&Puantaj!L34)","v":""},{"$f":"IF(Puantaj!$C34=\"\",\"\",Puantaj!M31&\"                    \"&Puantaj!M32&\"                    \"&Puantaj!M33&\"                    \"&Puantaj!M34)","v":""},{"$f":"IF(Puantaj!$C34=\"\",\"\",Puantaj!N31&\"                    \"&Puantaj!N32&\"                    \"&Puantaj!N33&\"                    \"&Puantaj!N34)","v":""},{"$f":"IF(Puantaj!$C34=\"\",\"\",Puantaj!O31&\"                    \"&Puantaj!O32&\"                    \"&Puantaj!O33&\"                    \"&Puantaj!O34)","v":""},{"$f":"IF(Puantaj!$C34=\"\",\"\",Puantaj!P31&\"                    \"&Puantaj!P32&\"                    \"&Puantaj!P33&\"                    \"&Puantaj!P34)","v":""},{"$f":"IF(Puantaj!$C34=\"\",\"\",Puantaj!Q31&\"                    \"&Puantaj!Q32&\"                    \"&Puantaj!Q33&\"                    \"&Puantaj!Q34)","v":""},{"$f":"IF(Puantaj!$C34=\"\",\"\",Puantaj!R31&\"                    \"&Puantaj!R32&\"                    \"&Puantaj!R33&\"                    \"&Puantaj!R34)","v":""},{"$f":"IF(Puantaj!$C34=\"\",\"\",Puantaj!S31&\"                    \"&Puantaj!S32&\"                    \"&Puantaj!S33&\"                    \"&Puantaj!S34)","v":""},{"$f":"IF(Puantaj!$C34=\"\",\"\",Puantaj!T31&\"                    \"&Puantaj!T32&\"                    \"&Puantaj!T33&\"                    \"&Puantaj!T34)","v":""},{"$f":"IF(Puantaj!$C34=\"\",\"\",Puantaj!U31&\"                    \"&Puantaj!U32&\"                    \"&Puantaj!U33&\"                    \"&Puantaj!U34)","v":""},{"$f":"IF(Puantaj!$C34=\"\",\"\",Puantaj!V31&\"                    \"&Puantaj!V32&\"                    \"&Puantaj!V33&\"                    \"&Puantaj!V34)","v":""},{"$f":"IF(Puantaj!$C34=\"\",\"\",Puantaj!W31&\"                    \"&Puantaj!W32&\"                    \"&Puantaj!W33&\"                    \"&Puantaj!W34)","v":""},{"$f":"IF(Puantaj!$C34=\"\",\"\",Puantaj!X31&\"                    \"&Puantaj!X32&\"                    \"&Puantaj!X33&\"                    \"&Puantaj!X34)","v":""},{"$f":"IF(Puantaj!$C34=\"\",\"\",Puantaj!Y31&\"                    \"&Puantaj!Y32&\"                    \"&Puantaj!Y33&\"                    \"&Puantaj!Y34)","v":""},{"$f":"IF(Puantaj!$C34=\"\",\"\",Puantaj!Z31&\"                    \"&Puantaj!Z32&\"                    \"&Puantaj!Z33&\"                    \"&Puantaj!Z34)","v":""},{"$f":"IF(Puantaj!$C34=\"\",\"\",Puantaj!AA31&\"                    \"&Puantaj!AA32&\"                    \"&Puantaj!AA33&\"                    \"&Puantaj!AA34)","v":""},{"$f":"IF(Puantaj!$C34=\"\",\"\",Puantaj!AB31&\"                    \"&Puantaj!AB32&\"                    \"&Puantaj!AB33&\"                    \"&Puantaj!AB34)","v":""},{"$f":"IF(Puantaj!$C34=\"\",\"\",Puantaj!AC31&\"                    \"&Puantaj!AC32&\"                    \"&Puantaj!AC33&\"                    \"&Puantaj!AC34)","v":""},{"$f":"IF(Puantaj!$C34=\"\",\"\",Puantaj!AD31&\"                    \"&Puantaj!AD32&\"                    \"&Puantaj!AD33&\"                    \"&Puantaj!AD34)","v":""},{"$f":"IF(Puantaj!$C34=\"\",\"\",Puantaj!AE31&\"                    \"&Puantaj!AE32&\"                    \"&Puantaj!AE33&\"                    \"&Puantaj!AE34)","v":""},{"$f":"IF(Puantaj!$C34=\"\",\"\",Puantaj!AF31&\"                    \"&Puantaj!AF32&\"                    \"&Puantaj!AF33&\"                    \"&Puantaj!AF34)","v":""},{"$f":"IF(Puantaj!$C34=\"\",\"\",Puantaj!AG31&\"                    \"&Puantaj!AG32&\"                    \"&Puantaj!AG33&\"                    \"&Puantaj!AG34)","v":""},{"$f":"IF(Puantaj!$C34=\"\",\"\",Puantaj!AH31&\"                    \"&Puantaj!AH32&\"                    \"&Puantaj!AH33&\"                    \"&Puantaj!AH34)","v":""},{"$f":"IF(Puantaj!$C34=\"\",\"\",Puantaj!AI31&\"                    \"&Puantaj!AI32&\"                    \"&Puantaj!AI33&\"                    \"&Puantaj!AI34)","v":""},{"$f":"Puantaj!AJ31&\"                    \"&Puantaj!AJ32&\"                    \"&Puantaj!AJ33&\"                    \"&Puantaj!AJ34","v":"0                    0                    0                    0"},{"$f":"Puantaj!AK31&\"                    \"&Puantaj!AK32&\"                    \"&Puantaj!AK33&\"                    \"&Puantaj!AK34","v":"0                                                            "},{"$f":"Puantaj!AL31&\"                    \"&Puantaj!AL32&\"                    \"&Puantaj!AL33&\"                    \"&Puantaj!AL34","v":"0                    0                    0                    0"},{"$f":"Puantaj!AM31","v":0},0]
[{"$f":"Puantaj!B35","v":8},{"$f":"Puantaj!C35&\"                                                  \"&Puantaj!C36&\"                                                  \"&Puantaj!C37&\"                                                  \"&Puantaj!C38","v":"                                                                                                                                                      "},{"$f":"Puantaj!D35&\"                    \"&Puantaj!D36&\"                    \"&Puantaj!D37&\"                    \"&Puantaj!D38","v":"Gündüz                    Gece                    Dyk                    Nöbet"},{"$f":"IF(Puantaj!$C38=\"\",\"\",Puantaj!E35&\"                    \"&Puantaj!E36&\"                    \"&Puantaj!E37&\"                    \"&Puantaj!E38)","v":""},{"$f":"IF(Puantaj!$C38=\"\",\"\",Puantaj!F35&\"                    \"&Puantaj!F36&\"                    \"&Puantaj!F37&\"                    \"&Puantaj!F38)","v":""},{"$f":"IF(Puantaj!$C38=\"\",\"\",Puantaj!G35&\"                    \"&Puantaj!G36&\"                    \"&Puantaj!G37&\"                    \"&Puantaj!G38)","v":""},{"$f":"IF(Puantaj!$C38=\"\",\"\",Puantaj!H35&\"                    \"&Puantaj!H36&\"                    \"&Puantaj!H37&\"                    \"&Puantaj!H38)","v":""},{"$f":"IF(Puantaj!$C38=\"\",\"\",Puantaj!I35&\"                    \"&Puantaj!I36&\"                    \"&Puantaj!I37&\"                    \"&Puantaj!I38)","v":""},{"$f":"IF(Puantaj!$C38=\"\",\"\",Puantaj!J35&\"                    \"&Puantaj!J36&\"                    \"&Puantaj!J37&\"                    \"&Puantaj!J38)","v":""},{"$f":"IF(Puantaj!$C38=\"\",\"\",Puantaj!K35&\"                    \"&Puantaj!K36&\"                    \"&Puantaj!K37&\"                    \"&Puantaj!K38)","v":""},{"$f":"IF(Puantaj!$C38=\"\",\"\",Puantaj!L35&\"                    \"&Puantaj!L36&\"                    \"&Puantaj!L37&\"                    \"&Puantaj!L38)","v":""},{"$f":"IF(Puantaj!$C38=\"\",\"\",Puantaj!M35&\"                    \"&Puantaj!M36&\"                    \"&Puantaj!M37&\"                    \"&Puantaj!M38)","v":""},{"$f":"IF(Puantaj!$C38=\"\",\"\",Puantaj!N35&\"                    \"&Puantaj!N36&\"                    \"&Puantaj!N37&\"                    \"&Puantaj!N38)","v":""},{"$f":"IF(Puantaj!$C38=\"\",\"\",Puantaj!O35&\"                    \"&Puantaj!O36&\"                    \"&Puantaj!O37&\"                    \"&Puantaj!O38)","v":""},{"$f":"IF(Puantaj!$C38=\"\",\"\",Puantaj!P35&\"                    \"&Puantaj!P36&\"                    \"&Puantaj!P37&\"                    \"&Puantaj!P38)","v":""},{"$f":"IF(Puantaj!$C38=\"\",\"\",Puantaj!Q35&\"                    \"&Puantaj!Q36&\"                    \"&Puantaj!Q37&\"                    \"&Puantaj!Q38)","v":""},{"$f":"IF(Puantaj!$C38=\"\",\"\",Puantaj!R35&\"                    \"&Puantaj!R36&\"                    \"&Puantaj!R37&\"                    \"&Puantaj!R38)","v":""},{"$f":"IF(Puantaj!$C38=\"\",\"\",Puantaj!S35&\"                    \"&Puantaj!S36&\"                    \"&Puantaj!S37&\"                    \"&Puantaj!S38)","v":""},{"$f":"IF(Puantaj!$C38=\"\",\"\",Puantaj!T35&\"                    \"&Puantaj!T36&\"                    \"&Puantaj!T37&\"                    \"&Puantaj!T38)","v":""},{"$f":"IF(Puantaj!$C38=\"\",\"\",Puantaj!U35&\"                    \"&Puantaj!U36&\"                    \"&Puantaj!U37&\"                    \"&Puantaj!U38)","v":""},{"$f":"IF(Puantaj!$C38=\"\",\"\",Puantaj!V35&\"                    \"&Puantaj!V36&\"                    \"&Puantaj!V37&\"                    \"&Puantaj!V38)","v":""},{"$f":"IF(Puantaj!$C38=\"\",\"\",Puantaj!W35&\"                    \"&Puantaj!W36&\"                    \"&Puantaj!W37&\"                    \"&Puantaj!W38)","v":""},{"$f":"IF(Puantaj!$C38=\"\",\"\",Puantaj!X35&\"                    \"&Puantaj!X36&\"                    \"&Puantaj!X37&\"                    \"&Puantaj!X38)","v":""},{"$f":"IF(Puantaj!$C38=\"\",\"\",Puantaj!Y35&\"                    \"&Puantaj!Y36&\"                    \"&Puantaj!Y37&\"                    \"&Puantaj!Y38)","v":""},{"$f":"IF(Puantaj!$C38=\"\",\"\",Puantaj!Z35&\"                    \"&Puantaj!Z36&\"                    \"&Puantaj!Z37&\"                    \"&Puantaj!Z38)","v":""},{"$f":"IF(Puantaj!$C38=\"\",\"\",Puantaj!AA35&\"                    \"&Puantaj!AA36&\"                    \"&Puantaj!AA37&\"                    \"&Puantaj!AA38)","v":""},{"$f":"IF(Puantaj!$C38=\"\",\"\",Puantaj!AB35&\"                    \"&Puantaj!AB36&\"                    \"&Puantaj!AB37&\"                    \"&Puantaj!AB38)","v":""},{"$f":"IF(Puantaj!$C38=\"\",\"\",Puantaj!AC35&\"                    \"&Puantaj!AC36&\"                    \"&Puantaj!AC37&\"                    \"&Puantaj!AC38)","v":""},{"$f":"IF(Puantaj!$C38=\"\",\"\",Puantaj!AD35&\"                    \"&Puantaj!AD36&\"                    \"&Puantaj!AD37&\"                    \"&Puantaj!AD38)","v":""},{"$f":"IF(Puantaj!$C38=\"\",\"\",Puantaj!AE35&\"                    \"&Puantaj!AE36&\"                    \"&Puantaj!AE37&\"                    \"&Puantaj!AE38)","v":""},{"$f":"IF(Puantaj!$C38=\"\",\"\",Puantaj!AF35&\"                    \"&Puantaj!AF36&\"                    \"&Puantaj!AF37&\"                    \"&Puantaj!AF38)","v":""},{"$f":"IF(Puantaj!$C38=\"\",\"\",Puantaj!AG35&\"                    \"&Puantaj!AG36&\"                    \"&Puantaj!AG37&\"                    \"&Puantaj!AG38)","v":""},{"$f":"IF(Puantaj!$C38=\"\",\"\",Puantaj!AH35&\"                    \"&Puantaj!AH36&\"                    \"&Puantaj!AH37&\"                    \"&Puantaj!AH38)","v":""},{"$f":"IF(Puantaj!$C38=\"\",\"\",Puantaj!AI35&\"                    \"&Puantaj!AI36&\"                    \"&Puantaj!AI37&\"                    \"&Puantaj!AI38)","v":""},{"$f":"Puantaj!AJ35&\"                    \"&Puantaj!AJ36&\"                    \"&Puantaj!AJ37&\"                    \"&Puantaj!AJ38","v":"0                    0                    0                    0"},{"$f":"Puantaj!AK35&\"                    \"&Puantaj!AK36&\"                    \"&Puantaj!AK37&\"                    \"&Puantaj!AK38","v":"0                                                            "},{"$f":"Puantaj!AL35&\"                    \"&Puantaj!AL36&\"                    \"&Puantaj!AL37&\"                    \"&Puantaj!AL38","v":"0                    0                    0                    0"},{"$f":"Puantaj!AM35","v":0},0]
[{"$f":"Puantaj!B39","v":9},{"$f":"Puantaj!C39&\"                                                  \"&Puantaj!C40&\"                                                  \"&Puantaj!C41&\"                                                  \"&Puantaj!C42","v":"                                                                                                                                                      "},{"$f":"Puantaj!D39&\"                    \"&Puantaj!D40&\"                    \"&Puantaj!D41&\"                    \"&Puantaj!D42","v":"Gündüz                    Gece                    Dyk                    Nöbet"},{"$f":"IF(Puantaj!$C42=\"\",\"\",Puantaj!E39&\"                    \"&Puantaj!E40&\"                    \"&Puantaj!E41&\"                    \"&Puantaj!E42)","v":""},{"$f":"IF(Puantaj!$C42=\"\",\"\",Puantaj!F39&\"                    \"&Puantaj!F40&\"                    \"&Puantaj!F41&\"                    \"&Puantaj!F42)","v":""},{"$f":"IF(Puantaj!$C42=\"\",\"\",Puantaj!G39&\"                    \"&Puantaj!G40&\"                    \"&Puantaj!G41&\"                    \"&Puantaj!G42)","v":""},{"$f":"IF(Puantaj!$C42=\"\",\"\",Puantaj!H39&\"                    \"&Puantaj!H40&\"                    \"&Puantaj!H41&\"                    \"&Puantaj!H42)","v":""},{"$f":"IF(Puantaj!$C42=\"\",\"\",Puantaj!I39&\"                    \"&Puantaj!I40&\"                    \"&Puantaj!I41&\"                    \"&Puantaj!I42)","v":""},{"$f":"IF(Puantaj!$C42=\"\",\"\",Puantaj!J39&\"                    \"&Puantaj!J40&\"                    \"&Puantaj!J41&\"                    \"&Puantaj!J42)","v":""},{"$f":"IF(Puantaj!$C42=\"\",\"\",Puantaj!K39&\"                    \"&Puantaj!K40&\"                    \"&Puantaj!K41&\"                    \"&Puantaj!K42)","v":""},{"$f":"IF(Puantaj!$C42=\"\",\"\",Puantaj!L39&\"                    \"&Puantaj!L40&\"                    \"&Puantaj!L41&\"                    \"&Puantaj!L42)","v":""},{"$f":"IF(Puantaj!$C42=\"\",\"\",Puantaj!M39&\"                    \"&Puantaj!M40&\"                    \"&Puantaj!M41&\"                    \"&Puantaj!M42)","v":""},{"$f":"IF(Puantaj!$C42=\"\",\"\",Puantaj!N39&\"                    \"&Puantaj!N40&\"                    \"&Puantaj!N41&\"                    \"&Puantaj!N42)","v":""},{"$f":"IF(Puantaj!$C42=\"\",\"\",Puantaj!O39&\"                    \"&Puantaj!O40&\"                    \"&Puantaj!O41&\"                    \"&Puantaj!O42)","v":""},{"$f":"IF(Puantaj!$C42=\"\",\"\",Puantaj!P39&\"                    \"&Puantaj!P40&\"                    \"&Puantaj!P41&\"                    \"&Puantaj!P42)","v":""},{"$f":"IF(Puantaj!$C42=\"\",\"\",Puantaj!Q39&\"                    \"&Puantaj!Q40&\"                    \"&Puantaj!Q41&\"                    \"&Puantaj!Q42)","v":""},{"$f":"IF(Puantaj!$C42=\"\",\"\",Puantaj!R39&\"                    \"&Puantaj!R40&\"                    \"&Puantaj!R41&\"                    \"&Puantaj!R42)","v":""},{"$f":"IF(Puantaj!$C42=\"\",\"\",Puantaj!S39&\"                    \"&Puantaj!S40&\"                    \"&Puantaj!S41&\"                    \"&Puantaj!S42)","v":""},{"$f":"IF(Puantaj!$C42=\"\",\"\",Puantaj!T39&\"                    \"&Puantaj!T40&\"                    \"&Puantaj!T41&\"                    \"&Puantaj!T42)","v":""},{"$f":"IF(Puantaj!$C42=\"\",\"\",Puantaj!U39&\"                    \"&Puantaj!U40&\"                    \"&Puantaj!U41&\"                    \"&Puantaj!U42)","v":""},{"$f":"IF(Puantaj!$C42=\"\",\"\",Puantaj!V39&\"                    \"&Puantaj!V40&\"                    \"&Puantaj!V41&\"                    \"&Puantaj!V42)","v":""},{"$f":"IF(Puantaj!$C42=\"\",\"\",Puantaj!W39&\"                    \"&Puantaj!W40&\"                    \"&Puantaj!W41&\"                    \"&Puantaj!W42)","v":""},{"$f":"IF(Puantaj!$C42=\"\",\"\",Puantaj!X39&\"                    \"&Puantaj!X40&\"                    \"&Puantaj!X41&\"                    \"&Puantaj!X42)","v":""},{"$f":"IF(Puantaj!$C42=\"\",\"\",Puantaj!Y39&\"                    \"&Puantaj!Y40&\"                    \"&Puantaj!Y41&\"                    \"&Puantaj!Y42)","v":""},{"$f":"IF(Puantaj!$C42=\"\",\"\",Puantaj!Z39&\"                    \"&Puantaj!Z40&\"                    \"&Puantaj!Z41&\"                    \"&Puantaj!Z42)","v":""},{"$f":"IF(Puantaj!$C42=\"\",\"\",Puantaj!AA39&\"                    \"&Puantaj!AA40&\"                    \"&Puantaj!AA41&\"                    \"&Puantaj!AA42)","v":""},{"$f":"IF(Puantaj!$C42=\"\",\"\",Puantaj!AB39&\"                    \"&Puantaj!AB40&\"                    \"&Puantaj!AB41&\"                    \"&Puantaj!AB42)","v":""},{"$f":"IF(Puantaj!$C42=\"\",\"\",Puantaj!AC39&\"                    \"&Puantaj!AC40&\"                    \"&Puantaj!AC41&\"                    \"&Puantaj!AC42)","v":""},{"$f":"IF(Puantaj!$C42=\"\",\"\",Puantaj!AD39&\"                    \"&Puantaj!AD40&\"                    \"&Puantaj!AD41&\"                    \"&Puantaj!AD42)","v":""},{"$f":"IF(Puantaj!$C42=\"\",\"\",Puantaj!AE39&\"                    \"&Puantaj!AE40&\"                    \"&Puantaj!AE41&\"                    \"&Puantaj!AE42)","v":""},{"$f":"IF(Puantaj!$C42=\"\",\"\",Puantaj!AF39&\"                    \"&Puantaj!AF40&\"                    \"&Puantaj!AF41&\"                    \"&Puantaj!AF42)","v":""},{"$f":"IF(Puantaj!$C42=\"\",\"\",Puantaj!AG39&\"                    \"&Puantaj!AG40&\"                    \"&Puantaj!AG41&\"                    \"&Puantaj!AG42)","v":""},{"$f":"IF(Puantaj!$C42=\"\",\"\",Puantaj!AH39&\"                    \"&Puantaj!AH40&\"                    \"&Puantaj!AH41&\"                    \"&Puantaj!AH42)","v":""},{"$f":"IF(Puantaj!$C42=\"\",\"\",Puantaj!AI39&\"                    \"&Puantaj!AI40&\"                    \"&Puantaj!AI41&\"                    \"&Puantaj!AI42)","v":""},{"$f":"Puantaj!AJ39&\"                    \"&Puantaj!AJ40&\"                    \"&Puantaj!AJ41&\"                    \"&Puantaj!AJ42","v":"0                    0                    0                    0"},{"$f":"Puantaj!AK39&\"                    \"&Puantaj!AK40&\"                    \"&Puantaj!AK41&\"                    \"&Puantaj!AK42","v":"0                                                            "},{"$f":"Puantaj!AL39&\"                    \"&Puantaj!AL40&\"                    \"&Puantaj!AL41&\"                    \"&Puantaj!AL42","v":"0                    0                    0                    0"},{"$f":"Puantaj!AM39","v":0},0]
[{"$f":"Puantaj!B43","v":10},{"$f":"Puantaj!C43&\"                                                  \"&Puantaj!C44&\"                                                  \"&Puantaj!C45&\"                                                  \"&Puantaj!C46","v":"                                                                                                                                                      "},{"$f":"Puantaj!D43&\"                    \"&Puantaj!D44&\"                    \"&Puantaj!D45&\"                    \"&Puantaj!D46","v":"Gündüz                    Gece                    Dyk                    Nöbet"},{"$f":"IF(Puantaj!$C46=\"\",\"\",Puantaj!E43&\"                    \"&Puantaj!E44&\"                    \"&Puantaj!E45&\"                    \"&Puantaj!E46)","v":""},{"$f":"IF(Puantaj!$C46=\"\",\"\",Puantaj!F43&\"                    \"&Puantaj!F44&\"                    \"&Puantaj!F45&\"                    \"&Puantaj!F46)","v":""},{"$f":"IF(Puantaj!$C46=\"\",\"\",Puantaj!G43&\"                    \"&Puantaj!G44&\"                    \"&Puantaj!G45&\"                    \"&Puantaj!G46)","v":""},{"$f":"IF(Puantaj!$C46=\"\",\"\",Puantaj!H43&\"                    \"&Puantaj!H44&\"                    \"&Puantaj!H45&\"                    \"&Puantaj!H46)","v":""},{"$f":"IF(Puantaj!$C46=\"\",\"\",Puantaj!I43&\"                    \"&Puantaj!I44&\"                    \"&Puantaj!I45&\"                    \"&Puantaj!I46)","v":""},{"$f":"IF(Puantaj!$C46=\"\",\"\",Puantaj!J43&\"                    \"&Puantaj!J44&\"                    \"&Puantaj!J45&\"                    \"&Puantaj!J46)","v":""},{"$f":"IF(Puantaj!$C46=\"\",\"\",Puantaj!K43&\"                    \"&Puantaj!K44&\"                    \"&Puantaj!K45&\"                    \"&Puantaj!K46)","v":""},{"$f":"IF(Puantaj!$C46=\"\",\"\",Puantaj!L43&\"                    \"&Puantaj!L44&\"                    \"&Puantaj!L45&\"                    \"&Puantaj!L46)","v":""},{"$f":"IF(Puantaj!$C46=\"\",\"\",Puantaj!M43&\"                    \"&Puantaj!M44&\"                    \"&Puantaj!M45&\"                    \"&Puantaj!M46)","v":""},{"$f":"IF(Puantaj!$C46=\"\",\"\",Puantaj!N43&\"                    \"&Puantaj!N44&\"                    \"&Puantaj!N45&\"                    \"&Puantaj!N46)","v":""},{"$f":"IF(Puantaj!$C46=\"\",\"\",Puantaj!O43&\"                    \"&Puantaj!O44&\"                    \"&Puantaj!O45&\"                    \"&Puantaj!O46)","v":""},{"$f":"IF(Puantaj!$C46=\"\",\"\",Puantaj!P43&\"                    \"&Puantaj!P44&\"                    \"&Puantaj!P45&\"                    \"&Puantaj!P46)","v":""},{"$f":"IF(Puantaj!$C46=\"\",\"\",Puantaj!Q43&\"                    \"&Puantaj!Q44&\"                    \"&Puantaj!Q45&\"                    \"&Puantaj!Q46)","v":""},{"$f":"IF(Puantaj!$C46=\"\",\"\",Puantaj!R43&\"                    \"&Puantaj!R44&\"                    \"&Puantaj!R45&\"                    \"&Puantaj!R46)","v":""},{"$f":"IF(Puantaj!$C46=\"\",\"\",Puantaj!S43&\"                    \"&Puantaj!S44&\"                    \"&Puantaj!S45&\"                    \"&Puantaj!S46)","v":""},{"$f":"IF(Puantaj!$C46=\"\",\"\",Puantaj!T43&\"                    \"&Puantaj!T44&\"                    \"&Puantaj!T45&\"                    \"&Puantaj!T46)","v":""},{"$f":"IF(Puantaj!$C46=\"\",\"\",Puantaj!U43&\"                    \"&Puantaj!U44&\"                    \"&Puantaj!U45&\"                    \"&Puantaj!U46)","v":""},{"$f":"IF(Puantaj!$C46=\"\",\"\",Puantaj!V43&\"                    \"&Puantaj!V44&\"                    \"&Puantaj!V45&\"                    \"&Puantaj!V46)","v":""},{"$f":"IF(Puantaj!$C46=\"\",\"\",Puantaj!W43&\"                    \"&Puantaj!W44&\"                    \"&Puantaj!W45&\"                    \"&Puantaj!W46)","v":""},{"$f":"IF(Puantaj!$C46=\"\",\"\",Puantaj!X43&\"                    \"&Puantaj!X44&\"                    \"&Puantaj!X45&\"                    \"&Puantaj!X46)","v":""},{"$f":"IF(Puantaj!$C46=\"\",\"\",Puantaj!Y43&\"                    \"&Puantaj!Y44&\"                    \"&Puantaj!Y45&\"                    \"&Puantaj!Y46)","v":""},{"$f":"IF(Puantaj!$C46=\"\",\"\",Puantaj!Z43&\"                    \"&Puantaj!Z44&\"                    \"&Puantaj!Z45&\"                    \"&Puantaj!Z46)","v":""},{"$f":"IF(Puantaj!$C46=\"\",\"\",Puantaj!AA43&\"                    \"&Puantaj!AA44&\"                    \"&Puantaj!AA45&\"                    \"&Puantaj!AA46)","v":""},{"$f":"IF(Puantaj!$C46=\"\",\"\",Puantaj!AB43&\"                    \"&Puantaj!AB44&\"                    \"&Puantaj!AB45&\"                    \"&Puantaj!AB46)","v":""},{"$f":"IF(Puantaj!$C46=\"\",\"\",Puantaj!AC43&\"                    \"&Puantaj!AC44&\"                    \"&Puantaj!AC45&\"                    \"&Puantaj!AC46)","v":""},{"$f":"IF(Puantaj!$C46=\"\",\"\",Puantaj!AD43&\"                    \"&Puantaj!AD44&\"                    \"&Puantaj!AD45&\"                    \"&Puantaj!AD46)","v":""},{"$f":"IF(Puantaj!$C46=\"\",\"\",Puantaj!AE43&\"                    \"&Puantaj!AE44&\"                    \"&Puantaj!AE45&\"                    \"&Puantaj!AE46)","v":""},{"$f":"IF(Puantaj!$C46=\"\",\"\",Puantaj!AF43&\"                    \"&Puantaj!AF44&\"                    \"&Puantaj!AF45&\"                    \"&Puantaj!AF46)","v":""},{"$f":"IF(Puantaj!$C46=\"\",\"\",Puantaj!AG43&\"                    \"&Puantaj!AG44&\"                    \"&Puantaj!AG45&\"                    \"&Puantaj!AG46)","v":""},{"$f":"IF(Puantaj!$C46=\"\",\"\",Puantaj!AH43&\"                    \"&Puantaj!AH44&\"                    \"&Puantaj!AH45&\"                    \"&Puantaj!AH46)","v":""},{"$f":"IF(Puantaj!$C46=\"\",\"\",Puantaj!AI43&\"                    \"&Puantaj!AI44&\"                    \"&Puantaj!AI45&\"                    \"&Puantaj!AI46)","v":""},{"$f":"Puantaj!AJ43&\"                    \"&Puantaj!AJ44&\"                    \"&Puantaj!AJ45&\"                    \"&Puantaj!AJ46","v":"0                    0                    0                    0"},{"$f":"Puantaj!AK43&\"                    \"&Puantaj!AK44&\"                    \"&Puantaj!AK45&\"                    \"&Puantaj!AK46","v":"0                                                            "},{"$f":"Puantaj!AL43&\"                    \"&Puantaj!AL44&\"                    \"&Puantaj!AL45&\"                    \"&Puantaj!AL46","v":"0                    0                    0                    0"},{"$f":"Puantaj!AM43","v":0},0]
[{"$f":"Puantaj!B47","v":11},{"$f":"Puantaj!C47&\"                                                  \"&Puantaj!C48&\"                                                  \"&Puantaj!C49&\"                                                  \"&Puantaj!C50","v":"                                                                                                                                                      "},{"$f":"Puantaj!D47&\"                    \"&Puantaj!D48&\"                    \"&Puantaj!D49&\"                    \"&Puantaj!D50","v":"Gündüz                    Gece                    Dyk                    Nöbet"},{"$f":"IF(Puantaj!$C50=\"\",\"\",Puantaj!E47&\"                    \"&Puantaj!E48&\"                    \"&Puantaj!E49&\"                    \"&Puantaj!E50)","v":""},{"$f":"IF(Puantaj!$C50=\"\",\"\",Puantaj!F47&\"                    \"&Puantaj!F48&\"                    \"&Puantaj!F49&\"                    \"&Puantaj!F50)","v":""},{"$f":"IF(Puantaj!$C50=\"\",\"\",Puantaj!G47&\"                    \"&Puantaj!G48&\"                    \"&Puantaj!G49&\"                    \"&Puantaj!G50)","v":""},{"$f":"IF(Puantaj!$C50=\"\",\"\",Puantaj!H47&\"                    \"&Puantaj!H48&\"                    \"&Puantaj!H49&\"                    \"&Puantaj!H50)","v":""},{"$f":"IF(Puantaj!$C50=\"\",\"\",Puantaj!I47&\"                    \"&Puantaj!I48&\"                    \"&Puantaj!I49&\"                    \"&Puantaj!I50)","v":""},{"$f":"IF(Puantaj!$C50=\"\",\"\",Puantaj!J47&\"                    \"&Puantaj!J48&\"                    \"&Puantaj!J49&\"                    \"&Puantaj!J50)","v":""},{"$f":"IF(Puantaj!$C50=\"\",\"\",Puantaj!K47&\"                    \"&Puantaj!K48&\"                    \"&Puantaj!K49&\"                    \"&Puantaj!K50)","v":""},{"$f":"IF(Puantaj!$C50=\"\",\"\",Puantaj!L47&\"                    \"&Puantaj!L48&\"                    \"&Puantaj!L49&\"                    \"&Puantaj!L50)","v":""},{"$f":"IF(Puantaj!$C50=\"\",\"\",Puantaj!M47&\"                    \"&Puantaj!M48&\"                    \"&Puantaj!M49&\"                    \"&Puantaj!M50)","v":""},{"$f":"IF(Puantaj!$C50=\"\",\"\",Puantaj!N47&\"                    \"&Puantaj!N48&\"                    \"&Puantaj!N49&\"                    \"&Puantaj!N50)","v":""},{"$f":"IF(Puantaj!$C50=\"\",\"\",Puantaj!O47&\"                    \"&Puantaj!O48&\"                    \"&Puantaj!O49&\"                    \"&Puantaj!O50)","v":""},{"$f":"IF(Puantaj!$C50=\"\",\"\",Puantaj!P47&\"                    \"&Puantaj!P48&\"                    \"&Puantaj!P49&\"                    \"&Puantaj!P50)","v":""},{"$f":"IF(Puantaj!$C50=\"\",\"\",Puantaj!Q47&\"                    \"&Puantaj!Q48&\"                    \"&Puantaj!Q49&\"                    \"&Puantaj!Q50)","v":""},{"$f":"IF(Puantaj!$C50=\"\",\"\",Puantaj!R47&\"                    \"&Puantaj!R48&\"                    \"&Puantaj!R49&\"                    \"&Puantaj!R50)","v":""},{"$f":"IF(Puantaj!$C50=\"\",\"\",Puantaj!S47&\"                    \"&Puantaj!S48&\"                    \"&Puantaj!S49&\"                    \"&Puantaj!S50)","v":""},{"$f":"IF(Puantaj!$C50=\"\",\"\",Puantaj!T47&\"                    \"&Puantaj!T48&\"                    \"&Puantaj!T49&\"                    \"&Puantaj!T50)","v":""},{"$f":"IF(Puantaj!$C50=\"\",\"\",Puantaj!U47&\"                    \"&Puantaj!U48&\"                    \"&Puantaj!U49&\"                    \"&Puantaj!U50)","v":""},{"$f":"IF(Puantaj!$C50=\"\",\"\",Puantaj!V47&\"                    \"&Puantaj!V48&\"                    \"&Puantaj!V49&\"                    \"&Puantaj!V50)","v":""},{"$f":"IF(Puantaj!$C50=\"\",\"\",Puantaj!W47&\"                    \"&Puantaj!W48&\"                    \"&Puantaj!W49&\"                    \"&Puantaj!W50)","v":""},{"$f":"IF(Puantaj!$C50=\"\",\"\",Puantaj!X47&\"                    \"&Puantaj!X48&\"                    \"&Puantaj!X49&\"                    \"&Puantaj!X50)","v":""},{"$f":"IF(Puantaj!$C50=\"\",\"\",Puantaj!Y47&\"                    \"&Puantaj!Y48&\"                    \"&Puantaj!Y49&\"                    \"&Puantaj!Y50)","v":""},{"$f":"IF(Puantaj!$C50=\"\",\"\",Puantaj!Z47&\"                    \"&Puantaj!Z48&\"                    \"&Puantaj!Z49&\"                    \"&Puantaj!Z50)","v":""},{"$f":"IF(Puantaj!$C50=\"\",\"\",Puantaj!AA47&\"                    \"&Puantaj!AA48&\"                    \"&Puantaj!AA49&\"                    \"&Puantaj!AA50)","v":""},{"$f":"IF(Puantaj!$C50=\"\",\"\",Puantaj!AB47&\"                    \"&Puantaj!AB48&\"                    \"&Puantaj!AB49&\"                    \"&Puantaj!AB50)","v":""},{"$f":"IF(Puantaj!$C50=\"\",\"\",Puantaj!AC47&\"                    \"&Puantaj!AC48&\"                    \"&Puantaj!AC49&\"                    \"&Puantaj!AC50)","v":""},{"$f":"IF(Puantaj!$C50=\"\",\"\",Puantaj!AD47&\"                    \"&Puantaj!AD48&\"                    \"&Puantaj!AD49&\"                    \"&Puantaj!AD50)","v":""},{"$f":"IF(Puantaj!$C50=\"\",\"\",Puantaj!AE47&\"                    \"&Puantaj!AE48&\"                    \"&Puantaj!AE49&\"                    \"&Puantaj!AE50)","v":""},{"$f":"IF(Puantaj!$C50=\"\",\"\",Puantaj!AF47&\"                    \"&Puantaj!AF48&\"                    \"&Puantaj!AF49&\"                    \"&Puantaj!AF50)","v":""},{"$f":"IF(Puantaj!$C50=\"\",\"\",Puantaj!AG47&\"                    \"&Puantaj!AG48&\"                    \"&Puantaj!AG49&\"                    \"&Puantaj!AG50)","v":""},{"$f":"IF(Puantaj!$C50=\"\",\"\",Puantaj!AH47&\"                    \"&Puantaj!AH48&\"                    \"&Puantaj!AH49&\"                    \"&Puantaj!AH50)","v":""},{"$f":"IF(Puantaj!$C50=\"\",\"\",Puantaj!AI47&\"                    \"&Puantaj!AI48&\"                    \"&Puantaj!AI49&\"                    \"&Puantaj!AI50)","v":""},{"$f":"Puantaj!AJ47&\"                    \"&Puantaj!AJ48&\"                    \"&Puantaj!AJ49&\"                    \"&Puantaj!AJ50","v":"0                    0                    0                    0"},{"$f":"Puantaj!AK47&\"                    \"&Puantaj!AK48&\"                    \"&Puantaj!AK49&\"                    \"&Puantaj!AK50","v":"0                                                            "},{"$f":"Puantaj!AL47&\"                    \"&Puantaj!AL48&\"                    \"&Puantaj!AL49&\"                    \"&Puantaj!AL50","v":"0                    0                    0                    0"},{"$f":"Puantaj!AM47","v":0},0]
[{"$f":"Puantaj!B51","v":12},{"$f":"Puantaj!C51&\"                                                  \"&Puantaj!C52&\"                                                  \"&Puantaj!C53&\"                                                  \"&Puantaj!C54","v":"                                                                                                                                                      "},{"$f":"Puantaj!D51&\"                    \"&Puantaj!D52&\"                    \"&Puantaj!D53&\"                    \"&Puantaj!D54","v":"Gündüz                    Gece                    Dyk                    Nöbet"},{"$f":"IF(Puantaj!$C54=\"\",\"\",Puantaj!E51&\"                    \"&Puantaj!E52&\"                    \"&Puantaj!E53&\"                    \"&Puantaj!E54)","v":""},{"$f":"IF(Puantaj!$C54=\"\",\"\",Puantaj!F51&\"                    \"&Puantaj!F52&\"                    \"&Puantaj!F53&\"                    \"&Puantaj!F54)","v":""},{"$f":"IF(Puantaj!$C54=\"\",\"\",Puantaj!G51&\"                    \"&Puantaj!G52&\"                    \"&Puantaj!G53&\"                    \"&Puantaj!G54)","v":""},{"$f":"IF(Puantaj!$C54=\"\",\"\",Puantaj!H51&\"                    \"&Puantaj!H52&\"                    \"&Puantaj!H53&\"                    \"&Puantaj!H54)","v":""},{"$f":"IF(Puantaj!$C54=\"\",\"\",Puantaj!I51&\"                    \"&Puantaj!I52&\"                    \"&Puantaj!I53&\"                    \"&Puantaj!I54)","v":""},{"$f":"IF(Puantaj!$C54=\"\",\"\",Puantaj!J51&\"                    \"&Puantaj!J52&\"                    \"&Puantaj!J53&\"                    \"&Puantaj!J54)","v":""},{"$f":"IF(Puantaj!$C54=\"\",\"\",Puantaj!K51&\"                    \"&Puantaj!K52&\"                    \"&Puantaj!K53&\"                    \"&Puantaj!K54)","v":""},{"$f":"IF(Puantaj!$C54=\"\",\"\",Puantaj!L51&\"                    \"&Puantaj!L52&\"                    \"&Puantaj!L53&\"                    \"&Puantaj!L54)","v":""},{"$f":"IF(Puantaj!$C54=\"\",\"\",Puantaj!M51&\"                    \"&Puantaj!M52&\"                    \"&Puantaj!M53&\"                    \"&Puantaj!M54)","v":""},{"$f":"IF(Puantaj!$C54=\"\",\"\",Puantaj!N51&\"                    \"&Puantaj!N52&\"                    \"&Puantaj!N53&\"                    \"&Puantaj!N54)","v":""},{"$f":"IF(Puantaj!$C54=\"\",\"\",Puantaj!O51&\"                    \"&Puantaj!O52&\"                    \"&Puantaj!O53&\"                    \"&Puantaj!O54)","v":""},{"$f":"IF(Puantaj!$C54=\"\",\"\",Puantaj!P51&\"                    \"&Puantaj!P52&\"                    \"&Puantaj!P53&\"                    \"&Puantaj!P54)","v":""},{"$f":"IF(Puantaj!$C54=\"\",\"\",Puantaj!Q51&\"                    \"&Puantaj!Q52&\"                    \"&Puantaj!Q53&\"                    \"&Puantaj!Q54)","v":""},{"$f":"IF(Puantaj!$C54=\"\",\"\",Puantaj!R51&\"                    \"&Puantaj!R52&\"                    \"&Puantaj!R53&\"                    \"&Puantaj!R54)","v":""},{"$f":"IF(Puantaj!$C54=\"\",\"\",Puantaj!S51&\"                    \"&Puantaj!S52&\"                    \"&Puantaj!S53&\"                    \"&Puantaj!S54)","v":""},{"$f":"IF(Puantaj!$C54=\"\",\"\",Puantaj!T51&\"                    \"&Puantaj!T52&\"                    \"&Puantaj!T53&\"                    \"&Puantaj!T54)","v":""},{"$f":"IF(Puantaj!$C54=\"\",\"\",Puantaj!U51&\"                    \"&Puantaj!U52&\"                    \"&Puantaj!U53&\"                    \"&Puantaj!U54)","v":""},{"$f":"IF(Puantaj!$C54=\"\",\"\",Puantaj!V51&\"                    \"&Puantaj!V52&\"                    \"&Puantaj!V53&\"                    \"&Puantaj!V54)","v":""},{"$f":"IF(Puantaj!$C54=\"\",\"\",Puantaj!W51&\"                    \"&Puantaj!W52&\"                    \"&Puantaj!W53&\"                    \"&Puantaj!W54)","v":""},{"$f":"IF(Puantaj!$C54=\"\",\"\",Puantaj!X51&\"                    \"&Puantaj!X52&\"                    \"&Puantaj!X53&\"                    \"&Puantaj!X54)","v":""},{"$f":"IF(Puantaj!$C54=\"\",\"\",Puantaj!Y51&\"                    \"&Puantaj!Y52&\"                    \"&Puantaj!Y53&\"                    \"&Puantaj!Y54)","v":""},{"$f":"IF(Puantaj!$C54=\"\",\"\",Puantaj!Z51&\"                    \"&Puantaj!Z52&\"                    \"&Puantaj!Z53&\"                    \"&Puantaj!Z54)","v":""},{"$f":"IF(Puantaj!$C54=\"\",\"\",Puantaj!AA51&\"                    \"&Puantaj!AA52&\"                    \"&Puantaj!AA53&\"                    \"&Puantaj!AA54)","v":""},{"$f":"IF(Puantaj!$C54=\"\",\"\",Puantaj!AB51&\"                    \"&Puantaj!AB52&\"                    \"&Puantaj!AB53&\"                    \"&Puantaj!AB54)","v":""},{"$f":"IF(Puantaj!$C54=\"\",\"\",Puantaj!AC51&\"                    \"&Puantaj!AC52&\"                    \"&Puantaj!AC53&\"                    \"&Puantaj!AC54)","v":""},{"$f":"IF(Puantaj!$C54=\"\",\"\",Puantaj!AD51&\"                    \"&Puantaj!AD52&\"                    \"&Puantaj!AD53&\"                    \"&Puantaj!AD54)","v":""},{"$f":"IF(Puantaj!$C54=\"\",\"\",Puantaj!AE51&\"                    \"&Puantaj!AE52&\"                    \"&Puantaj!AE53&\"                    \"&Puantaj!AE54)","v":""},{"$f":"IF(Puantaj!$C54=\"\",\"\",Puantaj!AF51&\"                    \"&Puantaj!AF52&\"                    \"&Puantaj!AF53&\"                    \"&Puantaj!AF54)","v":""},{"$f":"IF(Puantaj!$C54=\"\",\"\",Puantaj!AG51&\"                    \"&Puantaj!AG52&\"                    \"&Puantaj!AG53&\"                    \"&Puantaj!AG54)","v":""},{"$f":"IF(Puantaj!$C54=\"\",\"\",Puantaj!AH51&\"                    \"&Puantaj!AH52&\"                    \"&Puantaj!AH53&\"                    \"&Puantaj!AH54)","v":""},{"$f":"IF(Puantaj!$C54=\"\",\"\",Puantaj!AI51&\"                    \"&Puantaj!AI52&\"                    \"&Puantaj!AI53&\"                    \"&Puantaj!AI54)","v":""},{"$f":"Puantaj!AJ51&\"                    \"&Puantaj!AJ52&\"                    \"&Puantaj!AJ53&\"                    \"&Puantaj!AJ54","v":"0                    0                    0                    0"},{"$f":"Puantaj!AK51&\"                    \"&Puantaj!AK52&\"                    \"&Puantaj!AK53&\"                    \"&Puantaj!AK54","v":"0                                                            "},{"$f":"Puantaj!AL51&\"                    \"&Puantaj!AL52&\"                    \"&Puantaj!AL53&\"                    \"&Puantaj!AL54","v":"0                    0                    0                    0"},{"$f":"Puantaj!AM51","v":0},0]
[{"$f":"Puantaj!B55","v":13},{"$f":"Puantaj!C55&\"                                                  \"&Puantaj!C56&\"                                                  \"&Puantaj!C57&\"                                                  \"&Puantaj!C58","v":"                                                                                                                                                      "},{"$f":"Puantaj!D55&\"                    \"&Puantaj!D56&\"                    \"&Puantaj!D57&\"                    \"&Puantaj!D58","v":"Gündüz                    Gece                    Dyk                    Nöbet"},{"$f":"IF(Puantaj!$C58=\"\",\"\",Puantaj!E55&\"                    \"&Puantaj!E56&\"                    \"&Puantaj!E57&\"                    \"&Puantaj!E58)","v":""},{"$f":"IF(Puantaj!$C58=\"\",\"\",Puantaj!F55&\"                    \"&Puantaj!F56&\"                    \"&Puantaj!F57&\"                    \"&Puantaj!F58)","v":""},{"$f":"IF(Puantaj!$C58=\"\",\"\",Puantaj!G55&\"                    \"&Puantaj!G56&\"                    \"&Puantaj!G57&\"                    \"&Puantaj!G58)","v":""},{"$f":"IF(Puantaj!$C58=\"\",\"\",Puantaj!H55&\"                    \"&Puantaj!H56&\"                    \"&Puantaj!H57&\"                    \"&Puantaj!H58)","v":""},{"$f":"IF(Puantaj!$C58=\"\",\"\",Puantaj!I55&\"                    \"&Puantaj!I56&\"                    \"&Puantaj!I57&\"                    \"&Puantaj!I58)","v":""},{"$f":"IF(Puantaj!$C58=\"\",\"\",Puantaj!J55&\"                    \"&Puantaj!J56&\"                    \"&Puantaj!J57&\"                    \"&Puantaj!J58)","v":""},{"$f":"IF(Puantaj!$C58=\"\",\"\",Puantaj!K55&\"                    \"&Puantaj!K56&\"                    \"&Puantaj!K57&\"                    \"&Puantaj!K58)","v":""},{"$f":"IF(Puantaj!$C58=\"\",\"\",Puantaj!L55&\"                    \"&Puantaj!L56&\"                    \"&Puantaj!L57&\"                    \"&Puantaj!L58)","v":""},{"$f":"IF(Puantaj!$C58=\"\",\"\",Puantaj!M55&\"                    \"&Puantaj!M56&\"                    \"&Puantaj!M57&\"                    \"&Puantaj!M58)","v":""},{"$f":"IF(Puantaj!$C58=\"\",\"\",Puantaj!N55&\"                    \"&Puantaj!N56&\"                    \"&Puantaj!N57&\"                    \"&Puantaj!N58)","v":""},{"$f":"IF(Puantaj!$C58=\"\",\"\",Puantaj!O55&\"                    \"&Puantaj!O56&\"                    \"&Puantaj!O57&\"                    \"&Puantaj!O58)","v":""},{"$f":"IF(Puantaj!$C58=\"\",\"\",Puantaj!P55&\"                    \"&Puantaj!P56&\"                    \"&Puantaj!P57&\"                    \"&Puantaj!P58)","v":""},{"$f":"IF(Puantaj!$C58=\"\",\"\",Puantaj!Q55&\"                    \"&Puantaj!Q56&\"                    \"&Puantaj!Q57&\"                    \"&Puantaj!Q58)","v":""},{"$f":"IF(Puantaj!$C58=\"\",\"\",Puantaj!R55&\"                    \"&Puantaj!R56&\"                    \"&Puantaj!R57&\"                    \"&Puantaj!R58)","v":""},{"$f":"IF(Puantaj!$C58=\"\",\"\",Puantaj!S55&\"                    \"&Puantaj!S56&\"                    \"&Puantaj!S57&\"                    \"&Puantaj!S58)","v":""},{"$f":"IF(Puantaj!$C58=\"\",\"\",Puantaj!T55&\"                    \"&Puantaj!T56&\"                    \"&Puantaj!T57&\"                    \"&Puantaj!T58)","v":""},{"$f":"IF(Puantaj!$C58=\"\",\"\",Puantaj!U55&\"                    \"&Puantaj!U56&\"                    \"&Puantaj!U57&\"                    \"&Puantaj!U58)","v":""},{"$f":"IF(Puantaj!$C58=\"\",\"\",Puantaj!V55&\"                    \"&Puantaj!V56&\"                    \"&Puantaj!V57&\"                    \"&Puantaj!V58)","v":""},{"$f":"IF(Puantaj!$C58=\"\",\"\",Puantaj!W55&\"                    \"&Puantaj!W56&\"                    \"&Puantaj!W57&\"                    \"&Puantaj!W58)","v":""},{"$f":"IF(Puantaj!$C58=\"\",\"\",Puantaj!X55&\"                    \"&Puantaj!X56&\"                    \"&Puantaj!X57&\"                    \"&Puantaj!X58)","v":""},{"$f":"IF(Puantaj!$C58=\"\",\"\",Puantaj!Y55&\"                    \"&Puantaj!Y56&\"                    \"&Puantaj!Y57&\"                    \"&Puantaj!Y58)","v":""},{"$f":"IF(Puantaj!$C58=\"\",\"\",Puantaj!Z55&\"                    \"&Puantaj!Z56&\"                    \"&Puantaj!Z57&\"                    \"&Puantaj!Z58)","v":""},{"$f":"IF(Puantaj!$C58=\"\",\"\",Puantaj!AA55&\"                    \"&Puantaj!AA56&\"                    \"&Puantaj!AA57&\"                    \"&Puantaj!AA58)","v":""},{"$f":"IF(Puantaj!$C58=\"\",\"\",Puantaj!AB55&\"                    \"&Puantaj!AB56&\"                    \"&Puantaj!AB57&\"                    \"&Puantaj!AB58)","v":""},{"$f":"IF(Puantaj!$C58=\"\",\"\",Puantaj!AC55&\"                    \"&Puantaj!AC56&\"                    \"&Puantaj!AC57&\"                    \"&Puantaj!AC58)","v":""},{"$f":"IF(Puantaj!$C58=\"\",\"\",Puantaj!AD55&\"                    \"&Puantaj!AD56&\"                    \"&Puantaj!AD57&\"                    \"&Puantaj!AD58)","v":""},{"$f":"IF(Puantaj!$C58=\"\",\"\",Puantaj!AE55&\"                    \"&Puantaj!AE56&\"                    \"&Puantaj!AE57&\"                    \"&Puantaj!AE58)","v":""},{"$f":"IF(Puantaj!$C58=\"\",\"\",Puantaj!AF55&\"                    \"&Puantaj!AF56&\"                    \"&Puantaj!AF57&\"                    \"&Puantaj!AF58)","v":""},{"$f":"IF(Puantaj!$C58=\"\",\"\",Puantaj!AG55&\"                    \"&Puantaj!AG56&\"                    \"&Puantaj!AG57&\"                    \"&Puantaj!AG58)","v":""},{"$f":"IF(Puantaj!$C58=\"\",\"\",Puantaj!AH55&\"                    \"&Puantaj!AH56&\"                    \"&Puantaj!AH57&\"                    \"&Puantaj!AH58)","v":""},{"$f":"IF(Puantaj!$C58=\"\",\"\",Puantaj!AI55&\"                    \"&Puantaj!AI56&\"                    \"&Puantaj!AI57&\"                    \"&Puantaj!AI58)","v":""},{"$f":"Puantaj!AJ55&\"                    \"&Puantaj!AJ56&\"                    \"&Puantaj!AJ57&\"                    \"&Puantaj!AJ58","v":"0                    0                    0                    0"},{"$f":"Puantaj!AK55&\"                    \"&Puantaj!AK56&\"                    \"&Puantaj!AK57&\"                    \"&Puantaj!AK58","v":"0                                                            "},{"$f":"Puantaj!AL55&\"                    \"&Puantaj!AL56&\"                    \"&Puantaj!AL57&\"                    \"&Puantaj!AL58","v":"0                    0                    0                    0"},{"$f":"Puantaj!AM55","v":0},0]
[{"$f":"Puantaj!B59","v":14},{"$f":"Puantaj!C59&\"                                                  \"&Puantaj!C60&\"                                                  \"&Puantaj!C61&\"                                                  \"&Puantaj!C62","v":"                                                                                                                                                      "},{"$f":"Puantaj!D59&\"                    \"&Puantaj!D60&\"                    \"&Puantaj!D61&\"                    \"&Puantaj!D62","v":"Gündüz                    Gece                    Dyk                    Nöbet"},{"$f":"IF(Puantaj!$C62=\"\",\"\",Puantaj!E59&\"                    \"&Puantaj!E60&\"                    \"&Puantaj!E61&\"                    \"&Puantaj!E62)","v":""},{"$f":"IF(Puantaj!$C62=\"\",\"\",Puantaj!F59&\"                    \"&Puantaj!F60&\"                    \"&Puantaj!F61&\"                    \"&Puantaj!F62)","v":""},{"$f":"IF(Puantaj!$C62=\"\",\"\",Puantaj!G59&\"                    \"&Puantaj!G60&\"                    \"&Puantaj!G61&\"                    \"&Puantaj!G62)","v":""},{"$f":"IF(Puantaj!$C62=\"\",\"\",Puantaj!H59&\"                    \"&Puantaj!H60&\"                    \"&Puantaj!H61&\"                    \"&Puantaj!H62)","v":""},{"$f":"IF(Puantaj!$C62=\"\",\"\",Puantaj!I59&\"                    \"&Puantaj!I60&\"                    \"&Puantaj!I61&\"                    \"&Puantaj!I62)","v":""},{"$f":"IF(Puantaj!$C62=\"\",\"\",Puantaj!J59&\"                    \"&Puantaj!J60&\"                    \"&Puantaj!J61&\"                    \"&Puantaj!J62)","v":""},{"$f":"IF(Puantaj!$C62=\"\",\"\",Puantaj!K59&\"                    \"&Puantaj!K60&\"                    \"&Puantaj!K61&\"                    \"&Puantaj!K62)","v":""},{"$f":"IF(Puantaj!$C62=\"\",\"\",Puantaj!L59&\"                    \"&Puantaj!L60&\"                    \"&Puantaj!L61&\"                    \"&Puantaj!L62)","v":""},{"$f":"IF(Puantaj!$C62=\"\",\"\",Puantaj!M59&\"                    \"&Puantaj!M60&\"                    \"&Puantaj!M61&\"                    \"&Puantaj!M62)","v":""},{"$f":"IF(Puantaj!$C62=\"\",\"\",Puantaj!N59&\"                    \"&Puantaj!N60&\"                    \"&Puantaj!N61&\"                    \"&Puantaj!N62)","v":""},{"$f":"IF(Puantaj!$C62=\"\",\"\",Puantaj!O59&\"                    \"&Puantaj!O60&\"                    \"&Puantaj!O61&\"                    \"&Puantaj!O62)","v":""},{"$f":"IF(Puantaj!$C62=\"\",\"\",Puantaj!P59&\"                    \"&Puantaj!P60&\"                    \"&Puantaj!P61&\"                    \"&Puantaj!P62)","v":""},{"$f":"IF(Puantaj!$C62=\"\",\"\",Puantaj!Q59&\"                    \"&Puantaj!Q60&\"                    \"&Puantaj!Q61&\"                    \"&Puantaj!Q62)","v":""},{"$f":"IF(Puantaj!$C62=\"\",\"\",Puantaj!R59&\"                    \"&Puantaj!R60&\"                    \"&Puantaj!R61&\"                    \"&Puantaj!R62)","v":""},{"$f":"IF(Puantaj!$C62=\"\",\"\",Puantaj!S59&\"                    \"&Puantaj!S60&\"                    \"&Puantaj!S61&\"                    \"&Puantaj!S62)","v":""},{"$f":"IF(Puantaj!$C62=\"\",\"\",Puantaj!T59&\"                    \"&Puantaj!T60&\"                    \"&Puantaj!T61&\"                    \"&Puantaj!T62)","v":""},{"$f":"IF(Puantaj!$C62=\"\",\"\",Puantaj!U59&\"                    \"&Puantaj!U60&\"                    \"&Puantaj!U61&\"                    \"&Puantaj!U62)","v":""},{"$f":"IF(Puantaj!$C62=\"\",\"\",Puantaj!V59&\"                    \"&Puantaj!V60&\"                    \"&Puantaj!V61&\"                    \"&Puantaj!V62)","v":""},{"$f":"IF(Puantaj!$C62=\"\",\"\",Puantaj!W59&\"                    \"&Puantaj!W60&\"                    \"&Puantaj!W61&\"                    \"&Puantaj!W62)","v":""},{"$f":"IF(Puantaj!$C62=\"\",\"\",Puantaj!X59&\"                    \"&Puantaj!X60&\"                    \"&Puantaj!X61&\"                    \"&Puantaj!X62)","v":""},{"$f":"IF(Puantaj!$C62=\"\",\"\",Puantaj!Y59&\"                    \"&Puantaj!Y60&\"                    \"&Puantaj!Y61&\"                    \"&Puantaj!Y62)","v":""},{"$f":"IF(Puantaj!$C62=\"\",\"\",Puantaj!Z59&\"                    \"&Puantaj!Z60&\"                    \"&Puantaj!Z61&\"                    \"&Puantaj!Z62)","v":""},{"$f":"IF(Puantaj!$C62=\"\",\"\",Puantaj!AA59&\"                    \"&Puantaj!AA60&\"                    \"&Puantaj!AA61&\"                    \"&Puantaj!AA62)","v":""},{"$f":"IF(Puantaj!$C62=\"\",\"\",Puantaj!AB59&\"                    \"&Puantaj!AB60&\"                    \"&Puantaj!AB61&\"                    \"&Puantaj!AB62)","v":""},{"$f":"IF(Puantaj!$C62=\"\",\"\",Puantaj!AC59&\"                    \"&Puantaj!AC60&\"                    \"&Puantaj!AC61&\"                    \"&Puantaj!AC62)","v":""},{"$f":"IF(Puantaj!$C62=\"\",\"\",Puantaj!AD59&\"                    \"&Puantaj!AD60&\"                    \"&Puantaj!AD61&\"                    \"&Puantaj!AD62)","v":""},{"$f":"IF(Puantaj!$C62=\"\",\"\",Puantaj!AE59&\"                    \"&Puantaj!AE60&\"                    \"&Puantaj!AE61&\"                    \"&Puantaj!AE62)","v":""},{"$f":"IF(Puantaj!$C62=\"\",\"\",Puantaj!AF59&\"                    \"&Puantaj!AF60&\"                    \"&Puantaj!AF61&\"                    \"&Puantaj!AF62)","v":""},{"$f":"IF(Puantaj!$C62=\"\",\"\",Puantaj!AG59&\"                    \"&Puantaj!AG60&\"                    \"&Puantaj!AG61&\"                    \"&Puantaj!AG62)","v":""},{"$f":"IF(Puantaj!$C62=\"\",\"\",Puantaj!AH59&\"                    \"&Puantaj!AH60&\"                    \"&Puantaj!AH61&\"                    \"&Puantaj!AH62)","v":""},{"$f":"IF(Puantaj!$C62=\"\",\"\",Puantaj!AI59&\"                    \"&Puantaj!AI60&\"                    \"&Puantaj!AI61&\"                    \"&Puantaj!AI62)","v":""},{"$f":"Puantaj!AJ59&\"                    \"&Puantaj!AJ60&\"                    \"&Puantaj!AJ61&\"                    \"&Puantaj!AJ62","v":"0                    0                    0                    0"},{"$f":"Puantaj!AK59&\"                    \"&Puantaj!AK60&\"                    \"&Puantaj!AK61&\"                    \"&Puantaj!AK62","v":"0                                                            "},{"$f":"Puantaj!AL59&\"                    \"&Puantaj!AL60&\"                    \"&Puantaj!AL61&\"                    \"&Puantaj!AL62","v":"0                    0                    0                    0"},{"$f":"Puantaj!AM59","v":0},0]
[{"$f":"Puantaj!B63","v":15},{"$f":"Puantaj!C63&\"                                                  \"&Puantaj!C64&\"                                                  \"&Puantaj!C65&\"                                                  \"&Puantaj!C66","v":"                                                                                                                                                      "},{"$f":"Puantaj!D63&\"                    \"&Puantaj!D64&\"                    \"&Puantaj!D65&\"                    \"&Puantaj!D66","v":"Gündüz                    Gece                    Dyk                    Nöbet"},{"$f":"IF(Puantaj!$C66=\"\",\"\",Puantaj!E63&\"                    \"&Puantaj!E64&\"                    \"&Puantaj!E65&\"                    \"&Puantaj!E66)","v":""},{"$f":"IF(Puantaj!$C66=\"\",\"\",Puantaj!F63&\"                    \"&Puantaj!F64&\"                    \"&Puantaj!F65&\"                    \"&Puantaj!F66)","v":""},{"$f":"IF(Puantaj!$C66=\"\",\"\",Puantaj!G63&\"                    \"&Puantaj!G64&\"                    \"&Puantaj!G65&\"                    \"&Puantaj!G66)","v":""},{"$f":"IF(Puantaj!$C66=\"\",\"\",Puantaj!H63&\"                    \"&Puantaj!H64&\"                    \"&Puantaj!H65&\"                    \"&Puantaj!H66)","v":""},{"$f":"IF(Puantaj!$C66=\"\",\"\",Puantaj!I63&\"                    \"&Puantaj!I64&\"                    \"&Puantaj!I65&\"                    \"&Puantaj!I66)","v":""},{"$f":"IF(Puantaj!$C66=\"\",\"\",Puantaj!J63&\"                    \"&Puantaj!J64&\"                    \"&Puantaj!J65&\"                    \"&Puantaj!J66)","v":""},{"$f":"IF(Puantaj!$C66=\"\",\"\",Puantaj!K63&\"                    \"&Puantaj!K64&\"                    \"&Puantaj!K65&\"                    \"&Puantaj!K66)","v":""},{"$f":"IF(Puantaj!$C66=\"\",\"\",Puantaj!L63&\"                    \"&Puantaj!L64&\"                    \"&Puantaj!L65&\"                    \"&Puantaj!L66)","v":""},{"$f":"IF(Puantaj!$C66=\"\",\"\",Puantaj!M63&\"                    \"&Puantaj!M64&\"                    \"&Puantaj!M65&\"                    \"&Puantaj!M66)","v":""},{"$f":"IF(Puantaj!$C66=\"\",\"\",Puantaj!N63&\"                    \"&Puantaj!N64&\"                    \"&Puantaj!N65&\"                    \"&Puantaj!N66)","v":""},{"$f":"IF(Puantaj!$C66=\"\",\"\",Puantaj!O63&\"                    \"&Puantaj!O64&\"                    \"&Puantaj!O65&\"                    \"&Puantaj!O66)","v":""},{"$f":"IF(Puantaj!$C66=\"\",\"\",Puantaj!P63&\"                    \"&Puantaj!P64&\"                    \"&Puantaj!P65&\"                    \"&Puantaj!P66)","v":""},{"$f":"IF(Puantaj!$C66=\"\",\"\",Puantaj!Q63&\"                    \"&Puantaj!Q64&\"                    \"&Puantaj!Q65&\"                    \"&Puantaj!Q66)","v":""},{"$f":"IF(Puantaj!$C66=\"\",\"\",Puantaj!R63&\"                    \"&Puantaj!R64&\"                    \"&Puantaj!R65&\"                    \"&Puantaj!R66)","v":""},{"$f":"IF(Puantaj!$C66=\"\",\"\",Puantaj!S63&\"                    \"&Puantaj!S64&\"                    \"&Puantaj!S65&\"                    \"&Puantaj!S66)","v":""},{"$f":"IF(Puantaj!$C66=\"\",\"\",Puantaj!T63&\"                    \"&Puantaj!T64&\"                    \"&Puantaj!T65&\"                    \"&Puantaj!T66)","v":""},{"$f":"IF(Puantaj!$C66=\"\",\"\",Puantaj!U63&\"                    \"&Puantaj!U64&\"                    \"&Puantaj!U65&\"                    \"&Puantaj!U66)","v":""},{"$f":"IF(Puantaj!$C66=\"\",\"\",Puantaj!V63&\"                    \"&Puantaj!V64&\"                    \"&Puantaj!V65&\"                    \"&Puantaj!V66)","v":""},{"$f":"IF(Puantaj!$C66=\"\",\"\",Puantaj!W63&\"                    \"&Puantaj!W64&\"                    \"&Puantaj!W65&\"                    \"&Puantaj!W66)","v":""},{"$f":"IF(Puantaj!$C66=\"\",\"\",Puantaj!X63&\"                    \"&Puantaj!X64&\"                    \"&Puantaj!X65&\"                    \"&Puantaj!X66)","v":""},{"$f":"IF(Puantaj!$C66=\"\",\"\",Puantaj!Y63&\"                    \"&Puantaj!Y64&\"                    \"&Puantaj!Y65&\"                    \"&Puantaj!Y66)","v":""},{"$f":"IF(Puantaj!$C66=\"\",\"\",Puantaj!Z63&\"                    \"&Puantaj!Z64&\"                    \"&Puantaj!Z65&\"                    \"&Puantaj!Z66)","v":""},{"$f":"IF(Puantaj!$C66=\"\",\"\",Puantaj!AA63&\"                    \"&Puantaj!AA64&\"                    \"&Puantaj!AA65&\"                    \"&Puantaj!AA66)","v":""},{"$f":"IF(Puantaj!$C66=\"\",\"\",Puantaj!AB63&\"                    \"&Puantaj!AB64&\"                    \"&Puantaj!AB65&\"                    \"&Puantaj!AB66)","v":""},{"$f":"IF(Puantaj!$C66=\"\",\"\",Puantaj!AC63&\"                    \"&Puantaj!AC64&\"                    \"&Puantaj!AC65&\"                    \"&Puantaj!AC66)","v":""},{"$f":"IF(Puantaj!$C66=\"\",\"\",Puantaj!AD63&\"                    \"&Puantaj!AD64&\"                    \"&Puantaj!AD65&\"                    \"&Puantaj!AD66)","v":""},{"$f":"IF(Puantaj!$C66=\"\",\"\",Puantaj!AE63&\"                    \"&Puantaj!AE64&\"                    \"&Puantaj!AE65&\"                    \"&Puantaj!AE66)","v":""},{"$f":"IF(Puantaj!$C66=\"\",\"\",Puantaj!AF63&\"                    \"&Puantaj!AF64&\"                    \"&Puantaj!AF65&\"                    \"&Puantaj!AF66)","v":""},{"$f":"IF(Puantaj!$C66=\"\",\"\",Puantaj!AG63&\"                    \"&Puantaj!AG64&\"                    \"&Puantaj!AG65&\"                    \"&Puantaj!AG66)","v":""},{"$f":"IF(Puantaj!$C66=\"\",\"\",Puantaj!AH63&\"                    \"&Puantaj!AH64&\"                    \"&Puantaj!AH65&\"                    \"&Puantaj!AH66)","v":""},{"$f":"IF(Puantaj!$C66=\"\",\"\",Puantaj!AI63&\"                    \"&Puantaj!AI64&\"                    \"&Puantaj!AI65&\"                    \"&Puantaj!AI66)","v":""},{"$f":"Puantaj!AJ63&\"                    \"&Puantaj!AJ64&\"                    \"&Puantaj!AJ65&\"                    \"&Puantaj!AJ66","v":"0                    0                    0                    0"},{"$f":"Puantaj!AK63&\"                    \"&Puantaj!AK64&\"                    \"&Puantaj!AK65&\"                    \"&Puantaj!AK66","v":"0                                                            "},{"$f":"Puantaj!AL63&\"                    \"&Puantaj!AL64&\"                    \"&Puantaj!AL65&\"                    \"&Puantaj!AL66","v":"0                    0                    0                    0"},{"$f":"Puantaj!AM63","v":0},0]
[{"$f":"Puantaj!B67","v":16},{"$f":"Puantaj!C67&\"                                                  \"&Puantaj!C68&\"                                                  \"&Puantaj!C69&\"                                                  \"&Puantaj!C70","v":"                                                                                                                                                      "},{"$f":"Puantaj!D67&\"                    \"&Puantaj!D68&\"                    \"&Puantaj!D69&\"                    \"&Puantaj!D70","v":"Gündüz                    Gece                    Dyk                    Nöbet"},{"$f":"IF(Puantaj!$C70=\"\",\"\",Puantaj!E67&\"                    \"&Puantaj!E68&\"                    \"&Puantaj!E69&\"                    \"&Puantaj!E70)","v":""},{"$f":"IF(Puantaj!$C70=\"\",\"\",Puantaj!F67&\"                    \"&Puantaj!F68&\"                    \"&Puantaj!F69&\"                    \"&Puantaj!F70)","v":""},{"$f":"IF(Puantaj!$C70=\"\",\"\",Puantaj!G67&\"                    \"&Puantaj!G68&\"                    \"&Puantaj!G69&\"                    \"&Puantaj!G70)","v":""},{"$f":"IF(Puantaj!$C70=\"\",\"\",Puantaj!H67&\"                    \"&Puantaj!H68&\"                    \"&Puantaj!H69&\"                    \"&Puantaj!H70)","v":""},{"$f":"IF(Puantaj!$C70=\"\",\"\",Puantaj!I67&\"                    \"&Puantaj!I68&\"                    \"&Puantaj!I69&\"                    \"&Puantaj!I70)","v":""},{"$f":"IF(Puantaj!$C70=\"\",\"\",Puantaj!J67&\"                    \"&Puantaj!J68&\"                    \"&Puantaj!J69&\"                    \"&Puantaj!J70)","v":""},{"$f":"IF(Puantaj!$C70=\"\",\"\",Puantaj!K67&\"                    \"&Puantaj!K68&\"                    \"&Puantaj!K69&\"                    \"&Puantaj!K70)","v":""},{"$f":"IF(Puantaj!$C70=\"\",\"\",Puantaj!L67&\"                    \"&Puantaj!L68&\"                    \"&Puantaj!L69&\"                    \"&Puantaj!L70)","v":""},{"$f":"IF(Puantaj!$C70=\"\",\"\",Puantaj!M67&\"                    \"&Puantaj!M68&\"                    \"&Puantaj!M69&\"                    \"&Puantaj!M70)","v":""},{"$f":"IF(Puantaj!$C70=\"\",\"\",Puantaj!N67&\"                    \"&Puantaj!N68&\"                    \"&Puantaj!N69&\"                    \"&Puantaj!N70)","v":""},{"$f":"IF(Puantaj!$C70=\"\",\"\",Puantaj!O67&\"                    \"&Puantaj!O68&\"                    \"&Puantaj!O69&\"                    \"&Puantaj!O70)","v":""},{"$f":"IF(Puantaj!$C70=\"\",\"\",Puantaj!P67&\"                    \"&Puantaj!P68&\"                    \"&Puantaj!P69&\"                    \"&Puantaj!P70)","v":""},{"$f":"IF(Puantaj!$C70=\"\",\"\",Puantaj!Q67&\"                    \"&Puantaj!Q68&\"                    \"&Puantaj!Q69&\"                    \"&Puantaj!Q70)","v":""},{"$f":"IF(Puantaj!$C70=\"\",\"\",Puantaj!R67&\"                    \"&Puantaj!R68&\"                    \"&Puantaj!R69&\"                    \"&Puantaj!R70)","v":""},{"$f":"IF(Puantaj!$C70=\"\",\"\",Puantaj!S67&\"                    \"&Puantaj!S68&\"                    \"&Puantaj!S69&\"                    \"&Puantaj!S70)","v":""},{"$f":"IF(Puantaj!$C70=\"\",\"\",Puantaj!T67&\"                    \"&Puantaj!T68&\"                    \"&Puantaj!T69&\"                    \"&Puantaj!T70)","v":""},{"$f":"IF(Puantaj!$C70=\"\",\"\",Puantaj!U67&\"                    \"&Puantaj!U68&\"                    \"&Puantaj!U69&\"                    \"&Puantaj!U70)","v":""},{"$f":"IF(Puantaj!$C70=\"\",\"\",Puantaj!V67&\"                    \"&Puantaj!V68&\"                    \"&Puantaj!V69&\"                    \"&Puantaj!V70)","v":""},{"$f":"IF(Puantaj!$C70=\"\",\"\",Puantaj!W67&\"                    \"&Puantaj!W68&\"                    \"&Puantaj!W69&\"                    \"&Puantaj!W70)","v":""},{"$f":"IF(Puantaj!$C70=\"\",\"\",Puantaj!X67&\"                    \"&Puantaj!X68&\"                    \"&Puantaj!X69&\"                    \"&Puantaj!X70)","v":""},{"$f":"IF(Puantaj!$C70=\"\",\"\",Puantaj!Y67&\"                    \"&Puantaj!Y68&\"                    \"&Puantaj!Y69&\"                    \"&Puantaj!Y70)","v":""},{"$f":"IF(Puantaj!$C70=\"\",\"\",Puantaj!Z67&\"                    \"&Puantaj!Z68&\"                    \"&Puantaj!Z69&\"                    \"&Puantaj!Z70)","v":""},{"$f":"IF(Puantaj!$C70=\"\",\"\",Puantaj!AA67&\"                    \"&Puantaj!AA68&\"                    \"&Puantaj!AA69&\"                    \"&Puantaj!AA70)","v":""},{"$f":"IF(Puantaj!$C70=\"\",\"\",Puantaj!AB67&\"                    \"&Puantaj!AB68&\"                    \"&Puantaj!AB69&\"                    \"&Puantaj!AB70)","v":""},{"$f":"IF(Puantaj!$C70=\"\",\"\",Puantaj!AC67&\"                    \"&Puantaj!AC68&\"                    \"&Puantaj!AC69&\"                    \"&Puantaj!AC70)","v":""},{"$f":"IF(Puantaj!$C70=\"\",\"\",Puantaj!AD67&\"                    \"&Puantaj!AD68&\"                    \"&Puantaj!AD69&\"                    \"&Puantaj!AD70)","v":""},{"$f":"IF(Puantaj!$C70=\"\",\"\",Puantaj!AE67&\"                    \"&Puantaj!AE68&\"                    \"&Puantaj!AE69&\"                    \"&Puantaj!AE70)","v":""},{"$f":"IF(Puantaj!$C70=\"\",\"\",Puantaj!AF67&\"                    \"&Puantaj!AF68&\"                    \"&Puantaj!AF69&\"                    \"&Puantaj!AF70)","v":""},{"$f":"IF(Puantaj!$C70=\"\",\"\",Puantaj!AG67&\"                    \"&Puantaj!AG68&\"                    \"&Puantaj!AG69&\"                    \"&Puantaj!AG70)","v":""},{"$f":"IF(Puantaj!$C70=\"\",\"\",Puantaj!AH67&\"                    \"&Puantaj!AH68&\"                    \"&Puantaj!AH69&\"                    \"&Puantaj!AH70)","v":""},{"$f":"IF(Puantaj!$C70=\"\",\"\",Puantaj!AI67&\"                    \"&Puantaj!AI68&\"                    \"&Puantaj!AI69&\"                    \"&Puantaj!AI70)","v":""},{"$f":"Puantaj!AJ67&\"                    \"&Puantaj!AJ68&\"                    \"&Puantaj!AJ69&\"                    \"&Puantaj!AJ70","v":"0                    0                    0                    0"},{"$f":"Puantaj!AK67&\"                    \"&Puantaj!AK68&\"                    \"&Puantaj!AK69&\"                    \"&Puantaj!AK70","v":"0                                                            "},{"$f":"Puantaj!AL67&\"                    \"&Puantaj!AL68&\"                    \"&Puantaj!AL69&\"                    \"&Puantaj!AL70","v":"0                    0                    0                    0"},{"$f":"Puantaj!AM67","v":0},0]
[{"$f":"Puantaj!B71","v":17},{"$f":"Puantaj!C71&\"                                                  \"&Puantaj!C72&\"                                                  \"&Puantaj!C73&\"                                                  \"&Puantaj!C74","v":"                                                                                                                                                      "},{"$f":"Puantaj!D71&\"                    \"&Puantaj!D72&\"                    \"&Puantaj!D73&\"                    \"&Puantaj!D74","v":"Gündüz                    Gece                    Dyk                    Nöbet"},{"$f":"IF(Puantaj!$C74=\"\",\"\",Puantaj!E71&\"                    \"&Puantaj!E72&\"                    \"&Puantaj!E73&\"                    \"&Puantaj!E74)","v":""},{"$f":"IF(Puantaj!$C74=\"\",\"\",Puantaj!F71&\"                    \"&Puantaj!F72&\"                    \"&Puantaj!F73&\"                    \"&Puantaj!F74)","v":""},{"$f":"IF(Puantaj!$C74=\"\",\"\",Puantaj!G71&\"                    \"&Puantaj!G72&\"                    \"&Puantaj!G73&\"                    \"&Puantaj!G74)","v":""},{"$f":"IF(Puantaj!$C74=\"\",\"\",Puantaj!H71&\"                    \"&Puantaj!H72&\"                    \"&Puantaj!H73&\"                    \"&Puantaj!H74)","v":""},{"$f":"IF(Puantaj!$C74=\"\",\"\",Puantaj!I71&\"                    \"&Puantaj!I72&\"                    \"&Puantaj!I73&\"                    \"&Puantaj!I74)","v":""},{"$f":"IF(Puantaj!$C74=\"\",\"\",Puantaj!J71&\"                    \"&Puantaj!J72&\"                    \"&Puantaj!J73&\"                    \"&Puantaj!J74)","v":""},{"$f":"IF(Puantaj!$C74=\"\",\"\",Puantaj!K71&\"                    \"&Puantaj!K72&\"                    \"&Puantaj!K73&\"                    \"&Puantaj!K74)","v":""},{"$f":"IF(Puantaj!$C74=\"\",\"\",Puantaj!L71&\"                    \"&Puantaj!L72&\"                    \"&Puantaj!L73&\"                    \"&Puantaj!L74)","v":""},{"$f":"IF(Puantaj!$C74=\"\",\"\",Puantaj!M71&\"                    \"&Puantaj!M72&\"                    \"&Puantaj!M73&\"                    \"&Puantaj!M74)","v":""},{"$f":"IF(Puantaj!$C74=\"\",\"\",Puantaj!N71&\"                    \"&Puantaj!N72&\"                    \"&Puantaj!N73&\"                    \"&Puantaj!N74)","v":""},{"$f":"IF(Puantaj!$C74=\"\",\"\",Puantaj!O71&\"                    \"&Puantaj!O72&\"                    \"&Puantaj!O73&\"                    \"&Puantaj!O74)","v":""},{"$f":"IF(Puantaj!$C74=\"\",\"\",Puantaj!P71&\"                    \"&Puantaj!P72&\"                    \"&Puantaj!P73&\"                    \"&Puantaj!P74)","v":""},{"$f":"IF(Puantaj!$C74=\"\",\"\",Puantaj!Q71&\"                    \"&Puantaj!Q72&\"                    \"&Puantaj!Q73&\"                    \"&Puantaj!Q74)","v":""},{"$f":"IF(Puantaj!$C74=\"\",\"\",Puantaj!R71&\"                    \"&Puantaj!R72&\"                    \"&Puantaj!R73&\"                    \"&Puantaj!R74)","v":""},{"$f":"IF(Puantaj!$C74=\"\",\"\",Puantaj!S71&\"                    \"&Puantaj!S72&\"                    \"&Puantaj!S73&\"                    \"&Puantaj!S74)","v":""},{"$f":"IF(Puantaj!$C74=\"\",\"\",Puantaj!T71&\"                    \"&Puantaj!T72&\"                    \"&Puantaj!T73&\"                    \"&Puantaj!T74)","v":""},{"$f":"IF(Puantaj!$C74=\"\",\"\",Puantaj!U71&\"                    \"&Puantaj!U72&\"                    \"&Puantaj!U73&\"                    \"&Puantaj!U74)","v":""},{"$f":"IF(Puantaj!$C74=\"\",\"\",Puantaj!V71&\"                    \"&Puantaj!V72&\"                    \"&Puantaj!V73&\"                    \"&Puantaj!V74)","v":""},{"$f":"IF(Puantaj!$C74=\"\",\"\",Puantaj!W71&\"                    \"&Puantaj!W72&\"                    \"&Puantaj!W73&\"                    \"&Puantaj!W74)","v":""},{"$f":"IF(Puantaj!$C74=\"\",\"\",Puantaj!X71&\"                    \"&Puantaj!X72&\"                    \"&Puantaj!X73&\"                    \"&Puantaj!X74)","v":""},{"$f":"IF(Puantaj!$C74=\"\",\"\",Puantaj!Y71&\"                    \"&Puantaj!Y72&\"                    \"&Puantaj!Y73&\"                    \"&Puantaj!Y74)","v":""},{"$f":"IF(Puantaj!$C74=\"\",\"\",Puantaj!Z71&\"                    \"&Puantaj!Z72&\"                    \"&Puantaj!Z73&\"                    \"&Puantaj!Z74)","v":""},{"$f":"IF(Puantaj!$C74=\"\",\"\",Puantaj!AA71&\"                    \"&Puantaj!AA72&\"                    \"&Puantaj!AA73&\"                    \"&Puantaj!AA74)","v":""},{"$f":"IF(Puantaj!$C74=\"\",\"\",Puantaj!AB71&\"                    \"&Puantaj!AB72&\"                    \"&Puantaj!AB73&\"                    \"&Puantaj!AB74)","v":""},{"$f":"IF(Puantaj!$C74=\"\",\"\",Puantaj!AC71&\"                    \"&Puantaj!AC72&\"                    \"&Puantaj!AC73&\"                    \"&Puantaj!AC74)","v":""},{"$f":"IF(Puantaj!$C74=\"\",\"\",Puantaj!AD71&\"                    \"&Puantaj!AD72&\"                    \"&Puantaj!AD73&\"                    \"&Puantaj!AD74)","v":""},{"$f":"IF(Puantaj!$C74=\"\",\"\",Puantaj!AE71&\"                    \"&Puantaj!AE72&\"                    \"&Puantaj!AE73&\"                    \"&Puantaj!AE74)","v":""},{"$f":"IF(Puantaj!$C74=\"\",\"\",Puantaj!AF71&\"                    \"&Puantaj!AF72&\"                    \"&Puantaj!AF73&\"                    \"&Puantaj!AF74)","v":""},{"$f":"IF(Puantaj!$C74=\"\",\"\",Puantaj!AG71&\"                    \"&Puantaj!AG72&\"                    \"&Puantaj!AG73&\"                    \"&Puantaj!AG74)","v":""},{"$f":"IF(Puantaj!$C74=\"\",\"\",Puantaj!AH71&\"                    \"&Puantaj!AH72&\"                    \"&Puantaj!AH73&\"                    \"&Puantaj!AH74)","v":""},{"$f":"IF(Puantaj!$C74=\"\",\"\",Puantaj!AI71&\"                    \"&Puantaj!AI72&\"                    \"&Puantaj!AI73&\"                    \"&Puantaj!AI74)","v":""},{"$f":"Puantaj!AJ71&\"                    \"&Puantaj!AJ72&\"                    \"&Puantaj!AJ73&\"                    \"&Puantaj!AJ74","v":"0                    0                    0                    0"},{"$f":"Puantaj!AK71&\"                    \"&Puantaj!AK72&\"                    \"&Puantaj!AK73&\"                    \"&Puantaj!AK74","v":"0                                                            "},{"$f":"Puantaj!AL71&\"                    \"&Puantaj!AL72&\"                    \"&Puantaj!AL73&\"                    \"&Puantaj!AL74","v":"0                    0                    0                    0"},{"$f":"Puantaj!AM71","v":0},0]
[{"$f":"Puantaj!B75","v":18},{"$f":"Puantaj!C75&\"                                                  \"&Puantaj!C76&\"                                                  \"&Puantaj!C77&\"                                                  \"&Puantaj!C78","v":"                                                                                                                                                      "},{"$f":"Puantaj!D75&\"                    \"&Puantaj!D76&\"                    \"&Puantaj!D77&\"                    \"&Puantaj!D78","v":"Gündüz                    Gece                    Dyk                    Nöbet"},{"$f":"IF(Puantaj!$C78=\"\",\"\",Puantaj!E75&\"                    \"&Puantaj!E76&\"                    \"&Puantaj!E77&\"                    \"&Puantaj!E78)","v":""},{"$f":"IF(Puantaj!$C78=\"\",\"\",Puantaj!F75&\"                    \"&Puantaj!F76&\"                    \"&Puantaj!F77&\"                    \"&Puantaj!F78)","v":""},{"$f":"IF(Puantaj!$C78=\"\",\"\",Puantaj!G75&\"                    \"&Puantaj!G76&\"                    \"&Puantaj!G77&\"                    \"&Puantaj!G78)","v":""},{"$f":"IF(Puantaj!$C78=\"\",\"\",Puantaj!H75&\"                    \"&Puantaj!H76&\"                    \"&Puantaj!H77&\"                    \"&Puantaj!H78)","v":""},{"$f":"IF(Puantaj!$C78=\"\",\"\",Puantaj!I75&\"                    \"&Puantaj!I76&\"                    \"&Puantaj!I77&\"                    \"&Puantaj!I78)","v":""},{"$f":"IF(Puantaj!$C78=\"\",\"\",Puantaj!J75&\"                    \"&Puantaj!J76&\"                    \"&Puantaj!J77&\"                    \"&Puantaj!J78)","v":""},{"$f":"IF(Puantaj!$C78=\"\",\"\",Puantaj!K75&\"                    \"&Puantaj!K76&\"                    \"&Puantaj!K77&\"                    \"&Puantaj!K78)","v":""},{"$f":"IF(Puantaj!$C78=\"\",\"\",Puantaj!L75&\"                    \"&Puantaj!L76&\"                    \"&Puantaj!L77&\"                    \"&Puantaj!L78)","v":""},{"$f":"IF(Puantaj!$C78=\"\",\"\",Puantaj!M75&\"                    \"&Puantaj!M76&\"                    \"&Puantaj!M77&\"                    \"&Puantaj!M78)","v":""},{"$f":"IF(Puantaj!$C78=\"\",\"\",Puantaj!N75&\"                    \"&Puantaj!N76&\"                    \"&Puantaj!N77&\"                    \"&Puantaj!N78)","v":""},{"$f":"IF(Puantaj!$C78=\"\",\"\",Puantaj!O75&\"                    \"&Puantaj!O76&\"                    \"&Puantaj!O77&\"                    \"&Puantaj!O78)","v":""},{"$f":"IF(Puantaj!$C78=\"\",\"\",Puantaj!P75&\"                    \"&Puantaj!P76&\"                    \"&Puantaj!P77&\"                    \"&Puantaj!P78)","v":""},{"$f":"IF(Puantaj!$C78=\"\",\"\",Puantaj!Q75&\"                    \"&Puantaj!Q76&\"                    \"&Puantaj!Q77&\"                    \"&Puantaj!Q78)","v":""},{"$f":"IF(Puantaj!$C78=\"\",\"\",Puantaj!R75&\"                    \"&Puantaj!R76&\"                    \"&Puantaj!R77&\"                    \"&Puantaj!R78)","v":""},{"$f":"IF(Puantaj!$C78=\"\",\"\",Puantaj!S75&\"                    \"&Puantaj!S76&\"                    \"&Puantaj!S77&\"                    \"&Puantaj!S78)","v":""},{"$f":"IF(Puantaj!$C78=\"\",\"\",Puantaj!T75&\"                    \"&Puantaj!T76&\"                    \"&Puantaj!T77&\"                    \"&Puantaj!T78)","v":""},{"$f":"IF(Puantaj!$C78=\"\",\"\",Puantaj!U75&\"                    \"&Puantaj!U76&\"                    \"&Puantaj!U77&\"                    \"&Puantaj!U78)","v":""},{"$f":"IF(Puantaj!$C78=\"\",\"\",Puantaj!V75&\"                    \"&Puantaj!V76&\"                    \"&Puantaj!V77&\"                    \"&Puantaj!V78)","v":""},{"$f":"IF(Puantaj!$C78=\"\",\"\",Puantaj!W75&\"                    \"&Puantaj!W76&\"                    \"&Puantaj!W77&\"                    \"&Puantaj!W78)","v":""},{"$f":"IF(Puantaj!$C78=\"\",\"\",Puantaj!X75&\"                    \"&Puantaj!X76&\"                    \"&Puantaj!X77&\"                    \"&Puantaj!X78)","v":""},{"$f":"IF(Puantaj!$C78=\"\",\"\",Puantaj!Y75&\"                    \"&Puantaj!Y76&\"                    \"&Puantaj!Y77&\"                    \"&Puantaj!Y78)","v":""},{"$f":"IF(Puantaj!$C78=\"\",\"\",Puantaj!Z75&\"                    \"&Puantaj!Z76&\"                    \"&Puantaj!Z77&\"                    \"&Puantaj!Z78)","v":""},{"$f":"IF(Puantaj!$C78=\"\",\"\",Puantaj!AA75&\"                    \"&Puantaj!AA76&\"                    \"&Puantaj!AA77&\"                    \"&Puantaj!AA78)","v":""},{"$f":"IF(Puantaj!$C78=\"\",\"\",Puantaj!AB75&\"                    \"&Puantaj!AB76&\"                    \"&Puantaj!AB77&\"                    \"&Puantaj!AB78)","v":""},{"$f":"IF(Puantaj!$C78=\"\",\"\",Puantaj!AC75&\"                    \"&Puantaj!AC76&\"                    \"&Puantaj!AC77&\"                    \"&Puantaj!AC78)","v":""},{"$f":"IF(Puantaj!$C78=\"\",\"\",Puantaj!AD75&\"                    \"&Puantaj!AD76&\"                    \"&Puantaj!AD77&\"                    \"&Puantaj!AD78)","v":""},{"$f":"IF(Puantaj!$C78=\"\",\"\",Puantaj!AE75&\"                    \"&Puantaj!AE76&\"                    \"&Puantaj!AE77&\"                    \"&Puantaj!AE78)","v":""},{"$f":"IF(Puantaj!$C78=\"\",\"\",Puantaj!AF75&\"                    \"&Puantaj!AF76&\"                    \"&Puantaj!AF77&\"                    \"&Puantaj!AF78)","v":""},{"$f":"IF(Puantaj!$C78=\"\",\"\",Puantaj!AG75&\"                    \"&Puantaj!AG76&\"                    \"&Puantaj!AG77&\"                    \"&Puantaj!AG78)","v":""},{"$f":"IF(Puantaj!$C78=\"\",\"\",Puantaj!AH75&\"                    \"&Puantaj!AH76&\"                    \"&Puantaj!AH77&\"                    \"&Puantaj!AH78)","v":""},{"$f":"IF(Puantaj!$C78=\"\",\"\",Puantaj!AI75&\"                    \"&Puantaj!AI76&\"                    \"&Puantaj!AI77&\"                    \"&Puantaj!AI78)","v":""},{"$f":"Puantaj!AJ75&\"                    \"&Puantaj!AJ76&\"                    \"&Puantaj!AJ77&\"                    \"&Puantaj!AJ78","v":"0                    0                    0                    0"},{"$f":"Puantaj!AK75&\"                    \"&Puantaj!AK76&\"                    \"&Puantaj!AK77&\"                    \"&Puantaj!AK78","v":"0                                                            "},{"$f":"Puantaj!AL75&\"                    \"&Puantaj!AL76&\"                    \"&Puantaj!AL77&\"                    \"&Puantaj!AL78","v":"0                    0                    0                    0"},{"$f":"Puantaj!AM75","v":0},0]
[{"$f":"Puantaj!B79","v":19},{"$f":"Puantaj!C79&\"                                                  \"&Puantaj!C80&\"                                                  \"&Puantaj!C81&\"                                                  \"&Puantaj!C82","v":"                                                                                                                                                      "},{"$f":"Puantaj!D79&\"                    \"&Puantaj!D80&\"                    \"&Puantaj!D81&\"                    \"&Puantaj!D82","v":"Gündüz                    Gece                    Dyk                    Nöbet"},{"$f":"IF(Puantaj!$C82=\"\",\"\",Puantaj!E79&\"                    \"&Puantaj!E80&\"                    \"&Puantaj!E81&\"                    \"&Puantaj!E82)","v":""},{"$f":"IF(Puantaj!$C82=\"\",\"\",Puantaj!F79&\"                    \"&Puantaj!F80&\"                    \"&Puantaj!F81&\"                    \"&Puantaj!F82)","v":""},{"$f":"IF(Puantaj!$C82=\"\",\"\",Puantaj!G79&\"                    \"&Puantaj!G80&\"                    \"&Puantaj!G81&\"                    \"&Puantaj!G82)","v":""},{"$f":"IF(Puantaj!$C82=\"\",\"\",Puantaj!H79&\"                    \"&Puantaj!H80&\"                    \"&Puantaj!H81&\"                    \"&Puantaj!H82)","v":""},{"$f":"IF(Puantaj!$C82=\"\",\"\",Puantaj!I79&\"                    \"&Puantaj!I80&\"                    \"&Puantaj!I81&\"                    \"&Puantaj!I82)","v":""},{"$f":"IF(Puantaj!$C82=\"\",\"\",Puantaj!J79&\"                    \"&Puantaj!J80&\"                    \"&Puantaj!J81&\"                    \"&Puantaj!J82)","v":""},{"$f":"IF(Puantaj!$C82=\"\",\"\",Puantaj!K79&\"                    \"&Puantaj!K80&\"                    \"&Puantaj!K81&\"                    \"&Puantaj!K82)","v":""},{"$f":"IF(Puantaj!$C82=\"\",\"\",Puantaj!L79&\"                    \"&Puantaj!L80&\"                    \"&Puantaj!L81&\"                    \"&Puantaj!L82)","v":""},{"$f":"IF(Puantaj!$C82=\"\",\"\",Puantaj!M79&\"                    \"&Puantaj!M80&\"                    \"&Puantaj!M81&\"                    \"&Puantaj!M82)","v":""},{"$f":"IF(Puantaj!$C82=\"\",\"\",Puantaj!N79&\"                    \"&Puantaj!N80&\"                    \"&Puantaj!N81&\"                    \"&Puantaj!N82)","v":""},{"$f":"IF(Puantaj!$C82=\"\",\"\",Puantaj!O79&\"                    \"&Puantaj!O80&\"                    \"&Puantaj!O81&\"                    \"&Puantaj!O82)","v":""},{"$f":"IF(Puantaj!$C82=\"\",\"\",Puantaj!P79&\"                    \"&Puantaj!P80&\"                    \"&Puantaj!P81&\"                    \"&Puantaj!P82)","v":""},{"$f":"IF(Puantaj!$C82=\"\",\"\",Puantaj!Q79&\"                    \"&Puantaj!Q80&\"                    \"&Puantaj!Q81&\"                    \"&Puantaj!Q82)","v":""},{"$f":"IF(Puantaj!$C82=\"\",\"\",Puantaj!R79&\"                    \"&Puantaj!R80&\"                    \"&Puantaj!R81&\"                    \"&Puantaj!R82)","v":""},{"$f":"IF(Puantaj!$C82=\"\",\"\",Puantaj!S79&\"                    \"&Puantaj!S80&\"                    \"&Puantaj!S81&\"                    \"&Puantaj!S82)","v":""},{"$f":"IF(Puantaj!$C82=\"\",\"\",Puantaj!T79&\"                    \"&Puantaj!T80&\"                    \"&Puantaj!T81&\"                    \"&Puantaj!T82)","v":""},{"$f":"IF(Puantaj!$C82=\"\",\"\",Puantaj!U79&\"                    \"&Puantaj!U80&\"                    \"&Puantaj!U81&\"                    \"&Puantaj!U82)","v":""},{"$f":"IF(Puantaj!$C82=\"\",\"\",Puantaj!V79&\"                    \"&Puantaj!V80&\"                    \"&Puantaj!V81&\"                    \"&Puantaj!V82)","v":""},{"$f":"IF(Puantaj!$C82=\"\",\"\",Puantaj!W79&\"                    \"&Puantaj!W80&\"                    \"&Puantaj!W81&\"                    \"&Puantaj!W82)","v":""},{"$f":"IF(Puantaj!$C82=\"\",\"\",Puantaj!X79&\"                    \"&Puantaj!X80&\"                    \"&Puantaj!X81&\"                    \"&Puantaj!X82)","v":""},{"$f":"IF(Puantaj!$C82=\"\",\"\",Puantaj!Y79&\"                    \"&Puantaj!Y80&\"                    \"&Puantaj!Y81&\"                    \"&Puantaj!Y82)","v":""},{"$f":"IF(Puantaj!$C82=\"\",\"\",Puantaj!Z79&\"                    \"&Puantaj!Z80&\"                    \"&Puantaj!Z81&\"                    \"&Puantaj!Z82)","v":""},{"$f":"IF(Puantaj!$C82=\"\",\"\",Puantaj!AA79&\"                    \"&Puantaj!AA80&\"                    \"&Puantaj!AA81&\"                    \"&Puantaj!AA82)","v":""},{"$f":"IF(Puantaj!$C82=\"\",\"\",Puantaj!AB79&\"                    \"&Puantaj!AB80&\"                    \"&Puantaj!AB81&\"                    \"&Puantaj!AB82)","v":""},{"$f":"IF(Puantaj!$C82=\"\",\"\",Puantaj!AC79&\"                    \"&Puantaj!AC80&\"                    \"&Puantaj!AC81&\"                    \"&Puantaj!AC82)","v":""},{"$f":"IF(Puantaj!$C82=\"\",\"\",Puantaj!AD79&\"                    \"&Puantaj!AD80&\"                    \"&Puantaj!AD81&\"                    \"&Puantaj!AD82)","v":""},{"$f":"IF(Puantaj!$C82=\"\",\"\",Puantaj!AE79&\"                    \"&Puantaj!AE80&\"                    \"&Puantaj!AE81&\"                    \"&Puantaj!AE82)","v":""},{"$f":"IF(Puantaj!$C82=\"\",\"\",Puantaj!AF79&\"                    \"&Puantaj!AF80&\"                    \"&Puantaj!AF81&\"                    \"&Puantaj!AF82)","v":""},{"$f":"IF(Puantaj!$C82=\"\",\"\",Puantaj!AG79&\"                    \"&Puantaj!AG80&\"                    \"&Puantaj!AG81&\"                    \"&Puantaj!AG82)","v":""},{"$f":"IF(Puantaj!$C82=\"\",\"\",Puantaj!AH79&\"                    \"&Puantaj!AH80&\"                    \"&Puantaj!AH81&\"                    \"&Puantaj!AH82)","v":""},{"$f":"IF(Puantaj!$C82=\"\",\"\",Puantaj!AI79&\"                    \"&Puantaj!AI80&\"                    \"&Puantaj!AI81&\"                    \"&Puantaj!AI82)","v":""},{"$f":"Puantaj!AJ79&\"                    \"&Puantaj!AJ80&\"                    \"&Puantaj!AJ81&\"                    \"&Puantaj!AJ82","v":"0                    0                    0                    0"},{"$f":"Puantaj!AK79&\"                    \"&Puantaj!AK80&\"                    \"&Puantaj!AK81&\"                    \"&Puantaj!AK82","v":"0                                                            "},{"$f":"Puantaj!AL79&\"                    \"&Puantaj!AL80&\"                    \"&Puantaj!AL81&\"                    \"&Puantaj!AL82","v":"0                    0                    0                    0"},{"$f":"Puantaj!AM79","v":0},0]
[{"$f":"Puantaj!B83","v":20},{"$f":"Puantaj!C83&\"                                                  \"&Puantaj!C84&\"                                                  \"&Puantaj!C85&\"                                                  \"&Puantaj!C86","v":"                                                                                                                                                      "},{"$f":"Puantaj!D83&\"                    \"&Puantaj!D84&\"                    \"&Puantaj!D85&\"                    \"&Puantaj!D86","v":"Gündüz                    Gece                    Dyk                    Nöbet"},{"$f":"IF(Puantaj!$C86=\"\",\"\",Puantaj!E83&\"                    \"&Puantaj!E84&\"                    \"&Puantaj!E85&\"                    \"&Puantaj!E86)","v":""},{"$f":"IF(Puantaj!$C86=\"\",\"\",Puantaj!F83&\"                    \"&Puantaj!F84&\"                    \"&Puantaj!F85&\"                    \"&Puantaj!F86)","v":""},{"$f":"IF(Puantaj!$C86=\"\",\"\",Puantaj!G83&\"                    \"&Puantaj!G84&\"                    \"&Puantaj!G85&\"                    \"&Puantaj!G86)","v":""},{"$f":"IF(Puantaj!$C86=\"\",\"\",Puantaj!H83&\"                    \"&Puantaj!H84&\"                    \"&Puantaj!H85&\"                    \"&Puantaj!H86)","v":""},{"$f":"IF(Puantaj!$C86=\"\",\"\",Puantaj!I83&\"                    \"&Puantaj!I84&\"                    \"&Puantaj!I85&\"                    \"&Puantaj!I86)","v":""},{"$f":"IF(Puantaj!$C86=\"\",\"\",Puantaj!J83&\"                    \"&Puantaj!J84&\"                    \"&Puantaj!J85&\"                    \"&Puantaj!J86)","v":""},{"$f":"IF(Puantaj!$C86=\"\",\"\",Puantaj!K83&\"                    \"&Puantaj!K84&\"                    \"&Puantaj!K85&\"                    \"&Puantaj!K86)","v":""},{"$f":"IF(Puantaj!$C86=\"\",\"\",Puantaj!L83&\"                    \"&Puantaj!L84&\"                    \"&Puantaj!L85&\"                    \"&Puantaj!L86)","v":""},{"$f":"IF(Puantaj!$C86=\"\",\"\",Puantaj!M83&\"                    \"&Puantaj!M84&\"                    \"&Puantaj!M85&\"                    \"&Puantaj!M86)","v":""},{"$f":"IF(Puantaj!$C86=\"\",\"\",Puantaj!N83&\"                    \"&Puantaj!N84&\"                    \"&Puantaj!N85&\"                    \"&Puantaj!N86)","v":""},{"$f":"IF(Puantaj!$C86=\"\",\"\",Puantaj!O83&\"                    \"&Puantaj!O84&\"                    \"&Puantaj!O85&\"                    \"&Puantaj!O86)","v":""},{"$f":"IF(Puantaj!$C86=\"\",\"\",Puantaj!P83&\"                    \"&Puantaj!P84&\"                    \"&Puantaj!P85&\"                    \"&Puantaj!P86)","v":""},{"$f":"IF(Puantaj!$C86=\"\",\"\",Puantaj!Q83&\"                    \"&Puantaj!Q84&\"                    \"&Puantaj!Q85&\"                    \"&Puantaj!Q86)","v":""},{"$f":"IF(Puantaj!$C86=\"\",\"\",Puantaj!R83&\"                    \"&Puantaj!R84&\"                    \"&Puantaj!R85&\"                    \"&Puantaj!R86)","v":""},{"$f":"IF(Puantaj!$C86=\"\",\"\",Puantaj!S83&\"                    \"&Puantaj!S84&\"                    \"&Puantaj!S85&\"                    \"&Puantaj!S86)","v":""},{"$f":"IF(Puantaj!$C86=\"\",\"\",Puantaj!T83&\"                    \"&Puantaj!T84&\"                    \"&Puantaj!T85&\"                    \"&Puantaj!T86)","v":""},{"$f":"IF(Puantaj!$C86=\"\",\"\",Puantaj!U83&\"                    \"&Puantaj!U84&\"                    \"&Puantaj!U85&\"                    \"&Puantaj!U86)","v":""},{"$f":"IF(Puantaj!$C86=\"\",\"\",Puantaj!V83&\"                    \"&Puantaj!V84&\"                    \"&Puantaj!V85&\"                    \"&Puantaj!V86)","v":""},{"$f":"IF(Puantaj!$C86=\"\",\"\",Puantaj!W83&\"                    \"&Puantaj!W84&\"                    \"&Puantaj!W85&\"                    \"&Puantaj!W86)","v":""},{"$f":"IF(Puantaj!$C86=\"\",\"\",Puantaj!X83&\"                    \"&Puantaj!X84&\"                    \"&Puantaj!X85&\"                    \"&Puantaj!X86)","v":""},{"$f":"IF(Puantaj!$C86=\"\",\"\",Puantaj!Y83&\"                    \"&Puantaj!Y84&\"                    \"&Puantaj!Y85&\"                    \"&Puantaj!Y86)","v":""},{"$f":"IF(Puantaj!$C86=\"\",\"\",Puantaj!Z83&\"                    \"&Puantaj!Z84&\"                    \"&Puantaj!Z85&\"                    \"&Puantaj!Z86)","v":""},{"$f":"IF(Puantaj!$C86=\"\",\"\",Puantaj!AA83&\"                    \"&Puantaj!AA84&\"                    \"&Puantaj!AA85&\"                    \"&Puantaj!AA86)","v":""},{"$f":"IF(Puantaj!$C86=\"\",\"\",Puantaj!AB83&\"                    \"&Puantaj!AB84&\"                    \"&Puantaj!AB85&\"                    \"&Puantaj!AB86)","v":""},{"$f":"IF(Puantaj!$C86=\"\",\"\",Puantaj!AC83&\"                    \"&Puantaj!AC84&\"                    \"&Puantaj!AC85&\"                    \"&Puantaj!AC86)","v":""},{"$f":"IF(Puantaj!$C86=\"\",\"\",Puantaj!AD83&\"                    \"&Puantaj!AD84&\"                    \"&Puantaj!AD85&\"                    \"&Puantaj!AD86)","v":""},{"$f":"IF(Puantaj!$C86=\"\",\"\",Puantaj!AE83&\"                    \"&Puantaj!AE84&\"                    \"&Puantaj!AE85&\"                    \"&Puantaj!AE86)","v":""},{"$f":"IF(Puantaj!$C86=\"\",\"\",Puantaj!AF83&\"                    \"&Puantaj!AF84&\"                    \"&Puantaj!AF85&\"                    \"&Puantaj!AF86)","v":""},{"$f":"IF(Puantaj!$C86=\"\",\"\",Puantaj!AG83&\"                    \"&Puantaj!AG84&\"                    \"&Puantaj!AG85&\"                    \"&Puantaj!AG86)","v":""},{"$f":"IF(Puantaj!$C86=\"\",\"\",Puantaj!AH83&\"                    \"&Puantaj!AH84&\"                    \"&Puantaj!AH85&\"                    \"&Puantaj!AH86)","v":""},{"$f":"IF(Puantaj!$C86=\"\",\"\",Puantaj!AI83&\"                    \"&Puantaj!AI84&\"                    \"&Puantaj!AI85&\"                    \"&Puantaj!AI86)","v":""},{"$f":"Puantaj!AJ83&\"                    \"&Puantaj!AJ84&\"                    \"&Puantaj!AJ85&\"                    \"&Puantaj!AJ86","v":"0                    0                    0                    0"},{"$f":"Puantaj!AK83&\"                    \"&Puantaj!AK84&\"                    \"&Puantaj!AK85&\"                    \"&Puantaj!AK86","v":"0                                                            "},{"$f":"Puantaj!AL83&\"                    \"&Puantaj!AL84&\"                    \"&Puantaj!AL85&\"                    \"&Puantaj!AL86","v":"0                    0                    0                    0"},{"$f":"Puantaj!AM83","v":0},0]
[{"$f":"\"Müdürlüğümüzde \"&AK3&\"/\"&AK4&\" ayında toplam \"&TEXT(Puantaj!AR6,\"#.##0\")&\" ek ders okutulmuştur.\"","v":"Müdürlüğümüzde Şubat/2024 ayında toplam 0 ek ders okutulmuştur."},null,null,null,null,null,null,null,null,null,null,null,null,null,null,null,null,null,null,null,null,null,null,null,null,null,null,null,null,null,null,null,null,null,null,null,null,null,1]
[null,null,null,null,null,null,null,null,null,null,null,null,null,null,null,null,null,null,null,null,null,null,null,null,null,null,null,null,null,null,null,null,null,null,null,null,null,null,1]
[null,"Düzenleyen",null,"Onaylayan",null,null,null,null,null,null,null,null,null,null,null,null,null,null,null,null,null,null,null,null,null,null,null,null,null,null,null,null,null,null,null,null,null,null,1]
[null,{"$f":"Puantaj!N4","v":"2024-03-01"},null,{"$f":"B30","v":"2024-03-01"},null,null,null,null,null,null,null,null,null,null,null,null,null,null,null,null,null,null,null,null,null,null,null,null,null,null,null,null,null,null,null,null,null,null,1]
[null,null,null,null,null,null,null,null,null,null,null,null,null,null,null,null,null,null,null,null,null,null,null,null,null,null,null,null,null,null,null,null,null,null,null,null,null,null,1]
[null,{"$f":"IF(Puantaj!D3=\"\",\"\",Puantaj!D3)","v":""},null,{"$f":"IF(Puantaj!D4=\"\",\"\",Puantaj!D4)","v":""},null,null,null,null,null,null,null,null,null,null,null,null,null,null,null,null,null,null,null,null,null,null,null,null,null,null,null,null,null,null,null,null,null,null,1]
[null,{"$f":"IF(Puantaj!H3=\"\",\"\",Puantaj!H3)","v":""},null,{"$f":"IF(Puantaj!H4=\"\",\"\",Puantaj!H4)","v":""},null,null,null,null,null,null,null,null,null,null,null,null,null,null,null,null,null,null,null,null,null,null,null,null,null,null,null,null,null,null,null,null,null,null,1]