{"text_format":"1","workbook":"xlsx","n_sheets":2,"sheets":["Puantaj","ptj"],"not_rendered":{"charts":0,"images":4,"macros":1,"external_links":0,"defined_names":4,"comments":0,"pivot_tables":0},"unopened":[],"bounds":{"document_bytes":16777216,"sheet_cells":100000,"rows_first":2000,"rows_last":500,"rows_between":2000,"halvings":0,"cell_chars":16384,"cell_head_chars":4096},"cells_cut":0,"cells_raw":0,"read":"whole","date_system":"1900"}

{"sheet":"Puantaj","index":0,"n_rows":17,"n_cols":77,"rows_kept":17,"cut":false,"hidden":false,"merged":[[0,64,3,64],[0,55,3,55],[0,56,3,56],[16,1,16,37],[0,1,0,37],[2,4,2,6],[3,4,3,6],[1,3,1,6],[0,57,3,57],[0,58,3,58],[0,59,3,59],[0,60,3,60],[0,61,3,61],[0,62,3,62],[0,63,3,63],[0,53,3,53],[0,65,3,65],[0,66,3,66],[0,67,3,67],[0,68,3,68],[0,69,3,69],[0,75,3,75],[0,70,3,70],[0,71,3,71],[0,72,3,72],[0,73,3,73],[0,74,3,74],[0,54,3,54],[2,11,2,14],[3,11,3,14],[2,15,2,17],[3,15,3,17],[0,49,3,49],[0,50,3,50],[0,51,3,51],[0,52,3,52],[0,45,3,45],[0,46,3,46],[0,47,3,47],[0,48,3,48],[4,36,4,37],[4,2,4,4],[4,5,4,35],[4,1,5,1],[1,1,1,2],[2,1,2,2],[3,1,3,2],[2,7,2,10],[3,7,3,10]]}
[null,"STAJYER ÖĞRENCİ ÜCRET PUANTAJI",null,null,null,null,null,null,null,null,null,null,null,null,null,null,null,null,null,null,null,null,null,null,null,null,null,null,null,null,null,null,null,null,null,null,null,null,null,null,null,null,null,null,{"$f":"AS2-1","v":2023},{"$f":"AS5","v":"01/02/2024"},{"$f":"AT1+1","v":"2024-02-02"},{"$f":"AU1+1","v":"2024-02-03"},"2024-02-04","2024-02-05","2024-02-06","2024-02-07","2024-02-08","2024-02-09","2024-02-10","2024-02-11","2024-02-12","2024-02-13","2024-02-14","2024-02-15","2024-02-16","2024-02-17","2024-02-18","2024-02-19","2024-02-20","2024-02-21","2024-02-22","2024-02-23","2024-02-24","2024-02-25","2024-02-26","2024-02-27","2024-02-28","2024-02-29","2024-03-01","2024-03-02"]
[null,"Okul/Kurum Adı",null,null,null,null,null,null,null,null,null,null,null,null,null,null,null,null,null,null,null,null,null,null,null,null,null,null,null,null,null,null,null,null,null,null,null,null,null,null,null,null,null,null,{"$f":"YEAR(TODAY())","v":2024}]
[null,"Düzenleyen",null,null,null,null,null,"Tarih",null,null,null,"Ait Old. Ay",null,null,null,"Şubat",null,null,null,null,null,null,null,null,null,null,null,null,null,null,null,null,null,null,null,null,null,null,null,null,null,null,null,null,{"$f":"IF(P3=\"Ocak\",1,IF(P3=\"Şubat\",2,IF(P3=\"Mart\",3,IF(P3=\"Nisan\",4,IF(P3=\"Mayıs\",5,IF(P3=\"Haziran\",6,IF(P3=\"Temmuz\",7,IF(P3=\"Ağustos\",8,IF(P3=\"Eylül\",9,IF(P3=\"Ekim\",10,IF(P3=\"Kasım\",11,IF(P3=\"Aralık\",12,\"\"))))))))))))","v":2}]
[null,"Onaylayan",null,null,null,null,null,{"$f":"BY6","v":"2024-03-01"},null,null,null,"Ait Old. Yıl",null,null,null,2024,null,null,null,null,null,null,null,null,null,null,null,null,null,null,null,null,null,null,null,null,null,null,null,null,null,null,null,null,{"$f":"\"01\"&\"/\"&AS3&\"/\"&AS2","v":"01/2/2024"}]
[null,"S. No","ÖĞRENCİ BİLGİSİ",null,null,"GÜNLÜK DEVAM/DEVAMSIZLIK PUANTAJI",null,null,null,null,null,null,null,null,null,null,null,null,null,null,null,null,null,null,null,null,null,null,null,null,null,null,null,null,null,null,"İCMAL",null,null,null,null,null,null,null,{"$f":"TEXT(AS4,\"gg/aa/yyyy\")","v":"01/02/2024"},1,2,3,4,5,6,7,8,9,10,11,12,13,14,15,16,17,18,19,20,21,22,23,24,25,26,27,28,29,30,31]
[null,null,"Kimlik No","Adı Soyadı","Bölümü",{"$f":"AT1","v":"01/02/2024"},"2024-02-02","2024-02-03","2024-02-04","2024-02-05","2024-02-06","2024-02-07","2024-02-08","2024-02-09","2024-02-10","2024-02-11","2024-02-12","2024-02-13","2024-02-14","2024-02-15","2024-02-16","2024-02-17","2024-02-18","2024-02-19","2024-02-20","2024-02-21","2024-02-22","2024-02-23","2024-02-24","2024-02-25","2024-02-26","2024-02-27","2024-02-28","2024-02-29","2024-03-01","2024-03-02","Toplam Devamsız\nGün Sayısı","Toplamn Devam\nGün Sayısı",null,null,null,null,null,null,{"$f":"SUM(AL7:AL16)","v":0},{"$f":"TEXT(F6,\"gggg\")","v":"Perşembe"},"Cuma","Cumartesi","Pazar","Pazartesi","Salı","Çarşamba","Perşembe","Cuma","Cumartesi","Pazar","Pazartesi","Salı","Çarşamba","Perşembe","Cuma","Cumartesi","Pazar","Pazartesi","Salı","Çarşamba","Perşembe","Cuma","Cumartesi","Pazar","Pazartesi","Salı","Çarşamba","Perşembe","Cuma","Cumartesi",{"$f":"EDATE(AT1,1)","v":"2024-03-01"}]
[null,1,null,null,null,null,null,null,null,null,null,null,null,null,null,null,null,null,null,null,null,null,null,null,null,null,null,null,null,null,null,null,null,null,null,null,{"$f":"ptj!AJ7","v":0},{"$f":"ptj!AK7","v":0},null,null,null,null,null,null,{"$f":"IF(P3=\"Ocak\",\"Oca\",IF(P3=\"Şubat\",\"Şub\",IF(P3=\"Mart\",\"Mar\",IF(P3=\"Nisan\",\"Nis\",IF(P3=\"Mayıs\",\"May\",IF(P3=\"Haziran\",\"Haz\",IF(P3=\"Temmuz\",\"Tem\",IF(P3=\"Ağustos\",\"Ağu\",IF(P3=\"Eylül\",\"Eyl\",IF(P3=\"Ekim\",\"Eki\",IF(P3=\"Kasım\",\"Kas\",IF(P3=\"Aralık\",\"Ara\",\"\"))))))))))))","v":"Şub"},{"$f":"TEXT(F6,\"aaa\")","v":"Şub"},"Şub","Şub","Şub","Şub","Şub","Şub","Şub","Şub","Şub","Şub","Şub","Şub","Şub","Şub","Şub","Şub","Şub","Şub","Şub","Şub","Şub","Şub","Şub","Şub","Şub","Şub","Şub","Şub","Mar","Mar"]
[null,2,null,null,null,null,null,null,null,null,null,null,null,null,null,null,null,null,null,null,null,null,null,null,null,null,null,null,null,null,null,null,null,null,null,null,{"$f":"ptj!AJ8","v":0},{"$f":"ptj!AK8","v":0},null,null,null,null,null,null,"Kurum",{"$f":"IF(D2=\"\",0,1)","v":0}]
[null,3,null,null,null,null,null,null,null,null,null,null,null,null,null,null,null,null,null,null,null,null,null,null,null,null,null,null,null,null,null,null,null,null,null,null,{"$f":"ptj!AJ9","v":0},{"$f":"ptj!AK9","v":0},null,null,null,null,null,null,"Düz-Ad",{"$f":"IF(D3=\"\",0,1)","v":0}]
[null,4,null,null,null,null,null,null,null,null,null,null,null,null,null,null,null,null,null,null,null,null,null,null,null,null,null,null,null,null,null,null,null,null,null,null,{"$f":"ptj!AJ10","v":0},{"$f":"ptj!AK10","v":0},null,null,null,null,null,null,"Düz-Unv",{"$f":"IF(E3=\"\",0,1)","v":0}]
[null,5,null,null,null,null,null,null,null,null,null,null,null,null,null,null,null,null,null,null,null,null,null,null,null,null,null,null,null,null,null,null,null,null,null,null,{"$f":"ptj!AJ11","v":0},{"$f":"ptj!AK11","v":0},null,null,null,null,null,null,"Ony-Ad",{"$f":"IF(D4=\"\",0,1)","v":0}]
[null,6,null,null,null,null,null,null,null,null,null,null,null,null,null,null,null,null,null,null,null,null,null,null,null,null,null,null,null,null,null,null,null,null,null,null,{"$f":"ptj!AJ12","v":0},{"$f":"ptj!AK12","v":0},null,null,null,null,null,null,"Ony-Unv",{"$f":"IF(E4=\"\",0,1)","v":0}]
[null,7,null,null,null,null,null,null,null,null,null,null,null,null,null,null,null,null,null,null,null,null,null,null,null,null,null,null,null,null,null,null,null,null,null,null,{"$f":"ptj!AJ13","v":0},{"$f":"ptj!AK13","v":0},null,null,null,null,null,null,"Ay",{"$f":"IF(P3=\"\",0,1)","v":1}]
[null,8,null,null,null,null,null,null,null,null,null,null,null,null,null,null,null,null,null,null,null,null,null,null,null,null,null,null,null,null,null,null,null,null,null,null,{"$f":"ptj!AJ14","v":0},{"$f":"ptj!AK14","v":0},null,null,null,null,null,null,"Yıl",{"$f":"IF(P4=\"\",0,1)","v":1}]
[null,9,null,null,null,null,null,null,null,null,null,null,null,null,null,null,null,null,null,null,null,null,null,null,null,null,null,null,null,null,null,null,null,null,null,null,{"$f":"ptj!AJ15","v":0},{"$f":"ptj!AK15","v":0},null,null,null,null,null,null,"Bordro",{"$f":"IF(AS6=0,0,1)","v":0}]
[null,10,null,null,null,null,null,null,null,null,null,null,null,null,null,null,null,null,null,null,null,null,null,null,null,null,null,null,null,null,null,null,null,null,null,null,{"$f":"ptj!AJ16","v":0},{"$f":"ptj!AK16","v":0},null,null,null,null,null,null,"Yazdır",{"$f":"IF((AT8+AT9+AT10+AT11+AT12+AT13+AT14+AT15)=8,1,0)","v":0}]
[null,"D: Devamsız        İ: İzinli        R: Raporlu        S: Sevkli        X: Ücret Verilmeyecek        O: Okulda        Ç: İşletmede        T: Tatil"]

{"sheet":"ptj","index":1,"n_rows":23,"n_cols":71,"rows_kept":23,"cut":false,"hidden":true,"merged":[[0,0,0,36],[3,2,3,9],[0,41,3,41],[0,42,3,42],[0,43,3,43],[3,0,3,1],[2,30,2,33],[3,30,3,33],[2,34,2,36],[3,34,3,36],[0,44,3,44],[0,45,3,45],[0,50,3,50],[0,40,3,40],[0,70,3,70],[0,63,3,63],[0,64,3,64],[0,65,3,65],[0,66,3,66],[0,67,3,67],[0,68,3,68],[0,57,3,57],[0,46,3,46],[0,47,3,47],[0,48,3,48],[0,49,3,49],[0,69,3,69],[0,61,3,61],[0,62,3,62],[0,51,3,51],[0,52,3,52],[0,53,3,53],[0,54,3,54],[0,55,3,55],[0,56,3,56],[0,58,3,58],[0,59,3,59],[0,60,3,60],[4,35,4,36],[16,0,16,36],[4,1,4,3],[4,0,5,0],[4,4,4,34],[18,1,18,2],[18,3,18,7],[19,3,19,7],[20,3,20,7],[21,3,21,7],[22,3,22,7],[19,1,19,2],[20,1,20,2],[21,1,21,2],[22,1,22,2]]}
["STAJYER ÖĞRENCİ DEVAM/DEVAMSIZLIK ÇİZELGESİ",null,null,null,null,null,null,null,null,null,null,null,null,null,null,null,null,null,null,null,null,null,null,null,null,null,null,null,null,null,null,null,null,null,null,null,null,1,null,null,{"$f":"Puantaj!AT1","v":"01/02/2024"},{"$f":"AO1+1","v":"2024-02-02"},{"$f":"AP1+1","v":"2024-02-03"},"2024-02-04","2024-02-05","2024-02-06","2024-02-07","2024-02-08","2024-02-09","2024-02-10","2024-02-11","2024-02-12","2024-02-13","2024-02-14","2024-02-15","2024-02-16","2024-02-17","2024-02-18","2024-02-19","2024-02-20","2024-02-21","2024-02-22","2024-02-23","2024-02-24","2024-02-25","2024-02-26","2024-02-27","2024-02-28","2024-02-29","2024-03-01","2024-03-02"]
[null,null,null,null,null,null,null,null,null,null,null,null,null,null,null,null,null,null,null,null,null,null,null,null,null,null,null,null,null,null,null,null,null,null,null,null,null,1]
[null,null,null,null,null,null,null,null,null,null,null,null,null,null,null,null,null,null,null,null,null,null,null,null,null,null,null,null,null,null,"Ait Old. Ay",null,null,null,{"$f":"Puantaj!P3","v":"Şubat"},null,null,1]
["Okul Adı",null,{"$f":"Puantaj!D2","v":0},null,null,null,null,null,null,null,null,null,null,null,null,null,null,null,null,null,null,null,null,null,null,null,null,null,null,null,"Ait Old. Yıl",null,null,null,{"$f":"Puantaj!P4","v":2024},null,null,1]
["S. No","STAJYER ÖĞRENCİ",null,null,"GÜNLÜK DERS SAATİ SAYILARI",null,null,null,null,null,null,null,null,null,null,null,null,null,null,null,null,null,null,null,null,null,null,null,null,null,null,null,null,null,null,"İCMAL",null,1,null,null,1,2,3,4,5,6,7,8,9,10,11,12,13,14,15,16,17,18,19,20,21,22,23,24,25,26,27,28,29,30,31]
[null,"Kimlik No","Adı Soyadı","Bölümü",{"$f":"AO1","v":"01/02/2024"},{"$f":"AP1","v":"2024-02-02"},"2024-02-03","2024-02-04","2024-02-05","2024-02-06","2024-02-07","2024-02-08","2024-02-09","2024-02-10","2024-02-11","2024-02-12","2024-02-13","2024-02-14","2024-02-15","2024-02-16","2024-02-17","2024-02-18","2024-02-19","2024-02-20","2024-02-21","2024-02-22","2024-02-23","2024-02-24","2024-02-25","2024-02-26","2024-02-27","2024-02-28","2024-02-29","2024-03-01","2024-03-02","Toplam Devamsızlık\nGün Sayısı","Toplamn Devam\nGün Sayısı",1,null,null,{"$f":"TEXT(E6,\"gggg\")","v":"Perşembe"},{"$f":"TEXT(F6,\"gggg\")","v":"Cuma"},"Cumartesi","Pazar","Pazartesi","Salı","Çarşamba","Perşembe","Cuma","Cumartesi","Pazar","Pazartesi","Salı","Çarşamba","Perşembe","Cuma","Cumartesi","Pazar","Pazartesi","Salı","Çarşamba","Perşembe","Cuma","Cumartesi","Pazar","Pazartesi","Salı","Çarşamba","Perşembe","Cuma","Cumartesi"]
[{"$f":"IF(AL7=1,1,0)","v":0},{"$f":"Puantaj!C7","v":0},{"$f":"IF(Puantaj!D7=\"\",\"\",Puantaj!D7)","v":""},{"$f":"Puantaj!E7","v":0},{"$f":"IF(Puantaj!F7=\"\",\"\",Puantaj!F7)","v":""},{"$f":"IF(Puantaj!G7=\"\",\"\",Puantaj!G7)","v":""},{"$f":"IF(Puantaj!H7=\"\",\"\",Puantaj!H7)","v":""},{"$f":"IF(Puantaj!I7=\"\",\"\",Puantaj!I7)","v":""},{"$f":"IF(Puantaj!J7=\"\",\"\",Puantaj!J7)","v":""},{"$f":"IF(Puantaj!K7=\"\",\"\",Puantaj!K7)","v":""},{"$f":"IF(Puantaj!L7=\"\",\"\",Puantaj!L7)","v":""},{"$f":"IF(Puantaj!M7=\"\",\"\",Puantaj!M7)","v":""},{"$f":"IF(Puantaj!N7=\"\",\"\",Puantaj!N7)","v":""},{"$f":"IF(Puantaj!O7=\"\",\"\",Puantaj!O7)","v":""},{"$f":"IF(Puantaj!P7=\"\",\"\",Puantaj!P7)","v":""},{"$f":"IF(Puantaj!Q7=\"\",\"\",Puantaj!Q7)","v":""},{"$f":"IF(Puantaj!R7=\"\",\"\",Puantaj!R7)","v":""},{"$f":"IF(Puantaj!S7=\"\",\"\",Puantaj!S7)","v":""},{"$f":"IF(Puantaj!T7=\"\",\"\",Puantaj!T7)","v":""},{"$f":"IF(Puantaj!U7=\"\",\"\",Puantaj!U7)","v":""},{"$f":"IF(Puantaj!V7=\"\",\"\",Puantaj!V7)","v":""},{"$f":"IF(Puantaj!W7=\"\",\"\",Puantaj!W7)","v":""},{"$f":"IF(Puantaj!X7=\"\",\"\",Puantaj!X7)","v":""},{"$f":"IF(Puantaj!Y7=\"\",\"\",Puantaj!Y7)","v":""},{"$f":"IF(Puantaj!Z7=\"\",\"\",Puantaj!Z7)","v":""},{"$f":"IF(Puantaj!AA7=\"\",\"\",Puantaj!AA7)","v":""},{"$f":"IF(Puantaj!AB7=\"\",\"\",Puantaj!AB7)","v":""},{"$f":"IF(Puantaj!AC7=\"\",\"\",Puantaj!AC7)","v":""},{"$f":"IF(Puantaj!AD7=\"\",\"\",Puantaj!AD7)","v":""},{"$f":"IF(Puantaj!AE7=\"\",\"\",Puantaj!AE7)","v":""},{"$f":"IF(Puantaj!AF7=\"\",\"\",Puantaj!AF7)","v":""},{"$f":"IF(Puantaj!AG7=\"\",\"\",Puantaj!AG7)","v":""},{"$f":"IF(Puantaj!AH7=\"\",\"\",Puantaj!AH7)","v":""},{"$f":"IF(Puantaj!AI7=\"\",\"\",Puantaj!AI7)","v":""},{"$f":"IF(Puantaj!AJ7=\"\",\"\",Puantaj!AJ7)","v":""},{"$f":"(COUNTIF(E7:AI7,\"D\")+COUNTIF(E7:AI7,\"R\")+COUNTIF(E7:AI7,\"İ\")+COUNTIF(E7:AI7,\"S\")+COUNTIF(E7:AI7,\"X\"))","v":0},{"$f":"IF(C7=\"\",0,30-AJ7)","v":0},{"$f":"IF(AK7=0,0,1)","v":0}]
[{"$f":"IF(AL8=1,A7+1,A7)","v":0},{"$f":"Puantaj!C8","v":0},{"$f":"IF(Puantaj!D8=\"\",\"\",Puantaj!D8)","v":""},{"$f":"Puantaj!E8","v":0},{"$f":"IF(Puantaj!F8=\"\",\"\",Puantaj!F8)","v":""},{"$f":"IF(Puantaj!G8=\"\",\"\",Puantaj!G8)","v":""},{"$f":"IF(Puantaj!H8=\"\",\"\",Puantaj!H8)","v":""},{"$f":"IF(Puantaj!I8=\"\",\"\",Puantaj!I8)","v":""},{"$f":"IF(Puantaj!J8=\"\",\"\",Puantaj!J8)","v":""},{"$f":"IF(Puantaj!K8=\"\",\"\",Puantaj!K8)","v":""},{"$f":"IF(Puantaj!L8=\"\",\"\",Puantaj!L8)","v":""},{"$f":"IF(Puantaj!M8=\"\",\"\",Puantaj!M8)","v":""},{"$f":"IF(Puantaj!N8=\"\",\"\",Puantaj!N8)","v":""},{"$f":"IF(Puantaj!O8=\"\",\"\",Puantaj!O8)","v":""},{"$f":"IF(Puantaj!P8=\"\",\"\",Puantaj!P8)","v":""},{"$f":"IF(Puantaj!Q8=\"\",\"\",Puantaj!Q8)","v":""},{"$f":"IF(Puantaj!R8=\"\",\"\",Puantaj!R8)","v":""},{"$f":"IF(Puantaj!S8=\"\",\"\",Puantaj!S8)","v":""},{"$f":"IF(Puantaj!T8=\"\",\"\",Puantaj!T8)","v":""},{"$f":"IF(Puantaj!U8=\"\",\"\",Puantaj!U8)","v":""},{"$f":"IF(Puantaj!V8=\"\",\"\",Puantaj!V8)","v":""},{"$f":"IF(Puantaj!W8=\"\",\"\",Puantaj!W8)","v":""},{"$f":"IF(Puantaj!X8=\"\",\"\",Puantaj!X8)","v":""},{"$f":"IF(Puantaj!Y8=\"\",\"\",Puantaj!Y8)","v":""},{"$f":"IF(Puantaj!Z8=\"\",\"\",Puantaj!Z8)","v":""},{"$f":"IF(Puantaj!AA8=\"\",\"\",Puantaj!AA8)","v":""},{"$f":"IF(Puantaj!AB8=\"\",\"\",Puantaj!AB8)","v":""},{"$f":"IF(Puantaj!AC8=\"\",\"\",Puantaj!AC8)","v":""},{"$f":"IF(Puantaj!AD8=\"\",\"\",Puantaj!AD8)","v":""},{"$f":"IF(Puantaj!AE8=\"\",\"\",Puantaj!AE8)","v":""},{"$f":"IF(Puantaj!AF8=\"\",\"\",Puantaj!AF8)","v":""},{"$f":"IF(Puantaj!AG8=\"\",\"\",Puantaj!AG8)","v":""},{"$f":"IF(Puantaj!AH8=\"\",\"\",Puantaj!AH8)","v":""},{"$f":"IF(Puantaj!AI8=\"\",\"\",Puantaj!AI8)","v":""},{"$f":"IF(Puantaj!AJ8=\"\",\"\",Puantaj!AJ8)","v":""},{"$f":"(COUNTIF(E8:AI8,\"D\")+COUNTIF(E8:AI8,\"R\")+COUNTIF(E8:AI8,\"İ\")+COUNTIF(E8:AI8,\"S\")+COUNTIF(E8:AI8,\"X\"))","v":0},{"$f":"IF(C8=\"\",0,30-AJ8)","v":0},{"$f":"IF(AK8=0,0,1)","v":0}]
[{"$f":"IF(AL9=1,A8+1,A8)","v":0},{"$f":"Puantaj!C9","v":0},{"$f":"IF(Puantaj!D9=\"\",\"\",Puantaj!D9)","v":""},{"$f":"Puantaj!E9","v":0},{"$f":"IF(Puantaj!F9=\"\",\"\",Puantaj!F9)","v":""},{"$f":"IF(Puantaj!G9=\"\",\"\",Puantaj!G9)","v":""},{"$f":"IF(Puantaj!H9=\"\",\"\",Puantaj!H9)","v":""},{"$f":"IF(Puantaj!I9=\"\",\"\",Puantaj!I9)","v":""},{"$f":"IF(Puantaj!J9=\"\",\"\",Puantaj!J9)","v":""},{"$f":"IF(Puantaj!K9=\"\",\"\",Puantaj!K9)","v":""},{"$f":"IF(Puantaj!L9=\"\",\"\",Puantaj!L9)","v":""},{"$f":"IF(Puantaj!M9=\"\",\"\",Puantaj!M9)","v":""},{"$f":"IF(Puantaj!N9=\"\",\"\",Puantaj!N9)","v":""},{"$f":"IF(Puantaj!O9=\"\",\"\",Puantaj!O9)","v":""},{"$f":"IF(Puantaj!P9=\"\",\"\",Puantaj!P9)","v":""},{"$f":"IF(Puantaj!Q9=\"\",\"\",Puantaj!Q9)","v":""},{"$f":"IF(Puantaj!R9=\"\",\"\",Puantaj!R9)","v":""},{"$f":"IF(Puantaj!S9=\"\",\"\",Puantaj!S9)","v":""},{"$f":"IF(Puantaj!T9=\"\",\"\",Puantaj!T9)","v":""},{"$f":"IF(Puantaj!U9=\"\",\"\",Puantaj!U9)","v":""},{"$f":"IF(Puantaj!V9=\"\",\"\",Puantaj!V9)","v":""},{"$f":"IF(Puantaj!W9=\"\",\"\",Puantaj!W9)","v":""},{"$f":"IF(Puantaj!X9=\"\",\"\",Puantaj!X9)","v":""},{"$f":"IF(Puantaj!Y9=\"\",\"\",Puantaj!Y9)","v":""},{"$f":"IF(Puantaj!Z9=\"\",\"\",Puantaj!Z9)","v":""},{"$f":"IF(Puantaj!AA9=\"\",\"\",Puantaj!AA9)","v":""},{"$f":"IF(Puantaj!AB9=\"\",\"\",Puantaj!AB9)","v":""},{"$f":"IF(Puantaj!AC9=\"\",\"\",Puantaj!AC9)","v":""},{"$f":"IF(Puantaj!AD9=\"\",\"\",Puantaj!AD9)","v":""},{"$f":"IF(Puantaj!AE9=\"\",\"\",Puantaj!AE9)","v":""},{"$f":"IF(Puantaj!AF9=\"\",\"\",Puantaj!AF9)","v":""},{"$f":"IF(Puantaj!AG9=\"\",\"\",Puantaj!AG9)","v":""},{"$f":"IF(Puantaj!AH9=\"\",\"\",Puantaj!AH9)","v":""},{"$f":"IF(Puantaj!AI9=\"\",\"\",Puantaj!AI9)","v":""},{"$f":"IF(Puantaj!AJ9=\"\",\"\",Puantaj!AJ9)","v":""},0,0,0]
[0,{"$f":"Puantaj!C10","v":0},{"$f":"IF(Puantaj!D10=\"\",\"\",Puantaj!D10)","v":""},{"$f":"Puantaj!E10","v":0},{"$f":"IF(Puantaj!F10=\"\",\"\",Puantaj!F10)","v":""},{"$f":"IF(Puantaj!G10=\"\",\"\",Puantaj!G10)","v":""},{"$f":"IF(Puantaj!H10=\"\",\"\",Puantaj!H10)","v":""},{"$f":"IF(Puantaj!I10=\"\",\"\",Puantaj!I10)","v":""},{"$f":"IF(Puantaj!J10=\"\",\"\",Puantaj!J10)","v":""},{"$f":"IF(Puantaj!K10=\"\",\"\",Puantaj!K10)","v":""},{"$f":"IF(Puantaj!L10=\"\",\"\",Puantaj!L10)","v":""},{"$f":"IF(Puantaj!M10=\"\",\"\",Puantaj!M10)","v":""},{"$f":"IF(Puantaj!N10=\"\",\"\",Puantaj!N10)","v":""},{"$f":"IF(Puantaj!O10=\"\",\"\",Puantaj!O10)","v":""},{"$f":"IF(Puantaj!P10=\"\",\"\",Puantaj!P10)","v":""},{"$f":"IF(Puantaj!Q10=\"\",\"\",Puantaj!Q10)","v":""},{"$f":"IF(Puantaj!R10=\"\",\"\",Puantaj!R10)","v":""},{"$f":"IF(Puantaj!S10=\"\",\"\",Puantaj!S10)","v":""},{"$f":"IF(Puantaj!T10=\"\",\"\",Puantaj!T10)","v":""},{"$f":"IF(Puantaj!U10=\"\",\"\",Puantaj!U10)","v":""},{"$f":"IF(Puantaj!V10=\"\",\"\",Puantaj!V10)","v":""},{"$f":"IF(Puantaj!W10=\"\",\"\",Puantaj!W10)","v":""},{"$f":"IF(Puantaj!X10=\"\",\"\",Puantaj!X10)","v":""},{"$f":"IF(Puantaj!Y10=\"\",\"\",Puantaj!Y10)","v":""},{"$f":"IF(Puantaj!Z10=\"\",\"\",Puantaj!Z10)","v":""},{"$f":"IF(Puantaj!AA10=\"\",\"\",Puantaj!AA10)","v":""},{"$f":"IF(Puantaj!AB10=\"\",\"\",Puantaj!AB10)","v":""},{"$f":"IF(Puantaj!AC10=\"\",\"\",Puantaj!AC10)","v":""},{"$f":"IF(Puantaj!AD10=\"\",\"\",Puantaj!AD10)","v":""},{"$f":"IF(Puantaj!AE10=\"\",\"\",Puantaj!AE10)","v":""},{"$f":"IF(Puantaj!AF10=\"\",\"\",Puantaj!AF10)","v":""},{"$f":"IF(Puantaj!AG10=\"\",\"\",Puantaj!AG10)","v":""},{"$f":"IF(Puantaj!AH10=\"\",\"\",Puantaj!AH10)","v":""},{"$f":"IF(Puantaj!AI10=\"\",\"\",Puantaj!AI10)","v":""},{"$f":"IF(Puantaj!AJ10=\"\",\"\",Puantaj!AJ10)","v":""},0,0,0]
[0,{"$f":"Puantaj!C11","v":0},{"$f":"IF(Puantaj!D11=\"\",\"\",Puantaj!D11)","v":""},{"$f":"Puantaj!E11","v":0},{"$f":"IF(Puantaj!F11=\"\",\"\",Puantaj!F11)","v":""},{"$f":"IF(Puantaj!G11=\"\",\"\",Puantaj!G11)","v":""},{"$f":"IF(Puantaj!H11=\"\",\"\",Puantaj!H11)","v":""},{"$f":"IF(Puantaj!I11=\"\",\"\",Puantaj!I11)","v":""},{"$f":"IF(Puantaj!J11=\"\",\"\",Puantaj!J11)","v":""},{"$f":"IF(Puantaj!K11=\"\",\"\",Puantaj!K11)","v":""},{"$f":"IF(Puantaj!L11=\"\",\"\",Puantaj!L11)","v":""},{"$f":"IF(Puantaj!M11=\"\",\"\",Puantaj!M11)","v":""},{"$f":"IF(Puantaj!N11=\"\",\"\",Puantaj!N11)","v":""},{"$f":"IF(Puantaj!O11=\"\",\"\",Puantaj!O11)","v":""},{"$f":"IF(Puantaj!P11=\"\",\"\",Puantaj!P11)","v":""},{"$f":"IF(Puantaj!Q11=\"\",\"\",Puantaj!Q11)","v":""},{"$f":"IF(Puantaj!R11=\"\",\"\",Puantaj!R11)","v":""},{"$f":"IF(Puantaj!S11=\"\",\"\",Puantaj!S11)","v":""},{"$f":"IF(Puantaj!T11=\"\",\"\",Puantaj!T11)","v":""},{"$f":"IF(Puantaj!U11=\"\",\"\",Puantaj!U11)","v":""},{"$f":"IF(Puantaj!V11=\"\",\"\",Puantaj!V11)","v":""},{"$f":"IF(Puantaj!W11=\"\",\"\",Puantaj!W11)","v":""},{"$f":"IF(Puantaj!X11=\"\",\"\",Puantaj!X11)","v":""},{"$f":"IF(Puantaj!Y11=\"\",\"\",Puantaj!Y11)","v":""},{"$f":"IF(Puantaj!Z11=\"\",\"\",Puantaj!Z11)","v":""},{"$f":"IF(Puantaj!AA11=\"\",\"\",Puantaj!AA11)","v":""},{"$f":"IF(Puantaj!AB11=\"\",\"\",Puantaj!AB11)","v":""},{"$f":"IF(Puantaj!AC11=\"\",\"\",Puantaj!AC11)","v":""},{"$f":"IF(Puantaj!AD11=\"\",\"\",Puantaj!AD11)","v":""},{"$f":"IF(Puantaj!AE11=\"\",\"\",Puantaj!AE11)","v":""},{"$f":"IF(Puantaj!AF11=\"\",\"\",Puantaj!AF11)","v":""},{"$f":"IF(Puantaj!AG11=\"\",\"\",Puantaj!AG11)","v":""},{"$f":"IF(Puantaj!AH11=\"\",\"\",Puantaj!AH11)","v":""},{"$f":"IF(Puantaj!AI11=\"\",\"\",Puantaj!AI11)","v":""},{"$f":"IF(Puantaj!AJ11=\"\",\"\",Puantaj!AJ11)","v":""},0,0,0]
[0,{"$f":"Puantaj!C12","v":0},{"$f":"IF(Puantaj!D12=\"\",\"\",Puantaj!D12)","v":""},{"$f":"Puantaj!E12","v":0},{"$f":"IF(Puantaj!F12=\"\",\"\",Puantaj!F12)","v":""},{"$f":"IF(Puantaj!G12=\"\",\"\",Puantaj!G12)","v":""},{"$f":"IF(Puantaj!H12=\"\",\"\",Puantaj!H12)","v":""},{"$f":"IF(Puantaj!I12=\"\",\"\",Puantaj!I12)","v":""},{"$f":"IF(Puantaj!J12=\"\",\"\",Puantaj!J12)","v":""},{"$f":"IF(Puantaj!K12=\"\",\"\",Puantaj!K12)","v":""},{"$f":"IF(Puantaj!L12=\"\",\"\",Puantaj!L12)","v":""},{"$f":"IF(Puantaj!M12=\"\",\"\",Puantaj!M12)","v":""},{"$f":"IF(Puantaj!N12=\"\",\"\",Puantaj!N12)","v":""},{"$f":"IF(Puantaj!O12=\"\",\"\",Puantaj!O12)","v":""},{"$f":"IF(Puantaj!P12=\"\",\"\",Puantaj!P12)","v":""},{"$f":"IF(Puantaj!Q12=\"\",\"\",Puantaj!Q12)","v":""},{"$f":"IF(Puantaj!R12=\"\",\"\",Puantaj!R12)","v":""},{"$f":"IF(Puantaj!S12=\"\",\"\",Puantaj!S12)","v":""},{"$f":"IF(Puantaj!T12=\"\",\"\",Puantaj!T12)","v":""},{"$f":"IF(Puantaj!U12=\"\",\"\",Puantaj!U12)","v":""},{"$f":"IF(Puantaj!V12=\"\",\"\",Puantaj!V12)","v":""},{"$f":"IF(Puantaj!W12=\"\",\"\",Puantaj!W12)","v":""},{"$f":"IF(Puantaj!X12=\"\",\"\",Puantaj!X12)","v":""},{"$f":"IF(Puantaj!Y12=\"\",\"\",Puantaj!Y12)","v":""},{"$f":"IF(Puantaj!Z12=\"\",\"\",Puantaj!Z12)","v":""},{"$f":"IF(Puantaj!AA12=\"\",\"\",Puantaj!AA12)","v":""},{"$f":"IF(Puantaj!AB12=\"\",\"\",Puantaj!AB12)","v":""},{"$f":"IF(Puantaj!AC12=\"\",\"\",Puantaj!AC12)","v":""},{"$f":"IF(Puantaj!AD12=\"\",\"\",Puantaj!AD12)","v":""},{"$f":"IF(Puantaj!AE12=\"\",\"\",Puantaj!AE12)","v":""},{"$f":"IF(Puantaj!AF12=\"\",\"\",Puantaj!AF12)","v":""},{"$f":"IF(Puantaj!AG12=\"\",\"\",Puantaj!AG12)","v":""},{"$f":"IF(Puantaj!AH12=\"\",\"\",Puantaj!AH12)","v":""},{"$f":"IF(Puantaj!AI12=\"\",\"\",Puantaj!AI12)","v":""},{"$f":"IF(Puantaj!AJ12=\"\",\"\",Puantaj!AJ12)","v":""},0,0,0]
[0,{"$f":"Puantaj!C13","v":0},{"$f":"IF(Puantaj!D13=\"\",\"\",Puantaj!D13)","v":""},{"$f":"Puantaj!E13","v":0},{"$f":"IF(Puantaj!F13=\"\",\"\",Puantaj!F13)","v":""},{"$f":"IF(Puantaj!G13=\"\",\"\",Puantaj!G13)","v":""},{"$f":"IF(Puantaj!H13=\"\",\"\",Puantaj!H13)","v":""},{"$f":"IF(Puantaj!I13=\"\",\"\",Puantaj!I13)","v":""},{"$f":"IF(Puantaj!J13=\"\",\"\",Puantaj!J13)","v":""},{"$f":"IF(Puantaj!K13=\"\",\"\",Puantaj!K13)","v":""},{"$f":"IF(Puantaj!L13=\"\",\"\",Puantaj!L13)","v":""},{"$f":"IF(Puantaj!M13=\"\",\"\",Puantaj!M13)","v":""},{"$f":"IF(Puantaj!N13=\"\",\"\",Puantaj!N13)","v":""},{"$f":"IF(Puantaj!O13=\"\",\"\",Puantaj!O13)","v":""},{"$f":"IF(Puantaj!P13=\"\",\"\",Puantaj!P13)","v":""},{"$f":"IF(Puantaj!Q13=\"\",\"\",Puantaj!Q13)","v":""},{"$f":"IF(Puantaj!R13=\"\",\"\",Puantaj!R13)","v":""},{"$f":"IF(Puantaj!S13=\"\",\"\",Puantaj!S13)","v":""},{"$f":"IF(Puantaj!T13=\"\",\"\",Puantaj!T13)","v":""},{"$f":"IF(Puantaj!U13=\"\",\"\",Puantaj!U13)","v":""},{"$f":"IF(Puantaj!V13=\"\",\"\",Puantaj!V13)","v":""},{"$f":"IF(Puantaj!W13=\"\",\"\",Puantaj!W13)","v":""},{"$f":"IF(Puantaj!X13=\"\",\"\",Puantaj!X13)","v":""},{"$f":"IF(Puantaj!Y13=\"\",\"\",Puantaj!Y13)","v":""},{"$f":"IF(Puantaj!Z13=\"\",\"\",Puantaj!Z13)","v":""},{"$f":"IF(Puantaj!AA13=\"\",\"\",Puantaj!AA13)","v":""},{"$f":"IF(Puantaj!AB13=\"\",\"\",Puantaj!AB13)","v":""},{"$f":"IF(Puantaj!AC13=\"\",\"\",Puantaj!AC13)","v":""},{"$f":"IF(Puantaj!AD13=\"\",\"\",Puantaj!AD13)","v":""},{"$f":"IF(Puantaj!AE13=\"\",\"\",Puantaj!AE13)","v":""},{"$f":"IF(Puantaj!AF13=\"\",\"\",Puantaj!AF13)","v":""},{"$f":"IF(Puantaj!AG13=\"\",\"\",Puantaj!AG13)","v":""},{"$f":"IF(Puantaj!AH13=\"\",\"\",Puantaj!AH13)","v":""},{"$f":"IF(Puantaj!AI13=\"\",\"\",Puantaj!AI13)","v":""},{"$f":"IF(Puantaj!AJ13=\"\",\"\",Puantaj!AJ13)","v":""},0,0,0]
[0,{"$f":"Puantaj!C14","v":0},{"$f":"IF(Puantaj!D14=\"\",\"\",Puantaj!D14)","v":""},{"$f":"Puantaj!E14","v":0},{"$f":"IF(Puantaj!F14=\"\",\"\",Puantaj!F14)","v":""},{"$f":"IF(Puantaj!G14=\"\",\"\",Puantaj!G14)","v":""},{"$f":"IF(Puantaj!H14=\"\",\"\",Puantaj!H14)","v":""},{"$f":"IF(Puantaj!I14=\"\",\"\",Puantaj!I14)","v":""},{"$f":"IF(Puantaj!J14=\"\",\"\",Puantaj!J14)","v":""},{"$f":"IF(Puantaj!K14=\"\",\"\",Puantaj!K14)","v":""},{"$f":"IF(Puantaj!L14=\"\",\"\",Puantaj!L14)","v":""},{"$f":"IF(Puantaj!M14=\"\",\"\",Puantaj!M14)","v":""},{"$f":"IF(Puantaj!N14=\"\",\"\",Puantaj!N14)","v":""},{"$f":"IF(Puantaj!O14=\"\",\"\",Puantaj!O14)","v":""},{"$f":"IF(Puantaj!P14=\"\",\"\",Puantaj!P14)","v":""},{"$f":"IF(Puantaj!Q14=\"\",\"\",Puantaj!Q14)","v":""},{"$f":"IF(Puantaj!R14=\"\",\"\",Puantaj!R14)","v":""},{"$f":"IF(Puantaj!S14=\"\",\"\",Puantaj!S14)","v":""},{"$f":"IF(Puantaj!T14=\"\",\"\",Puantaj!T14)","v":""},{"$f":"IF(Puantaj!U14=\"\",\"\",Puantaj!U14)","v":""},{"$f":"IF(Puantaj!V14=\"\",\"\",Puantaj!V14)","v":""},{"$f":"IF(Puantaj!W14=\"\",\"\",Puantaj!W14)","v":""},{"$f":"IF(Puantaj!X14=\"\",\"\",Puantaj!X14)","v":""},{"$f":"IF(Puantaj!Y14=\"\",\"\",Puantaj!Y14)","v":""},{"$f":"IF(Puantaj!Z14=\"\",\"\",Puantaj!Z14)","v":""},{"$f":"IF(Puantaj!AA14=\"\",\"\",Puantaj!AA14)","v":""},{"$f":"IF(Puantaj!AB14=\"\",\"\",Puantaj!AB14)","v":""},{"$f":"IF(Puantaj!AC14=\"\",\"\",Puantaj!AC14)","v":""},{"$f":"IF(Puantaj!AD14=\"\",\"\",Puantaj!AD14)","v":""},{"$f":"IF(Puantaj!AE14=\"\",\"\",Puantaj!AE14)","v":""},{"$f":"IF(Puantaj!AF14=\"\",\"\",Puantaj!AF14)","v":""},{"$f":"IF(Puantaj!AG14=\"\",\"\",Puantaj!AG14)","v":""},{"$f":"IF(Puantaj!AH14=\"\",\"\",Puantaj!AH14)","v":""},{"$f":"IF(Puantaj!AI14=\"\",\"\",Puantaj!AI14)","v":""},{"$f":"IF(Puantaj!AJ14=\"\",\"\",Puantaj!AJ14)","v":""},0,0,0]
[0,{"$f":"Puantaj!C15","v":0},{"$f":"IF(Puantaj!D15=\"\",\"\",Puantaj!D15)","v":""},{"$f":"Puantaj!E15","v":0},{"$f":"IF(Puantaj!F15=\"\",\"\",Puantaj!F15)","v":""},{"$f":"IF(Puantaj!G15=\"\",\"\",Puantaj!G15)","v":""},{"$f":"IF(Puantaj!H15=\"\",\"\",Puantaj!H15)","v":""},{"$f":"IF(Puantaj!I15=\"\",\"\",Puantaj!I15)","v":""},{"$f":"IF(Puantaj!J15=\"\",\"\",Puantaj!J15)","v":""},{"$f":"IF(Puantaj!K15=\"\",\"\",Puantaj!K15)","v":""},{"$f":"IF(Puantaj!L15=\"\",\"\",Puantaj!L15)","v":""},{"$f":"IF(Puantaj!M15=\"\",\"\",Puantaj!M15)","v":""},{"$f":"IF(Puantaj!N15=\"\",\"\",Puantaj!N15)","v":""},{"$f":"IF(Puantaj!O15=\"\",\"\",Puantaj!O15)","v":""},{"$f":"IF(Puantaj!P15=\"\",\"\",Puantaj!P15)","v":""},{"$f":"IF(Puantaj!Q15=\"\",\"\",Puantaj!Q15)","v":""},{"$f":"IF(Puantaj!R15=\"\",\"\",Puantaj!R15)","v":""},{"$f":"IF(Puantaj!S15=\"\",\"\",Puantaj!S15)","v":""},{"$f":"IF(Puantaj!T15=\"\",\"\",Puantaj!T15)","v":""},{"$f":"IF(Puantaj!U15=\"\",\"\",Puantaj!U15)","v":""},{"$f":"IF(Puantaj!V15=\"\",\"\",Puantaj!V15)","v":""},{"$f":"IF(Puantaj!W15=\"\",\"\",Puantaj!W15)","v":""},{"$f":"IF(Puantaj!X15=\"\",\"\",Puantaj!X15)","v":""},{"$f":"IF(Puantaj!Y15=\"\",\"\",Puantaj!Y15)","v":""},{"$f":"IF(Puantaj!Z15=\"\",\"\",Puantaj!Z15)","v":""},{"$f":"IF(Puantaj!AA15=\"\",\"\",Puantaj!AA15)","v":""},{"$f":"IF(Puantaj!AB15=\"\",\"\",Puantaj!AB15)","v":""},{"$f":"IF(Puantaj!AC15=\"\",\"\",Puantaj!AC15)","v":""},{"$f":"IF(Puantaj!AD15=\"\",\"\",Puantaj!AD15)","v":""},{"$f":"IF(Puantaj!AE15=\"\",\"\",Puantaj!AE15)","v":""},{"$f":"IF(Puantaj!AF15=\"\",\"\",Puantaj!AF15)","v":""},{"$f":"IF(Puantaj!AG15=\"\",\"\",Puantaj!AG15)","v":""},{"$f":"IF(Puantaj!AH15=\"\",\"\",Puantaj!AH15)","v":""},{"$f":"IF(Puantaj!AI15=\"\",\"\",Puantaj!AI15)","v":""},{"$f":"IF(Puantaj!AJ15=\"\",\"\",Puantaj!AJ15)","v":""},0,0,0]
[0,{"$f":"Puantaj!C16","v":0},{"$f":"IF(Puantaj!D16=\"\",\"\",Puantaj!D16)","v":""},{"$f":"Puantaj!E16","v":0},{"$f":"IF(Puantaj!F16=\"\",\"\",Puantaj!F16)","v":""},{"$f":"IF(Puantaj!G16=\"\",\"\",Puantaj!G16)","v":""},{"$f":"IF(Puantaj!H16=\"\",\"\",Puantaj!H16)","v":""},{"$f":"IF(Puantaj!I16=\"\",\"\",Puantaj!I16)","v":""},{"$f":"IF(Puantaj!J16=\"\",\"\",Puantaj!J16)","v":""},{"$f":"IF(Puantaj!K16=\"\",\"\",Puantaj!K16)","v":""},{"$f":"IF(Puantaj!L16=\"\",\"\",Puantaj!L16)","v":""},{"$f":"IF(Puantaj!M16=\"\",\"\",Puantaj!M16)","v":""},{"$f":"IF(Puantaj!N16=\"\",\"\",Puantaj!N16)","v":""},{"$f":"IF(Puantaj!O16=\"\",\"\",Puantaj!O16)","v":""},{"$f":"IF(Puantaj!P16=\"\",\"\",Puantaj!P16)","v":""},{"$f":"IF(Puantaj!Q16=\"\",\"\",Puantaj!Q16)","v":""},{"$f":"IF(Puantaj!R16=\"\",\"\",Puantaj!R16)","v":""},{"$f":"IF(Puantaj!S16=\"\",\"\",Puantaj!S16)","v":""},{"$f":"IF(Puantaj!T16=\"\",\"\",Puantaj!T16)","v":""},{"$f":"IF(Puantaj!U16=\"\",\"\",Puantaj!U16)","v":""},{"$f":"IF(Puantaj!V16=\"\",\"\",Puantaj!V16)","v":""},{"$f":"IF(Puantaj!W16=\"\",\"\",Puantaj!W16)","v":""},{"$f":"IF(Puantaj!X16=\"\",\"\",Puantaj!X16)","v":""},{"$f":"IF(Puantaj!Y16=\"\",\"\",Puantaj!Y16)","v":""},{"$f":"IF(Puantaj!Z16=\"\",\"\",Puantaj!Z16)","v":""},{"$f":"IF(Puantaj!AA16=\"\",\"\",Puantaj!AA16)","v":""},{"$f":"IF(Puantaj!AB16=\"\",\"\",Puantaj!AB16)","v":""},{"$f":"IF(Puantaj!AC16=\"\",\"\",Puantaj!AC16)","v":""},{"$f":"IF(Puantaj!AD16=\"\",\"\",Puantaj!AD16)","v":""},{"$f":"IF(Puantaj!AE16=\"\",\"\",Puantaj!AE16)","v":""},{"$f":"IF(Puantaj!AF16=\"\",\"\",Puantaj!AF16)","v":""},{"$f":"IF(Puantaj!AG16=\"\",\"\",Puantaj!AG16)","v":""},{"$f":"IF(Puantaj!AH16=\"\",\"\",Puantaj!AH16)","v":""},{"$f":"IF(Puantaj!AI16=\"\",\"\",Puantaj!AI16)","v":""},{"$f":"IF(Puantaj!AJ16=\"\",\"\",Puantaj!AJ16)","v":""},0,0,0]
[{"$f":"Puantaj!B17","v":"D: Devamsız        İ: İzinli        R: Raporlu        S: Sevkli        X: Ücret Verilmeyecek        O: Okulda        Ç: İşletmede        T: Tatil"},null,null,null,null,null,null,null,null,null,null,null,null,null,null,null,null,null,null,null,null,null,null,null,null,null,null,null,null,null,null,null,null,null,null,null,null,1]
[null,null,null,null,null,null,null,null,null,null,null,null,null,null,null,null,null,null,null,null,null,null,null,null,null,null,null,null,null,null,null,null,null,null,null,null,null,1]
[null,"Düzenleyen",null,"Onaylayan",null,null,null,null,null,null,null,null,null,null,null,null,null,null,null,null,null,null,null,null,null,null,null,null,null,null,null,null,null,null,null,null,null,1]
[null,{"$f":"Puantaj!H4","v":"2024-03-01"},null,{"$f":"B20","v":"2024-03-01"},null,null,null,null,null,null,null,null,null,null,null,null,null,null,null,null,null,null,null,null,null,null,null,null,null,null,null,null,null,null,null,null,null,1]
[null,null,null,null,null,null,null,null,null,null,null,null,null,null,null,null,null,null,null,null,null,null,null,null,null,null,null,null,null,null,null,null,null,null,null,null,null,1]
[null,{"$f":"Puantaj!D3","v":0},null,{"$f":"Puantaj!D4","v":0},null,null,null,null,null,null,null,null,null,null,null,null,null,null,null,null,null,null,null,null,null,null,null,null,null,null,null,null,null,null,null,null,null,1]
[null,{"$f":"Puantaj!E3","v":0},null,{"$f":"Puantaj!E4","v":0},null,null,null,null,null,null,null,null,null,null,null,null,null,null,null,null,null,null,null,null,null,null,null,null,null,null,null,null,null,null,null,null,null,1]